{"text_format":"1","workbook":"xlsx","n_sheets":17,"sheets":["Traspaso Mazatlán","Pedidos","Ventas Mayoreo","Ventas Menudeo","Inventario","Hoja3","Hoja4","Inventario2","Sabores conteo pedido","Promociones","Gastos","Deudores","Caja&Banco","Reporte","Graficas","Hoja2","Hoja1"],"not_rendered":{"charts":0,"images":0,"macros":1,"external_links":0,"defined_names":16,"comments":0,"pivot_tables":10},"unopened":[],"bounds":{"document_bytes":16777216,"sheet_cells":100000,"rows_first":2000,"rows_last":500,"rows_between":2000,"halvings":0,"cell_chars":16384,"cell_head_chars":4096},"cells_cut":0,"cells_raw":0,"read":"whole","date_system":"1900"}

{"sheet":"Traspaso Mazatlán","index":0,"n_rows":16,"n_cols":4,"rows_kept":16,"cut":false,"hidden":false,"merged":[]}
[]
["Fecha","Producto","Sabor","Cantidad"]
[{"$f":"TODAY()","v":"2023-09-14"},"IPLAY MAX","Energy ICE",4]
["2023-09-14","IPLAY MAX","Sour Apple",3]
["2023-09-14","IPLAY MAX","Cool mint",2]
["2023-09-14","IPLAY MAX","GrapeFruit berry",4]
["2023-09-14","IPLAY MAX","Lush Ice",3]
["2023-09-14","IPLAY MAX","Strawberry Lychee",1]
["2022-06-01","IPLAY MAX","Strawberry Lychee",10]
["2022-06-01","IPLAY MAX","Grapestraw",10]
["2022-06-01","IPLAY MAX","Guava",10]
["2022-06-01","IPLAY MAX","Peach Ice",10]
["2022-06-01","IPLAY MAX","Sour Apple",10]
["2022-06-01","IPLAY MAX","Cool mint",10]
["2022-06-01","IPLAY MAX","GrapeFruit berry",10]
["2022-06-01","IPLAY MAX","Bluerazz",10]

{"sheet":"Pedidos","index":1,"n_rows":253,"n_cols":11,"rows_kept":253,"cut":false,"hidden":false,"merged":[]}
["Fecha","Producto","Sabor","Cantidad",null,null,null,"Producto",null,"Producto","IPLAY BOX"]
["2022-04-25","IPLAY CUBE","Energy ICE",1,null,null,null,"ELF BAR"]
["2022-04-25","IPLAY CUBE","Mango ICE",2,null,null,null,"IPLAY BOX",null,"Etiquetas de fila"]
["2022-04-25","IPLAY CUBE","Cola ICE",2,null,null,null,"IPLAY CUBE",null,"Grape Pear"]
["2022-04-25","IPLAY CUBE","Grape soda",2,null,null,null,"IPLAY MAX",null,"Mint"]
["2022-04-25","IPLAY CUBE","Strawberry Lychee",2,null,null,null,null,null,"Peach Mint"]
["2022-04-25","IPLAY CUBE","Lemonade",2,null,null,null,null,null,"Srawberry Lychee"]
["2022-04-25","IPLAY CUBE","Energy ICE",5,null,null,null,null,null,"Watermelon Ice"]
["2022-04-25","IPLAY CUBE","Mango ICE",3]
["2022-04-25","IPLAY CUBE","Cola ICE",3]
["2022-04-25","IPLAY CUBE","Grape soda",3]
["2022-04-25","IPLAY CUBE","Strawberry Lychee",3]
["2022-04-25","IPLAY CUBE","Banana Ice",2]
["2022-04-25","IPLAY CUBE","Peach Candy",2]
["2022-04-25","IPLAY CUBE","Watermelon",1]
["2022-04-25","IPLAY CUBE","Double apple",1]
["2022-04-25","IPLAY CUBE","Lemonade",2]
["2022-04-25","IPLAY CUBE","Energy ICE",3]
["2022-04-25","IPLAY CUBE","Mango ICE",2]
["2022-04-25","IPLAY CUBE","Cola ICE",2]
["2022-04-25","IPLAY CUBE","Grape soda",5]
["2022-04-25","IPLAY CUBE","Strawberry Lychee",2]
["2022-04-25","IPLAY CUBE","Banana Ice",2]
["2022-04-25","IPLAY CUBE","Peach Candy",2]
["2022-04-25","IPLAY CUBE","ICE Water",1]
["2022-04-25","IPLAY CUBE","Double apple",4]
["2022-04-25","IPLAY CUBE","Lemonade",2]
["2022-04-25","ELF BAR","Banana ICE",2]
["2022-04-25","ELF BAR","Pineaple ICE",2]
["2022-04-25","ELF BAR","Mango ICE",2]
["2022-04-25","IPLAY MAX","Strawberry Lychee",2]
["2022-04-25","IPLAY MAX","Grapestraw",2]
["2022-04-25","IPLAY MAX","Berry Watermelon",2]
["2022-04-25","IPLAY MAX","Guava",2]
["2022-04-25","IPLAY MAX","Cool mint",2]
["2022-04-25","IPLAY MAX","Bluerazz",2]
["2022-04-25","IPLAY MAX","Sour Apple",2]
["2022-04-25","IPLAY MAX","Coconut",2]
["2022-04-25","IPLAY MAX","Grapestraw",4]
["2022-04-25","IPLAY MAX","Guava",4]
["2022-04-25","IPLAY MAX","Sour Apple",1]
["2022-04-25","IPLAY MAX","Coconut",4]
["2022-04-25","IPLAY MAX","Cool mint",2]
["2022-04-25","IPLAY MAX","Berry Watermelon",2]
["2022-04-25","IPLAY MAX","Bluerazz",3]
["2022-04-25","IPLAY MAX","Energy ICE",1]
["2022-04-25","IPLAY MAX","Strawberry Lychee",3]
["2022-04-25","IPLAY MAX","GrapeFruit berry",1]
["2022-04-25","IPLAY CUBE","Mango ICE",2]
["2022-04-25","IPLAY CUBE","Lemonade",3]
["2022-04-25","IPLAY CUBE","Banana Ice",2]
["2022-04-25","IPLAY CUBE","Double apple",3]
["2022-04-25","IPLAY CUBE","Energy ICE",3]
["2022-04-25","IPLAY CUBE","ICE Water",3]
["2022-04-25","IPLAY CUBE","Grape soda",4]
["2022-04-25","IPLAY CUBE","Peach Candy",2]
["2022-04-25","IPLAY CUBE","Cola ICE",2]
["2022-04-25","IPLAY CUBE","Strawberry Lychee",2]
["2022-04-25","IPLAY MAX","Berry Watermelon",4]
["2022-04-25","IPLAY MAX","Cool mint",2]
["2022-04-25","IPLAY MAX","Guava",1]
["2022-04-25","IPLAY MAX","Grapestraw",3]
["2022-04-25","IPLAY MAX","Energy ICE",3]
["2022-04-25","IPLAY MAX","Bluerazz",4]
["2022-04-25","IPLAY MAX","GrapeFruit berry",3]
["2022-04-25","IPLAY MAX","Strawberry Lychee",4]
["2022-04-25","IPLAY MAX","Coconut",1]
["2022-04-25","IPLAY MAX","Cool mint",4]
["2022-04-25","IPLAY MAX","Berry Watermelon",4]
["2022-04-25","IPLAY MAX","Grapestraw",5]
["2022-04-25","IPLAY MAX","Bluerazz",4]
["2022-04-25","IPLAY MAX","Coconut",5]
["2022-04-25","IPLAY MAX","Guava",4]
["2022-04-25","IPLAY MAX","Lush Ice",4]
["2022-04-25","IPLAY MAX","Strawberry Lychee",4]
["2022-04-25","IPLAY MAX","Energy ICE",4]
["2022-04-25","IPLAY MAX","GrapeFruit berry",4]
["2022-04-25","IPLAY MAX","Cocumber Lemonade",4]
["2022-04-25","IPLAY MAX","Sour Apple",4]
["2022-04-25","IPLAY MAX","Grapestraw",7]
["2022-04-25","IPLAY MAX","Guava",4]
["2022-04-25","IPLAY MAX","Cool mint",2]
["2022-04-25","IPLAY MAX","Bluerazz",4]
["2022-04-25","IPLAY MAX","Strawberry Lychee",2]
["2022-04-25","IPLAY MAX","Coconut",1]
["2022-04-25","IPLAY MAX","Lush Ice",1]
["2022-04-25","IPLAY MAX","Berry Watermelon",2]
["2022-04-25","IPLAY MAX","Energy ICE",8]
["2022-04-25","IPLAY MAX","Sour Apple",7]
["2022-04-25","IPLAY MAX","Berry Watermelon",9]
["2022-04-25","IPLAY MAX","Cool mint",7]
["2022-04-25","IPLAY MAX","GrapeFruit berry",9]
["2022-04-25","IPLAY MAX","Strawberry Lychee",2]
["2022-04-25","IPLAY MAX","Bluerazz",3]
["2022-04-25","IPLAY MAX","Lush Ice",5]
["2022-04-25","IPLAY MAX","Energy ICE",3]
["2022-04-25","IPLAY MAX","Sour Apple",3]
["2022-04-25","IPLAY MAX","Strawberry Lychee",15]
["2022-04-25","IPLAY MAX","Berry Watermelon",15]
["2022-04-25","IPLAY MAX","Guava",4]
["2022-04-25","IPLAY MAX","Bluerazz",15]
["2022-04-25","IPLAY MAX","GrapeFruit berry",15]
["2022-04-25","IPLAY MAX","GrapeStraw",15]
["2022-04-25","IPLAY MAX","Cool mint",5]
["2022-04-25","IPLAY MAX","Coconut",5]
["2022-04-25","IPLAY MAX","Lemon cookies",5]
["2022-04-26","IPLAY MAX","Energy ICE",7]
["2022-04-26","IPLAY MAX","Sour Apple",7]
["2022-04-26","IPLAY MAX","Strawberry Lychee",10]
["2022-04-26","IPLAY MAX","Berry Watermelon",10]
["2022-04-26","IPLAY MAX","Bluerazz",10]
["2022-04-26","IPLAY MAX","GrapeFruit berry",10]
["2022-04-26","IPLAY MAX","Grapestraw",10]
["2022-04-26","IPLAY MAX","Cool mint",10]
["2022-04-26","IPLAY MAX","Coconut",7]
["2022-04-26","IPLAY MAX","Lemon cookies",3]
["2022-04-26","IPLAY MAX","Cocumber Lemonade",8]
["2022-04-26","IPLAY MAX","Guava",8]
["2022-05-06","IPLAY MAX","Berry Watermelon",20]
["2022-05-06","IPLAY MAX","Grapestraw",20]
["2022-05-06","IPLAY MAX","Strawberry Lychee",20]
["2022-05-06","IPLAY MAX","GrapeFruit berry",20]
["2022-05-06","IPLAY MAX","Bluerazz",20]
["2022-05-11","IPLAY MAX","Berry Watermelon",-3]
["2022-05-11","IPLAY MAX","Coconut",-1]
["2022-05-11","IPLAY MAX","Energy ICE",-1]
["2022-05-11","IPLAY MAX","GrapeFruit berry",-1]
["2022-05-11","IPLAY MAX","Grapestraw",-4]
["2022-05-11","IPLAY MAX","Lemon cookies",-1]
["2022-05-11","IPLAY MAX","Sour Apple",-1]
["2022-05-11","IPLAY MAX","Strawberry Lychee",-2]
["2022-05-23","IPLAY MAX","Berry Watermelon",100]
["2022-05-23","IPLAY MAX","Bluerazz",100]
["2022-05-24","IPLAY MAX","Cool mint",80]
["2022-05-24","IPLAY MAX","GrapeFruit berry",100]
["2022-05-24","IPLAY MAX","Grapestraw",70]
["2022-05-24","IPLAY MAX","Guava",90]
["2022-05-24","IPLAY MAX","Sour Apple",60]
["2022-05-24","IPLAY MAX","Strawberry Lychee",80]
["2022-05-24","IPLAY MAX","Peach Ice",0]
["2022-05-24","IPLAY MAX","Peach Ice",50]
["2022-05-25","IPLAY MAX","Coconut",10]
["2022-07-02","IPLAY MAX","Energy ICE",15]
["2022-07-02","IPLAY MAX","Berry Watermelon",20]
["2022-07-02","IPLAY MAX","Sour Apple",5]
["2022-07-02","IPLAY MAX","Bluerazz",15]
["2022-07-02","IPLAY MAX","Grapestraw",15]
["2022-07-02","IPLAY MAX","Cool mint",30]
["2022-07-02","IPLAY MAX","Coconut",15]
["2022-07-02","IPLAY MAX","Cocumber Lemonade",10]
["2022-07-02","IPLAY MAX","Grape Ice",15]
["2022-07-02","IPLAY MAX","Peach Ice",10]
["2022-07-02","IPLAY MAX","Banana Ice",5]
["2022-09-02","IPLAY MAX","Energy ICE",9]
["2022-09-02","IPLAY MAX","Bluerazz",9]
["2022-09-02","IPLAY MAX","Strawberry Lychee",5]
["2022-09-02","IPLAY MAX","Berry Watermelon",5]
["2022-09-02","IPLAY MAX","Guava",5]
["2022-09-02","IPLAY MAX","GrapeFruit berry",5]
["2022-09-02","IPLAY MAX","Cool mint",8]
["2022-09-02","IPLAY MAX","Coconut",8]
["2022-09-02","IPLAY MAX","Peach Ice",4]
["2022-09-02","IPLAY MAX","Banana Ice",4]
["2022-09-02","IPLAY MAX","Sourraspberry",4]
["2022-09-02","IPLAY MAX","Energy ICE",1]
["2022-09-02","IPLAY MAX","Peach Ice",1]
["2022-10-05","IPLAY MAX","Energy ICE",6]
["2022-10-05","IPLAY MAX","Berry Watermelon",10]
["2022-10-05","IPLAY MAX","Coconut",10]
["2022-10-05","IPLAY MAX","Peach Ice",6]
["2022-10-05","IPLAY MAX","Banana Ice",8]
["2022-10-05","IPLAY MAX","Sourraspberry",8]
["2022-10-05","IPLAY MAX","Passion Fruit",2]
["2022-11-25","IPLAY MAX","Banana Ice",-2]
["2022-11-25","IPLAY MAX","Berry Watermelon",2]
["2022-11-25","IPLAY MAX","Coconut",-1]
["2022-11-25","IPLAY MAX","Cool mint",-1]
["2022-11-25","IPLAY MAX","Energy ICE",-2]
["2022-11-25","IPLAY MAX","GrapeFruit berry",-2]
["2022-11-25","IPLAY MAX","Grapestraw",1]
["2022-11-25","IPLAY MAX","Guava",-10]
["2022-11-25","IPLAY MAX","Sour Apple",9]
["2022-11-25","IPLAY MAX","Peach Ice",-2]
["2022-11-25","IPLAY MAX","Grape Ice",-1]
["2022-11-25","IPLAY MAX","Sourraspberry",-1]
["2023-02-28","IPLAY MAX","Low Mint",4]
["2023-02-28","IPLAY MAX","Banana Cherry DragonFruit",3]
["2023-02-28","IPLAY MAX","Pineapple Orange Guava",5]
["2023-02-28","IPLAY MAX","Kiwi Guava Passion Fruit",3]
["2023-02-28","IPLAY MAX","Peach Ice",5]
["2023-02-28","IPLAY MAX","Cool mint",5]
["2023-02-28","IPLAY MAX","Sourraspberry",4]
["2023-02-28","IPLAY MAX","Bluerazz",4]
["2023-02-28","IPLAY MAX","Strawberry Lychee",4]
["2023-02-28","IPLAY MAX","Berry Watermelon",4]
["2023-02-28","IPLAY MAX","Guava",4]
["2023-02-28","IPLAY MAX","Blueberry Rainbow",3]
["2023-02-28","IPLAY MAX","Pineapple Coconut",3]
["2023-02-28","IPLAY MAX","Watermelon Banana",5]
["2023-02-28","IPLAY MAX","Banana Ice",5]
["2023-02-28","IPLAY MAX","Coconut",4]
["2023-02-28","IPLAY MAX","Grape Ice",5]
["2023-03-18","IPLAY MAX","Double mint",2]
["2023-03-18","IPLAY MAX","Black Mint",2]
["2023-03-18","IPLAY MAX","Sourraspberry",6]
["2023-03-18","IPLAY MAX","Cool mint",6]
["2023-03-18","IPLAY MAX","Banana Cherry DragonFruit",6]
["2023-03-18","IPLAY MAX","Strawberry Lychee",5]
["2023-03-18","IPLAY MAX","Berry Watermelon",6]
["2023-03-18","IPLAY MAX","Bluerazz",6]
["2023-03-18","IPLAY MAX","Peach Berries Ice",6]
["2023-03-18","IPLAY MAX","Coconut",6]
["2023-03-18","IPLAY MAX","Grape Ice",6]
["2023-03-18","IPLAY MAX","Pineapple Orange Guava",6]
["2023-03-18","IPLAY MAX","Pineapple Coconut",6]
["2023-03-18","IPLAY MAX","Kiwi Guava Passion Fruit",6]
["2023-03-18","IPLAY MAX","Blueberry Rainbow",6]
["2023-03-18","IPLAY MAX","Mango Strawberry",2]
["2023-03-18","IPLAY MAX","Low Mint",6]
["2023-03-18","IPLAY MAX","Guava",6]
["2023-04-11","IPLAY MAX","Cranberry Grape",2]
["2023-04-11","IPLAY MAX","Coconut ice",5]
["2023-04-11","IPLAY MAX","Cocumber Lemonade",3]
["2023-04-11","IPLAY MAX","Cranberry Grape",2]
["2023-04-11","IPLAY MAX","Mixed Berries Lemon",6]
["2023-04-11","IPLAY MAX","Peach Berries Ice",7]
["2023-04-11","IPLAY MAX","Pineapple Coconut",7]
["2023-04-11","IPLAY MAX","Coconut",7]
["2023-04-11","IPLAY MAX","Mango Ice",4]
["2023-04-11","IPLAY MAX","Kiwi Guava Passion Fruit",6]
["2023-04-11","IPLAY MAX","Guava",5]
["2023-04-11","IPLAY MAX","Banana Cherry DragonFruit",3]
["2023-04-11","IPLAY MAX","Pineapple Orange Guava",3]
["2023-04-11","IPLAY MAX","Mixed Berries Lemon",1]
["2023-04-11","IPLAY MAX","Low Mint",9]
["2023-04-16","IPLAY BOX","Grape Pear",2]
["2023-04-16","IPLAY BOX","Srawberry Lychee",2]
["2023-04-16","IPLAY BOX","Watermelon Ice",2]
["2023-04-30","IPLAY MAX","Mixed Berries Lemon",4]
["2023-04-30","IPLAY MAX","Peach Berries Ice",4]
["2023-04-30","IPLAY MAX","Pineapple Coconut",2]
["2023-04-30","IPLAY MAX","Kiwi Guava Passion Fruit",4]
["2023-04-30","IPLAY MAX","Cranberry Grape",3]
["2023-04-30","IPLAY MAX","Sourraspberry",3]
["2023-04-30","IPLAY MAX","Blueberry Rainbow",5]
["2023-04-30","IPLAY BOX","Grape Pear",2]
["2023-04-30","IPLAY BOX","Watermelon Ice",2]
["2023-04-30","IPLAY BOX","Mint",2]
["2023-04-30","IPLAY BOX","Peach Mint",2]
["2023-05-14","IPLAY BOX","Mint",4]
["2023-05-14","IPLAY BOX","Watermelon Ice",3]
["2023-05-14","IPLAY BOX","Grape Pear",2]
["2023-05-14","IPLAY BOX","Peach Mint",3]

{"sheet":"Ventas Mayoreo","index":2,"n_rows":38,"n_cols":10,"rows_kept":38,"cut":false,"hidden":false,"merged":[]}
[]
[]
[]
["Fecha","Vendedor","Producto","Sabor","Cantidad","Precio Mayoreo","Precio de venta","Ventas Totales","Transferencia","Efectivo"]
["2022-04-24","Julio","IPLAY MAX","Strawberry Lychee",10,"Precio 5",{"$f":"_xlfn.IFNA(VLOOKUP(VentasMayoreo[[#This Row],[Precio Mayoreo]],PreciosMayoreo[],3,0),0)","v":170},{"$f":"VentasMayoreo[[#This Row],[Cantidad]]*VentasMayoreo[[#This Row],[Precio de venta]]","v":1700},1700]
["2022-04-24","Julio","IPLAY MAX","Grapestraw",10,"Precio 5",{"$f":"_xlfn.IFNA(VLOOKUP(VentasMayoreo[[#This Row],[Precio Mayoreo]],PreciosMayoreo[],3,0),0)","v":170},{"$f":"VentasMayoreo[[#This Row],[Cantidad]]*VentasMayoreo[[#This Row],[Precio de venta]]","v":1700},1700]
["2022-04-24","Julio","IPLAY MAX","Berry Watermelon",10,"Precio 5",{"$f":"_xlfn.IFNA(VLOOKUP(VentasMayoreo[[#This Row],[Precio Mayoreo]],PreciosMayoreo[],3,0),0)","v":170},{"$f":"VentasMayoreo[[#This Row],[Cantidad]]*VentasMayoreo[[#This Row],[Precio de venta]]","v":1700},1700]
["2022-04-24","Julio","IPLAY MAX","Bluerazz",10,"Precio 5",{"$f":"_xlfn.IFNA(VLOOKUP(VentasMayoreo[[#This Row],[Precio Mayoreo]],PreciosMayoreo[],3,0),0)","v":170},{"$f":"VentasMayoreo[[#This Row],[Cantidad]]*VentasMayoreo[[#This Row],[Precio de venta]]","v":1700},1700]
["2022-04-24","Julio","IPLAY MAX","GrapeFruit berry",10,"Precio 5",{"$f":"_xlfn.IFNA(VLOOKUP(VentasMayoreo[[#This Row],[Precio Mayoreo]],PreciosMayoreo[],3,0),0)","v":170},{"$f":"VentasMayoreo[[#This Row],[Cantidad]]*VentasMayoreo[[#This Row],[Precio de venta]]","v":1700},1700]
["2022-05-06","Julio","IPLAY MAX","Berry Watermelon",20,"Precio 6",{"$f":"_xlfn.IFNA(VLOOKUP(VentasMayoreo[[#This Row],[Precio Mayoreo]],PreciosMayoreo[],3,0),0)","v":150},{"$f":"VentasMayoreo[[#This Row],[Cantidad]]*VentasMayoreo[[#This Row],[Precio de venta]]","v":3000},null,3000]
["2022-05-06","Julio","IPLAY MAX","Bluerazz",20,"Precio 6",{"$f":"_xlfn.IFNA(VLOOKUP(VentasMayoreo[[#This Row],[Precio Mayoreo]],PreciosMayoreo[],3,0),0)","v":150},{"$f":"VentasMayoreo[[#This Row],[Cantidad]]*VentasMayoreo[[#This Row],[Precio de venta]]","v":3000},null,3000]
["2022-05-06","Julio","IPLAY MAX","Grapestraw",20,"Precio 6",{"$f":"_xlfn.IFNA(VLOOKUP(VentasMayoreo[[#This Row],[Precio Mayoreo]],PreciosMayoreo[],3,0),0)","v":150},{"$f":"VentasMayoreo[[#This Row],[Cantidad]]*VentasMayoreo[[#This Row],[Precio de venta]]","v":3000},null,3000]
["2022-05-06","Julio","IPLAY MAX","GrapeFruit berry",20,"Precio 6",{"$f":"_xlfn.IFNA(VLOOKUP(VentasMayoreo[[#This Row],[Precio Mayoreo]],PreciosMayoreo[],3,0),0)","v":150},{"$f":"VentasMayoreo[[#This Row],[Cantidad]]*VentasMayoreo[[#This Row],[Precio de venta]]","v":3000},null,3000]
["2022-05-06","Julio","IPLAY MAX","Strawberry Lychee",20,"Precio 6",{"$f":"_xlfn.IFNA(VLOOKUP(VentasMayoreo[[#This Row],[Precio Mayoreo]],PreciosMayoreo[],3,0),0)","v":150},{"$f":"VentasMayoreo[[#This Row],[Cantidad]]*VentasMayoreo[[#This Row],[Precio de venta]]","v":3000},null,3000]
["2022-05-30","Hugo","IPLAY MAX","Berry Watermelon",20,"Homero",{"$f":"_xlfn.IFNA(VLOOKUP(VentasMayoreo[[#This Row],[Precio Mayoreo]],PreciosMayoreo[],3,0),0)","v":150},{"$f":"VentasMayoreo[[#This Row],[Cantidad]]*VentasMayoreo[[#This Row],[Precio de venta]]","v":3000},3000]
["2022-05-30","Hugo","IPLAY MAX","Strawberry Lychee",20,"Homero",{"$f":"_xlfn.IFNA(VLOOKUP(VentasMayoreo[[#This Row],[Precio Mayoreo]],PreciosMayoreo[],3,0),0)","v":150},{"$f":"VentasMayoreo[[#This Row],[Cantidad]]*VentasMayoreo[[#This Row],[Precio de venta]]","v":3000},3000]
["2022-05-30","Hugo","IPLAY MAX","Bluerazz",20,"Homero",{"$f":"_xlfn.IFNA(VLOOKUP(VentasMayoreo[[#This Row],[Precio Mayoreo]],PreciosMayoreo[],3,0),0)","v":150},{"$f":"VentasMayoreo[[#This Row],[Cantidad]]*VentasMayoreo[[#This Row],[Precio de venta]]","v":3000},3000]
["2022-05-30","Hugo","IPLAY MAX","GrapeFruit berry",20,"Homero",{"$f":"_xlfn.IFNA(VLOOKUP(VentasMayoreo[[#This Row],[Precio Mayoreo]],PreciosMayoreo[],3,0),0)","v":150},{"$f":"VentasMayoreo[[#This Row],[Cantidad]]*VentasMayoreo[[#This Row],[Precio de venta]]","v":3000},3000]
["2022-05-30","Hugo","IPLAY MAX","Grapestraw",20,"Homero",{"$f":"_xlfn.IFNA(VLOOKUP(VentasMayoreo[[#This Row],[Precio Mayoreo]],PreciosMayoreo[],3,0),0)","v":150},{"$f":"VentasMayoreo[[#This Row],[Cantidad]]*VentasMayoreo[[#This Row],[Precio de venta]]","v":3000},3000]
["2022-05-30","Julio ","IPLAY MAX","Bluerazz",12,"Gael Mztln",{"$f":"_xlfn.IFNA(VLOOKUP(VentasMayoreo[[#This Row],[Precio Mayoreo]],PreciosMayoreo[],3,0),0)","v":145},{"$f":"VentasMayoreo[[#This Row],[Cantidad]]*VentasMayoreo[[#This Row],[Precio de venta]]","v":1740},1740]
["2022-05-30","Julio ","IPLAY MAX","Guava",8,"Gael Mztln",{"$f":"_xlfn.IFNA(VLOOKUP(VentasMayoreo[[#This Row],[Precio Mayoreo]],PreciosMayoreo[],3,0),0)","v":145},{"$f":"VentasMayoreo[[#This Row],[Cantidad]]*VentasMayoreo[[#This Row],[Precio de venta]]","v":1160},1160]
["2022-05-30","Julio ","IPLAY MAX","Grapestraw",14,"Gael Mztln",{"$f":"_xlfn.IFNA(VLOOKUP(VentasMayoreo[[#This Row],[Precio Mayoreo]],PreciosMayoreo[],3,0),0)","v":145},{"$f":"VentasMayoreo[[#This Row],[Cantidad]]*VentasMayoreo[[#This Row],[Precio de venta]]","v":2030},2030]
["2022-05-30","Julio ","IPLAY MAX","Cool mint",18,"Gael Mztln",{"$f":"_xlfn.IFNA(VLOOKUP(VentasMayoreo[[#This Row],[Precio Mayoreo]],PreciosMayoreo[],3,0),0)","v":145},{"$f":"VentasMayoreo[[#This Row],[Cantidad]]*VentasMayoreo[[#This Row],[Precio de venta]]","v":2610},2610]
["2022-05-30","Julio ","IPLAY MAX","Berry Watermelon",12,"Gael Mztln",{"$f":"_xlfn.IFNA(VLOOKUP(VentasMayoreo[[#This Row],[Precio Mayoreo]],PreciosMayoreo[],3,0),0)","v":145},{"$f":"VentasMayoreo[[#This Row],[Cantidad]]*VentasMayoreo[[#This Row],[Precio de venta]]","v":1740},1740]
["2022-06-03","Hugo","IPLAY MAX","Peach Ice",27,"MK express",{"$f":"_xlfn.IFNA(VLOOKUP(VentasMayoreo[[#This Row],[Precio Mayoreo]],PreciosMayoreo[],3,0),0)","v":130},{"$f":"VentasMayoreo[[#This Row],[Cantidad]]*VentasMayoreo[[#This Row],[Precio de venta]]","v":3510},null,3510]
["2022-06-03","Hugo","IPLAY MAX","Berry Watermelon",40,"MK express",{"$f":"_xlfn.IFNA(VLOOKUP(VentasMayoreo[[#This Row],[Precio Mayoreo]],PreciosMayoreo[],3,0),0)","v":130},{"$f":"VentasMayoreo[[#This Row],[Cantidad]]*VentasMayoreo[[#This Row],[Precio de venta]]","v":5200},null,5200]
["2022-06-03","Hugo","IPLAY MAX","Cool mint",37,"MK express",{"$f":"_xlfn.IFNA(VLOOKUP(VentasMayoreo[[#This Row],[Precio Mayoreo]],PreciosMayoreo[],3,0),0)","v":130},{"$f":"VentasMayoreo[[#This Row],[Cantidad]]*VentasMayoreo[[#This Row],[Precio de venta]]","v":4810},null,4810]
["2022-06-03","Hugo","IPLAY MAX","Strawberry Lychee",31,"MK express",{"$f":"_xlfn.IFNA(VLOOKUP(VentasMayoreo[[#This Row],[Precio Mayoreo]],PreciosMayoreo[],3,0),0)","v":130},{"$f":"VentasMayoreo[[#This Row],[Cantidad]]*VentasMayoreo[[#This Row],[Precio de venta]]","v":4030},null,4030]
["2022-06-03","Hugo","IPLAY MAX","Grapestraw",22,"MK express",{"$f":"_xlfn.IFNA(VLOOKUP(VentasMayoreo[[#This Row],[Precio Mayoreo]],PreciosMayoreo[],3,0),0)","v":130},{"$f":"VentasMayoreo[[#This Row],[Cantidad]]*VentasMayoreo[[#This Row],[Precio de venta]]","v":2860},null,2860]
["2022-06-03","Hugo","IPLAY MAX","Guava",20,"MK express",{"$f":"_xlfn.IFNA(VLOOKUP(VentasMayoreo[[#This Row],[Precio Mayoreo]],PreciosMayoreo[],3,0),0)","v":130},{"$f":"VentasMayoreo[[#This Row],[Cantidad]]*VentasMayoreo[[#This Row],[Precio de venta]]","v":2600},null,2600]
["2022-06-03","Hugo","IPLAY MAX","GrapeFruit berry",30,"MK express",{"$f":"_xlfn.IFNA(VLOOKUP(VentasMayoreo[[#This Row],[Precio Mayoreo]],PreciosMayoreo[],3,0),0)","v":130},{"$f":"VentasMayoreo[[#This Row],[Cantidad]]*VentasMayoreo[[#This Row],[Precio de venta]]","v":3900},null,3900]
["2022-06-03","Hugo","IPLAY MAX","Bluerazz",30,"MK express",{"$f":"_xlfn.IFNA(VLOOKUP(VentasMayoreo[[#This Row],[Precio Mayoreo]],PreciosMayoreo[],3,0),0)","v":130},{"$f":"VentasMayoreo[[#This Row],[Cantidad]]*VentasMayoreo[[#This Row],[Precio de venta]]","v":3900},null,3900]
["2022-06-03","Hugo","IPLAY MAX","Cool mint",3,"MK express",{"$f":"_xlfn.IFNA(VLOOKUP(VentasMayoreo[[#This Row],[Precio Mayoreo]],PreciosMayoreo[],3,0),0)","v":130},{"$f":"VentasMayoreo[[#This Row],[Cantidad]]*VentasMayoreo[[#This Row],[Precio de venta]]","v":390},null,390]
["2022-09-11","Hugo","IPLAY MAX","Banana Ice",1,"Hugo Precio",{"$f":"_xlfn.IFNA(VLOOKUP(VentasMayoreo[[#This Row],[Precio Mayoreo]],PreciosMayoreo[],3,0),0)","v":167},{"$f":"VentasMayoreo[[#This Row],[Cantidad]]*VentasMayoreo[[#This Row],[Precio de venta]]","v":167},167]
["2022-09-11","Hugo","IPLAY MAX","Coconut",1,"Hugo Precio",{"$f":"_xlfn.IFNA(VLOOKUP(VentasMayoreo[[#This Row],[Precio Mayoreo]],PreciosMayoreo[],3,0),0)","v":167},{"$f":"VentasMayoreo[[#This Row],[Cantidad]]*VentasMayoreo[[#This Row],[Precio de venta]]","v":167},167]
["2022-09-11","Hugo","IPLAY MAX","Bluerazz",1,"Hugo Precio",{"$f":"_xlfn.IFNA(VLOOKUP(VentasMayoreo[[#This Row],[Precio Mayoreo]],PreciosMayoreo[],3,0),0)","v":167},{"$f":"VentasMayoreo[[#This Row],[Cantidad]]*VentasMayoreo[[#This Row],[Precio de venta]]","v":167},167]
["2022-10-05","Hugo","IPLAY MAX","Berry Watermelon",1,"Precio proveedor",{"$f":"_xlfn.IFNA(VLOOKUP(VentasMayoreo[[#This Row],[Precio Mayoreo]],PreciosMayoreo[],3,0),0)","v":130},{"$f":"VentasMayoreo[[#This Row],[Cantidad]]*VentasMayoreo[[#This Row],[Precio de venta]]","v":130},130]
[null,null,null,null,null,null,null,{"$f":"SUM(VentasMayoreo[Ventas Totales])","v":79611},{"$f":"SUBTOTAL(109,VentasMayoreo[Transferencia])","v":33411},{"$f":"SUBTOTAL(109,VentasMayoreo[Efectivo])","v":46200}]

{"sheet":"Ventas Menudeo","index":3,"n_rows":900,"n_cols":12,"rows_kept":900,"cut":false,"hidden":false,"merged":[]}
["Tipo","Precio de venta"]
["IPLAY BOX",260]
["IPLAY CUBE",190,190]
["IPLAY MAX",270,250]
["ELF BAR",275,275]
["Fecha ","Vendedor","Producto","Sabor","Cantidad","Promoción","Persona recomendo","Descuento","Precio de Venta","Venta Total","Transferencia","Efectivo"]
["2022-04-24","Julio","IPLAY CUBE","Energy ICE",12,null,null,{"$f":"_xlfn.IFNA(VLOOKUP(VentasMenudeo[[#This Row],[Promoción]],PromocionesMenudeo[[Promocion]:[Descuento]],2,0),0)","v":0},{"$f":"_xlfn.IFNA(VLOOKUP(VentasMenudeo[[#This Row],[Producto]],$A$2:$B$5,2,FALSE),0)","v":190},{"$f":"_xlfn.IFNA(_xlfn.IFS(VentasMenudeo[[#This Row],[Producto]]=$A$2,VentasMenudeo[[#This Row],[Precio de Venta]]*VentasMenudeo[[#This Row],[Cantidad]]-VentasMenudeo[[#This Row],[Descuento]],VentasMenudeo[[#This Row],[Producto]]=$A$3,VentasMenudeo[[#This Row],[Precio de Venta]]*VentasMenudeo[[#This Row],[Cantidad]]-VentasMenudeo[[#This Row],[Descuento]],VentasMenudeo[[#This Row],[Producto]]=$A$4,VentasMenudeo[[#This Row],[Precio de Venta]]*VentasMenudeo[[#This Row],[Cantidad]]-VentasMenudeo[[#This Row],[Descuento]],VentasMenudeo[[#This Row],[Producto]]=$A$5,VentasMenudeo[[#This Row],[Precio de Venta]]*VentasMenudeo[[#This Row],[Cantidad]]-VentasMenudeo[[#This Row],[Descuento]]),0)","v":2280},2280]
["2022-04-24","Julio","IPLAY CUBE","Mango ICE",9,"3er Vape",null,{"$f":"_xlfn.IFNA(VLOOKUP(VentasMenudeo[[#This Row],[Promoción]],PromocionesMenudeo[[Promocion]:[Descuento]],2,0),0)","v":0},{"$f":"_xlfn.IFNA(VLOOKUP(VentasMenudeo[[#This Row],[Producto]],$A$2:$B$5,2,FALSE),0)","v":190},{"$f":"_xlfn.IFNA(_xlfn.IFS(VentasMenudeo[[#This Row],[Producto]]=$A$2,VentasMenudeo[[#This Row],[Precio de Venta]]*VentasMenudeo[[#This Row],[Cantidad]]-VentasMenudeo[[#This Row],[Descuento]],VentasMenudeo[[#This Row],[Producto]]=$A$3,VentasMenudeo[[#This Row],[Precio de Venta]]*VentasMenudeo[[#This Row],[Cantidad]]-VentasMenudeo[[#This Row],[Descuento]],VentasMenudeo[[#This Row],[Producto]]=$A$4,VentasMenudeo[[#This Row],[Precio de Venta]]*VentasMenudeo[[#This Row],[Cantidad]]-VentasMenudeo[[#This Row],[Descuento]],VentasMenudeo[[#This Row],[Producto]]=$A$5,VentasMenudeo[[#This Row],[Precio de Venta]]*VentasMenudeo[[#This Row],[Cantidad]]-VentasMenudeo[[#This Row],[Descuento]]),0)","v":1710},1685]
["2022-04-24","Julio","IPLAY CUBE","Cola ICE",9,null,null,{"$f":"_xlfn.IFNA(VLOOKUP(VentasMenudeo[[#This Row],[Promoción]],PromocionesMenudeo[[Promocion]:[Descuento]],2,0),0)","v":0},{"$f":"_xlfn.IFNA(VLOOKUP(VentasMenudeo[[#This Row],[Producto]],$A$2:$B$5,2,FALSE),0)","v":190},{"$f":"_xlfn.IFNA(_xlfn.IFS(VentasMenudeo[[#This Row],[Producto]]=$A$2,VentasMenudeo[[#This Row],[Precio de Venta]]*VentasMenudeo[[#This Row],[Cantidad]]-VentasMenudeo[[#This Row],[Descuento]],VentasMenudeo[[#This Row],[Producto]]=$A$3,VentasMenudeo[[#This Row],[Precio de Venta]]*VentasMenudeo[[#This Row],[Cantidad]]-VentasMenudeo[[#This Row],[Descuento]],VentasMenudeo[[#This Row],[Producto]]=$A$4,VentasMenudeo[[#This Row],[Precio de Venta]]*VentasMenudeo[[#This Row],[Cantidad]]-VentasMenudeo[[#This Row],[Descuento]],VentasMenudeo[[#This Row],[Producto]]=$A$5,VentasMenudeo[[#This Row],[Precio de Venta]]*VentasMenudeo[[#This Row],[Cantidad]]-VentasMenudeo[[#This Row],[Descuento]]),0)","v":1710},1710]
["2022-04-24","Julio","IPLAY CUBE","Grape soda",14,null,null,{"$f":"_xlfn.IFNA(VLOOKUP(VentasMenudeo[[#This Row],[Promoción]],PromocionesMenudeo[[Promocion]:[Descuento]],2,0),0)","v":0},{"$f":"_xlfn.IFNA(VLOOKUP(VentasMenudeo[[#This Row],[Producto]],$A$2:$B$5,2,FALSE),0)","v":190},{"$f":"_xlfn.IFNA(_xlfn.IFS(VentasMenudeo[[#This Row],[Producto]]=$A$2,VentasMenudeo[[#This Row],[Precio de Venta]]*VentasMenudeo[[#This Row],[Cantidad]]-VentasMenudeo[[#This Row],[Descuento]],VentasMenudeo[[#This Row],[Producto]]=$A$3,VentasMenudeo[[#This Row],[Precio de Venta]]*VentasMenudeo[[#This Row],[Cantidad]]-VentasMenudeo[[#This Row],[Descuento]],VentasMenudeo[[#This Row],[Producto]]=$A$4,VentasMenudeo[[#This Row],[Precio de Venta]]*VentasMenudeo[[#This Row],[Cantidad]]-VentasMenudeo[[#This Row],[Descuento]],VentasMenudeo[[#This Row],[Producto]]=$A$5,VentasMenudeo[[#This Row],[Precio de Venta]]*VentasMenudeo[[#This Row],[Cantidad]]-VentasMenudeo[[#This Row],[Descuento]]),0)","v":2660},2660]
["2022-04-24","Julio","IPLAY CUBE","Strawberry Lychee",9,null,null,{"$f":"_xlfn.IFNA(VLOOKUP(VentasMenudeo[[#This Row],[Promoción]],PromocionesMenudeo[[Promocion]:[Descuento]],2,0),0)","v":0},{"$f":"_xlfn.IFNA(VLOOKUP(VentasMenudeo[[#This Row],[Producto]],$A$2:$B$5,2,FALSE),0)","v":190},{"$f":"_xlfn.IFNA(_xlfn.IFS(VentasMenudeo[[#This Row],[Producto]]=$A$2,VentasMenudeo[[#This Row],[Precio de Venta]]*VentasMenudeo[[#This Row],[Cantidad]]-VentasMenudeo[[#This Row],[Descuento]],VentasMenudeo[[#This Row],[Producto]]=$A$3,VentasMenudeo[[#This Row],[Precio de Venta]]*VentasMenudeo[[#This Row],[Cantidad]]-VentasMenudeo[[#This Row],[Descuento]],VentasMenudeo[[#This Row],[Producto]]=$A$4,VentasMenudeo[[#This Row],[Precio de Venta]]*VentasMenudeo[[#This Row],[Cantidad]]-VentasMenudeo[[#This Row],[Descuento]],VentasMenudeo[[#This Row],[Producto]]=$A$5,VentasMenudeo[[#This Row],[Precio de Venta]]*VentasMenudeo[[#This Row],[Cantidad]]-VentasMenudeo[[#This Row],[Descuento]]),0)","v":1710},1710]
["2022-04-24","Julio","IPLAY CUBE","Lemonade",9,null,null,{"$f":"_xlfn.IFNA(VLOOKUP(VentasMenudeo[[#This Row],[Promoción]],PromocionesMenudeo[[Promocion]:[Descuento]],2,0),0)","v":0},{"$f":"_xlfn.IFNA(VLOOKUP(VentasMenudeo[[#This Row],[Producto]],$A$2:$B$5,2,FALSE),0)","v":190},{"$f":"_xlfn.IFNA(_xlfn.IFS(VentasMenudeo[[#This Row],[Producto]]=$A$2,VentasMenudeo[[#This Row],[Precio de Venta]]*VentasMenudeo[[#This Row],[Cantidad]]-VentasMenudeo[[#This Row],[Descuento]],VentasMenudeo[[#This Row],[Producto]]=$A$3,VentasMenudeo[[#This Row],[Precio de Venta]]*VentasMenudeo[[#This Row],[Cantidad]]-VentasMenudeo[[#This Row],[Descuento]],VentasMenudeo[[#This Row],[Producto]]=$A$4,VentasMenudeo[[#This Row],[Precio de Venta]]*VentasMenudeo[[#This Row],[Cantidad]]-VentasMenudeo[[#This Row],[Descuento]],VentasMenudeo[[#This Row],[Producto]]=$A$5,VentasMenudeo[[#This Row],[Precio de Venta]]*VentasMenudeo[[#This Row],[Cantidad]]-VentasMenudeo[[#This Row],[Descuento]]),0)","v":1710},1710]
["2022-04-24","Julio","IPLAY CUBE","Banana Ice",6,"3er Vape",null,{"$f":"_xlfn.IFNA(VLOOKUP(VentasMenudeo[[#This Row],[Promoción]],PromocionesMenudeo[[Promocion]:[Descuento]],2,0),0)","v":0},{"$f":"_xlfn.IFNA(VLOOKUP(VentasMenudeo[[#This Row],[Producto]],$A$2:$B$5,2,FALSE),0)","v":190},{"$f":"_xlfn.IFNA(_xlfn.IFS(VentasMenudeo[[#This Row],[Producto]]=$A$2,VentasMenudeo[[#This Row],[Precio de Venta]]*VentasMenudeo[[#This Row],[Cantidad]]-VentasMenudeo[[#This Row],[Descuento]],VentasMenudeo[[#This Row],[Producto]]=$A$3,VentasMenudeo[[#This Row],[Precio de Venta]]*VentasMenudeo[[#This Row],[Cantidad]]-VentasMenudeo[[#This Row],[Descuento]],VentasMenudeo[[#This Row],[Producto]]=$A$4,VentasMenudeo[[#This Row],[Precio de Venta]]*VentasMenudeo[[#This Row],[Cantidad]]-VentasMenudeo[[#This Row],[Descuento]],VentasMenudeo[[#This Row],[Producto]]=$A$5,VentasMenudeo[[#This Row],[Precio de Venta]]*VentasMenudeo[[#This Row],[Cantidad]]-VentasMenudeo[[#This Row],[Descuento]]),0)","v":1140},1115]
["2022-04-24","Julio","IPLAY CUBE","Peach Candy",6,"3er Vape",null,{"$f":"_xlfn.IFNA(VLOOKUP(VentasMenudeo[[#This Row],[Promoción]],PromocionesMenudeo[[Promocion]:[Descuento]],2,0),0)","v":0},{"$f":"_xlfn.IFNA(VLOOKUP(VentasMenudeo[[#This Row],[Producto]],$A$2:$B$5,2,FALSE),0)","v":190},{"$f":"_xlfn.IFNA(_xlfn.IFS(VentasMenudeo[[#This Row],[Producto]]=$A$2,VentasMenudeo[[#This Row],[Precio de Venta]]*VentasMenudeo[[#This Row],[Cantidad]]-VentasMenudeo[[#This Row],[Descuento]],VentasMenudeo[[#This Row],[Producto]]=$A$3,VentasMenudeo[[#This Row],[Precio de Venta]]*VentasMenudeo[[#This Row],[Cantidad]]-VentasMenudeo[[#This Row],[Descuento]],VentasMenudeo[[#This Row],[Producto]]=$A$4,VentasMenudeo[[#This Row],[Precio de Venta]]*VentasMenudeo[[#This Row],[Cantidad]]-VentasMenudeo[[#This Row],[Descuento]],VentasMenudeo[[#This Row],[Producto]]=$A$5,VentasMenudeo[[#This Row],[Precio de Venta]]*VentasMenudeo[[#This Row],[Cantidad]]-VentasMenudeo[[#This Row],[Descuento]]),0)","v":1140},1115]
["2022-04-24","Julio","IPLAY CUBE","Watermelon",1,null,null,{"$f":"_xlfn.IFNA(VLOOKUP(VentasMenudeo[[#This Row],[Promoción]],PromocionesMenudeo[[Promocion]:[Descuento]],2,0),0)","v":0},{"$f":"_xlfn.IFNA(VLOOKUP(VentasMenudeo[[#This Row],[Producto]],$A$2:$B$5,2,FALSE),0)","v":190},{"$f":"_xlfn.IFNA(_xlfn.IFS(VentasMenudeo[[#This Row],[Producto]]=$A$2,VentasMenudeo[[#This Row],[Precio de Venta]]*VentasMenudeo[[#This Row],[Cantidad]]-VentasMenudeo[[#This Row],[Descuento]],VentasMenudeo[[#This Row],[Producto]]=$A$3,VentasMenudeo[[#This Row],[Precio de Venta]]*VentasMenudeo[[#This Row],[Cantidad]]-VentasMenudeo[[#This Row],[Descuento]],VentasMenudeo[[#This Row],[Producto]]=$A$4,VentasMenudeo[[#This Row],[Precio de Venta]]*VentasMenudeo[[#This Row],[Cantidad]]-VentasMenudeo[[#This Row],[Descuento]],VentasMenudeo[[#This Row],[Producto]]=$A$5,VentasMenudeo[[#This Row],[Precio de Venta]]*VentasMenudeo[[#This Row],[Cantidad]]-VentasMenudeo[[#This Row],[Descuento]]),0)","v":190},190]
["2022-04-24","Julio","IPLAY CUBE","Double apple",8,"3er Vape",null,{"$f":"_xlfn.IFNA(VLOOKUP(VentasMenudeo[[#This Row],[Promoción]],PromocionesMenudeo[[Promocion]:[Descuento]],2,0),0)","v":0},{"$f":"_xlfn.IFNA(VLOOKUP(VentasMenudeo[[#This Row],[Producto]],$A$2:$B$5,2,FALSE),0)","v":190},{"$f":"_xlfn.IFNA(_xlfn.IFS(VentasMenudeo[[#This Row],[Producto]]=$A$2,VentasMenudeo[[#This Row],[Precio de Venta]]*VentasMenudeo[[#This Row],[Cantidad]]-VentasMenudeo[[#This Row],[Descuento]],VentasMenudeo[[#This Row],[Producto]]=$A$3,VentasMenudeo[[#This Row],[Precio de Venta]]*VentasMenudeo[[#This Row],[Cantidad]]-VentasMenudeo[[#This Row],[Descuento]],VentasMenudeo[[#This Row],[Producto]]=$A$4,VentasMenudeo[[#This Row],[Precio de Venta]]*VentasMenudeo[[#This Row],[Cantidad]]-VentasMenudeo[[#This Row],[Descuento]],VentasMenudeo[[#This Row],[Producto]]=$A$5,VentasMenudeo[[#This Row],[Precio de Venta]]*VentasMenudeo[[#This Row],[Cantidad]]-VentasMenudeo[[#This Row],[Descuento]]),0)","v":1520},1495]
["2022-04-24","Julio","IPLAY CUBE","ICE Water",4,null,null,{"$f":"_xlfn.IFNA(VLOOKUP(VentasMenudeo[[#This Row],[Promoción]],PromocionesMenudeo[[Promocion]:[Descuento]],2,0),0)","v":0},{"$f":"_xlfn.IFNA(VLOOKUP(VentasMenudeo[[#This Row],[Producto]],$A$2:$B$5,2,FALSE),0)","v":190},{"$f":"_xlfn.IFNA(_xlfn.IFS(VentasMenudeo[[#This Row],[Producto]]=$A$2,VentasMenudeo[[#This Row],[Precio de Venta]]*VentasMenudeo[[#This Row],[Cantidad]]-VentasMenudeo[[#This Row],[Descuento]],VentasMenudeo[[#This Row],[Producto]]=$A$3,VentasMenudeo[[#This Row],[Precio de Venta]]*VentasMenudeo[[#This Row],[Cantidad]]-VentasMenudeo[[#This Row],[Descuento]],VentasMenudeo[[#This Row],[Producto]]=$A$4,VentasMenudeo[[#This Row],[Precio de Venta]]*VentasMenudeo[[#This Row],[Cantidad]]-VentasMenudeo[[#This Row],[Descuento]],VentasMenudeo[[#This Row],[Producto]]=$A$5,VentasMenudeo[[#This Row],[Precio de Venta]]*VentasMenudeo[[#This Row],[Cantidad]]-VentasMenudeo[[#This Row],[Descuento]]),0)","v":760},760]
["2022-04-24","Julio","ELF BAR","Banana Ice",2,null,null,{"$f":"_xlfn.IFNA(VLOOKUP(VentasMenudeo[[#This Row],[Promoción]],PromocionesMenudeo[[Promocion]:[Descuento]],2,0),0)","v":0},{"$f":"_xlfn.IFNA(VLOOKUP(VentasMenudeo[[#This Row],[Producto]],$A$2:$B$5,2,FALSE),0)","v":275},{"$f":"_xlfn.IFNA(_xlfn.IFS(VentasMenudeo[[#This Row],[Producto]]=$A$2,VentasMenudeo[[#This Row],[Precio de Venta]]*VentasMenudeo[[#This Row],[Cantidad]]-VentasMenudeo[[#This Row],[Descuento]],VentasMenudeo[[#This Row],[Producto]]=$A$3,VentasMenudeo[[#This Row],[Precio de Venta]]*VentasMenudeo[[#This Row],[Cantidad]]-VentasMenudeo[[#This Row],[Descuento]],VentasMenudeo[[#This Row],[Producto]]=$A$4,VentasMenudeo[[#This Row],[Precio de Venta]]*VentasMenudeo[[#This Row],[Cantidad]]-VentasMenudeo[[#This Row],[Descuento]],VentasMenudeo[[#This Row],[Producto]]=$A$5,VentasMenudeo[[#This Row],[Precio de Venta]]*VentasMenudeo[[#This Row],[Cantidad]]-VentasMenudeo[[#This Row],[Descuento]]),0)","v":550},{"$f":"VentasMenudeo[[#This Row],[Venta Total]]","v":550}]
["2022-04-24","Hugo","ELF BAR","Mango ICE",2,null,null,{"$f":"_xlfn.IFNA(VLOOKUP(VentasMenudeo[[#This Row],[Promoción]],PromocionesMenudeo[[Promocion]:[Descuento]],2,0),0)","v":0},{"$f":"_xlfn.IFNA(VLOOKUP(VentasMenudeo[[#This Row],[Producto]],$A$2:$B$5,2,FALSE),0)","v":275},{"$f":"_xlfn.IFNA(_xlfn.IFS(VentasMenudeo[[#This Row],[Producto]]=$A$2,VentasMenudeo[[#This Row],[Precio de Venta]]*VentasMenudeo[[#This Row],[Cantidad]]-VentasMenudeo[[#This Row],[Descuento]],VentasMenudeo[[#This Row],[Producto]]=$A$3,VentasMenudeo[[#This Row],[Precio de Venta]]*VentasMenudeo[[#This Row],[Cantidad]]-VentasMenudeo[[#This Row],[Descuento]],VentasMenudeo[[#This Row],[Producto]]=$A$4,VentasMenudeo[[#This Row],[Precio de Venta]]*VentasMenudeo[[#This Row],[Cantidad]]-VentasMenudeo[[#This Row],[Descuento]],VentasMenudeo[[#This Row],[Producto]]=$A$5,VentasMenudeo[[#This Row],[Precio de Venta]]*VentasMenudeo[[#This Row],[Cantidad]]-VentasMenudeo[[#This Row],[Descuento]]),0)","v":550},{"$f":"VentasMenudeo[[#This Row],[Venta Total]]","v":550}]
["2022-04-24","Julio","ELF BAR","Pineaple ICE",2,null,null,{"$f":"_xlfn.IFNA(VLOOKUP(VentasMenudeo[[#This Row],[Promoción]],PromocionesMenudeo[[Promocion]:[Descuento]],2,0),0)","v":0},{"$f":"_xlfn.IFNA(VLOOKUP(VentasMenudeo[[#This Row],[Producto]],$A$2:$B$5,2,FALSE),0)","v":275},{"$f":"_xlfn.IFNA(_xlfn.IFS(VentasMenudeo[[#This Row],[Producto]]=$A$2,VentasMenudeo[[#This Row],[Precio de Venta]]*VentasMenudeo[[#This Row],[Cantidad]]-VentasMenudeo[[#This Row],[Descuento]],VentasMenudeo[[#This Row],[Producto]]=$A$3,VentasMenudeo[[#This Row],[Precio de Venta]]*VentasMenudeo[[#This Row],[Cantidad]]-VentasMenudeo[[#This Row],[Descuento]],VentasMenudeo[[#This Row],[Producto]]=$A$4,VentasMenudeo[[#This Row],[Precio de Venta]]*VentasMenudeo[[#This Row],[Cantidad]]-VentasMenudeo[[#This Row],[Descuento]],VentasMenudeo[[#This Row],[Producto]]=$A$5,VentasMenudeo[[#This Row],[Precio de Venta]]*VentasMenudeo[[#This Row],[Cantidad]]-VentasMenudeo[[#This Row],[Descuento]]),0)","v":550},{"$f":"VentasMenudeo[[#This Row],[Venta Total]]","v":550}]
["2022-04-24","Julio","IPLAY MAX","Strawberry Lychee",19,"$20 Descuento",null,{"$f":"_xlfn.IFNA(VLOOKUP(VentasMenudeo[[#This Row],[Promoción]],PromocionesMenudeo[[Promocion]:[Descuento]],2,0),0)","v":20},{"$f":"_xlfn.IFNA(VLOOKUP(VentasMenudeo[[#This Row],[Producto]],$A$2:$B$5,2,FALSE),0)","v":270},{"$f":"_xlfn.IFNA(_xlfn.IFS(VentasMenudeo[[#This Row],[Producto]]=$A$2,VentasMenudeo[[#This Row],[Precio de Venta]]*VentasMenudeo[[#This Row],[Cantidad]]-VentasMenudeo[[#This Row],[Descuento]],VentasMenudeo[[#This Row],[Producto]]=$A$3,VentasMenudeo[[#This Row],[Precio de Venta]]*VentasMenudeo[[#This Row],[Cantidad]]-VentasMenudeo[[#This Row],[Descuento]],VentasMenudeo[[#This Row],[Producto]]=$A$4,VentasMenudeo[[#This Row],[Precio de Venta]]*VentasMenudeo[[#This Row],[Cantidad]]-VentasMenudeo[[#This Row],[Descuento]],VentasMenudeo[[#This Row],[Producto]]=$A$5,VentasMenudeo[[#This Row],[Precio de Venta]]*VentasMenudeo[[#This Row],[Cantidad]]-VentasMenudeo[[#This Row],[Descuento]]),0)","v":5110},5110]
["2022-04-24","Julio","IPLAY MAX","Grapestraw",21,"$20 Descuento",null,{"$f":"_xlfn.IFNA(VLOOKUP(VentasMenudeo[[#This Row],[Promoción]],PromocionesMenudeo[[Promocion]:[Descuento]],2,0),0)","v":20},{"$f":"_xlfn.IFNA(VLOOKUP(VentasMenudeo[[#This Row],[Producto]],$A$2:$B$5,2,FALSE),0)","v":270},{"$f":"_xlfn.IFNA(_xlfn.IFS(VentasMenudeo[[#This Row],[Producto]]=$A$2,VentasMenudeo[[#This Row],[Precio de Venta]]*VentasMenudeo[[#This Row],[Cantidad]]-VentasMenudeo[[#This Row],[Descuento]],VentasMenudeo[[#This Row],[Producto]]=$A$3,VentasMenudeo[[#This Row],[Precio de Venta]]*VentasMenudeo[[#This Row],[Cantidad]]-VentasMenudeo[[#This Row],[Descuento]],VentasMenudeo[[#This Row],[Producto]]=$A$4,VentasMenudeo[[#This Row],[Precio de Venta]]*VentasMenudeo[[#This Row],[Cantidad]]-VentasMenudeo[[#This Row],[Descuento]],VentasMenudeo[[#This Row],[Producto]]=$A$5,VentasMenudeo[[#This Row],[Precio de Venta]]*VentasMenudeo[[#This Row],[Cantidad]]-VentasMenudeo[[#This Row],[Descuento]]),0)","v":5650},5650]
["2022-04-24","Julio","IPLAY MAX","Berry Watermelon",25,null,null,{"$f":"_xlfn.IFNA(VLOOKUP(VentasMenudeo[[#This Row],[Promoción]],PromocionesMenudeo[[Promocion]:[Descuento]],2,0),0)","v":0},{"$f":"_xlfn.IFNA(VLOOKUP(VentasMenudeo[[#This Row],[Producto]],$A$2:$B$5,2,FALSE),0)","v":270},{"$f":"_xlfn.IFNA(_xlfn.IFS(VentasMenudeo[[#This Row],[Producto]]=$A$2,VentasMenudeo[[#This Row],[Precio de Venta]]*VentasMenudeo[[#This Row],[Cantidad]]-VentasMenudeo[[#This Row],[Descuento]],VentasMenudeo[[#This Row],[Producto]]=$A$3,VentasMenudeo[[#This Row],[Precio de Venta]]*VentasMenudeo[[#This Row],[Cantidad]]-VentasMenudeo[[#This Row],[Descuento]],VentasMenudeo[[#This Row],[Producto]]=$A$4,VentasMenudeo[[#This Row],[Precio de Venta]]*VentasMenudeo[[#This Row],[Cantidad]]-VentasMenudeo[[#This Row],[Descuento]],VentasMenudeo[[#This Row],[Producto]]=$A$5,VentasMenudeo[[#This Row],[Precio de Venta]]*VentasMenudeo[[#This Row],[Cantidad]]-VentasMenudeo[[#This Row],[Descuento]]),0)","v":6750},6750]
["2022-04-24","Julio","IPLAY MAX","Guava",19,"$20 Descuento",null,{"$f":"_xlfn.IFNA(VLOOKUP(VentasMenudeo[[#This Row],[Promoción]],PromocionesMenudeo[[Promocion]:[Descuento]],2,0),0)","v":20},{"$f":"_xlfn.IFNA(VLOOKUP(VentasMenudeo[[#This Row],[Producto]],$A$2:$B$5,2,FALSE),0)","v":270},{"$f":"_xlfn.IFNA(_xlfn.IFS(VentasMenudeo[[#This Row],[Producto]]=$A$2,VentasMenudeo[[#This Row],[Precio de Venta]]*VentasMenudeo[[#This Row],[Cantidad]]-VentasMenudeo[[#This Row],[Descuento]],VentasMenudeo[[#This Row],[Producto]]=$A$3,VentasMenudeo[[#This Row],[Precio de Venta]]*VentasMenudeo[[#This Row],[Cantidad]]-VentasMenudeo[[#This Row],[Descuento]],VentasMenudeo[[#This Row],[Producto]]=$A$4,VentasMenudeo[[#This Row],[Precio de Venta]]*VentasMenudeo[[#This Row],[Cantidad]]-VentasMenudeo[[#This Row],[Descuento]],VentasMenudeo[[#This Row],[Producto]]=$A$5,VentasMenudeo[[#This Row],[Precio de Venta]]*VentasMenudeo[[#This Row],[Cantidad]]-VentasMenudeo[[#This Row],[Descuento]]),0)","v":5110},5110]
["2022-04-24","Julio","IPLAY MAX","Cool mint",22,"$20 Descuento",null,{"$f":"_xlfn.IFNA(VLOOKUP(VentasMenudeo[[#This Row],[Promoción]],PromocionesMenudeo[[Promocion]:[Descuento]],2,0),0)","v":20},{"$f":"_xlfn.IFNA(VLOOKUP(VentasMenudeo[[#This Row],[Producto]],$A$2:$B$5,2,FALSE),0)","v":270},{"$f":"_xlfn.IFNA(_xlfn.IFS(VentasMenudeo[[#This Row],[Producto]]=$A$2,VentasMenudeo[[#This Row],[Precio de Venta]]*VentasMenudeo[[#This Row],[Cantidad]]-VentasMenudeo[[#This Row],[Descuento]],VentasMenudeo[[#This Row],[Producto]]=$A$3,VentasMenudeo[[#This Row],[Precio de Venta]]*VentasMenudeo[[#This Row],[Cantidad]]-VentasMenudeo[[#This Row],[Descuento]],VentasMenudeo[[#This Row],[Producto]]=$A$4,VentasMenudeo[[#This Row],[Precio de Venta]]*VentasMenudeo[[#This Row],[Cantidad]]-VentasMenudeo[[#This Row],[Descuento]],VentasMenudeo[[#This Row],[Producto]]=$A$5,VentasMenudeo[[#This Row],[Precio de Venta]]*VentasMenudeo[[#This Row],[Cantidad]]-VentasMenudeo[[#This Row],[Descuento]]),0)","v":5920},5920]
["2022-04-24","Julio","IPLAY MAX","Bluerazz",12,"$20 Descuento",null,{"$f":"_xlfn.IFNA(VLOOKUP(VentasMenudeo[[#This Row],[Promoción]],PromocionesMenudeo[[Promocion]:[Descuento]],2,0),0)","v":20},{"$f":"_xlfn.IFNA(VLOOKUP(VentasMenudeo[[#This Row],[Producto]],$A$2:$B$5,2,FALSE),0)","v":270},{"$f":"_xlfn.IFNA(_xlfn.IFS(VentasMenudeo[[#This Row],[Producto]]=$A$2,VentasMenudeo[[#This Row],[Precio de Venta]]*VentasMenudeo[[#This Row],[Cantidad]]-VentasMenudeo[[#This Row],[Descuento]],VentasMenudeo[[#This Row],[Producto]]=$A$3,VentasMenudeo[[#This Row],[Precio de Venta]]*VentasMenudeo[[#This Row],[Cantidad]]-VentasMenudeo[[#This Row],[Descuento]],VentasMenudeo[[#This Row],[Producto]]=$A$4,VentasMenudeo[[#This Row],[Precio de Venta]]*VentasMenudeo[[#This Row],[Cantidad]]-VentasMenudeo[[#This Row],[Descuento]],VentasMenudeo[[#This Row],[Producto]]=$A$5,VentasMenudeo[[#This Row],[Precio de Venta]]*VentasMenudeo[[#This Row],[Cantidad]]-VentasMenudeo[[#This Row],[Descuento]]),0)","v":3220},3220]
["2022-04-24","Julio","IPLAY MAX","Bluerazz",12,"$20 Descuento",null,{"$f":"_xlfn.IFNA(VLOOKUP(VentasMenudeo[[#This Row],[Promoción]],PromocionesMenudeo[[Promocion]:[Descuento]],2,0),0)","v":20},{"$f":"_xlfn.IFNA(VLOOKUP(VentasMenudeo[[#This Row],[Producto]],$A$2:$B$5,2,FALSE),0)","v":270},{"$f":"_xlfn.IFNA(_xlfn.IFS(VentasMenudeo[[#This Row],[Producto]]=$A$2,VentasMenudeo[[#This Row],[Precio de Venta]]*VentasMenudeo[[#This Row],[Cantidad]]-VentasMenudeo[[#This Row],[Descuento]],VentasMenudeo[[#This Row],[Producto]]=$A$3,VentasMenudeo[[#This Row],[Precio de Venta]]*VentasMenudeo[[#This Row],[Cantidad]]-VentasMenudeo[[#This Row],[Descuento]],VentasMenudeo[[#This Row],[Producto]]=$A$4,VentasMenudeo[[#This Row],[Precio de Venta]]*VentasMenudeo[[#This Row],[Cantidad]]-VentasMenudeo[[#This Row],[Descuento]],VentasMenudeo[[#This Row],[Producto]]=$A$5,VentasMenudeo[[#This Row],[Precio de Venta]]*VentasMenudeo[[#This Row],[Cantidad]]-VentasMenudeo[[#This Row],[Descuento]]),0)","v":3220},3220]
["2022-04-24","Julio","IPLAY MAX","Sour Apple",12,null,null,{"$f":"_xlfn.IFNA(VLOOKUP(VentasMenudeo[[#This Row],[Promoción]],PromocionesMenudeo[[Promocion]:[Descuento]],2,0),0)","v":0},{"$f":"_xlfn.IFNA(VLOOKUP(VentasMenudeo[[#This Row],[Producto]],$A$2:$B$5,2,FALSE),0)","v":270},{"$f":"_xlfn.IFNA(_xlfn.IFS(VentasMenudeo[[#This Row],[Producto]]=$A$2,VentasMenudeo[[#This Row],[Precio de Venta]]*VentasMenudeo[[#This Row],[Cantidad]]-VentasMenudeo[[#This Row],[Descuento]],VentasMenudeo[[#This Row],[Producto]]=$A$3,VentasMenudeo[[#This Row],[Precio de Venta]]*VentasMenudeo[[#This Row],[Cantidad]]-VentasMenudeo[[#This Row],[Descuento]],VentasMenudeo[[#This Row],[Producto]]=$A$4,VentasMenudeo[[#This Row],[Precio de Venta]]*VentasMenudeo[[#This Row],[Cantidad]]-VentasMenudeo[[#This Row],[Descuento]],VentasMenudeo[[#This Row],[Producto]]=$A$5,VentasMenudeo[[#This Row],[Precio de Venta]]*VentasMenudeo[[#This Row],[Cantidad]]-VentasMenudeo[[#This Row],[Descuento]]),0)","v":3240},3240]
["2022-04-24","Julio","IPLAY MAX","Energy ICE",7,"$20 Descuento",null,{"$f":"_xlfn.IFNA(VLOOKUP(VentasMenudeo[[#This Row],[Promoción]],PromocionesMenudeo[[Promocion]:[Descuento]],2,0),0)","v":20},{"$f":"_xlfn.IFNA(VLOOKUP(VentasMenudeo[[#This Row],[Producto]],$A$2:$B$5,2,FALSE),0)","v":270},{"$f":"_xlfn.IFNA(_xlfn.IFS(VentasMenudeo[[#This Row],[Producto]]=$A$2,VentasMenudeo[[#This Row],[Precio de Venta]]*VentasMenudeo[[#This Row],[Cantidad]]-VentasMenudeo[[#This Row],[Descuento]],VentasMenudeo[[#This Row],[Producto]]=$A$3,VentasMenudeo[[#This Row],[Precio de Venta]]*VentasMenudeo[[#This Row],[Cantidad]]-VentasMenudeo[[#This Row],[Descuento]],VentasMenudeo[[#This Row],[Producto]]=$A$4,VentasMenudeo[[#This Row],[Precio de Venta]]*VentasMenudeo[[#This Row],[Cantidad]]-VentasMenudeo[[#This Row],[Descuento]],VentasMenudeo[[#This Row],[Producto]]=$A$5,VentasMenudeo[[#This Row],[Precio de Venta]]*VentasMenudeo[[#This Row],[Cantidad]]-VentasMenudeo[[#This Row],[Descuento]]),0)","v":1870},1870]
["2022-04-24","Julio","IPLAY MAX","Energy ICE",7,"$20 Descuento",null,{"$f":"_xlfn.IFNA(VLOOKUP(VentasMenudeo[[#This Row],[Promoción]],PromocionesMenudeo[[Promocion]:[Descuento]],2,0),0)","v":20},{"$f":"_xlfn.IFNA(VLOOKUP(VentasMenudeo[[#This Row],[Producto]],$A$2:$B$5,2,FALSE),0)","v":270},{"$f":"_xlfn.IFNA(_xlfn.IFS(VentasMenudeo[[#This Row],[Producto]]=$A$2,VentasMenudeo[[#This Row],[Precio de Venta]]*VentasMenudeo[[#This Row],[Cantidad]]-VentasMenudeo[[#This Row],[Descuento]],VentasMenudeo[[#This Row],[Producto]]=$A$3,VentasMenudeo[[#This Row],[Precio de Venta]]*VentasMenudeo[[#This Row],[Cantidad]]-VentasMenudeo[[#This Row],[Descuento]],VentasMenudeo[[#This Row],[Producto]]=$A$4,VentasMenudeo[[#This Row],[Precio de Venta]]*VentasMenudeo[[#This Row],[Cantidad]]-VentasMenudeo[[#This Row],[Descuento]],VentasMenudeo[[#This Row],[Producto]]=$A$5,VentasMenudeo[[#This Row],[Precio de Venta]]*VentasMenudeo[[#This Row],[Cantidad]]-VentasMenudeo[[#This Row],[Descuento]]),0)","v":1870},1870]
["2022-04-24","Julio","IPLAY MAX","GrapeFruit berry",18,null,null,{"$f":"_xlfn.IFNA(VLOOKUP(VentasMenudeo[[#This Row],[Promoción]],PromocionesMenudeo[[Promocion]:[Descuento]],2,0),0)","v":0},{"$f":"_xlfn.IFNA(VLOOKUP(VentasMenudeo[[#This Row],[Producto]],$A$2:$B$5,2,FALSE),0)","v":270},{"$f":"_xlfn.IFNA(_xlfn.IFS(VentasMenudeo[[#This Row],[Producto]]=$A$2,VentasMenudeo[[#This Row],[Precio de Venta]]*VentasMenudeo[[#This Row],[Cantidad]]-VentasMenudeo[[#This Row],[Descuento]],VentasMenudeo[[#This Row],[Producto]]=$A$3,VentasMenudeo[[#This Row],[Precio de Venta]]*VentasMenudeo[[#This Row],[Cantidad]]-VentasMenudeo[[#This Row],[Descuento]],VentasMenudeo[[#This Row],[Producto]]=$A$4,VentasMenudeo[[#This Row],[Precio de Venta]]*VentasMenudeo[[#This Row],[Cantidad]]-VentasMenudeo[[#This Row],[Descuento]],VentasMenudeo[[#This Row],[Producto]]=$A$5,VentasMenudeo[[#This Row],[Precio de Venta]]*VentasMenudeo[[#This Row],[Cantidad]]-VentasMenudeo[[#This Row],[Descuento]]),0)","v":4860},4860]
["2022-04-24","Julio","IPLAY MAX","Cocumber Lemonade",4,"$20 Descuento",null,{"$f":"_xlfn.IFNA(VLOOKUP(VentasMenudeo[[#This Row],[Promoción]],PromocionesMenudeo[[Promocion]:[Descuento]],2,0),0)","v":20},{"$f":"_xlfn.IFNA(VLOOKUP(VentasMenudeo[[#This Row],[Producto]],$A$2:$B$5,2,FALSE),0)","v":270},{"$f":"_xlfn.IFNA(_xlfn.IFS(VentasMenudeo[[#This Row],[Producto]]=$A$2,VentasMenudeo[[#This Row],[Precio de Venta]]*VentasMenudeo[[#This Row],[Cantidad]]-VentasMenudeo[[#This Row],[Descuento]],VentasMenudeo[[#This Row],[Producto]]=$A$3,VentasMenudeo[[#This Row],[Precio de Venta]]*VentasMenudeo[[#This Row],[Cantidad]]-VentasMenudeo[[#This Row],[Descuento]],VentasMenudeo[[#This Row],[Producto]]=$A$4,VentasMenudeo[[#This Row],[Precio de Venta]]*VentasMenudeo[[#This Row],[Cantidad]]-VentasMenudeo[[#This Row],[Descuento]],VentasMenudeo[[#This Row],[Producto]]=$A$5,VentasMenudeo[[#This Row],[Precio de Venta]]*VentasMenudeo[[#This Row],[Cantidad]]-VentasMenudeo[[#This Row],[Descuento]]),0)","v":1060},1060]
["2022-04-24","Julio","IPLAY MAX","Lush Ice",7,"$20 Descuento",null,{"$f":"_xlfn.IFNA(VLOOKUP(VentasMenudeo[[#This Row],[Promoción]],PromocionesMenudeo[[Promocion]:[Descuento]],2,0),0)","v":20},{"$f":"_xlfn.IFNA(VLOOKUP(VentasMenudeo[[#This Row],[Producto]],$A$2:$B$5,2,FALSE),0)","v":270},{"$f":"_xlfn.IFNA(_xlfn.IFS(VentasMenudeo[[#This Row],[Producto]]=$A$2,VentasMenudeo[[#This Row],[Precio de Venta]]*VentasMenudeo[[#This Row],[Cantidad]]-VentasMenudeo[[#This Row],[Descuento]],VentasMenudeo[[#This Row],[Producto]]=$A$3,VentasMenudeo[[#This Row],[Precio de Venta]]*VentasMenudeo[[#This Row],[Cantidad]]-VentasMenudeo[[#This Row],[Descuento]],VentasMenudeo[[#This Row],[Producto]]=$A$4,VentasMenudeo[[#This Row],[Precio de Venta]]*VentasMenudeo[[#This Row],[Cantidad]]-VentasMenudeo[[#This Row],[Descuento]],VentasMenudeo[[#This Row],[Producto]]=$A$5,VentasMenudeo[[#This Row],[Precio de Venta]]*VentasMenudeo[[#This Row],[Cantidad]]-VentasMenudeo[[#This Row],[Descuento]]),0)","v":1870},1870]
["2022-04-24","Julio","IPLAY MAX","Lemon cookies",1,"$20 Descuento",null,{"$f":"_xlfn.IFNA(VLOOKUP(VentasMenudeo[[#This Row],[Promoción]],PromocionesMenudeo[[Promocion]:[Descuento]],2,0),0)","v":20},{"$f":"_xlfn.IFNA(VLOOKUP(VentasMenudeo[[#This Row],[Producto]],$A$2:$B$5,2,FALSE),0)","v":270},{"$f":"_xlfn.IFNA(_xlfn.IFS(VentasMenudeo[[#This Row],[Producto]]=$A$2,VentasMenudeo[[#This Row],[Precio de Venta]]*VentasMenudeo[[#This Row],[Cantidad]]-VentasMenudeo[[#This Row],[Descuento]],VentasMenudeo[[#This Row],[Producto]]=$A$3,VentasMenudeo[[#This Row],[Precio de Venta]]*VentasMenudeo[[#This Row],[Cantidad]]-VentasMenudeo[[#This Row],[Descuento]],VentasMenudeo[[#This Row],[Producto]]=$A$4,VentasMenudeo[[#This Row],[Precio de Venta]]*VentasMenudeo[[#This Row],[Cantidad]]-VentasMenudeo[[#This Row],[Descuento]],VentasMenudeo[[#This Row],[Producto]]=$A$5,VentasMenudeo[[#This Row],[Precio de Venta]]*VentasMenudeo[[#This Row],[Cantidad]]-VentasMenudeo[[#This Row],[Descuento]]),0)","v":250},{"$f":"VentasMenudeo[[#This Row],[Venta Total]]","v":250}]
["2022-04-24","Julio","IPLAY MAX","Coconut",17,null,null,{"$f":"_xlfn.IFNA(VLOOKUP(VentasMenudeo[[#This Row],[Promoción]],PromocionesMenudeo[[Promocion]:[Descuento]],2,0),0)","v":0},{"$f":"_xlfn.IFNA(VLOOKUP(VentasMenudeo[[#This Row],[Producto]],$A$2:$B$5,2,FALSE),0)","v":270},{"$f":"_xlfn.IFNA(_xlfn.IFS(VentasMenudeo[[#This Row],[Producto]]=$A$2,VentasMenudeo[[#This Row],[Precio de Venta]]*VentasMenudeo[[#This Row],[Cantidad]]-VentasMenudeo[[#This Row],[Descuento]],VentasMenudeo[[#This Row],[Producto]]=$A$3,VentasMenudeo[[#This Row],[Precio de Venta]]*VentasMenudeo[[#This Row],[Cantidad]]-VentasMenudeo[[#This Row],[Descuento]],VentasMenudeo[[#This Row],[Producto]]=$A$4,VentasMenudeo[[#This Row],[Precio de Venta]]*VentasMenudeo[[#This Row],[Cantidad]]-VentasMenudeo[[#This Row],[Descuento]],VentasMenudeo[[#This Row],[Producto]]=$A$5,VentasMenudeo[[#This Row],[Precio de Venta]]*VentasMenudeo[[#This Row],[Cantidad]]-VentasMenudeo[[#This Row],[Descuento]]),0)","v":4590},4590]
["2022-04-25","Hugo","IPLAY MAX","Strawberry Lychee",1,null,null,{"$f":"_xlfn.IFNA(VLOOKUP(VentasMenudeo[[#This Row],[Promoción]],PromocionesMenudeo[[Promocion]:[Descuento]],2,0),0)","v":0},{"$f":"_xlfn.IFNA(VLOOKUP(VentasMenudeo[[#This Row],[Producto]],$A$2:$B$5,2,FALSE),0)","v":270},{"$f":"_xlfn.IFNA(_xlfn.IFS(VentasMenudeo[[#This Row],[Producto]]=$A$2,VentasMenudeo[[#This Row],[Precio de Venta]]*VentasMenudeo[[#This Row],[Cantidad]]-VentasMenudeo[[#This Row],[Descuento]],VentasMenudeo[[#This Row],[Producto]]=$A$3,VentasMenudeo[[#This Row],[Precio de Venta]]*VentasMenudeo[[#This Row],[Cantidad]]-VentasMenudeo[[#This Row],[Descuento]],VentasMenudeo[[#This Row],[Producto]]=$A$4,VentasMenudeo[[#This Row],[Precio de Venta]]*VentasMenudeo[[#This Row],[Cantidad]]-VentasMenudeo[[#This Row],[Descuento]],VentasMenudeo[[#This Row],[Producto]]=$A$5,VentasMenudeo[[#This Row],[Precio de Venta]]*VentasMenudeo[[#This Row],[Cantidad]]-VentasMenudeo[[#This Row],[Descuento]]),0)","v":270},null,270]
["2022-04-25","Julio","IPLAY MAX","Sour Apple",1,null,null,20,{"$f":"_xlfn.IFNA(VLOOKUP(VentasMenudeo[[#This Row],[Producto]],$A$2:$B$5,2,FALSE),0)","v":270},{"$f":"_xlfn.IFNA(_xlfn.IFS(VentasMenudeo[[#This Row],[Producto]]=$A$2,VentasMenudeo[[#This Row],[Precio de Venta]]*VentasMenudeo[[#This Row],[Cantidad]]-VentasMenudeo[[#This Row],[Descuento]],VentasMenudeo[[#This Row],[Producto]]=$A$3,VentasMenudeo[[#This Row],[Precio de Venta]]*VentasMenudeo[[#This Row],[Cantidad]]-VentasMenudeo[[#This Row],[Descuento]],VentasMenudeo[[#This Row],[Producto]]=$A$4,VentasMenudeo[[#This Row],[Precio de Venta]]*VentasMenudeo[[#This Row],[Cantidad]]-VentasMenudeo[[#This Row],[Descuento]],VentasMenudeo[[#This Row],[Producto]]=$A$5,VentasMenudeo[[#This Row],[Precio de Venta]]*VentasMenudeo[[#This Row],[Cantidad]]-VentasMenudeo[[#This Row],[Descuento]]),0)","v":250},250]
["2022-04-26","Hugo","IPLAY MAX","Strawberry Lychee",1,null,null,10,{"$f":"_xlfn.IFNA(VLOOKUP(VentasMenudeo[[#This Row],[Producto]],$A$2:$B$5,2,FALSE),0)","v":270},{"$f":"_xlfn.IFNA(_xlfn.IFS(VentasMenudeo[[#This Row],[Producto]]=$A$2,VentasMenudeo[[#This Row],[Precio de Venta]]*VentasMenudeo[[#This Row],[Cantidad]]-VentasMenudeo[[#This Row],[Descuento]],VentasMenudeo[[#This Row],[Producto]]=$A$3,VentasMenudeo[[#This Row],[Precio de Venta]]*VentasMenudeo[[#This Row],[Cantidad]]-VentasMenudeo[[#This Row],[Descuento]],VentasMenudeo[[#This Row],[Producto]]=$A$4,VentasMenudeo[[#This Row],[Precio de Venta]]*VentasMenudeo[[#This Row],[Cantidad]]-VentasMenudeo[[#This Row],[Descuento]],VentasMenudeo[[#This Row],[Producto]]=$A$5,VentasMenudeo[[#This Row],[Precio de Venta]]*VentasMenudeo[[#This Row],[Cantidad]]-VentasMenudeo[[#This Row],[Descuento]]),0)","v":260},null,260]
["2022-04-26","Hugo","IPLAY MAX","Grapestraw",1,null,null,{"$f":"_xlfn.IFNA(VLOOKUP(VentasMenudeo[[#This Row],[Promoción]],PromocionesMenudeo[[Promocion]:[Descuento]],2,0),0)","v":0},{"$f":"_xlfn.IFNA(VLOOKUP(VentasMenudeo[[#This Row],[Producto]],$A$2:$B$5,2,FALSE),0)","v":270},{"$f":"_xlfn.IFNA(_xlfn.IFS(VentasMenudeo[[#This Row],[Producto]]=$A$2,VentasMenudeo[[#This Row],[Precio de Venta]]*VentasMenudeo[[#This Row],[Cantidad]]-VentasMenudeo[[#This Row],[Descuento]],VentasMenudeo[[#This Row],[Producto]]=$A$3,VentasMenudeo[[#This Row],[Precio de Venta]]*VentasMenudeo[[#This Row],[Cantidad]]-VentasMenudeo[[#This Row],[Descuento]],VentasMenudeo[[#This Row],[Producto]]=$A$4,VentasMenudeo[[#This Row],[Precio de Venta]]*VentasMenudeo[[#This Row],[Cantidad]]-VentasMenudeo[[#This Row],[Descuento]],VentasMenudeo[[#This Row],[Producto]]=$A$5,VentasMenudeo[[#This Row],[Precio de Venta]]*VentasMenudeo[[#This Row],[Cantidad]]-VentasMenudeo[[#This Row],[Descuento]]),0)","v":270},null,270]
["2022-04-26","Julio","IPLAY MAX","Grapestraw",1,null,null,{"$f":"_xlfn.IFNA(VLOOKUP(VentasMenudeo[[#This Row],[Promoción]],PromocionesMenudeo[[Promocion]:[Descuento]],2,0),0)","v":0},{"$f":"_xlfn.IFNA(VLOOKUP(VentasMenudeo[[#This Row],[Producto]],$A$2:$B$5,2,FALSE),0)","v":270},{"$f":"_xlfn.IFNA(_xlfn.IFS(VentasMenudeo[[#This Row],[Producto]]=$A$2,VentasMenudeo[[#This Row],[Precio de Venta]]*VentasMenudeo[[#This Row],[Cantidad]]-VentasMenudeo[[#This Row],[Descuento]],VentasMenudeo[[#This Row],[Producto]]=$A$3,VentasMenudeo[[#This Row],[Precio de Venta]]*VentasMenudeo[[#This Row],[Cantidad]]-VentasMenudeo[[#This Row],[Descuento]],VentasMenudeo[[#This Row],[Producto]]=$A$4,VentasMenudeo[[#This Row],[Precio de Venta]]*VentasMenudeo[[#This Row],[Cantidad]]-VentasMenudeo[[#This Row],[Descuento]],VentasMenudeo[[#This Row],[Producto]]=$A$5,VentasMenudeo[[#This Row],[Precio de Venta]]*VentasMenudeo[[#This Row],[Cantidad]]-VentasMenudeo[[#This Row],[Descuento]]),0)","v":270},270]
["2022-04-26","Julio","IPLAY MAX","Bluerazz",2,null,null,{"$f":"_xlfn.IFNA(VLOOKUP(VentasMenudeo[[#This Row],[Promoción]],PromocionesMenudeo[[Promocion]:[Descuento]],2,0),0)","v":0},{"$f":"_xlfn.IFNA(VLOOKUP(VentasMenudeo[[#This Row],[Producto]],$A$2:$B$5,2,FALSE),0)","v":270},{"$f":"_xlfn.IFNA(_xlfn.IFS(VentasMenudeo[[#This Row],[Producto]]=$A$2,VentasMenudeo[[#This Row],[Precio de Venta]]*VentasMenudeo[[#This Row],[Cantidad]]-VentasMenudeo[[#This Row],[Descuento]],VentasMenudeo[[#This Row],[Producto]]=$A$3,VentasMenudeo[[#This Row],[Precio de Venta]]*VentasMenudeo[[#This Row],[Cantidad]]-VentasMenudeo[[#This Row],[Descuento]],VentasMenudeo[[#This Row],[Producto]]=$A$4,VentasMenudeo[[#This Row],[Precio de Venta]]*VentasMenudeo[[#This Row],[Cantidad]]-VentasMenudeo[[#This Row],[Descuento]],VentasMenudeo[[#This Row],[Producto]]=$A$5,VentasMenudeo[[#This Row],[Precio de Venta]]*VentasMenudeo[[#This Row],[Cantidad]]-VentasMenudeo[[#This Row],[Descuento]]),0)","v":540},540]
["2022-04-26","Hugo","IPLAY MAX","Guava",1,null,null,{"$f":"_xlfn.IFNA(VLOOKUP(VentasMenudeo[[#This Row],[Promoción]],PromocionesMenudeo[[Promocion]:[Descuento]],2,0),0)","v":0},{"$f":"_xlfn.IFNA(VLOOKUP(VentasMenudeo[[#This Row],[Producto]],$A$2:$B$5,2,FALSE),0)","v":270},{"$f":"_xlfn.IFNA(_xlfn.IFS(VentasMenudeo[[#This Row],[Producto]]=$A$2,VentasMenudeo[[#This Row],[Precio de Venta]]*VentasMenudeo[[#This Row],[Cantidad]]-VentasMenudeo[[#This Row],[Descuento]],VentasMenudeo[[#This Row],[Producto]]=$A$3,VentasMenudeo[[#This Row],[Precio de Venta]]*VentasMenudeo[[#This Row],[Cantidad]]-VentasMenudeo[[#This Row],[Descuento]],VentasMenudeo[[#This Row],[Producto]]=$A$4,VentasMenudeo[[#This Row],[Precio de Venta]]*VentasMenudeo[[#This Row],[Cantidad]]-VentasMenudeo[[#This Row],[Descuento]],VentasMenudeo[[#This Row],[Producto]]=$A$5,VentasMenudeo[[#This Row],[Precio de Venta]]*VentasMenudeo[[#This Row],[Cantidad]]-VentasMenudeo[[#This Row],[Descuento]]),0)","v":270},null,270]
["2022-04-26","Hugo","IPLAY MAX","Coconut",1,null,null,{"$f":"_xlfn.IFNA(VLOOKUP(VentasMenudeo[[#This Row],[Promoción]],PromocionesMenudeo[[Promocion]:[Descuento]],2,0),0)","v":0},{"$f":"_xlfn.IFNA(VLOOKUP(VentasMenudeo[[#This Row],[Producto]],$A$2:$B$5,2,FALSE),0)","v":270},{"$f":"_xlfn.IFNA(_xlfn.IFS(VentasMenudeo[[#This Row],[Producto]]=$A$2,VentasMenudeo[[#This Row],[Precio de Venta]]*VentasMenudeo[[#This Row],[Cantidad]]-VentasMenudeo[[#This Row],[Descuento]],VentasMenudeo[[#This Row],[Producto]]=$A$3,VentasMenudeo[[#This Row],[Precio de Venta]]*VentasMenudeo[[#This Row],[Cantidad]]-VentasMenudeo[[#This Row],[Descuento]],VentasMenudeo[[#This Row],[Producto]]=$A$4,VentasMenudeo[[#This Row],[Precio de Venta]]*VentasMenudeo[[#This Row],[Cantidad]]-VentasMenudeo[[#This Row],[Descuento]],VentasMenudeo[[#This Row],[Producto]]=$A$5,VentasMenudeo[[#This Row],[Precio de Venta]]*VentasMenudeo[[#This Row],[Cantidad]]-VentasMenudeo[[#This Row],[Descuento]]),0)","v":270},null,270]
["2022-04-26","Julio","IPLAY MAX","Guava",1,null,null,{"$f":"_xlfn.IFNA(VLOOKUP(VentasMenudeo[[#This Row],[Promoción]],PromocionesMenudeo[[Promocion]:[Descuento]],2,0),0)","v":0},{"$f":"_xlfn.IFNA(VLOOKUP(VentasMenudeo[[#This Row],[Producto]],$A$2:$B$5,2,FALSE),0)","v":270},{"$f":"_xlfn.IFNA(_xlfn.IFS(VentasMenudeo[[#This Row],[Producto]]=$A$2,VentasMenudeo[[#This Row],[Precio de Venta]]*VentasMenudeo[[#This Row],[Cantidad]]-VentasMenudeo[[#This Row],[Descuento]],VentasMenudeo[[#This Row],[Producto]]=$A$3,VentasMenudeo[[#This Row],[Precio de Venta]]*VentasMenudeo[[#This Row],[Cantidad]]-VentasMenudeo[[#This Row],[Descuento]],VentasMenudeo[[#This Row],[Producto]]=$A$4,VentasMenudeo[[#This Row],[Precio de Venta]]*VentasMenudeo[[#This Row],[Cantidad]]-VentasMenudeo[[#This Row],[Descuento]],VentasMenudeo[[#This Row],[Producto]]=$A$5,VentasMenudeo[[#This Row],[Precio de Venta]]*VentasMenudeo[[#This Row],[Cantidad]]-VentasMenudeo[[#This Row],[Descuento]]),0)","v":270},270]
["2022-04-27","Hugo","IPLAY MAX","Bluerazz",1,null,null,{"$f":"_xlfn.IFNA(VLOOKUP(VentasMenudeo[[#This Row],[Promoción]],PromocionesMenudeo[[Promocion]:[Descuento]],2,0),0)","v":0},{"$f":"_xlfn.IFNA(VLOOKUP(VentasMenudeo[[#This Row],[Producto]],$A$2:$B$5,2,FALSE),0)","v":270},{"$f":"_xlfn.IFNA(_xlfn.IFS(VentasMenudeo[[#This Row],[Producto]]=$A$2,VentasMenudeo[[#This Row],[Precio de Venta]]*VentasMenudeo[[#This Row],[Cantidad]]-VentasMenudeo[[#This Row],[Descuento]],VentasMenudeo[[#This Row],[Producto]]=$A$3,VentasMenudeo[[#This Row],[Precio de Venta]]*VentasMenudeo[[#This Row],[Cantidad]]-VentasMenudeo[[#This Row],[Descuento]],VentasMenudeo[[#This Row],[Producto]]=$A$4,VentasMenudeo[[#This Row],[Precio de Venta]]*VentasMenudeo[[#This Row],[Cantidad]]-VentasMenudeo[[#This Row],[Descuento]],VentasMenudeo[[#This Row],[Producto]]=$A$5,VentasMenudeo[[#This Row],[Precio de Venta]]*VentasMenudeo[[#This Row],[Cantidad]]-VentasMenudeo[[#This Row],[Descuento]]),0)","v":270},270]
["2022-04-27","Hugo","IPLAY MAX","Cool mint",1,null,null,{"$f":"_xlfn.IFNA(VLOOKUP(VentasMenudeo[[#This Row],[Promoción]],PromocionesMenudeo[[Promocion]:[Descuento]],2,0),0)","v":0},{"$f":"_xlfn.IFNA(VLOOKUP(VentasMenudeo[[#This Row],[Producto]],$A$2:$B$5,2,FALSE),0)","v":270},{"$f":"_xlfn.IFNA(_xlfn.IFS(VentasMenudeo[[#This Row],[Producto]]=$A$2,VentasMenudeo[[#This Row],[Precio de Venta]]*VentasMenudeo[[#This Row],[Cantidad]]-VentasMenudeo[[#This Row],[Descuento]],VentasMenudeo[[#This Row],[Producto]]=$A$3,VentasMenudeo[[#This Row],[Precio de Venta]]*VentasMenudeo[[#This Row],[Cantidad]]-VentasMenudeo[[#This Row],[Descuento]],VentasMenudeo[[#This Row],[Producto]]=$A$4,VentasMenudeo[[#This Row],[Precio de Venta]]*VentasMenudeo[[#This Row],[Cantidad]]-VentasMenudeo[[#This Row],[Descuento]],VentasMenudeo[[#This Row],[Producto]]=$A$5,VentasMenudeo[[#This Row],[Precio de Venta]]*VentasMenudeo[[#This Row],[Cantidad]]-VentasMenudeo[[#This Row],[Descuento]]),0)","v":270},null,270]
["2022-04-27","Hugo","IPLAY MAX","Berry Watermelon",1,null,null,{"$f":"_xlfn.IFNA(VLOOKUP(VentasMenudeo[[#This Row],[Promoción]],PromocionesMenudeo[[Promocion]:[Descuento]],2,0),0)","v":0},{"$f":"_xlfn.IFNA(VLOOKUP(VentasMenudeo[[#This Row],[Producto]],$A$2:$B$5,2,FALSE),0)","v":270},{"$f":"_xlfn.IFNA(_xlfn.IFS(VentasMenudeo[[#This Row],[Producto]]=$A$2,VentasMenudeo[[#This Row],[Precio de Venta]]*VentasMenudeo[[#This Row],[Cantidad]]-VentasMenudeo[[#This Row],[Descuento]],VentasMenudeo[[#This Row],[Producto]]=$A$3,VentasMenudeo[[#This Row],[Precio de Venta]]*VentasMenudeo[[#This Row],[Cantidad]]-VentasMenudeo[[#This Row],[Descuento]],VentasMenudeo[[#This Row],[Producto]]=$A$4,VentasMenudeo[[#This Row],[Precio de Venta]]*VentasMenudeo[[#This Row],[Cantidad]]-VentasMenudeo[[#This Row],[Descuento]],VentasMenudeo[[#This Row],[Producto]]=$A$5,VentasMenudeo[[#This Row],[Precio de Venta]]*VentasMenudeo[[#This Row],[Cantidad]]-VentasMenudeo[[#This Row],[Descuento]]),0)","v":270},null,270]
["2022-04-27","Hugo","IPLAY MAX","Berry Watermelon",1,null,null,{"$f":"_xlfn.IFNA(VLOOKUP(VentasMenudeo[[#This Row],[Promoción]],PromocionesMenudeo[[Promocion]:[Descuento]],2,0),0)","v":0},{"$f":"_xlfn.IFNA(VLOOKUP(VentasMenudeo[[#This Row],[Producto]],$A$2:$B$5,2,FALSE),0)","v":270},{"$f":"_xlfn.IFNA(_xlfn.IFS(VentasMenudeo[[#This Row],[Producto]]=$A$2,VentasMenudeo[[#This Row],[Precio de Venta]]*VentasMenudeo[[#This Row],[Cantidad]]-VentasMenudeo[[#This Row],[Descuento]],VentasMenudeo[[#This Row],[Producto]]=$A$3,VentasMenudeo[[#This Row],[Precio de Venta]]*VentasMenudeo[[#This Row],[Cantidad]]-VentasMenudeo[[#This Row],[Descuento]],VentasMenudeo[[#This Row],[Producto]]=$A$4,VentasMenudeo[[#This Row],[Precio de Venta]]*VentasMenudeo[[#This Row],[Cantidad]]-VentasMenudeo[[#This Row],[Descuento]],VentasMenudeo[[#This Row],[Producto]]=$A$5,VentasMenudeo[[#This Row],[Precio de Venta]]*VentasMenudeo[[#This Row],[Cantidad]]-VentasMenudeo[[#This Row],[Descuento]]),0)","v":270},null,270]
["2022-04-27","Julio","IPLAY MAX","Cool mint",1,"$20 Descuento",null,{"$f":"_xlfn.IFNA(VLOOKUP(VentasMenudeo[[#This Row],[Promoción]],PromocionesMenudeo[[Promocion]:[Descuento]],2,0),0)","v":20},{"$f":"_xlfn.IFNA(VLOOKUP(VentasMenudeo[[#This Row],[Producto]],$A$2:$B$5,2,FALSE),0)","v":270},{"$f":"_xlfn.IFNA(_xlfn.IFS(VentasMenudeo[[#This Row],[Producto]]=$A$2,VentasMenudeo[[#This Row],[Precio de Venta]]*VentasMenudeo[[#This Row],[Cantidad]]-VentasMenudeo[[#This Row],[Descuento]],VentasMenudeo[[#This Row],[Producto]]=$A$3,VentasMenudeo[[#This Row],[Precio de Venta]]*VentasMenudeo[[#This Row],[Cantidad]]-VentasMenudeo[[#This Row],[Descuento]],VentasMenudeo[[#This Row],[Producto]]=$A$4,VentasMenudeo[[#This Row],[Precio de Venta]]*VentasMenudeo[[#This Row],[Cantidad]]-VentasMenudeo[[#This Row],[Descuento]],VentasMenudeo[[#This Row],[Producto]]=$A$5,VentasMenudeo[[#This Row],[Precio de Venta]]*VentasMenudeo[[#This Row],[Cantidad]]-VentasMenudeo[[#This Row],[Descuento]]),0)","v":250},250]
["2022-04-27","Hugo","IPLAY MAX","Energy ICE",1,null,null,{"$f":"_xlfn.IFNA(VLOOKUP(VentasMenudeo[[#This Row],[Promoción]],PromocionesMenudeo[[Promocion]:[Descuento]],2,0),0)","v":0},{"$f":"_xlfn.IFNA(VLOOKUP(VentasMenudeo[[#This Row],[Producto]],$A$2:$B$5,2,FALSE),0)","v":270},{"$f":"_xlfn.IFNA(_xlfn.IFS(VentasMenudeo[[#This Row],[Producto]]=$A$2,VentasMenudeo[[#This Row],[Precio de Venta]]*VentasMenudeo[[#This Row],[Cantidad]]-VentasMenudeo[[#This Row],[Descuento]],VentasMenudeo[[#This Row],[Producto]]=$A$3,VentasMenudeo[[#This Row],[Precio de Venta]]*VentasMenudeo[[#This Row],[Cantidad]]-VentasMenudeo[[#This Row],[Descuento]],VentasMenudeo[[#This Row],[Producto]]=$A$4,VentasMenudeo[[#This Row],[Precio de Venta]]*VentasMenudeo[[#This Row],[Cantidad]]-VentasMenudeo[[#This Row],[Descuento]],VentasMenudeo[[#This Row],[Producto]]=$A$5,VentasMenudeo[[#This Row],[Precio de Venta]]*VentasMenudeo[[#This Row],[Cantidad]]-VentasMenudeo[[#This Row],[Descuento]]),0)","v":270},270]
["2022-04-27","Hugo","IPLAY MAX","Energy ICE",1,null,null,{"$f":"_xlfn.IFNA(VLOOKUP(VentasMenudeo[[#This Row],[Promoción]],PromocionesMenudeo[[Promocion]:[Descuento]],2,0),0)","v":0},{"$f":"_xlfn.IFNA(VLOOKUP(VentasMenudeo[[#This Row],[Producto]],$A$2:$B$5,2,FALSE),0)","v":270},{"$f":"_xlfn.IFNA(_xlfn.IFS(VentasMenudeo[[#This Row],[Producto]]=$A$2,VentasMenudeo[[#This Row],[Precio de Venta]]*VentasMenudeo[[#This Row],[Cantidad]]-VentasMenudeo[[#This Row],[Descuento]],VentasMenudeo[[#This Row],[Producto]]=$A$3,VentasMenudeo[[#This Row],[Precio de Venta]]*VentasMenudeo[[#This Row],[Cantidad]]-VentasMenudeo[[#This Row],[Descuento]],VentasMenudeo[[#This Row],[Producto]]=$A$4,VentasMenudeo[[#This Row],[Precio de Venta]]*VentasMenudeo[[#This Row],[Cantidad]]-VentasMenudeo[[#This Row],[Descuento]],VentasMenudeo[[#This Row],[Producto]]=$A$5,VentasMenudeo[[#This Row],[Precio de Venta]]*VentasMenudeo[[#This Row],[Cantidad]]-VentasMenudeo[[#This Row],[Descuento]]),0)","v":270},null,270]
["2022-04-28","Julio","IPLAY MAX","Cocumber Lemonade",1,"$20 Descuento",null,{"$f":"_xlfn.IFNA(VLOOKUP(VentasMenudeo[[#This Row],[Promoción]],PromocionesMenudeo[[Promocion]:[Descuento]],2,0),0)","v":20},{"$f":"_xlfn.IFNA(VLOOKUP(VentasMenudeo[[#This Row],[Producto]],$A$2:$B$5,2,FALSE),0)","v":270},{"$f":"_xlfn.IFNA(_xlfn.IFS(VentasMenudeo[[#This Row],[Producto]]=$A$2,VentasMenudeo[[#This Row],[Precio de Venta]]*VentasMenudeo[[#This Row],[Cantidad]]-VentasMenudeo[[#This Row],[Descuento]],VentasMenudeo[[#This Row],[Producto]]=$A$3,VentasMenudeo[[#This Row],[Precio de Venta]]*VentasMenudeo[[#This Row],[Cantidad]]-VentasMenudeo[[#This Row],[Descuento]],VentasMenudeo[[#This Row],[Producto]]=$A$4,VentasMenudeo[[#This Row],[Precio de Venta]]*VentasMenudeo[[#This Row],[Cantidad]]-VentasMenudeo[[#This Row],[Descuento]],VentasMenudeo[[#This Row],[Producto]]=$A$5,VentasMenudeo[[#This Row],[Precio de Venta]]*VentasMenudeo[[#This Row],[Cantidad]]-VentasMenudeo[[#This Row],[Descuento]]),0)","v":250},null,250]
["2022-04-28","Julio","IPLAY MAX","Coconut",1,"$20 Descuento",null,{"$f":"_xlfn.IFNA(VLOOKUP(VentasMenudeo[[#This Row],[Promoción]],PromocionesMenudeo[[Promocion]:[Descuento]],2,0),0)","v":20},{"$f":"_xlfn.IFNA(VLOOKUP(VentasMenudeo[[#This Row],[Producto]],$A$2:$B$5,2,FALSE),0)","v":270},{"$f":"_xlfn.IFNA(_xlfn.IFS(VentasMenudeo[[#This Row],[Producto]]=$A$2,VentasMenudeo[[#This Row],[Precio de Venta]]*VentasMenudeo[[#This Row],[Cantidad]]-VentasMenudeo[[#This Row],[Descuento]],VentasMenudeo[[#This Row],[Producto]]=$A$3,VentasMenudeo[[#This Row],[Precio de Venta]]*VentasMenudeo[[#This Row],[Cantidad]]-VentasMenudeo[[#This Row],[Descuento]],VentasMenudeo[[#This Row],[Producto]]=$A$4,VentasMenudeo[[#This Row],[Precio de Venta]]*VentasMenudeo[[#This Row],[Cantidad]]-VentasMenudeo[[#This Row],[Descuento]],VentasMenudeo[[#This Row],[Producto]]=$A$5,VentasMenudeo[[#This Row],[Precio de Venta]]*VentasMenudeo[[#This Row],[Cantidad]]-VentasMenudeo[[#This Row],[Descuento]]),0)","v":250},250]
["2022-04-28","Julio","IPLAY MAX","Strawberry Lychee",1,"$20 Descuento",null,{"$f":"_xlfn.IFNA(VLOOKUP(VentasMenudeo[[#This Row],[Promoción]],PromocionesMenudeo[[Promocion]:[Descuento]],2,0),0)","v":20},{"$f":"_xlfn.IFNA(VLOOKUP(VentasMenudeo[[#This Row],[Producto]],$A$2:$B$5,2,FALSE),0)","v":270},{"$f":"_xlfn.IFNA(_xlfn.IFS(VentasMenudeo[[#This Row],[Producto]]=$A$2,VentasMenudeo[[#This Row],[Precio de Venta]]*VentasMenudeo[[#This Row],[Cantidad]]-VentasMenudeo[[#This Row],[Descuento]],VentasMenudeo[[#This Row],[Producto]]=$A$3,VentasMenudeo[[#This Row],[Precio de Venta]]*VentasMenudeo[[#This Row],[Cantidad]]-VentasMenudeo[[#This Row],[Descuento]],VentasMenudeo[[#This Row],[Producto]]=$A$4,VentasMenudeo[[#This Row],[Precio de Venta]]*VentasMenudeo[[#This Row],[Cantidad]]-VentasMenudeo[[#This Row],[Descuento]],VentasMenudeo[[#This Row],[Producto]]=$A$5,VentasMenudeo[[#This Row],[Precio de Venta]]*VentasMenudeo[[#This Row],[Cantidad]]-VentasMenudeo[[#This Row],[Descuento]]),0)","v":250},null,250]
["2022-04-28","Hugo","IPLAY MAX","GrapeFruit berry",1,"$20 Descuento",null,{"$f":"_xlfn.IFNA(VLOOKUP(VentasMenudeo[[#This Row],[Promoción]],PromocionesMenudeo[[Promocion]:[Descuento]],2,0),0)","v":20},{"$f":"_xlfn.IFNA(VLOOKUP(VentasMenudeo[[#This Row],[Producto]],$A$2:$B$5,2,FALSE),0)","v":270},{"$f":"_xlfn.IFNA(_xlfn.IFS(VentasMenudeo[[#This Row],[Producto]]=$A$2,VentasMenudeo[[#This Row],[Precio de Venta]]*VentasMenudeo[[#This Row],[Cantidad]]-VentasMenudeo[[#This Row],[Descuento]],VentasMenudeo[[#This Row],[Producto]]=$A$3,VentasMenudeo[[#This Row],[Precio de Venta]]*VentasMenudeo[[#This Row],[Cantidad]]-VentasMenudeo[[#This Row],[Descuento]],VentasMenudeo[[#This Row],[Producto]]=$A$4,VentasMenudeo[[#This Row],[Precio de Venta]]*VentasMenudeo[[#This Row],[Cantidad]]-VentasMenudeo[[#This Row],[Descuento]],VentasMenudeo[[#This Row],[Producto]]=$A$5,VentasMenudeo[[#This Row],[Precio de Venta]]*VentasMenudeo[[#This Row],[Cantidad]]-VentasMenudeo[[#This Row],[Descuento]]),0)","v":250},250]
["2022-04-28","Hugo","IPLAY MAX","Grapestraw",1,"$20 Descuento",null,{"$f":"_xlfn.IFNA(VLOOKUP(VentasMenudeo[[#This Row],[Promoción]],PromocionesMenudeo[[Promocion]:[Descuento]],2,0),0)","v":20},{"$f":"_xlfn.IFNA(VLOOKUP(VentasMenudeo[[#This Row],[Producto]],$A$2:$B$5,2,FALSE),0)","v":270},{"$f":"_xlfn.IFNA(_xlfn.IFS(VentasMenudeo[[#This Row],[Producto]]=$A$2,VentasMenudeo[[#This Row],[Precio de Venta]]*VentasMenudeo[[#This Row],[Cantidad]]-VentasMenudeo[[#This Row],[Descuento]],VentasMenudeo[[#This Row],[Producto]]=$A$3,VentasMenudeo[[#This Row],[Precio de Venta]]*VentasMenudeo[[#This Row],[Cantidad]]-VentasMenudeo[[#This Row],[Descuento]],VentasMenudeo[[#This Row],[Producto]]=$A$4,VentasMenudeo[[#This Row],[Precio de Venta]]*VentasMenudeo[[#This Row],[Cantidad]]-VentasMenudeo[[#This Row],[Descuento]],VentasMenudeo[[#This Row],[Producto]]=$A$5,VentasMenudeo[[#This Row],[Precio de Venta]]*VentasMenudeo[[#This Row],[Cantidad]]-VentasMenudeo[[#This Row],[Descuento]]),0)","v":250},250]
["2022-04-28","Julio","IPLAY MAX","Grapestraw",1,"$20 Descuento",null,{"$f":"_xlfn.IFNA(VLOOKUP(VentasMenudeo[[#This Row],[Promoción]],PromocionesMenudeo[[Promocion]:[Descuento]],2,0),0)","v":20},{"$f":"_xlfn.IFNA(VLOOKUP(VentasMenudeo[[#This Row],[Producto]],$A$2:$B$5,2,FALSE),0)","v":270},{"$f":"_xlfn.IFNA(_xlfn.IFS(VentasMenudeo[[#This Row],[Producto]]=$A$2,VentasMenudeo[[#This Row],[Precio de Venta]]*VentasMenudeo[[#This Row],[Cantidad]]-VentasMenudeo[[#This Row],[Descuento]],VentasMenudeo[[#This Row],[Producto]]=$A$3,VentasMenudeo[[#This Row],[Precio de Venta]]*VentasMenudeo[[#This Row],[Cantidad]]-VentasMenudeo[[#This Row],[Descuento]],VentasMenudeo[[#This Row],[Producto]]=$A$4,VentasMenudeo[[#This Row],[Precio de Venta]]*VentasMenudeo[[#This Row],[Cantidad]]-VentasMenudeo[[#This Row],[Descuento]],VentasMenudeo[[#This Row],[Producto]]=$A$5,VentasMenudeo[[#This Row],[Precio de Venta]]*VentasMenudeo[[#This Row],[Cantidad]]-VentasMenudeo[[#This Row],[Descuento]]),0)","v":250},250]
["2022-04-28","Hugo","IPLAY MAX","Bluerazz",1,"$20 Descuento",null,{"$f":"_xlfn.IFNA(VLOOKUP(VentasMenudeo[[#This Row],[Promoción]],PromocionesMenudeo[[Promocion]:[Descuento]],2,0),0)","v":20},{"$f":"_xlfn.IFNA(VLOOKUP(VentasMenudeo[[#This Row],[Producto]],$A$2:$B$5,2,FALSE),0)","v":270},{"$f":"_xlfn.IFNA(_xlfn.IFS(VentasMenudeo[[#This Row],[Producto]]=$A$2,VentasMenudeo[[#This Row],[Precio de Venta]]*VentasMenudeo[[#This Row],[Cantidad]]-VentasMenudeo[[#This Row],[Descuento]],VentasMenudeo[[#This Row],[Producto]]=$A$3,VentasMenudeo[[#This Row],[Precio de Venta]]*VentasMenudeo[[#This Row],[Cantidad]]-VentasMenudeo[[#This Row],[Descuento]],VentasMenudeo[[#This Row],[Producto]]=$A$4,VentasMenudeo[[#This Row],[Precio de Venta]]*VentasMenudeo[[#This Row],[Cantidad]]-VentasMenudeo[[#This Row],[Descuento]],VentasMenudeo[[#This Row],[Producto]]=$A$5,VentasMenudeo[[#This Row],[Precio de Venta]]*VentasMenudeo[[#This Row],[Cantidad]]-VentasMenudeo[[#This Row],[Descuento]]),0)","v":250},null,250]
["2022-04-28","Julio","IPLAY MAX","Strawberry Lychee",1,"$20 Descuento",null,{"$f":"_xlfn.IFNA(VLOOKUP(VentasMenudeo[[#This Row],[Promoción]],PromocionesMenudeo[[Promocion]:[Descuento]],2,0),0)","v":20},{"$f":"_xlfn.IFNA(VLOOKUP(VentasMenudeo[[#This Row],[Producto]],$A$2:$B$5,2,FALSE),0)","v":270},{"$f":"_xlfn.IFNA(_xlfn.IFS(VentasMenudeo[[#This Row],[Producto]]=$A$2,VentasMenudeo[[#This Row],[Precio de Venta]]*VentasMenudeo[[#This Row],[Cantidad]]-VentasMenudeo[[#This Row],[Descuento]],VentasMenudeo[[#This Row],[Producto]]=$A$3,VentasMenudeo[[#This Row],[Precio de Venta]]*VentasMenudeo[[#This Row],[Cantidad]]-VentasMenudeo[[#This Row],[Descuento]],VentasMenudeo[[#This Row],[Producto]]=$A$4,VentasMenudeo[[#This Row],[Precio de Venta]]*VentasMenudeo[[#This Row],[Cantidad]]-VentasMenudeo[[#This Row],[Descuento]],VentasMenudeo[[#This Row],[Producto]]=$A$5,VentasMenudeo[[#This Row],[Precio de Venta]]*VentasMenudeo[[#This Row],[Cantidad]]-VentasMenudeo[[#This Row],[Descuento]]),0)","v":250},null,250]
["2022-04-28","Julio","IPLAY MAX","Lemon cookies",1,"$20 Descuento",null,{"$f":"_xlfn.IFNA(VLOOKUP(VentasMenudeo[[#This Row],[Promoción]],PromocionesMenudeo[[Promocion]:[Descuento]],2,0),0)","v":20},{"$f":"_xlfn.IFNA(VLOOKUP(VentasMenudeo[[#This Row],[Producto]],$A$2:$B$5,2,FALSE),0)","v":270},{"$f":"_xlfn.IFNA(_xlfn.IFS(VentasMenudeo[[#This Row],[Producto]]=$A$2,VentasMenudeo[[#This Row],[Precio de Venta]]*VentasMenudeo[[#This Row],[Cantidad]]-VentasMenudeo[[#This Row],[Descuento]],VentasMenudeo[[#This Row],[Producto]]=$A$3,VentasMenudeo[[#This Row],[Precio de Venta]]*VentasMenudeo[[#This Row],[Cantidad]]-VentasMenudeo[[#This Row],[Descuento]],VentasMenudeo[[#This Row],[Producto]]=$A$4,VentasMenudeo[[#This Row],[Precio de Venta]]*VentasMenudeo[[#This Row],[Cantidad]]-VentasMenudeo[[#This Row],[Descuento]],VentasMenudeo[[#This Row],[Producto]]=$A$5,VentasMenudeo[[#This Row],[Precio de Venta]]*VentasMenudeo[[#This Row],[Cantidad]]-VentasMenudeo[[#This Row],[Descuento]]),0)","v":250},null,250]
["2022-04-28","Julio","IPLAY MAX","Cool mint",1,"$20 Descuento",null,{"$f":"_xlfn.IFNA(VLOOKUP(VentasMenudeo[[#This Row],[Promoción]],PromocionesMenudeo[[Promocion]:[Descuento]],2,0),0)","v":20},{"$f":"_xlfn.IFNA(VLOOKUP(VentasMenudeo[[#This Row],[Producto]],$A$2:$B$5,2,FALSE),0)","v":270},{"$f":"_xlfn.IFNA(_xlfn.IFS(VentasMenudeo[[#This Row],[Producto]]=$A$2,VentasMenudeo[[#This Row],[Precio de Venta]]*VentasMenudeo[[#This Row],[Cantidad]]-VentasMenudeo[[#This Row],[Descuento]],VentasMenudeo[[#This Row],[Producto]]=$A$3,VentasMenudeo[[#This Row],[Precio de Venta]]*VentasMenudeo[[#This Row],[Cantidad]]-VentasMenudeo[[#This Row],[Descuento]],VentasMenudeo[[#This Row],[Producto]]=$A$4,VentasMenudeo[[#This Row],[Precio de Venta]]*VentasMenudeo[[#This Row],[Cantidad]]-VentasMenudeo[[#This Row],[Descuento]],VentasMenudeo[[#This Row],[Producto]]=$A$5,VentasMenudeo[[#This Row],[Precio de Venta]]*VentasMenudeo[[#This Row],[Cantidad]]-VentasMenudeo[[#This Row],[Descuento]]),0)","v":250},250]
["2022-04-28","Julio","IPLAY MAX","Cocumber Lemonade",1,"$20 Descuento",null,{"$f":"_xlfn.IFNA(VLOOKUP(VentasMenudeo[[#This Row],[Promoción]],PromocionesMenudeo[[Promocion]:[Descuento]],2,0),0)","v":20},{"$f":"_xlfn.IFNA(VLOOKUP(VentasMenudeo[[#This Row],[Producto]],$A$2:$B$5,2,FALSE),0)","v":270},{"$f":"_xlfn.IFNA(_xlfn.IFS(VentasMenudeo[[#This Row],[Producto]]=$A$2,VentasMenudeo[[#This Row],[Precio de Venta]]*VentasMenudeo[[#This Row],[Cantidad]]-VentasMenudeo[[#This Row],[Descuento]],VentasMenudeo[[#This Row],[Producto]]=$A$3,VentasMenudeo[[#This Row],[Precio de Venta]]*VentasMenudeo[[#This Row],[Cantidad]]-VentasMenudeo[[#This Row],[Descuento]],VentasMenudeo[[#This Row],[Producto]]=$A$4,VentasMenudeo[[#This Row],[Precio de Venta]]*VentasMenudeo[[#This Row],[Cantidad]]-VentasMenudeo[[#This Row],[Descuento]],VentasMenudeo[[#This Row],[Producto]]=$A$5,VentasMenudeo[[#This Row],[Precio de Venta]]*VentasMenudeo[[#This Row],[Cantidad]]-VentasMenudeo[[#This Row],[Descuento]]),0)","v":250},null,250]
["2022-04-28","Julio","IPLAY MAX","Coconut",1,"$20 Descuento",null,30,{"$f":"_xlfn.IFNA(VLOOKUP(VentasMenudeo[[#This Row],[Producto]],$A$2:$B$5,2,FALSE),0)","v":270},{"$f":"_xlfn.IFNA(_xlfn.IFS(VentasMenudeo[[#This Row],[Producto]]=$A$2,VentasMenudeo[[#This Row],[Precio de Venta]]*VentasMenudeo[[#This Row],[Cantidad]]-VentasMenudeo[[#This Row],[Descuento]],VentasMenudeo[[#This Row],[Producto]]=$A$3,VentasMenudeo[[#This Row],[Precio de Venta]]*VentasMenudeo[[#This Row],[Cantidad]]-VentasMenudeo[[#This Row],[Descuento]],VentasMenudeo[[#This Row],[Producto]]=$A$4,VentasMenudeo[[#This Row],[Precio de Venta]]*VentasMenudeo[[#This Row],[Cantidad]]-VentasMenudeo[[#This Row],[Descuento]],VentasMenudeo[[#This Row],[Producto]]=$A$5,VentasMenudeo[[#This Row],[Precio de Venta]]*VentasMenudeo[[#This Row],[Cantidad]]-VentasMenudeo[[#This Row],[Descuento]]),0)","v":240},240]
["2022-04-28","Julio","IPLAY MAX","Bluerazz",1,"$20 Descuento",null,{"$f":"_xlfn.IFNA(VLOOKUP(VentasMenudeo[[#This Row],[Promoción]],PromocionesMenudeo[[Promocion]:[Descuento]],2,0),0)","v":20},{"$f":"_xlfn.IFNA(VLOOKUP(VentasMenudeo[[#This Row],[Producto]],$A$2:$B$5,2,FALSE),0)","v":270},{"$f":"_xlfn.IFNA(_xlfn.IFS(VentasMenudeo[[#This Row],[Producto]]=$A$2,VentasMenudeo[[#This Row],[Precio de Venta]]*VentasMenudeo[[#This Row],[Cantidad]]-VentasMenudeo[[#This Row],[Descuento]],VentasMenudeo[[#This Row],[Producto]]=$A$3,VentasMenudeo[[#This Row],[Precio de Venta]]*VentasMenudeo[[#This Row],[Cantidad]]-VentasMenudeo[[#This Row],[Descuento]],VentasMenudeo[[#This Row],[Producto]]=$A$4,VentasMenudeo[[#This Row],[Precio de Venta]]*VentasMenudeo[[#This Row],[Cantidad]]-VentasMenudeo[[#This Row],[Descuento]],VentasMenudeo[[#This Row],[Producto]]=$A$5,VentasMenudeo[[#This Row],[Precio de Venta]]*VentasMenudeo[[#This Row],[Cantidad]]-VentasMenudeo[[#This Row],[Descuento]]),0)","v":250},250]
["2022-04-28","Julio","IPLAY MAX","Coconut",1,"$20 Descuento",null,{"$f":"_xlfn.IFNA(VLOOKUP(VentasMenudeo[[#This Row],[Promoción]],PromocionesMenudeo[[Promocion]:[Descuento]],2,0),0)","v":20},{"$f":"_xlfn.IFNA(VLOOKUP(VentasMenudeo[[#This Row],[Producto]],$A$2:$B$5,2,FALSE),0)","v":270},{"$f":"_xlfn.IFNA(_xlfn.IFS(VentasMenudeo[[#This Row],[Producto]]=$A$2,VentasMenudeo[[#This Row],[Precio de Venta]]*VentasMenudeo[[#This Row],[Cantidad]]-VentasMenudeo[[#This Row],[Descuento]],VentasMenudeo[[#This Row],[Producto]]=$A$3,VentasMenudeo[[#This Row],[Precio de Venta]]*VentasMenudeo[[#This Row],[Cantidad]]-VentasMenudeo[[#This Row],[Descuento]],VentasMenudeo[[#This Row],[Producto]]=$A$4,VentasMenudeo[[#This Row],[Precio de Venta]]*VentasMenudeo[[#This Row],[Cantidad]]-VentasMenudeo[[#This Row],[Descuento]],VentasMenudeo[[#This Row],[Producto]]=$A$5,VentasMenudeo[[#This Row],[Precio de Venta]]*VentasMenudeo[[#This Row],[Cantidad]]-VentasMenudeo[[#This Row],[Descuento]]),0)","v":250},250]
["2022-04-29","Julio","IPLAY MAX","Strawberry Lychee",1,"$20 Descuento",null,{"$f":"_xlfn.IFNA(VLOOKUP(VentasMenudeo[[#This Row],[Promoción]],PromocionesMenudeo[[Promocion]:[Descuento]],2,0),0)","v":20},{"$f":"_xlfn.IFNA(VLOOKUP(VentasMenudeo[[#This Row],[Producto]],$A$2:$B$5,2,FALSE),0)","v":270},{"$f":"_xlfn.IFNA(_xlfn.IFS(VentasMenudeo[[#This Row],[Producto]]=$A$2,VentasMenudeo[[#This Row],[Precio de Venta]]*VentasMenudeo[[#This Row],[Cantidad]]-VentasMenudeo[[#This Row],[Descuento]],VentasMenudeo[[#This Row],[Producto]]=$A$3,VentasMenudeo[[#This Row],[Precio de Venta]]*VentasMenudeo[[#This Row],[Cantidad]]-VentasMenudeo[[#This Row],[Descuento]],VentasMenudeo[[#This Row],[Producto]]=$A$4,VentasMenudeo[[#This Row],[Precio de Venta]]*VentasMenudeo[[#This Row],[Cantidad]]-VentasMenudeo[[#This Row],[Descuento]],VentasMenudeo[[#This Row],[Producto]]=$A$5,VentasMenudeo[[#This Row],[Precio de Venta]]*VentasMenudeo[[#This Row],[Cantidad]]-VentasMenudeo[[#This Row],[Descuento]]),0)","v":250},250]
["2022-04-29","Julio","IPLAY MAX","Cool mint",1,"$20 Descuento",null,{"$f":"_xlfn.IFNA(VLOOKUP(VentasMenudeo[[#This Row],[Promoción]],PromocionesMenudeo[[Promocion]:[Descuento]],2,0),0)","v":20},{"$f":"_xlfn.IFNA(VLOOKUP(VentasMenudeo[[#This Row],[Producto]],$A$2:$B$5,2,FALSE),0)","v":270},{"$f":"_xlfn.IFNA(_xlfn.IFS(VentasMenudeo[[#This Row],[Producto]]=$A$2,VentasMenudeo[[#This Row],[Precio de Venta]]*VentasMenudeo[[#This Row],[Cantidad]]-VentasMenudeo[[#This Row],[Descuento]],VentasMenudeo[[#This Row],[Producto]]=$A$3,VentasMenudeo[[#This Row],[Precio de Venta]]*VentasMenudeo[[#This Row],[Cantidad]]-VentasMenudeo[[#This Row],[Descuento]],VentasMenudeo[[#This Row],[Producto]]=$A$4,VentasMenudeo[[#This Row],[Precio de Venta]]*VentasMenudeo[[#This Row],[Cantidad]]-VentasMenudeo[[#This Row],[Descuento]],VentasMenudeo[[#This Row],[Producto]]=$A$5,VentasMenudeo[[#This Row],[Precio de Venta]]*VentasMenudeo[[#This Row],[Cantidad]]-VentasMenudeo[[#This Row],[Descuento]]),0)","v":250},250]
["2022-04-29","Julio","IPLAY MAX","Bluerazz",1,"$20 Descuento",null,{"$f":"_xlfn.IFNA(VLOOKUP(VentasMenudeo[[#This Row],[Promoción]],PromocionesMenudeo[[Promocion]:[Descuento]],2,0),0)","v":20},{"$f":"_xlfn.IFNA(VLOOKUP(VentasMenudeo[[#This Row],[Producto]],$A$2:$B$5,2,FALSE),0)","v":270},{"$f":"_xlfn.IFNA(_xlfn.IFS(VentasMenudeo[[#This Row],[Producto]]=$A$2,VentasMenudeo[[#This Row],[Precio de Venta]]*VentasMenudeo[[#This Row],[Cantidad]]-VentasMenudeo[[#This Row],[Descuento]],VentasMenudeo[[#This Row],[Producto]]=$A$3,VentasMenudeo[[#This Row],[Precio de Venta]]*VentasMenudeo[[#This Row],[Cantidad]]-VentasMenudeo[[#This Row],[Descuento]],VentasMenudeo[[#This Row],[Producto]]=$A$4,VentasMenudeo[[#This Row],[Precio de Venta]]*VentasMenudeo[[#This Row],[Cantidad]]-VentasMenudeo[[#This Row],[Descuento]],VentasMenudeo[[#This Row],[Producto]]=$A$5,VentasMenudeo[[#This Row],[Precio de Venta]]*VentasMenudeo[[#This Row],[Cantidad]]-VentasMenudeo[[#This Row],[Descuento]]),0)","v":250},250]
["2022-04-29","Julio","IPLAY MAX","Sour Apple",1,"$20 Descuento",null,{"$f":"_xlfn.IFNA(VLOOKUP(VentasMenudeo[[#This Row],[Promoción]],PromocionesMenudeo[[Promocion]:[Descuento]],2,0),0)","v":20},{"$f":"_xlfn.IFNA(VLOOKUP(VentasMenudeo[[#This Row],[Producto]],$A$2:$B$5,2,FALSE),0)","v":270},{"$f":"_xlfn.IFNA(_xlfn.IFS(VentasMenudeo[[#This Row],[Producto]]=$A$2,VentasMenudeo[[#This Row],[Precio de Venta]]*VentasMenudeo[[#This Row],[Cantidad]]-VentasMenudeo[[#This Row],[Descuento]],VentasMenudeo[[#This Row],[Producto]]=$A$3,VentasMenudeo[[#This Row],[Precio de Venta]]*VentasMenudeo[[#This Row],[Cantidad]]-VentasMenudeo[[#This Row],[Descuento]],VentasMenudeo[[#This Row],[Producto]]=$A$4,VentasMenudeo[[#This Row],[Precio de Venta]]*VentasMenudeo[[#This Row],[Cantidad]]-VentasMenudeo[[#This Row],[Descuento]],VentasMenudeo[[#This Row],[Producto]]=$A$5,VentasMenudeo[[#This Row],[Precio de Venta]]*VentasMenudeo[[#This Row],[Cantidad]]-VentasMenudeo[[#This Row],[Descuento]]),0)","v":250},null,250]
["2022-04-29","Julio","IPLAY MAX","Bluerazz",1,"$20 Descuento",null,{"$f":"_xlfn.IFNA(VLOOKUP(VentasMenudeo[[#This Row],[Promoción]],PromocionesMenudeo[[Promocion]:[Descuento]],2,0),0)","v":20},{"$f":"_xlfn.IFNA(VLOOKUP(VentasMenudeo[[#This Row],[Producto]],$A$2:$B$5,2,FALSE),0)","v":270},{"$f":"_xlfn.IFNA(_xlfn.IFS(VentasMenudeo[[#This Row],[Producto]]=$A$2,VentasMenudeo[[#This Row],[Precio de Venta]]*VentasMenudeo[[#This Row],[Cantidad]]-VentasMenudeo[[#This Row],[Descuento]],VentasMenudeo[[#This Row],[Producto]]=$A$3,VentasMenudeo[[#This Row],[Precio de Venta]]*VentasMenudeo[[#This Row],[Cantidad]]-VentasMenudeo[[#This Row],[Descuento]],VentasMenudeo[[#This Row],[Producto]]=$A$4,VentasMenudeo[[#This Row],[Precio de Venta]]*VentasMenudeo[[#This Row],[Cantidad]]-VentasMenudeo[[#This Row],[Descuento]],VentasMenudeo[[#This Row],[Producto]]=$A$5,VentasMenudeo[[#This Row],[Precio de Venta]]*VentasMenudeo[[#This Row],[Cantidad]]-VentasMenudeo[[#This Row],[Descuento]]),0)","v":250},null,250]
["2022-04-29","Julio","IPLAY MAX","Bluerazz",1,"$20 Descuento",null,{"$f":"_xlfn.IFNA(VLOOKUP(VentasMenudeo[[#This Row],[Promoción]],PromocionesMenudeo[[Promocion]:[Descuento]],2,0),0)","v":20},{"$f":"_xlfn.IFNA(VLOOKUP(VentasMenudeo[[#This Row],[Producto]],$A$2:$B$5,2,FALSE),0)","v":270},{"$f":"_xlfn.IFNA(_xlfn.IFS(VentasMenudeo[[#This Row],[Producto]]=$A$2,VentasMenudeo[[#This Row],[Precio de Venta]]*VentasMenudeo[[#This Row],[Cantidad]]-VentasMenudeo[[#This Row],[Descuento]],VentasMenudeo[[#This Row],[Producto]]=$A$3,VentasMenudeo[[#This Row],[Precio de Venta]]*VentasMenudeo[[#This Row],[Cantidad]]-VentasMenudeo[[#This Row],[Descuento]],VentasMenudeo[[#This Row],[Producto]]=$A$4,VentasMenudeo[[#This Row],[Precio de Venta]]*VentasMenudeo[[#This Row],[Cantidad]]-VentasMenudeo[[#This Row],[Descuento]],VentasMenudeo[[#This Row],[Producto]]=$A$5,VentasMenudeo[[#This Row],[Precio de Venta]]*VentasMenudeo[[#This Row],[Cantidad]]-VentasMenudeo[[#This Row],[Descuento]]),0)","v":250},null,250]
["2022-04-29","Julio","IPLAY MAX","Cool mint",1,"$20 Descuento",null,{"$f":"_xlfn.IFNA(VLOOKUP(VentasMenudeo[[#This Row],[Promoción]],PromocionesMenudeo[[Promocion]:[Descuento]],2,0),0)","v":20},{"$f":"_xlfn.IFNA(VLOOKUP(VentasMenudeo[[#This Row],[Producto]],$A$2:$B$5,2,FALSE),0)","v":270},{"$f":"_xlfn.IFNA(_xlfn.IFS(VentasMenudeo[[#This Row],[Producto]]=$A$2,VentasMenudeo[[#This Row],[Precio de Venta]]*VentasMenudeo[[#This Row],[Cantidad]]-VentasMenudeo[[#This Row],[Descuento]],VentasMenudeo[[#This Row],[Producto]]=$A$3,VentasMenudeo[[#This Row],[Precio de Venta]]*VentasMenudeo[[#This Row],[Cantidad]]-VentasMenudeo[[#This Row],[Descuento]],VentasMenudeo[[#This Row],[Producto]]=$A$4,VentasMenudeo[[#This Row],[Precio de Venta]]*VentasMenudeo[[#This Row],[Cantidad]]-VentasMenudeo[[#This Row],[Descuento]],VentasMenudeo[[#This Row],[Producto]]=$A$5,VentasMenudeo[[#This Row],[Precio de Venta]]*VentasMenudeo[[#This Row],[Cantidad]]-VentasMenudeo[[#This Row],[Descuento]]),0)","v":250},250]
["2022-04-29","Julio","IPLAY MAX","Guava",1,"$20 Descuento",null,{"$f":"_xlfn.IFNA(VLOOKUP(VentasMenudeo[[#This Row],[Promoción]],PromocionesMenudeo[[Promocion]:[Descuento]],2,0),0)","v":20},{"$f":"_xlfn.IFNA(VLOOKUP(VentasMenudeo[[#This Row],[Producto]],$A$2:$B$5,2,FALSE),0)","v":270},{"$f":"_xlfn.IFNA(_xlfn.IFS(VentasMenudeo[[#This Row],[Producto]]=$A$2,VentasMenudeo[[#This Row],[Precio de Venta]]*VentasMenudeo[[#This Row],[Cantidad]]-VentasMenudeo[[#This Row],[Descuento]],VentasMenudeo[[#This Row],[Producto]]=$A$3,VentasMenudeo[[#This Row],[Precio de Venta]]*VentasMenudeo[[#This Row],[Cantidad]]-VentasMenudeo[[#This Row],[Descuento]],VentasMenudeo[[#This Row],[Producto]]=$A$4,VentasMenudeo[[#This Row],[Precio de Venta]]*VentasMenudeo[[#This Row],[Cantidad]]-VentasMenudeo[[#This Row],[Descuento]],VentasMenudeo[[#This Row],[Producto]]=$A$5,VentasMenudeo[[#This Row],[Precio de Venta]]*VentasMenudeo[[#This Row],[Cantidad]]-VentasMenudeo[[#This Row],[Descuento]]),0)","v":250},null,250]
["2022-04-30","Hugo","IPLAY MAX","Coconut",1,"$20 Descuento",null,{"$f":"_xlfn.IFNA(VLOOKUP(VentasMenudeo[[#This Row],[Promoción]],PromocionesMenudeo[[Promocion]:[Descuento]],2,0),0)","v":20},{"$f":"_xlfn.IFNA(VLOOKUP(VentasMenudeo[[#This Row],[Producto]],$A$2:$B$5,2,FALSE),0)","v":270},{"$f":"_xlfn.IFNA(_xlfn.IFS(VentasMenudeo[[#This Row],[Producto]]=$A$2,VentasMenudeo[[#This Row],[Precio de Venta]]*VentasMenudeo[[#This Row],[Cantidad]]-VentasMenudeo[[#This Row],[Descuento]],VentasMenudeo[[#This Row],[Producto]]=$A$3,VentasMenudeo[[#This Row],[Precio de Venta]]*VentasMenudeo[[#This Row],[Cantidad]]-VentasMenudeo[[#This Row],[Descuento]],VentasMenudeo[[#This Row],[Producto]]=$A$4,VentasMenudeo[[#This Row],[Precio de Venta]]*VentasMenudeo[[#This Row],[Cantidad]]-VentasMenudeo[[#This Row],[Descuento]],VentasMenudeo[[#This Row],[Producto]]=$A$5,VentasMenudeo[[#This Row],[Precio de Venta]]*VentasMenudeo[[#This Row],[Cantidad]]-VentasMenudeo[[#This Row],[Descuento]]),0)","v":250},250]
["2022-04-30","Hugo","IPLAY MAX","Cool mint",1,"$20 Descuento",null,{"$f":"_xlfn.IFNA(VLOOKUP(VentasMenudeo[[#This Row],[Promoción]],PromocionesMenudeo[[Promocion]:[Descuento]],2,0),0)","v":20},{"$f":"_xlfn.IFNA(VLOOKUP(VentasMenudeo[[#This Row],[Producto]],$A$2:$B$5,2,FALSE),0)","v":270},{"$f":"_xlfn.IFNA(_xlfn.IFS(VentasMenudeo[[#This Row],[Producto]]=$A$2,VentasMenudeo[[#This Row],[Precio de Venta]]*VentasMenudeo[[#This Row],[Cantidad]]-VentasMenudeo[[#This Row],[Descuento]],VentasMenudeo[[#This Row],[Producto]]=$A$3,VentasMenudeo[[#This Row],[Precio de Venta]]*VentasMenudeo[[#This Row],[Cantidad]]-VentasMenudeo[[#This Row],[Descuento]],VentasMenudeo[[#This Row],[Producto]]=$A$4,VentasMenudeo[[#This Row],[Precio de Venta]]*VentasMenudeo[[#This Row],[Cantidad]]-VentasMenudeo[[#This Row],[Descuento]],VentasMenudeo[[#This Row],[Producto]]=$A$5,VentasMenudeo[[#This Row],[Precio de Venta]]*VentasMenudeo[[#This Row],[Cantidad]]-VentasMenudeo[[#This Row],[Descuento]]),0)","v":250},250]
["2022-04-30","Julio","IPLAY MAX","Guava",1,"$20 Descuento",null,{"$f":"_xlfn.IFNA(VLOOKUP(VentasMenudeo[[#This Row],[Promoción]],PromocionesMenudeo[[Promocion]:[Descuento]],2,0),0)","v":20},{"$f":"_xlfn.IFNA(VLOOKUP(VentasMenudeo[[#This Row],[Producto]],$A$2:$B$5,2,FALSE),0)","v":270},{"$f":"_xlfn.IFNA(_xlfn.IFS(VentasMenudeo[[#This Row],[Producto]]=$A$2,VentasMenudeo[[#This Row],[Precio de Venta]]*VentasMenudeo[[#This Row],[Cantidad]]-VentasMenudeo[[#This Row],[Descuento]],VentasMenudeo[[#This Row],[Producto]]=$A$3,VentasMenudeo[[#This Row],[Precio de Venta]]*VentasMenudeo[[#This Row],[Cantidad]]-VentasMenudeo[[#This Row],[Descuento]],VentasMenudeo[[#This Row],[Producto]]=$A$4,VentasMenudeo[[#This Row],[Precio de Venta]]*VentasMenudeo[[#This Row],[Cantidad]]-VentasMenudeo[[#This Row],[Descuento]],VentasMenudeo[[#This Row],[Producto]]=$A$5,VentasMenudeo[[#This Row],[Precio de Venta]]*VentasMenudeo[[#This Row],[Cantidad]]-VentasMenudeo[[#This Row],[Descuento]]),0)","v":250},250]
["2022-04-30","Julio","IPLAY MAX","Guava",1,"$20 Descuento",null,{"$f":"_xlfn.IFNA(VLOOKUP(VentasMenudeo[[#This Row],[Promoción]],PromocionesMenudeo[[Promocion]:[Descuento]],2,0),0)","v":20},{"$f":"_xlfn.IFNA(VLOOKUP(VentasMenudeo[[#This Row],[Producto]],$A$2:$B$5,2,FALSE),0)","v":270},{"$f":"_xlfn.IFNA(_xlfn.IFS(VentasMenudeo[[#This Row],[Producto]]=$A$2,VentasMenudeo[[#This Row],[Precio de Venta]]*VentasMenudeo[[#This Row],[Cantidad]]-VentasMenudeo[[#This Row],[Descuento]],VentasMenudeo[[#This Row],[Producto]]=$A$3,VentasMenudeo[[#This Row],[Precio de Venta]]*VentasMenudeo[[#This Row],[Cantidad]]-VentasMenudeo[[#This Row],[Descuento]],VentasMenudeo[[#This Row],[Producto]]=$A$4,VentasMenudeo[[#This Row],[Precio de Venta]]*VentasMenudeo[[#This Row],[Cantidad]]-VentasMenudeo[[#This Row],[Descuento]],VentasMenudeo[[#This Row],[Producto]]=$A$5,VentasMenudeo[[#This Row],[Precio de Venta]]*VentasMenudeo[[#This Row],[Cantidad]]-VentasMenudeo[[#This Row],[Descuento]]),0)","v":250},250]
["2022-04-30","Julio","IPLAY MAX","GrapeFruit berry",1,"$20 Descuento",null,{"$f":"_xlfn.IFNA(VLOOKUP(VentasMenudeo[[#This Row],[Promoción]],PromocionesMenudeo[[Promocion]:[Descuento]],2,0),0)","v":20},{"$f":"_xlfn.IFNA(VLOOKUP(VentasMenudeo[[#This Row],[Producto]],$A$2:$B$5,2,FALSE),0)","v":270},{"$f":"_xlfn.IFNA(_xlfn.IFS(VentasMenudeo[[#This Row],[Producto]]=$A$2,VentasMenudeo[[#This Row],[Precio de Venta]]*VentasMenudeo[[#This Row],[Cantidad]]-VentasMenudeo[[#This Row],[Descuento]],VentasMenudeo[[#This Row],[Producto]]=$A$3,VentasMenudeo[[#This Row],[Precio de Venta]]*VentasMenudeo[[#This Row],[Cantidad]]-VentasMenudeo[[#This Row],[Descuento]],VentasMenudeo[[#This Row],[Producto]]=$A$4,VentasMenudeo[[#This Row],[Precio de Venta]]*VentasMenudeo[[#This Row],[Cantidad]]-VentasMenudeo[[#This Row],[Descuento]],VentasMenudeo[[#This Row],[Producto]]=$A$5,VentasMenudeo[[#This Row],[Precio de Venta]]*VentasMenudeo[[#This Row],[Cantidad]]-VentasMenudeo[[#This Row],[Descuento]]),0)","v":250},null,250]
["2022-04-30","Julio","IPLAY MAX","Bluerazz",1,"$20 Descuento",null,{"$f":"_xlfn.IFNA(VLOOKUP(VentasMenudeo[[#This Row],[Promoción]],PromocionesMenudeo[[Promocion]:[Descuento]],2,0),0)","v":20},{"$f":"_xlfn.IFNA(VLOOKUP(VentasMenudeo[[#This Row],[Producto]],$A$2:$B$5,2,FALSE),0)","v":270},{"$f":"_xlfn.IFNA(_xlfn.IFS(VentasMenudeo[[#This Row],[Producto]]=$A$2,VentasMenudeo[[#This Row],[Precio de Venta]]*VentasMenudeo[[#This Row],[Cantidad]]-VentasMenudeo[[#This Row],[Descuento]],VentasMenudeo[[#This Row],[Producto]]=$A$3,VentasMenudeo[[#This Row],[Precio de Venta]]*VentasMenudeo[[#This Row],[Cantidad]]-VentasMenudeo[[#This Row],[Descuento]],VentasMenudeo[[#This Row],[Producto]]=$A$4,VentasMenudeo[[#This Row],[Precio de Venta]]*VentasMenudeo[[#This Row],[Cantidad]]-VentasMenudeo[[#This Row],[Descuento]],VentasMenudeo[[#This Row],[Producto]]=$A$5,VentasMenudeo[[#This Row],[Precio de Venta]]*VentasMenudeo[[#This Row],[Cantidad]]-VentasMenudeo[[#This Row],[Descuento]]),0)","v":250},null,250]
["2022-04-30","Hugo","IPLAY MAX","Berry Watermelon",1,"$20 Descuento",null,{"$f":"_xlfn.IFNA(VLOOKUP(VentasMenudeo[[#This Row],[Promoción]],PromocionesMenudeo[[Promocion]:[Descuento]],2,0),0)","v":20},{"$f":"_xlfn.IFNA(VLOOKUP(VentasMenudeo[[#This Row],[Producto]],$A$2:$B$5,2,FALSE),0)","v":270},{"$f":"_xlfn.IFNA(_xlfn.IFS(VentasMenudeo[[#This Row],[Producto]]=$A$2,VentasMenudeo[[#This Row],[Precio de Venta]]*VentasMenudeo[[#This Row],[Cantidad]]-VentasMenudeo[[#This Row],[Descuento]],VentasMenudeo[[#This Row],[Producto]]=$A$3,VentasMenudeo[[#This Row],[Precio de Venta]]*VentasMenudeo[[#This Row],[Cantidad]]-VentasMenudeo[[#This Row],[Descuento]],VentasMenudeo[[#This Row],[Producto]]=$A$4,VentasMenudeo[[#This Row],[Precio de Venta]]*VentasMenudeo[[#This Row],[Cantidad]]-VentasMenudeo[[#This Row],[Descuento]],VentasMenudeo[[#This Row],[Producto]]=$A$5,VentasMenudeo[[#This Row],[Precio de Venta]]*VentasMenudeo[[#This Row],[Cantidad]]-VentasMenudeo[[#This Row],[Descuento]]),0)","v":250},null,250]
["2022-04-30","Julio","IPLAY MAX","Bluerazz",1,"$20 Descuento",null,{"$f":"_xlfn.IFNA(VLOOKUP(VentasMenudeo[[#This Row],[Promoción]],PromocionesMenudeo[[Promocion]:[Descuento]],2,0),0)","v":20},{"$f":"_xlfn.IFNA(VLOOKUP(VentasMenudeo[[#This Row],[Producto]],$A$2:$B$5,2,FALSE),0)","v":270},{"$f":"_xlfn.IFNA(_xlfn.IFS(VentasMenudeo[[#This Row],[Producto]]=$A$2,VentasMenudeo[[#This Row],[Precio de Venta]]*VentasMenudeo[[#This Row],[Cantidad]]-VentasMenudeo[[#This Row],[Descuento]],VentasMenudeo[[#This Row],[Producto]]=$A$3,VentasMenudeo[[#This Row],[Precio de Venta]]*VentasMenudeo[[#This Row],[Cantidad]]-VentasMenudeo[[#This Row],[Descuento]],VentasMenudeo[[#This Row],[Producto]]=$A$4,VentasMenudeo[[#This Row],[Precio de Venta]]*VentasMenudeo[[#This Row],[Cantidad]]-VentasMenudeo[[#This Row],[Descuento]],VentasMenudeo[[#This Row],[Producto]]=$A$5,VentasMenudeo[[#This Row],[Precio de Venta]]*VentasMenudeo[[#This Row],[Cantidad]]-VentasMenudeo[[#This Row],[Descuento]]),0)","v":250},250]
["2022-05-01","Hugo","IPLAY MAX","Guava",1,"$20 Descuento",null,{"$f":"_xlfn.IFNA(VLOOKUP(VentasMenudeo[[#This Row],[Promoción]],PromocionesMenudeo[[Promocion]:[Descuento]],2,0),0)","v":20},{"$f":"_xlfn.IFNA(VLOOKUP(VentasMenudeo[[#This Row],[Producto]],$A$2:$B$5,2,FALSE),0)","v":270},{"$f":"_xlfn.IFNA(_xlfn.IFS(VentasMenudeo[[#This Row],[Producto]]=$A$2,VentasMenudeo[[#This Row],[Precio de Venta]]*VentasMenudeo[[#This Row],[Cantidad]]-VentasMenudeo[[#This Row],[Descuento]],VentasMenudeo[[#This Row],[Producto]]=$A$3,VentasMenudeo[[#This Row],[Precio de Venta]]*VentasMenudeo[[#This Row],[Cantidad]]-VentasMenudeo[[#This Row],[Descuento]],VentasMenudeo[[#This Row],[Producto]]=$A$4,VentasMenudeo[[#This Row],[Precio de Venta]]*VentasMenudeo[[#This Row],[Cantidad]]-VentasMenudeo[[#This Row],[Descuento]],VentasMenudeo[[#This Row],[Producto]]=$A$5,VentasMenudeo[[#This Row],[Precio de Venta]]*VentasMenudeo[[#This Row],[Cantidad]]-VentasMenudeo[[#This Row],[Descuento]]),0)","v":250},null,250]
["2022-05-01","Julio","IPLAY MAX","Grapestraw",1,"$20 Descuento",null,{"$f":"_xlfn.IFNA(VLOOKUP(VentasMenudeo[[#This Row],[Promoción]],PromocionesMenudeo[[Promocion]:[Descuento]],2,0),0)","v":20},{"$f":"_xlfn.IFNA(VLOOKUP(VentasMenudeo[[#This Row],[Producto]],$A$2:$B$5,2,FALSE),0)","v":270},{"$f":"_xlfn.IFNA(_xlfn.IFS(VentasMenudeo[[#This Row],[Producto]]=$A$2,VentasMenudeo[[#This Row],[Precio de Venta]]*VentasMenudeo[[#This Row],[Cantidad]]-VentasMenudeo[[#This Row],[Descuento]],VentasMenudeo[[#This Row],[Producto]]=$A$3,VentasMenudeo[[#This Row],[Precio de Venta]]*VentasMenudeo[[#This Row],[Cantidad]]-VentasMenudeo[[#This Row],[Descuento]],VentasMenudeo[[#This Row],[Producto]]=$A$4,VentasMenudeo[[#This Row],[Precio de Venta]]*VentasMenudeo[[#This Row],[Cantidad]]-VentasMenudeo[[#This Row],[Descuento]],VentasMenudeo[[#This Row],[Producto]]=$A$5,VentasMenudeo[[#This Row],[Precio de Venta]]*VentasMenudeo[[#This Row],[Cantidad]]-VentasMenudeo[[#This Row],[Descuento]]),0)","v":250},null,250]
["2022-05-01","Julio","IPLAY MAX","Energy ICE",1,"$20 Descuento",null,{"$f":"_xlfn.IFNA(VLOOKUP(VentasMenudeo[[#This Row],[Promoción]],PromocionesMenudeo[[Promocion]:[Descuento]],2,0),0)","v":20},{"$f":"_xlfn.IFNA(VLOOKUP(VentasMenudeo[[#This Row],[Producto]],$A$2:$B$5,2,FALSE),0)","v":270},{"$f":"_xlfn.IFNA(_xlfn.IFS(VentasMenudeo[[#This Row],[Producto]]=$A$2,VentasMenudeo[[#This Row],[Precio de Venta]]*VentasMenudeo[[#This Row],[Cantidad]]-VentasMenudeo[[#This Row],[Descuento]],VentasMenudeo[[#This Row],[Producto]]=$A$3,VentasMenudeo[[#This Row],[Precio de Venta]]*VentasMenudeo[[#This Row],[Cantidad]]-VentasMenudeo[[#This Row],[Descuento]],VentasMenudeo[[#This Row],[Producto]]=$A$4,VentasMenudeo[[#This Row],[Precio de Venta]]*VentasMenudeo[[#This Row],[Cantidad]]-VentasMenudeo[[#This Row],[Descuento]],VentasMenudeo[[#This Row],[Producto]]=$A$5,VentasMenudeo[[#This Row],[Precio de Venta]]*VentasMenudeo[[#This Row],[Cantidad]]-VentasMenudeo[[#This Row],[Descuento]]),0)","v":250},null,250]
["2022-05-02","Julio","IPLAY MAX","Cool mint",1,"$20 Descuento",null,{"$f":"_xlfn.IFNA(VLOOKUP(VentasMenudeo[[#This Row],[Promoción]],PromocionesMenudeo[[Promocion]:[Descuento]],2,0),0)","v":20},{"$f":"_xlfn.IFNA(VLOOKUP(VentasMenudeo[[#This Row],[Producto]],$A$2:$B$5,2,FALSE),0)","v":270},{"$f":"_xlfn.IFNA(_xlfn.IFS(VentasMenudeo[[#This Row],[Producto]]=$A$2,VentasMenudeo[[#This Row],[Precio de Venta]]*VentasMenudeo[[#This Row],[Cantidad]]-VentasMenudeo[[#This Row],[Descuento]],VentasMenudeo[[#This Row],[Producto]]=$A$3,VentasMenudeo[[#This Row],[Precio de Venta]]*VentasMenudeo[[#This Row],[Cantidad]]-VentasMenudeo[[#This Row],[Descuento]],VentasMenudeo[[#This Row],[Producto]]=$A$4,VentasMenudeo[[#This Row],[Precio de Venta]]*VentasMenudeo[[#This Row],[Cantidad]]-VentasMenudeo[[#This Row],[Descuento]],VentasMenudeo[[#This Row],[Producto]]=$A$5,VentasMenudeo[[#This Row],[Precio de Venta]]*VentasMenudeo[[#This Row],[Cantidad]]-VentasMenudeo[[#This Row],[Descuento]]),0)","v":250},null,250]
["2022-05-02","Julio","IPLAY MAX","Cool mint",1,"$20 Descuento",null,{"$f":"_xlfn.IFNA(VLOOKUP(VentasMenudeo[[#This Row],[Promoción]],PromocionesMenudeo[[Promocion]:[Descuento]],2,0),0)","v":20},{"$f":"_xlfn.IFNA(VLOOKUP(VentasMenudeo[[#This Row],[Producto]],$A$2:$B$5,2,FALSE),0)","v":270},{"$f":"_xlfn.IFNA(_xlfn.IFS(VentasMenudeo[[#This Row],[Producto]]=$A$2,VentasMenudeo[[#This Row],[Precio de Venta]]*VentasMenudeo[[#This Row],[Cantidad]]-VentasMenudeo[[#This Row],[Descuento]],VentasMenudeo[[#This Row],[Producto]]=$A$3,VentasMenudeo[[#This Row],[Precio de Venta]]*VentasMenudeo[[#This Row],[Cantidad]]-VentasMenudeo[[#This Row],[Descuento]],VentasMenudeo[[#This Row],[Producto]]=$A$4,VentasMenudeo[[#This Row],[Precio de Venta]]*VentasMenudeo[[#This Row],[Cantidad]]-VentasMenudeo[[#This Row],[Descuento]],VentasMenudeo[[#This Row],[Producto]]=$A$5,VentasMenudeo[[#This Row],[Precio de Venta]]*VentasMenudeo[[#This Row],[Cantidad]]-VentasMenudeo[[#This Row],[Descuento]]),0)","v":250},null,250]
["2022-05-02","Julio","IPLAY MAX","GrapeFruit berry",1,"$20 Descuento",null,{"$f":"_xlfn.IFNA(VLOOKUP(VentasMenudeo[[#This Row],[Promoción]],PromocionesMenudeo[[Promocion]:[Descuento]],2,0),0)","v":20},{"$f":"_xlfn.IFNA(VLOOKUP(VentasMenudeo[[#This Row],[Producto]],$A$2:$B$5,2,FALSE),0)","v":270},{"$f":"_xlfn.IFNA(_xlfn.IFS(VentasMenudeo[[#This Row],[Producto]]=$A$2,VentasMenudeo[[#This Row],[Precio de Venta]]*VentasMenudeo[[#This Row],[Cantidad]]-VentasMenudeo[[#This Row],[Descuento]],VentasMenudeo[[#This Row],[Producto]]=$A$3,VentasMenudeo[[#This Row],[Precio de Venta]]*VentasMenudeo[[#This Row],[Cantidad]]-VentasMenudeo[[#This Row],[Descuento]],VentasMenudeo[[#This Row],[Producto]]=$A$4,VentasMenudeo[[#This Row],[Precio de Venta]]*VentasMenudeo[[#This Row],[Cantidad]]-VentasMenudeo[[#This Row],[Descuento]],VentasMenudeo[[#This Row],[Producto]]=$A$5,VentasMenudeo[[#This Row],[Precio de Venta]]*VentasMenudeo[[#This Row],[Cantidad]]-VentasMenudeo[[#This Row],[Descuento]]),0)","v":250},null,250]
["2022-05-02","Julio","IPLAY MAX","Coconut",1,"$20 Descuento",null,{"$f":"_xlfn.IFNA(VLOOKUP(VentasMenudeo[[#This Row],[Promoción]],PromocionesMenudeo[[Promocion]:[Descuento]],2,0),0)","v":20},{"$f":"_xlfn.IFNA(VLOOKUP(VentasMenudeo[[#This Row],[Producto]],$A$2:$B$5,2,FALSE),0)","v":270},{"$f":"_xlfn.IFNA(_xlfn.IFS(VentasMenudeo[[#This Row],[Producto]]=$A$2,VentasMenudeo[[#This Row],[Precio de Venta]]*VentasMenudeo[[#This Row],[Cantidad]]-VentasMenudeo[[#This Row],[Descuento]],VentasMenudeo[[#This Row],[Producto]]=$A$3,VentasMenudeo[[#This Row],[Precio de Venta]]*VentasMenudeo[[#This Row],[Cantidad]]-VentasMenudeo[[#This Row],[Descuento]],VentasMenudeo[[#This Row],[Producto]]=$A$4,VentasMenudeo[[#This Row],[Precio de Venta]]*VentasMenudeo[[#This Row],[Cantidad]]-VentasMenudeo[[#This Row],[Descuento]],VentasMenudeo[[#This Row],[Producto]]=$A$5,VentasMenudeo[[#This Row],[Precio de Venta]]*VentasMenudeo[[#This Row],[Cantidad]]-VentasMenudeo[[#This Row],[Descuento]]),0)","v":250},250]
["2022-05-02","Julio","IPLAY MAX","Grapestraw",1,"$20 Descuento",null,{"$f":"_xlfn.IFNA(VLOOKUP(VentasMenudeo[[#This Row],[Promoción]],PromocionesMenudeo[[Promocion]:[Descuento]],2,0),0)","v":20},{"$f":"_xlfn.IFNA(VLOOKUP(VentasMenudeo[[#This Row],[Producto]],$A$2:$B$5,2,FALSE),0)","v":270},{"$f":"_xlfn.IFNA(_xlfn.IFS(VentasMenudeo[[#This Row],[Producto]]=$A$2,VentasMenudeo[[#This Row],[Precio de Venta]]*VentasMenudeo[[#This Row],[Cantidad]]-VentasMenudeo[[#This Row],[Descuento]],VentasMenudeo[[#This Row],[Producto]]=$A$3,VentasMenudeo[[#This Row],[Precio de Venta]]*VentasMenudeo[[#This Row],[Cantidad]]-VentasMenudeo[[#This Row],[Descuento]],VentasMenudeo[[#This Row],[Producto]]=$A$4,VentasMenudeo[[#This Row],[Precio de Venta]]*VentasMenudeo[[#This Row],[Cantidad]]-VentasMenudeo[[#This Row],[Descuento]],VentasMenudeo[[#This Row],[Producto]]=$A$5,VentasMenudeo[[#This Row],[Precio de Venta]]*VentasMenudeo[[#This Row],[Cantidad]]-VentasMenudeo[[#This Row],[Descuento]]),0)","v":250},null,250]
["2022-05-02","Julio","IPLAY MAX","Bluerazz",1,"$20 Descuento",null,{"$f":"_xlfn.IFNA(VLOOKUP(VentasMenudeo[[#This Row],[Promoción]],PromocionesMenudeo[[Promocion]:[Descuento]],2,0),0)","v":20},{"$f":"_xlfn.IFNA(VLOOKUP(VentasMenudeo[[#This Row],[Producto]],$A$2:$B$5,2,FALSE),0)","v":270},{"$f":"_xlfn.IFNA(_xlfn.IFS(VentasMenudeo[[#This Row],[Producto]]=$A$2,VentasMenudeo[[#This Row],[Precio de Venta]]*VentasMenudeo[[#This Row],[Cantidad]]-VentasMenudeo[[#This Row],[Descuento]],VentasMenudeo[[#This Row],[Producto]]=$A$3,VentasMenudeo[[#This Row],[Precio de Venta]]*VentasMenudeo[[#This Row],[Cantidad]]-VentasMenudeo[[#This Row],[Descuento]],VentasMenudeo[[#This Row],[Producto]]=$A$4,VentasMenudeo[[#This Row],[Precio de Venta]]*VentasMenudeo[[#This Row],[Cantidad]]-VentasMenudeo[[#This Row],[Descuento]],VentasMenudeo[[#This Row],[Producto]]=$A$5,VentasMenudeo[[#This Row],[Precio de Venta]]*VentasMenudeo[[#This Row],[Cantidad]]-VentasMenudeo[[#This Row],[Descuento]]),0)","v":250},250]
["2022-05-02","Hugo","IPLAY MAX","Cool mint",1,"$20 Descuento",null,{"$f":"_xlfn.IFNA(VLOOKUP(VentasMenudeo[[#This Row],[Promoción]],PromocionesMenudeo[[Promocion]:[Descuento]],2,0),0)","v":20},{"$f":"_xlfn.IFNA(VLOOKUP(VentasMenudeo[[#This Row],[Producto]],$A$2:$B$5,2,FALSE),0)","v":270},{"$f":"_xlfn.IFNA(_xlfn.IFS(VentasMenudeo[[#This Row],[Producto]]=$A$2,VentasMenudeo[[#This Row],[Precio de Venta]]*VentasMenudeo[[#This Row],[Cantidad]]-VentasMenudeo[[#This Row],[Descuento]],VentasMenudeo[[#This Row],[Producto]]=$A$3,VentasMenudeo[[#This Row],[Precio de Venta]]*VentasMenudeo[[#This Row],[Cantidad]]-VentasMenudeo[[#This Row],[Descuento]],VentasMenudeo[[#This Row],[Producto]]=$A$4,VentasMenudeo[[#This Row],[Precio de Venta]]*VentasMenudeo[[#This Row],[Cantidad]]-VentasMenudeo[[#This Row],[Descuento]],VentasMenudeo[[#This Row],[Producto]]=$A$5,VentasMenudeo[[#This Row],[Precio de Venta]]*VentasMenudeo[[#This Row],[Cantidad]]-VentasMenudeo[[#This Row],[Descuento]]),0)","v":250},null,250]
["2022-05-02","Julio","IPLAY MAX","Sour Apple",1,"$20 Descuento",null,{"$f":"_xlfn.IFNA(VLOOKUP(VentasMenudeo[[#This Row],[Promoción]],PromocionesMenudeo[[Promocion]:[Descuento]],2,0),0)","v":20},{"$f":"_xlfn.IFNA(VLOOKUP(VentasMenudeo[[#This Row],[Producto]],$A$2:$B$5,2,FALSE),0)","v":270},{"$f":"_xlfn.IFNA(_xlfn.IFS(VentasMenudeo[[#This Row],[Producto]]=$A$2,VentasMenudeo[[#This Row],[Precio de Venta]]*VentasMenudeo[[#This Row],[Cantidad]]-VentasMenudeo[[#This Row],[Descuento]],VentasMenudeo[[#This Row],[Producto]]=$A$3,VentasMenudeo[[#This Row],[Precio de Venta]]*VentasMenudeo[[#This Row],[Cantidad]]-VentasMenudeo[[#This Row],[Descuento]],VentasMenudeo[[#This Row],[Producto]]=$A$4,VentasMenudeo[[#This Row],[Precio de Venta]]*VentasMenudeo[[#This Row],[Cantidad]]-VentasMenudeo[[#This Row],[Descuento]],VentasMenudeo[[#This Row],[Producto]]=$A$5,VentasMenudeo[[#This Row],[Precio de Venta]]*VentasMenudeo[[#This Row],[Cantidad]]-VentasMenudeo[[#This Row],[Descuento]]),0)","v":250},250]
["2022-05-03","Julio","IPLAY MAX","Coconut",1,"$20 Descuento",null,{"$f":"_xlfn.IFNA(VLOOKUP(VentasMenudeo[[#This Row],[Promoción]],PromocionesMenudeo[[Promocion]:[Descuento]],2,0),0)","v":20},{"$f":"_xlfn.IFNA(VLOOKUP(VentasMenudeo[[#This Row],[Producto]],$A$2:$B$5,2,FALSE),0)","v":270},{"$f":"_xlfn.IFNA(_xlfn.IFS(VentasMenudeo[[#This Row],[Producto]]=$A$2,VentasMenudeo[[#This Row],[Precio de Venta]]*VentasMenudeo[[#This Row],[Cantidad]]-VentasMenudeo[[#This Row],[Descuento]],VentasMenudeo[[#This Row],[Producto]]=$A$3,VentasMenudeo[[#This Row],[Precio de Venta]]*VentasMenudeo[[#This Row],[Cantidad]]-VentasMenudeo[[#This Row],[Descuento]],VentasMenudeo[[#This Row],[Producto]]=$A$4,VentasMenudeo[[#This Row],[Precio de Venta]]*VentasMenudeo[[#This Row],[Cantidad]]-VentasMenudeo[[#This Row],[Descuento]],VentasMenudeo[[#This Row],[Producto]]=$A$5,VentasMenudeo[[#This Row],[Precio de Venta]]*VentasMenudeo[[#This Row],[Cantidad]]-VentasMenudeo[[#This Row],[Descuento]]),0)","v":250},250]
["2022-05-03","Julio","IPLAY MAX","Guava",1,"$20 Descuento",null,{"$f":"_xlfn.IFNA(VLOOKUP(VentasMenudeo[[#This Row],[Promoción]],PromocionesMenudeo[[Promocion]:[Descuento]],2,0),0)","v":20},{"$f":"_xlfn.IFNA(VLOOKUP(VentasMenudeo[[#This Row],[Producto]],$A$2:$B$5,2,FALSE),0)","v":270},{"$f":"_xlfn.IFNA(_xlfn.IFS(VentasMenudeo[[#This Row],[Producto]]=$A$2,VentasMenudeo[[#This Row],[Precio de Venta]]*VentasMenudeo[[#This Row],[Cantidad]]-VentasMenudeo[[#This Row],[Descuento]],VentasMenudeo[[#This Row],[Producto]]=$A$3,VentasMenudeo[[#This Row],[Precio de Venta]]*VentasMenudeo[[#This Row],[Cantidad]]-VentasMenudeo[[#This Row],[Descuento]],VentasMenudeo[[#This Row],[Producto]]=$A$4,VentasMenudeo[[#This Row],[Precio de Venta]]*VentasMenudeo[[#This Row],[Cantidad]]-VentasMenudeo[[#This Row],[Descuento]],VentasMenudeo[[#This Row],[Producto]]=$A$5,VentasMenudeo[[#This Row],[Precio de Venta]]*VentasMenudeo[[#This Row],[Cantidad]]-VentasMenudeo[[#This Row],[Descuento]]),0)","v":250},250]
["2022-05-03","Hugo","IPLAY MAX","Energy ICE",1,"$20 Descuento",null,{"$f":"_xlfn.IFNA(VLOOKUP(VentasMenudeo[[#This Row],[Promoción]],PromocionesMenudeo[[Promocion]:[Descuento]],2,0),0)","v":20},{"$f":"_xlfn.IFNA(VLOOKUP(VentasMenudeo[[#This Row],[Producto]],$A$2:$B$5,2,FALSE),0)","v":270},{"$f":"_xlfn.IFNA(_xlfn.IFS(VentasMenudeo[[#This Row],[Producto]]=$A$2,VentasMenudeo[[#This Row],[Precio de Venta]]*VentasMenudeo[[#This Row],[Cantidad]]-VentasMenudeo[[#This Row],[Descuento]],VentasMenudeo[[#This Row],[Producto]]=$A$3,VentasMenudeo[[#This Row],[Precio de Venta]]*VentasMenudeo[[#This Row],[Cantidad]]-VentasMenudeo[[#This Row],[Descuento]],VentasMenudeo[[#This Row],[Producto]]=$A$4,VentasMenudeo[[#This Row],[Precio de Venta]]*VentasMenudeo[[#This Row],[Cantidad]]-VentasMenudeo[[#This Row],[Descuento]],VentasMenudeo[[#This Row],[Producto]]=$A$5,VentasMenudeo[[#This Row],[Precio de Venta]]*VentasMenudeo[[#This Row],[Cantidad]]-VentasMenudeo[[#This Row],[Descuento]]),0)","v":250},null,250]
["2022-05-03","Julio","IPLAY MAX","Cool mint",1,"$20 Descuento",null,{"$f":"_xlfn.IFNA(VLOOKUP(VentasMenudeo[[#This Row],[Promoción]],PromocionesMenudeo[[Promocion]:[Descuento]],2,0),0)","v":20},{"$f":"_xlfn.IFNA(VLOOKUP(VentasMenudeo[[#This Row],[Producto]],$A$2:$B$5,2,FALSE),0)","v":270},{"$f":"_xlfn.IFNA(_xlfn.IFS(VentasMenudeo[[#This Row],[Producto]]=$A$2,VentasMenudeo[[#This Row],[Precio de Venta]]*VentasMenudeo[[#This Row],[Cantidad]]-VentasMenudeo[[#This Row],[Descuento]],VentasMenudeo[[#This Row],[Producto]]=$A$3,VentasMenudeo[[#This Row],[Precio de Venta]]*VentasMenudeo[[#This Row],[Cantidad]]-VentasMenudeo[[#This Row],[Descuento]],VentasMenudeo[[#This Row],[Producto]]=$A$4,VentasMenudeo[[#This Row],[Precio de Venta]]*VentasMenudeo[[#This Row],[Cantidad]]-VentasMenudeo[[#This Row],[Descuento]],VentasMenudeo[[#This Row],[Producto]]=$A$5,VentasMenudeo[[#This Row],[Precio de Venta]]*VentasMenudeo[[#This Row],[Cantidad]]-VentasMenudeo[[#This Row],[Descuento]]),0)","v":250},null,250]
["2022-05-03","Julio","IPLAY MAX","Berry Watermelon",1,"$20 Descuento",null,{"$f":"_xlfn.IFNA(VLOOKUP(VentasMenudeo[[#This Row],[Promoción]],PromocionesMenudeo[[Promocion]:[Descuento]],2,0),0)","v":20},{"$f":"_xlfn.IFNA(VLOOKUP(VentasMenudeo[[#This Row],[Producto]],$A$2:$B$5,2,FALSE),0)","v":270},{"$f":"_xlfn.IFNA(_xlfn.IFS(VentasMenudeo[[#This Row],[Producto]]=$A$2,VentasMenudeo[[#This Row],[Precio de Venta]]*VentasMenudeo[[#This Row],[Cantidad]]-VentasMenudeo[[#This Row],[Descuento]],VentasMenudeo[[#This Row],[Producto]]=$A$3,VentasMenudeo[[#This Row],[Precio de Venta]]*VentasMenudeo[[#This Row],[Cantidad]]-VentasMenudeo[[#This Row],[Descuento]],VentasMenudeo[[#This Row],[Producto]]=$A$4,VentasMenudeo[[#This Row],[Precio de Venta]]*VentasMenudeo[[#This Row],[Cantidad]]-VentasMenudeo[[#This Row],[Descuento]],VentasMenudeo[[#This Row],[Producto]]=$A$5,VentasMenudeo[[#This Row],[Precio de Venta]]*VentasMenudeo[[#This Row],[Cantidad]]-VentasMenudeo[[#This Row],[Descuento]]),0)","v":250},null,250]
["2022-05-03","Julio","IPLAY MAX","GrapeFruit berry",1,"$20 Descuento",null,{"$f":"_xlfn.IFNA(VLOOKUP(VentasMenudeo[[#This Row],[Promoción]],PromocionesMenudeo[[Promocion]:[Descuento]],2,0),0)","v":20},{"$f":"_xlfn.IFNA(VLOOKUP(VentasMenudeo[[#This Row],[Producto]],$A$2:$B$5,2,FALSE),0)","v":270},{"$f":"_xlfn.IFNA(_xlfn.IFS(VentasMenudeo[[#This Row],[Producto]]=$A$2,VentasMenudeo[[#This Row],[Precio de Venta]]*VentasMenudeo[[#This Row],[Cantidad]]-VentasMenudeo[[#This Row],[Descuento]],VentasMenudeo[[#This Row],[Producto]]=$A$3,VentasMenudeo[[#This Row],[Precio de Venta]]*VentasMenudeo[[#This Row],[Cantidad]]-VentasMenudeo[[#This Row],[Descuento]],VentasMenudeo[[#This Row],[Producto]]=$A$4,VentasMenudeo[[#This Row],[Precio de Venta]]*VentasMenudeo[[#This Row],[Cantidad]]-VentasMenudeo[[#This Row],[Descuento]],VentasMenudeo[[#This Row],[Producto]]=$A$5,VentasMenudeo[[#This Row],[Precio de Venta]]*VentasMenudeo[[#This Row],[Cantidad]]-VentasMenudeo[[#This Row],[Descuento]]),0)","v":250},null,250]
["2022-05-03","Julio","IPLAY MAX","Grapestraw",1,"$20 Descuento",null,30,{"$f":"_xlfn.IFNA(VLOOKUP(VentasMenudeo[[#This Row],[Producto]],$A$2:$B$5,2,FALSE),0)","v":270},{"$f":"_xlfn.IFNA(_xlfn.IFS(VentasMenudeo[[#This Row],[Producto]]=$A$2,VentasMenudeo[[#This Row],[Precio de Venta]]*VentasMenudeo[[#This Row],[Cantidad]]-VentasMenudeo[[#This Row],[Descuento]],VentasMenudeo[[#This Row],[Producto]]=$A$3,VentasMenudeo[[#This Row],[Precio de Venta]]*VentasMenudeo[[#This Row],[Cantidad]]-VentasMenudeo[[#This Row],[Descuento]],VentasMenudeo[[#This Row],[Producto]]=$A$4,VentasMenudeo[[#This Row],[Precio de Venta]]*VentasMenudeo[[#This Row],[Cantidad]]-VentasMenudeo[[#This Row],[Descuento]],VentasMenudeo[[#This Row],[Producto]]=$A$5,VentasMenudeo[[#This Row],[Precio de Venta]]*VentasMenudeo[[#This Row],[Cantidad]]-VentasMenudeo[[#This Row],[Descuento]]),0)","v":240},240]
["2022-05-03","Julio","IPLAY MAX","Grapestraw",1,"$20 Descuento",null,{"$f":"_xlfn.IFNA(VLOOKUP(VentasMenudeo[[#This Row],[Promoción]],PromocionesMenudeo[[Promocion]:[Descuento]],2,0),0)","v":20},{"$f":"_xlfn.IFNA(VLOOKUP(VentasMenudeo[[#This Row],[Producto]],$A$2:$B$5,2,FALSE),0)","v":270},{"$f":"_xlfn.IFNA(_xlfn.IFS(VentasMenudeo[[#This Row],[Producto]]=$A$2,VentasMenudeo[[#This Row],[Precio de Venta]]*VentasMenudeo[[#This Row],[Cantidad]]-VentasMenudeo[[#This Row],[Descuento]],VentasMenudeo[[#This Row],[Producto]]=$A$3,VentasMenudeo[[#This Row],[Precio de Venta]]*VentasMenudeo[[#This Row],[Cantidad]]-VentasMenudeo[[#This Row],[Descuento]],VentasMenudeo[[#This Row],[Producto]]=$A$4,VentasMenudeo[[#This Row],[Precio de Venta]]*VentasMenudeo[[#This Row],[Cantidad]]-VentasMenudeo[[#This Row],[Descuento]],VentasMenudeo[[#This Row],[Producto]]=$A$5,VentasMenudeo[[#This Row],[Precio de Venta]]*VentasMenudeo[[#This Row],[Cantidad]]-VentasMenudeo[[#This Row],[Descuento]]),0)","v":250},250]
["2022-05-04","Julio","IPLAY MAX","Guava",1,"$20 Descuento",null,{"$f":"_xlfn.IFNA(VLOOKUP(VentasMenudeo[[#This Row],[Promoción]],PromocionesMenudeo[[Promocion]:[Descuento]],2,0),0)","v":20},{"$f":"_xlfn.IFNA(VLOOKUP(VentasMenudeo[[#This Row],[Producto]],$A$2:$B$5,2,FALSE),0)","v":270},{"$f":"_xlfn.IFNA(_xlfn.IFS(VentasMenudeo[[#This Row],[Producto]]=$A$2,VentasMenudeo[[#This Row],[Precio de Venta]]*VentasMenudeo[[#This Row],[Cantidad]]-VentasMenudeo[[#This Row],[Descuento]],VentasMenudeo[[#This Row],[Producto]]=$A$3,VentasMenudeo[[#This Row],[Precio de Venta]]*VentasMenudeo[[#This Row],[Cantidad]]-VentasMenudeo[[#This Row],[Descuento]],VentasMenudeo[[#This Row],[Producto]]=$A$4,VentasMenudeo[[#This Row],[Precio de Venta]]*VentasMenudeo[[#This Row],[Cantidad]]-VentasMenudeo[[#This Row],[Descuento]],VentasMenudeo[[#This Row],[Producto]]=$A$5,VentasMenudeo[[#This Row],[Precio de Venta]]*VentasMenudeo[[#This Row],[Cantidad]]-VentasMenudeo[[#This Row],[Descuento]]),0)","v":250},null,250]
["2022-05-04","Julio","IPLAY MAX","Sour Apple",1,"$20 Descuento",null,{"$f":"_xlfn.IFNA(VLOOKUP(VentasMenudeo[[#This Row],[Promoción]],PromocionesMenudeo[[Promocion]:[Descuento]],2,0),0)","v":20},{"$f":"_xlfn.IFNA(VLOOKUP(VentasMenudeo[[#This Row],[Producto]],$A$2:$B$5,2,FALSE),0)","v":270},{"$f":"_xlfn.IFNA(_xlfn.IFS(VentasMenudeo[[#This Row],[Producto]]=$A$2,VentasMenudeo[[#This Row],[Precio de Venta]]*VentasMenudeo[[#This Row],[Cantidad]]-VentasMenudeo[[#This Row],[Descuento]],VentasMenudeo[[#This Row],[Producto]]=$A$3,VentasMenudeo[[#This Row],[Precio de Venta]]*VentasMenudeo[[#This Row],[Cantidad]]-VentasMenudeo[[#This Row],[Descuento]],VentasMenudeo[[#This Row],[Producto]]=$A$4,VentasMenudeo[[#This Row],[Precio de Venta]]*VentasMenudeo[[#This Row],[Cantidad]]-VentasMenudeo[[#This Row],[Descuento]],VentasMenudeo[[#This Row],[Producto]]=$A$5,VentasMenudeo[[#This Row],[Precio de Venta]]*VentasMenudeo[[#This Row],[Cantidad]]-VentasMenudeo[[#This Row],[Descuento]]),0)","v":250},null,250]
["2022-05-04","Hugo","IPLAY MAX","Sour Apple",1,"$20 Descuento",null,{"$f":"_xlfn.IFNA(VLOOKUP(VentasMenudeo[[#This Row],[Promoción]],PromocionesMenudeo[[Promocion]:[Descuento]],2,0),0)","v":20},{"$f":"_xlfn.IFNA(VLOOKUP(VentasMenudeo[[#This Row],[Producto]],$A$2:$B$5,2,FALSE),0)","v":270},{"$f":"_xlfn.IFNA(_xlfn.IFS(VentasMenudeo[[#This Row],[Producto]]=$A$2,VentasMenudeo[[#This Row],[Precio de Venta]]*VentasMenudeo[[#This Row],[Cantidad]]-VentasMenudeo[[#This Row],[Descuento]],VentasMenudeo[[#This Row],[Producto]]=$A$3,VentasMenudeo[[#This Row],[Precio de Venta]]*VentasMenudeo[[#This Row],[Cantidad]]-VentasMenudeo[[#This Row],[Descuento]],VentasMenudeo[[#This Row],[Producto]]=$A$4,VentasMenudeo[[#This Row],[Precio de Venta]]*VentasMenudeo[[#This Row],[Cantidad]]-VentasMenudeo[[#This Row],[Descuento]],VentasMenudeo[[#This Row],[Producto]]=$A$5,VentasMenudeo[[#This Row],[Precio de Venta]]*VentasMenudeo[[#This Row],[Cantidad]]-VentasMenudeo[[#This Row],[Descuento]]),0)","v":250},250]
["2022-05-04","Julio","IPLAY MAX","GrapeFruit berry",1,"$20 Descuento",null,{"$f":"_xlfn.IFNA(VLOOKUP(VentasMenudeo[[#This Row],[Promoción]],PromocionesMenudeo[[Promocion]:[Descuento]],2,0),0)","v":20},{"$f":"_xlfn.IFNA(VLOOKUP(VentasMenudeo[[#This Row],[Producto]],$A$2:$B$5,2,FALSE),0)","v":270},{"$f":"_xlfn.IFNA(_xlfn.IFS(VentasMenudeo[[#This Row],[Producto]]=$A$2,VentasMenudeo[[#This Row],[Precio de Venta]]*VentasMenudeo[[#This Row],[Cantidad]]-VentasMenudeo[[#This Row],[Descuento]],VentasMenudeo[[#This Row],[Producto]]=$A$3,VentasMenudeo[[#This Row],[Precio de Venta]]*VentasMenudeo[[#This Row],[Cantidad]]-VentasMenudeo[[#This Row],[Descuento]],VentasMenudeo[[#This Row],[Producto]]=$A$4,VentasMenudeo[[#This Row],[Precio de Venta]]*VentasMenudeo[[#This Row],[Cantidad]]-VentasMenudeo[[#This Row],[Descuento]],VentasMenudeo[[#This Row],[Producto]]=$A$5,VentasMenudeo[[#This Row],[Precio de Venta]]*VentasMenudeo[[#This Row],[Cantidad]]-VentasMenudeo[[#This Row],[Descuento]]),0)","v":250},250]
["2022-05-04","Julio","IPLAY MAX","GrapeFruit berry",1,"$20 Descuento",null,{"$f":"_xlfn.IFNA(VLOOKUP(VentasMenudeo[[#This Row],[Promoción]],PromocionesMenudeo[[Promocion]:[Descuento]],2,0),0)","v":20},{"$f":"_xlfn.IFNA(VLOOKUP(VentasMenudeo[[#This Row],[Producto]],$A$2:$B$5,2,FALSE),0)","v":270},{"$f":"_xlfn.IFNA(_xlfn.IFS(VentasMenudeo[[#This Row],[Producto]]=$A$2,VentasMenudeo[[#This Row],[Precio de Venta]]*VentasMenudeo[[#This Row],[Cantidad]]-VentasMenudeo[[#This Row],[Descuento]],VentasMenudeo[[#This Row],[Producto]]=$A$3,VentasMenudeo[[#This Row],[Precio de Venta]]*VentasMenudeo[[#This Row],[Cantidad]]-VentasMenudeo[[#This Row],[Descuento]],VentasMenudeo[[#This Row],[Producto]]=$A$4,VentasMenudeo[[#This Row],[Precio de Venta]]*VentasMenudeo[[#This Row],[Cantidad]]-VentasMenudeo[[#This Row],[Descuento]],VentasMenudeo[[#This Row],[Producto]]=$A$5,VentasMenudeo[[#This Row],[Precio de Venta]]*VentasMenudeo[[#This Row],[Cantidad]]-VentasMenudeo[[#This Row],[Descuento]]),0)","v":250},250]
["2022-05-04","Hugo","IPLAY MAX","Strawberry Lychee",1,"$20 Descuento",null,{"$f":"_xlfn.IFNA(VLOOKUP(VentasMenudeo[[#This Row],[Promoción]],PromocionesMenudeo[[Promocion]:[Descuento]],2,0),0)","v":20},{"$f":"_xlfn.IFNA(VLOOKUP(VentasMenudeo[[#This Row],[Producto]],$A$2:$B$5,2,FALSE),0)","v":270},{"$f":"_xlfn.IFNA(_xlfn.IFS(VentasMenudeo[[#This Row],[Producto]]=$A$2,VentasMenudeo[[#This Row],[Precio de Venta]]*VentasMenudeo[[#This Row],[Cantidad]]-VentasMenudeo[[#This Row],[Descuento]],VentasMenudeo[[#This Row],[Producto]]=$A$3,VentasMenudeo[[#This Row],[Precio de Venta]]*VentasMenudeo[[#This Row],[Cantidad]]-VentasMenudeo[[#This Row],[Descuento]],VentasMenudeo[[#This Row],[Producto]]=$A$4,VentasMenudeo[[#This Row],[Precio de Venta]]*VentasMenudeo[[#This Row],[Cantidad]]-VentasMenudeo[[#This Row],[Descuento]],VentasMenudeo[[#This Row],[Producto]]=$A$5,VentasMenudeo[[#This Row],[Precio de Venta]]*VentasMenudeo[[#This Row],[Cantidad]]-VentasMenudeo[[#This Row],[Descuento]]),0)","v":250},250]
["2022-05-05","Hugo","IPLAY MAX","GrapeFruit berry",1,"$20 Descuento",null,{"$f":"_xlfn.IFNA(VLOOKUP(VentasMenudeo[[#This Row],[Promoción]],PromocionesMenudeo[[Promocion]:[Descuento]],2,0),0)","v":20},{"$f":"_xlfn.IFNA(VLOOKUP(VentasMenudeo[[#This Row],[Producto]],$A$2:$B$5,2,FALSE),0)","v":270},{"$f":"_xlfn.IFNA(_xlfn.IFS(VentasMenudeo[[#This Row],[Producto]]=$A$2,VentasMenudeo[[#This Row],[Precio de Venta]]*VentasMenudeo[[#This Row],[Cantidad]]-VentasMenudeo[[#This Row],[Descuento]],VentasMenudeo[[#This Row],[Producto]]=$A$3,VentasMenudeo[[#This Row],[Precio de Venta]]*VentasMenudeo[[#This Row],[Cantidad]]-VentasMenudeo[[#This Row],[Descuento]],VentasMenudeo[[#This Row],[Producto]]=$A$4,VentasMenudeo[[#This Row],[Precio de Venta]]*VentasMenudeo[[#This Row],[Cantidad]]-VentasMenudeo[[#This Row],[Descuento]],VentasMenudeo[[#This Row],[Producto]]=$A$5,VentasMenudeo[[#This Row],[Precio de Venta]]*VentasMenudeo[[#This Row],[Cantidad]]-VentasMenudeo[[#This Row],[Descuento]]),0)","v":250},null,250]
["2022-05-06","Julio","IPLAY MAX","Cocumber Lemonade",1,"$20 Descuento",null,{"$f":"_xlfn.IFNA(VLOOKUP(VentasMenudeo[[#This Row],[Promoción]],PromocionesMenudeo[[Promocion]:[Descuento]],2,0),0)","v":20},{"$f":"_xlfn.IFNA(VLOOKUP(VentasMenudeo[[#This Row],[Producto]],$A$2:$B$5,2,FALSE),0)","v":270},{"$f":"_xlfn.IFNA(_xlfn.IFS(VentasMenudeo[[#This Row],[Producto]]=$A$2,VentasMenudeo[[#This Row],[Precio de Venta]]*VentasMenudeo[[#This Row],[Cantidad]]-VentasMenudeo[[#This Row],[Descuento]],VentasMenudeo[[#This Row],[Producto]]=$A$3,VentasMenudeo[[#This Row],[Precio de Venta]]*VentasMenudeo[[#This Row],[Cantidad]]-VentasMenudeo[[#This Row],[Descuento]],VentasMenudeo[[#This Row],[Producto]]=$A$4,VentasMenudeo[[#This Row],[Precio de Venta]]*VentasMenudeo[[#This Row],[Cantidad]]-VentasMenudeo[[#This Row],[Descuento]],VentasMenudeo[[#This Row],[Producto]]=$A$5,VentasMenudeo[[#This Row],[Precio de Venta]]*VentasMenudeo[[#This Row],[Cantidad]]-VentasMenudeo[[#This Row],[Descuento]]),0)","v":250},250]
["2022-05-06","Julio","IPLAY MAX","Grapestraw",1,"$20 Descuento",null,{"$f":"_xlfn.IFNA(VLOOKUP(VentasMenudeo[[#This Row],[Promoción]],PromocionesMenudeo[[Promocion]:[Descuento]],2,0),0)","v":20},{"$f":"_xlfn.IFNA(VLOOKUP(VentasMenudeo[[#This Row],[Producto]],$A$2:$B$5,2,FALSE),0)","v":270},{"$f":"_xlfn.IFNA(_xlfn.IFS(VentasMenudeo[[#This Row],[Producto]]=$A$2,VentasMenudeo[[#This Row],[Precio de Venta]]*VentasMenudeo[[#This Row],[Cantidad]]-VentasMenudeo[[#This Row],[Descuento]],VentasMenudeo[[#This Row],[Producto]]=$A$3,VentasMenudeo[[#This Row],[Precio de Venta]]*VentasMenudeo[[#This Row],[Cantidad]]-VentasMenudeo[[#This Row],[Descuento]],VentasMenudeo[[#This Row],[Producto]]=$A$4,VentasMenudeo[[#This Row],[Precio de Venta]]*VentasMenudeo[[#This Row],[Cantidad]]-VentasMenudeo[[#This Row],[Descuento]],VentasMenudeo[[#This Row],[Producto]]=$A$5,VentasMenudeo[[#This Row],[Precio de Venta]]*VentasMenudeo[[#This Row],[Cantidad]]-VentasMenudeo[[#This Row],[Descuento]]),0)","v":250},250]
["2022-05-06","Julio","IPLAY MAX","Strawberry Lychee",1,"$20 Descuento",null,{"$f":"_xlfn.IFNA(VLOOKUP(VentasMenudeo[[#This Row],[Promoción]],PromocionesMenudeo[[Promocion]:[Descuento]],2,0),0)","v":20},{"$f":"_xlfn.IFNA(VLOOKUP(VentasMenudeo[[#This Row],[Producto]],$A$2:$B$5,2,FALSE),0)","v":270},{"$f":"_xlfn.IFNA(_xlfn.IFS(VentasMenudeo[[#This Row],[Producto]]=$A$2,VentasMenudeo[[#This Row],[Precio de Venta]]*VentasMenudeo[[#This Row],[Cantidad]]-VentasMenudeo[[#This Row],[Descuento]],VentasMenudeo[[#This Row],[Producto]]=$A$3,VentasMenudeo[[#This Row],[Precio de Venta]]*VentasMenudeo[[#This Row],[Cantidad]]-VentasMenudeo[[#This Row],[Descuento]],VentasMenudeo[[#This Row],[Producto]]=$A$4,VentasMenudeo[[#This Row],[Precio de Venta]]*VentasMenudeo[[#This Row],[Cantidad]]-VentasMenudeo[[#This Row],[Descuento]],VentasMenudeo[[#This Row],[Producto]]=$A$5,VentasMenudeo[[#This Row],[Precio de Venta]]*VentasMenudeo[[#This Row],[Cantidad]]-VentasMenudeo[[#This Row],[Descuento]]),0)","v":250},null,250]
["2022-05-06","Hugo","IPLAY MAX","GrapeFruit berry",1,"$20 Descuento",null,{"$f":"_xlfn.IFNA(VLOOKUP(VentasMenudeo[[#This Row],[Promoción]],PromocionesMenudeo[[Promocion]:[Descuento]],2,0),0)","v":20},{"$f":"_xlfn.IFNA(VLOOKUP(VentasMenudeo[[#This Row],[Producto]],$A$2:$B$5,2,FALSE),0)","v":270},{"$f":"_xlfn.IFNA(_xlfn.IFS(VentasMenudeo[[#This Row],[Producto]]=$A$2,VentasMenudeo[[#This Row],[Precio de Venta]]*VentasMenudeo[[#This Row],[Cantidad]]-VentasMenudeo[[#This Row],[Descuento]],VentasMenudeo[[#This Row],[Producto]]=$A$3,VentasMenudeo[[#This Row],[Precio de Venta]]*VentasMenudeo[[#This Row],[Cantidad]]-VentasMenudeo[[#This Row],[Descuento]],VentasMenudeo[[#This Row],[Producto]]=$A$4,VentasMenudeo[[#This Row],[Precio de Venta]]*VentasMenudeo[[#This Row],[Cantidad]]-VentasMenudeo[[#This Row],[Descuento]],VentasMenudeo[[#This Row],[Producto]]=$A$5,VentasMenudeo[[#This Row],[Precio de Venta]]*VentasMenudeo[[#This Row],[Cantidad]]-VentasMenudeo[[#This Row],[Descuento]]),0)","v":250},250]
["2022-05-06","Julio","IPLAY MAX","Strawberry Lychee",1,"$20 Descuento",null,{"$f":"_xlfn.IFNA(VLOOKUP(VentasMenudeo[[#This Row],[Promoción]],PromocionesMenudeo[[Promocion]:[Descuento]],2,0),0)","v":20},{"$f":"_xlfn.IFNA(VLOOKUP(VentasMenudeo[[#This Row],[Producto]],$A$2:$B$5,2,FALSE),0)","v":270},{"$f":"_xlfn.IFNA(_xlfn.IFS(VentasMenudeo[[#This Row],[Producto]]=$A$2,VentasMenudeo[[#This Row],[Precio de Venta]]*VentasMenudeo[[#This Row],[Cantidad]]-VentasMenudeo[[#This Row],[Descuento]],VentasMenudeo[[#This Row],[Producto]]=$A$3,VentasMenudeo[[#This Row],[Precio de Venta]]*VentasMenudeo[[#This Row],[Cantidad]]-VentasMenudeo[[#This Row],[Descuento]],VentasMenudeo[[#This Row],[Producto]]=$A$4,VentasMenudeo[[#This Row],[Precio de Venta]]*VentasMenudeo[[#This Row],[Cantidad]]-VentasMenudeo[[#This Row],[Descuento]],VentasMenudeo[[#This Row],[Producto]]=$A$5,VentasMenudeo[[#This Row],[Precio de Venta]]*VentasMenudeo[[#This Row],[Cantidad]]-VentasMenudeo[[#This Row],[Descuento]]),0)","v":250},250]
["2022-05-06","Julio","IPLAY MAX","Berry Watermelon",1,"$20 Descuento",null,{"$f":"_xlfn.IFNA(VLOOKUP(VentasMenudeo[[#This Row],[Promoción]],PromocionesMenudeo[[Promocion]:[Descuento]],2,0),0)","v":20},{"$f":"_xlfn.IFNA(VLOOKUP(VentasMenudeo[[#This Row],[Producto]],$A$2:$B$5,2,FALSE),0)","v":270},{"$f":"_xlfn.IFNA(_xlfn.IFS(VentasMenudeo[[#This Row],[Producto]]=$A$2,VentasMenudeo[[#This Row],[Precio de Venta]]*VentasMenudeo[[#This Row],[Cantidad]]-VentasMenudeo[[#This Row],[Descuento]],VentasMenudeo[[#This Row],[Producto]]=$A$3,VentasMenudeo[[#This Row],[Precio de Venta]]*VentasMenudeo[[#This Row],[Cantidad]]-VentasMenudeo[[#This Row],[Descuento]],VentasMenudeo[[#This Row],[Producto]]=$A$4,VentasMenudeo[[#This Row],[Precio de Venta]]*VentasMenudeo[[#This Row],[Cantidad]]-VentasMenudeo[[#This Row],[Descuento]],VentasMenudeo[[#This Row],[Producto]]=$A$5,VentasMenudeo[[#This Row],[Precio de Venta]]*VentasMenudeo[[#This Row],[Cantidad]]-VentasMenudeo[[#This Row],[Descuento]]),0)","v":250},250]
["2022-05-06","Julio","IPLAY MAX","Energy ICE",1,"$20 Descuento",null,{"$f":"_xlfn.IFNA(VLOOKUP(VentasMenudeo[[#This Row],[Promoción]],PromocionesMenudeo[[Promocion]:[Descuento]],2,0),0)","v":20},{"$f":"_xlfn.IFNA(VLOOKUP(VentasMenudeo[[#This Row],[Producto]],$A$2:$B$5,2,FALSE),0)","v":270},{"$f":"_xlfn.IFNA(_xlfn.IFS(VentasMenudeo[[#This Row],[Producto]]=$A$2,VentasMenudeo[[#This Row],[Precio de Venta]]*VentasMenudeo[[#This Row],[Cantidad]]-VentasMenudeo[[#This Row],[Descuento]],VentasMenudeo[[#This Row],[Producto]]=$A$3,VentasMenudeo[[#This Row],[Precio de Venta]]*VentasMenudeo[[#This Row],[Cantidad]]-VentasMenudeo[[#This Row],[Descuento]],VentasMenudeo[[#This Row],[Producto]]=$A$4,VentasMenudeo[[#This Row],[Precio de Venta]]*VentasMenudeo[[#This Row],[Cantidad]]-VentasMenudeo[[#This Row],[Descuento]],VentasMenudeo[[#This Row],[Producto]]=$A$5,VentasMenudeo[[#This Row],[Precio de Venta]]*VentasMenudeo[[#This Row],[Cantidad]]-VentasMenudeo[[#This Row],[Descuento]]),0)","v":250},250]
["2022-05-06","Julio","IPLAY MAX","Lemon cookies",1,"$20 Descuento",null,{"$f":"_xlfn.IFNA(VLOOKUP(VentasMenudeo[[#This Row],[Promoción]],PromocionesMenudeo[[Promocion]:[Descuento]],2,0),0)","v":20},{"$f":"_xlfn.IFNA(VLOOKUP(VentasMenudeo[[#This Row],[Producto]],$A$2:$B$5,2,FALSE),0)","v":270},{"$f":"_xlfn.IFNA(_xlfn.IFS(VentasMenudeo[[#This Row],[Producto]]=$A$2,VentasMenudeo[[#This Row],[Precio de Venta]]*VentasMenudeo[[#This Row],[Cantidad]]-VentasMenudeo[[#This Row],[Descuento]],VentasMenudeo[[#This Row],[Producto]]=$A$3,VentasMenudeo[[#This Row],[Precio de Venta]]*VentasMenudeo[[#This Row],[Cantidad]]-VentasMenudeo[[#This Row],[Descuento]],VentasMenudeo[[#This Row],[Producto]]=$A$4,VentasMenudeo[[#This Row],[Precio de Venta]]*VentasMenudeo[[#This Row],[Cantidad]]-VentasMenudeo[[#This Row],[Descuento]],VentasMenudeo[[#This Row],[Producto]]=$A$5,VentasMenudeo[[#This Row],[Precio de Venta]]*VentasMenudeo[[#This Row],[Cantidad]]-VentasMenudeo[[#This Row],[Descuento]]),0)","v":250},250]
["2022-05-06","Hugo","IPLAY MAX","GrapeFruit berry",1,"$20 Descuento",null,{"$f":"_xlfn.IFNA(VLOOKUP(VentasMenudeo[[#This Row],[Promoción]],PromocionesMenudeo[[Promocion]:[Descuento]],2,0),0)","v":20},{"$f":"_xlfn.IFNA(VLOOKUP(VentasMenudeo[[#This Row],[Producto]],$A$2:$B$5,2,FALSE),0)","v":270},{"$f":"_xlfn.IFNA(_xlfn.IFS(VentasMenudeo[[#This Row],[Producto]]=$A$2,VentasMenudeo[[#This Row],[Precio de Venta]]*VentasMenudeo[[#This Row],[Cantidad]]-VentasMenudeo[[#This Row],[Descuento]],VentasMenudeo[[#This Row],[Producto]]=$A$3,VentasMenudeo[[#This Row],[Precio de Venta]]*VentasMenudeo[[#This Row],[Cantidad]]-VentasMenudeo[[#This Row],[Descuento]],VentasMenudeo[[#This Row],[Producto]]=$A$4,VentasMenudeo[[#This Row],[Precio de Venta]]*VentasMenudeo[[#This Row],[Cantidad]]-VentasMenudeo[[#This Row],[Descuento]],VentasMenudeo[[#This Row],[Producto]]=$A$5,VentasMenudeo[[#This Row],[Precio de Venta]]*VentasMenudeo[[#This Row],[Cantidad]]-VentasMenudeo[[#This Row],[Descuento]]),0)","v":250},null,250]
["2022-05-06","Julio","IPLAY MAX","Berry Watermelon",1,"$20 Descuento",null,30,{"$f":"_xlfn.IFNA(VLOOKUP(VentasMenudeo[[#This Row],[Producto]],$A$2:$B$5,2,FALSE),0)","v":270},{"$f":"_xlfn.IFNA(_xlfn.IFS(VentasMenudeo[[#This Row],[Producto]]=$A$2,VentasMenudeo[[#This Row],[Precio de Venta]]*VentasMenudeo[[#This Row],[Cantidad]]-VentasMenudeo[[#This Row],[Descuento]],VentasMenudeo[[#This Row],[Producto]]=$A$3,VentasMenudeo[[#This Row],[Precio de Venta]]*VentasMenudeo[[#This Row],[Cantidad]]-VentasMenudeo[[#This Row],[Descuento]],VentasMenudeo[[#This Row],[Producto]]=$A$4,VentasMenudeo[[#This Row],[Precio de Venta]]*VentasMenudeo[[#This Row],[Cantidad]]-VentasMenudeo[[#This Row],[Descuento]],VentasMenudeo[[#This Row],[Producto]]=$A$5,VentasMenudeo[[#This Row],[Precio de Venta]]*VentasMenudeo[[#This Row],[Cantidad]]-VentasMenudeo[[#This Row],[Descuento]]),0)","v":240},240]
["2022-05-07","Hugo","IPLAY MAX","Energy ICE",1,"$20 Descuento",null,{"$f":"_xlfn.IFNA(VLOOKUP(VentasMenudeo[[#This Row],[Promoción]],PromocionesMenudeo[[Promocion]:[Descuento]],2,0),0)","v":20},{"$f":"_xlfn.IFNA(VLOOKUP(VentasMenudeo[[#This Row],[Producto]],$A$2:$B$5,2,FALSE),0)","v":270},{"$f":"_xlfn.IFNA(_xlfn.IFS(VentasMenudeo[[#This Row],[Producto]]=$A$2,VentasMenudeo[[#This Row],[Precio de Venta]]*VentasMenudeo[[#This Row],[Cantidad]]-VentasMenudeo[[#This Row],[Descuento]],VentasMenudeo[[#This Row],[Producto]]=$A$3,VentasMenudeo[[#This Row],[Precio de Venta]]*VentasMenudeo[[#This Row],[Cantidad]]-VentasMenudeo[[#This Row],[Descuento]],VentasMenudeo[[#This Row],[Producto]]=$A$4,VentasMenudeo[[#This Row],[Precio de Venta]]*VentasMenudeo[[#This Row],[Cantidad]]-VentasMenudeo[[#This Row],[Descuento]],VentasMenudeo[[#This Row],[Producto]]=$A$5,VentasMenudeo[[#This Row],[Precio de Venta]]*VentasMenudeo[[#This Row],[Cantidad]]-VentasMenudeo[[#This Row],[Descuento]]),0)","v":250},250]
["2022-05-07","Julio","IPLAY MAX","Energy ICE",1,"$20 Descuento",null,{"$f":"_xlfn.IFNA(VLOOKUP(VentasMenudeo[[#This Row],[Promoción]],PromocionesMenudeo[[Promocion]:[Descuento]],2,0),0)","v":20},{"$f":"_xlfn.IFNA(VLOOKUP(VentasMenudeo[[#This Row],[Producto]],$A$2:$B$5,2,FALSE),0)","v":270},{"$f":"_xlfn.IFNA(_xlfn.IFS(VentasMenudeo[[#This Row],[Producto]]=$A$2,VentasMenudeo[[#This Row],[Precio de Venta]]*VentasMenudeo[[#This Row],[Cantidad]]-VentasMenudeo[[#This Row],[Descuento]],VentasMenudeo[[#This Row],[Producto]]=$A$3,VentasMenudeo[[#This Row],[Precio de Venta]]*VentasMenudeo[[#This Row],[Cantidad]]-VentasMenudeo[[#This Row],[Descuento]],VentasMenudeo[[#This Row],[Producto]]=$A$4,VentasMenudeo[[#This Row],[Precio de Venta]]*VentasMenudeo[[#This Row],[Cantidad]]-VentasMenudeo[[#This Row],[Descuento]],VentasMenudeo[[#This Row],[Producto]]=$A$5,VentasMenudeo[[#This Row],[Precio de Venta]]*VentasMenudeo[[#This Row],[Cantidad]]-VentasMenudeo[[#This Row],[Descuento]]),0)","v":250},250]
["2022-05-08","Julio","IPLAY MAX","Berry Watermelon",1,"$20 Descuento",null,{"$f":"_xlfn.IFNA(VLOOKUP(VentasMenudeo[[#This Row],[Promoción]],PromocionesMenudeo[[Promocion]:[Descuento]],2,0),0)","v":20},{"$f":"_xlfn.IFNA(VLOOKUP(VentasMenudeo[[#This Row],[Producto]],$A$2:$B$5,2,FALSE),0)","v":270},{"$f":"_xlfn.IFNA(_xlfn.IFS(VentasMenudeo[[#This Row],[Producto]]=$A$2,VentasMenudeo[[#This Row],[Precio de Venta]]*VentasMenudeo[[#This Row],[Cantidad]]-VentasMenudeo[[#This Row],[Descuento]],VentasMenudeo[[#This Row],[Producto]]=$A$3,VentasMenudeo[[#This Row],[Precio de Venta]]*VentasMenudeo[[#This Row],[Cantidad]]-VentasMenudeo[[#This Row],[Descuento]],VentasMenudeo[[#This Row],[Producto]]=$A$4,VentasMenudeo[[#This Row],[Precio de Venta]]*VentasMenudeo[[#This Row],[Cantidad]]-VentasMenudeo[[#This Row],[Descuento]],VentasMenudeo[[#This Row],[Producto]]=$A$5,VentasMenudeo[[#This Row],[Precio de Venta]]*VentasMenudeo[[#This Row],[Cantidad]]-VentasMenudeo[[#This Row],[Descuento]]),0)","v":250},250]
["2022-05-08","Julio","IPLAY MAX","Strawberry Lychee",1,"$20 Descuento",null,{"$f":"_xlfn.IFNA(VLOOKUP(VentasMenudeo[[#This Row],[Promoción]],PromocionesMenudeo[[Promocion]:[Descuento]],2,0),0)","v":20},{"$f":"_xlfn.IFNA(VLOOKUP(VentasMenudeo[[#This Row],[Producto]],$A$2:$B$5,2,FALSE),0)","v":270},{"$f":"_xlfn.IFNA(_xlfn.IFS(VentasMenudeo[[#This Row],[Producto]]=$A$2,VentasMenudeo[[#This Row],[Precio de Venta]]*VentasMenudeo[[#This Row],[Cantidad]]-VentasMenudeo[[#This Row],[Descuento]],VentasMenudeo[[#This Row],[Producto]]=$A$3,VentasMenudeo[[#This Row],[Precio de Venta]]*VentasMenudeo[[#This Row],[Cantidad]]-VentasMenudeo[[#This Row],[Descuento]],VentasMenudeo[[#This Row],[Producto]]=$A$4,VentasMenudeo[[#This Row],[Precio de Venta]]*VentasMenudeo[[#This Row],[Cantidad]]-VentasMenudeo[[#This Row],[Descuento]],VentasMenudeo[[#This Row],[Producto]]=$A$5,VentasMenudeo[[#This Row],[Precio de Venta]]*VentasMenudeo[[#This Row],[Cantidad]]-VentasMenudeo[[#This Row],[Descuento]]),0)","v":250},250]
["2022-05-08","Julio","IPLAY MAX","Sour Apple",1,"$20 Descuento",null,{"$f":"_xlfn.IFNA(VLOOKUP(VentasMenudeo[[#This Row],[Promoción]],PromocionesMenudeo[[Promocion]:[Descuento]],2,0),0)","v":20},{"$f":"_xlfn.IFNA(VLOOKUP(VentasMenudeo[[#This Row],[Producto]],$A$2:$B$5,2,FALSE),0)","v":270},{"$f":"_xlfn.IFNA(_xlfn.IFS(VentasMenudeo[[#This Row],[Producto]]=$A$2,VentasMenudeo[[#This Row],[Precio de Venta]]*VentasMenudeo[[#This Row],[Cantidad]]-VentasMenudeo[[#This Row],[Descuento]],VentasMenudeo[[#This Row],[Producto]]=$A$3,VentasMenudeo[[#This Row],[Precio de Venta]]*VentasMenudeo[[#This Row],[Cantidad]]-VentasMenudeo[[#This Row],[Descuento]],VentasMenudeo[[#This Row],[Producto]]=$A$4,VentasMenudeo[[#This Row],[Precio de Venta]]*VentasMenudeo[[#This Row],[Cantidad]]-VentasMenudeo[[#This Row],[Descuento]],VentasMenudeo[[#This Row],[Producto]]=$A$5,VentasMenudeo[[#This Row],[Precio de Venta]]*VentasMenudeo[[#This Row],[Cantidad]]-VentasMenudeo[[#This Row],[Descuento]]),0)","v":250},250]
["2022-05-08","Julio","IPLAY MAX","Berry Watermelon",1,"$20 Descuento",null,{"$f":"_xlfn.IFNA(VLOOKUP(VentasMenudeo[[#This Row],[Promoción]],PromocionesMenudeo[[Promocion]:[Descuento]],2,0),0)","v":20},{"$f":"_xlfn.IFNA(VLOOKUP(VentasMenudeo[[#This Row],[Producto]],$A$2:$B$5,2,FALSE),0)","v":270},{"$f":"_xlfn.IFNA(_xlfn.IFS(VentasMenudeo[[#This Row],[Producto]]=$A$2,VentasMenudeo[[#This Row],[Precio de Venta]]*VentasMenudeo[[#This Row],[Cantidad]]-VentasMenudeo[[#This Row],[Descuento]],VentasMenudeo[[#This Row],[Producto]]=$A$3,VentasMenudeo[[#This Row],[Precio de Venta]]*VentasMenudeo[[#This Row],[Cantidad]]-VentasMenudeo[[#This Row],[Descuento]],VentasMenudeo[[#This Row],[Producto]]=$A$4,VentasMenudeo[[#This Row],[Precio de Venta]]*VentasMenudeo[[#This Row],[Cantidad]]-VentasMenudeo[[#This Row],[Descuento]],VentasMenudeo[[#This Row],[Producto]]=$A$5,VentasMenudeo[[#This Row],[Precio de Venta]]*VentasMenudeo[[#This Row],[Cantidad]]-VentasMenudeo[[#This Row],[Descuento]]),0)","v":250},null,250]
["2022-05-09","Julio","IPLAY MAX","Grapestraw",1,"$20 Descuento",null,{"$f":"_xlfn.IFNA(VLOOKUP(VentasMenudeo[[#This Row],[Promoción]],PromocionesMenudeo[[Promocion]:[Descuento]],2,0),0)","v":20},{"$f":"_xlfn.IFNA(VLOOKUP(VentasMenudeo[[#This Row],[Producto]],$A$2:$B$5,2,FALSE),0)","v":270},{"$f":"_xlfn.IFNA(_xlfn.IFS(VentasMenudeo[[#This Row],[Producto]]=$A$2,VentasMenudeo[[#This Row],[Precio de Venta]]*VentasMenudeo[[#This Row],[Cantidad]]-VentasMenudeo[[#This Row],[Descuento]],VentasMenudeo[[#This Row],[Producto]]=$A$3,VentasMenudeo[[#This Row],[Precio de Venta]]*VentasMenudeo[[#This Row],[Cantidad]]-VentasMenudeo[[#This Row],[Descuento]],VentasMenudeo[[#This Row],[Producto]]=$A$4,VentasMenudeo[[#This Row],[Precio de Venta]]*VentasMenudeo[[#This Row],[Cantidad]]-VentasMenudeo[[#This Row],[Descuento]],VentasMenudeo[[#This Row],[Producto]]=$A$5,VentasMenudeo[[#This Row],[Precio de Venta]]*VentasMenudeo[[#This Row],[Cantidad]]-VentasMenudeo[[#This Row],[Descuento]]),0)","v":250},null,250]
["2022-05-09","Julio","IPLAY MAX","Cocumber Lemonade",1,"$20 Descuento",null,{"$f":"_xlfn.IFNA(VLOOKUP(VentasMenudeo[[#This Row],[Promoción]],PromocionesMenudeo[[Promocion]:[Descuento]],2,0),0)","v":20},{"$f":"_xlfn.IFNA(VLOOKUP(VentasMenudeo[[#This Row],[Producto]],$A$2:$B$5,2,FALSE),0)","v":270},{"$f":"_xlfn.IFNA(_xlfn.IFS(VentasMenudeo[[#This Row],[Producto]]=$A$2,VentasMenudeo[[#This Row],[Precio de Venta]]*VentasMenudeo[[#This Row],[Cantidad]]-VentasMenudeo[[#This Row],[Descuento]],VentasMenudeo[[#This Row],[Producto]]=$A$3,VentasMenudeo[[#This Row],[Precio de Venta]]*VentasMenudeo[[#This Row],[Cantidad]]-VentasMenudeo[[#This Row],[Descuento]],VentasMenudeo[[#This Row],[Producto]]=$A$4,VentasMenudeo[[#This Row],[Precio de Venta]]*VentasMenudeo[[#This Row],[Cantidad]]-VentasMenudeo[[#This Row],[Descuento]],VentasMenudeo[[#This Row],[Producto]]=$A$5,VentasMenudeo[[#This Row],[Precio de Venta]]*VentasMenudeo[[#This Row],[Cantidad]]-VentasMenudeo[[#This Row],[Descuento]]),0)","v":250},null,250]
["2022-05-09","Julio","IPLAY MAX","Grapestraw",1,"$20 Descuento",null,{"$f":"_xlfn.IFNA(VLOOKUP(VentasMenudeo[[#This Row],[Promoción]],PromocionesMenudeo[[Promocion]:[Descuento]],2,0),0)","v":20},{"$f":"_xlfn.IFNA(VLOOKUP(VentasMenudeo[[#This Row],[Producto]],$A$2:$B$5,2,FALSE),0)","v":270},{"$f":"_xlfn.IFNA(_xlfn.IFS(VentasMenudeo[[#This Row],[Producto]]=$A$2,VentasMenudeo[[#This Row],[Precio de Venta]]*VentasMenudeo[[#This Row],[Cantidad]]-VentasMenudeo[[#This Row],[Descuento]],VentasMenudeo[[#This Row],[Producto]]=$A$3,VentasMenudeo[[#This Row],[Precio de Venta]]*VentasMenudeo[[#This Row],[Cantidad]]-VentasMenudeo[[#This Row],[Descuento]],VentasMenudeo[[#This Row],[Producto]]=$A$4,VentasMenudeo[[#This Row],[Precio de Venta]]*VentasMenudeo[[#This Row],[Cantidad]]-VentasMenudeo[[#This Row],[Descuento]],VentasMenudeo[[#This Row],[Producto]]=$A$5,VentasMenudeo[[#This Row],[Precio de Venta]]*VentasMenudeo[[#This Row],[Cantidad]]-VentasMenudeo[[#This Row],[Descuento]]),0)","v":250},null,250]
["2022-05-09","Julio","IPLAY MAX","Cocumber Lemonade",1,"$20 Descuento",null,{"$f":"_xlfn.IFNA(VLOOKUP(VentasMenudeo[[#This Row],[Promoción]],PromocionesMenudeo[[Promocion]:[Descuento]],2,0),0)","v":20},{"$f":"_xlfn.IFNA(VLOOKUP(VentasMenudeo[[#This Row],[Producto]],$A$2:$B$5,2,FALSE),0)","v":270},{"$f":"_xlfn.IFNA(_xlfn.IFS(VentasMenudeo[[#This Row],[Producto]]=$A$2,VentasMenudeo[[#This Row],[Precio de Venta]]*VentasMenudeo[[#This Row],[Cantidad]]-VentasMenudeo[[#This Row],[Descuento]],VentasMenudeo[[#This Row],[Producto]]=$A$3,VentasMenudeo[[#This Row],[Precio de Venta]]*VentasMenudeo[[#This Row],[Cantidad]]-VentasMenudeo[[#This Row],[Descuento]],VentasMenudeo[[#This Row],[Producto]]=$A$4,VentasMenudeo[[#This Row],[Precio de Venta]]*VentasMenudeo[[#This Row],[Cantidad]]-VentasMenudeo[[#This Row],[Descuento]],VentasMenudeo[[#This Row],[Producto]]=$A$5,VentasMenudeo[[#This Row],[Precio de Venta]]*VentasMenudeo[[#This Row],[Cantidad]]-VentasMenudeo[[#This Row],[Descuento]]),0)","v":250},null,250]
["2022-05-09","Julio","IPLAY MAX","Cocumber Lemonade",1,"$20 Descuento",null,{"$f":"_xlfn.IFNA(VLOOKUP(VentasMenudeo[[#This Row],[Promoción]],PromocionesMenudeo[[Promocion]:[Descuento]],2,0),0)","v":20},{"$f":"_xlfn.IFNA(VLOOKUP(VentasMenudeo[[#This Row],[Producto]],$A$2:$B$5,2,FALSE),0)","v":270},{"$f":"_xlfn.IFNA(_xlfn.IFS(VentasMenudeo[[#This Row],[Producto]]=$A$2,VentasMenudeo[[#This Row],[Precio de Venta]]*VentasMenudeo[[#This Row],[Cantidad]]-VentasMenudeo[[#This Row],[Descuento]],VentasMenudeo[[#This Row],[Producto]]=$A$3,VentasMenudeo[[#This Row],[Precio de Venta]]*VentasMenudeo[[#This Row],[Cantidad]]-VentasMenudeo[[#This Row],[Descuento]],VentasMenudeo[[#This Row],[Producto]]=$A$4,VentasMenudeo[[#This Row],[Precio de Venta]]*VentasMenudeo[[#This Row],[Cantidad]]-VentasMenudeo[[#This Row],[Descuento]],VentasMenudeo[[#This Row],[Producto]]=$A$5,VentasMenudeo[[#This Row],[Precio de Venta]]*VentasMenudeo[[#This Row],[Cantidad]]-VentasMenudeo[[#This Row],[Descuento]]),0)","v":250},250]
["2022-05-09","Julio","IPLAY MAX","Strawberry Lychee",1,"$20 Descuento",null,{"$f":"_xlfn.IFNA(VLOOKUP(VentasMenudeo[[#This Row],[Promoción]],PromocionesMenudeo[[Promocion]:[Descuento]],2,0),0)","v":20},{"$f":"_xlfn.IFNA(VLOOKUP(VentasMenudeo[[#This Row],[Producto]],$A$2:$B$5,2,FALSE),0)","v":270},{"$f":"_xlfn.IFNA(_xlfn.IFS(VentasMenudeo[[#This Row],[Producto]]=$A$2,VentasMenudeo[[#This Row],[Precio de Venta]]*VentasMenudeo[[#This Row],[Cantidad]]-VentasMenudeo[[#This Row],[Descuento]],VentasMenudeo[[#This Row],[Producto]]=$A$3,VentasMenudeo[[#This Row],[Precio de Venta]]*VentasMenudeo[[#This Row],[Cantidad]]-VentasMenudeo[[#This Row],[Descuento]],VentasMenudeo[[#This Row],[Producto]]=$A$4,VentasMenudeo[[#This Row],[Precio de Venta]]*VentasMenudeo[[#This Row],[Cantidad]]-VentasMenudeo[[#This Row],[Descuento]],VentasMenudeo[[#This Row],[Producto]]=$A$5,VentasMenudeo[[#This Row],[Precio de Venta]]*VentasMenudeo[[#This Row],[Cantidad]]-VentasMenudeo[[#This Row],[Descuento]]),0)","v":250},250]
["2022-05-09","Julio","IPLAY MAX","Sour Apple",1,"$20 Descuento",null,{"$f":"_xlfn.IFNA(VLOOKUP(VentasMenudeo[[#This Row],[Promoción]],PromocionesMenudeo[[Promocion]:[Descuento]],2,0),0)","v":20},{"$f":"_xlfn.IFNA(VLOOKUP(VentasMenudeo[[#This Row],[Producto]],$A$2:$B$5,2,FALSE),0)","v":270},{"$f":"_xlfn.IFNA(_xlfn.IFS(VentasMenudeo[[#This Row],[Producto]]=$A$2,VentasMenudeo[[#This Row],[Precio de Venta]]*VentasMenudeo[[#This Row],[Cantidad]]-VentasMenudeo[[#This Row],[Descuento]],VentasMenudeo[[#This Row],[Producto]]=$A$3,VentasMenudeo[[#This Row],[Precio de Venta]]*VentasMenudeo[[#This Row],[Cantidad]]-VentasMenudeo[[#This Row],[Descuento]],VentasMenudeo[[#This Row],[Producto]]=$A$4,VentasMenudeo[[#This Row],[Precio de Venta]]*VentasMenudeo[[#This Row],[Cantidad]]-VentasMenudeo[[#This Row],[Descuento]],VentasMenudeo[[#This Row],[Producto]]=$A$5,VentasMenudeo[[#This Row],[Precio de Venta]]*VentasMenudeo[[#This Row],[Cantidad]]-VentasMenudeo[[#This Row],[Descuento]]),0)","v":250},null,250]
["2022-05-10","Julio","IPLAY MAX","Berry Watermelon",1,"$20 Descuento",null,{"$f":"_xlfn.IFNA(VLOOKUP(VentasMenudeo[[#This Row],[Promoción]],PromocionesMenudeo[[Promocion]:[Descuento]],2,0),0)","v":20},{"$f":"_xlfn.IFNA(VLOOKUP(VentasMenudeo[[#This Row],[Producto]],$A$2:$B$5,2,FALSE),0)","v":270},{"$f":"_xlfn.IFNA(_xlfn.IFS(VentasMenudeo[[#This Row],[Producto]]=$A$2,VentasMenudeo[[#This Row],[Precio de Venta]]*VentasMenudeo[[#This Row],[Cantidad]]-VentasMenudeo[[#This Row],[Descuento]],VentasMenudeo[[#This Row],[Producto]]=$A$3,VentasMenudeo[[#This Row],[Precio de Venta]]*VentasMenudeo[[#This Row],[Cantidad]]-VentasMenudeo[[#This Row],[Descuento]],VentasMenudeo[[#This Row],[Producto]]=$A$4,VentasMenudeo[[#This Row],[Precio de Venta]]*VentasMenudeo[[#This Row],[Cantidad]]-VentasMenudeo[[#This Row],[Descuento]],VentasMenudeo[[#This Row],[Producto]]=$A$5,VentasMenudeo[[#This Row],[Precio de Venta]]*VentasMenudeo[[#This Row],[Cantidad]]-VentasMenudeo[[#This Row],[Descuento]]),0)","v":250},null,250]
["2022-05-10","Julio","IPLAY MAX","Berry Watermelon",1,"$20 Descuento",null,{"$f":"_xlfn.IFNA(VLOOKUP(VentasMenudeo[[#This Row],[Promoción]],PromocionesMenudeo[[Promocion]:[Descuento]],2,0),0)","v":20},{"$f":"_xlfn.IFNA(VLOOKUP(VentasMenudeo[[#This Row],[Producto]],$A$2:$B$5,2,FALSE),0)","v":270},{"$f":"_xlfn.IFNA(_xlfn.IFS(VentasMenudeo[[#This Row],[Producto]]=$A$2,VentasMenudeo[[#This Row],[Precio de Venta]]*VentasMenudeo[[#This Row],[Cantidad]]-VentasMenudeo[[#This Row],[Descuento]],VentasMenudeo[[#This Row],[Producto]]=$A$3,VentasMenudeo[[#This Row],[Precio de Venta]]*VentasMenudeo[[#This Row],[Cantidad]]-VentasMenudeo[[#This Row],[Descuento]],VentasMenudeo[[#This Row],[Producto]]=$A$4,VentasMenudeo[[#This Row],[Precio de Venta]]*VentasMenudeo[[#This Row],[Cantidad]]-VentasMenudeo[[#This Row],[Descuento]],VentasMenudeo[[#This Row],[Producto]]=$A$5,VentasMenudeo[[#This Row],[Precio de Venta]]*VentasMenudeo[[#This Row],[Cantidad]]-VentasMenudeo[[#This Row],[Descuento]]),0)","v":250},250]
["2022-05-10","Julio","IPLAY MAX","Sour Apple",1,"$20 Descuento",null,20,{"$f":"_xlfn.IFNA(VLOOKUP(VentasMenudeo[[#This Row],[Producto]],$A$2:$B$5,2,FALSE),0)","v":270},{"$f":"_xlfn.IFNA(_xlfn.IFS(VentasMenudeo[[#This Row],[Producto]]=$A$2,VentasMenudeo[[#This Row],[Precio de Venta]]*VentasMenudeo[[#This Row],[Cantidad]]-VentasMenudeo[[#This Row],[Descuento]],VentasMenudeo[[#This Row],[Producto]]=$A$3,VentasMenudeo[[#This Row],[Precio de Venta]]*VentasMenudeo[[#This Row],[Cantidad]]-VentasMenudeo[[#This Row],[Descuento]],VentasMenudeo[[#This Row],[Producto]]=$A$4,VentasMenudeo[[#This Row],[Precio de Venta]]*VentasMenudeo[[#This Row],[Cantidad]]-VentasMenudeo[[#This Row],[Descuento]],VentasMenudeo[[#This Row],[Producto]]=$A$5,VentasMenudeo[[#This Row],[Precio de Venta]]*VentasMenudeo[[#This Row],[Cantidad]]-VentasMenudeo[[#This Row],[Descuento]]),0)","v":250},null,250]
["2022-05-10","Julio","IPLAY MAX","Cocumber Lemonade",1,"$20 Descuento",null,30,{"$f":"_xlfn.IFNA(VLOOKUP(VentasMenudeo[[#This Row],[Producto]],$A$2:$B$5,2,FALSE),0)","v":270},{"$f":"_xlfn.IFNA(_xlfn.IFS(VentasMenudeo[[#This Row],[Producto]]=$A$2,VentasMenudeo[[#This Row],[Precio de Venta]]*VentasMenudeo[[#This Row],[Cantidad]]-VentasMenudeo[[#This Row],[Descuento]],VentasMenudeo[[#This Row],[Producto]]=$A$3,VentasMenudeo[[#This Row],[Precio de Venta]]*VentasMenudeo[[#This Row],[Cantidad]]-VentasMenudeo[[#This Row],[Descuento]],VentasMenudeo[[#This Row],[Producto]]=$A$4,VentasMenudeo[[#This Row],[Precio de Venta]]*VentasMenudeo[[#This Row],[Cantidad]]-VentasMenudeo[[#This Row],[Descuento]],VentasMenudeo[[#This Row],[Producto]]=$A$5,VentasMenudeo[[#This Row],[Precio de Venta]]*VentasMenudeo[[#This Row],[Cantidad]]-VentasMenudeo[[#This Row],[Descuento]]),0)","v":240},250]
["2022-05-11","Julio","IPLAY MAX","Cocumber Lemonade",1,"$20 Descuento",null,30,{"$f":"_xlfn.IFNA(VLOOKUP(VentasMenudeo[[#This Row],[Producto]],$A$2:$B$5,2,FALSE),0)","v":270},{"$f":"_xlfn.IFNA(_xlfn.IFS(VentasMenudeo[[#This Row],[Producto]]=$A$2,VentasMenudeo[[#This Row],[Precio de Venta]]*VentasMenudeo[[#This Row],[Cantidad]]-VentasMenudeo[[#This Row],[Descuento]],VentasMenudeo[[#This Row],[Producto]]=$A$3,VentasMenudeo[[#This Row],[Precio de Venta]]*VentasMenudeo[[#This Row],[Cantidad]]-VentasMenudeo[[#This Row],[Descuento]],VentasMenudeo[[#This Row],[Producto]]=$A$4,VentasMenudeo[[#This Row],[Precio de Venta]]*VentasMenudeo[[#This Row],[Cantidad]]-VentasMenudeo[[#This Row],[Descuento]],VentasMenudeo[[#This Row],[Producto]]=$A$5,VentasMenudeo[[#This Row],[Precio de Venta]]*VentasMenudeo[[#This Row],[Cantidad]]-VentasMenudeo[[#This Row],[Descuento]]),0)","v":240},240]
["2022-05-18","Julio","IPLAY MAX","Lemon cookies",1,"$20 Descuento",null,{"$f":"_xlfn.IFNA(VLOOKUP(VentasMenudeo[[#This Row],[Promoción]],PromocionesMenudeo[[Promocion]:[Descuento]],2,0),0)","v":20},{"$f":"_xlfn.IFNA(VLOOKUP(VentasMenudeo[[#This Row],[Producto]],$A$2:$B$5,2,FALSE),0)","v":270},{"$f":"_xlfn.IFNA(_xlfn.IFS(VentasMenudeo[[#This Row],[Producto]]=$A$2,VentasMenudeo[[#This Row],[Precio de Venta]]*VentasMenudeo[[#This Row],[Cantidad]]-VentasMenudeo[[#This Row],[Descuento]],VentasMenudeo[[#This Row],[Producto]]=$A$3,VentasMenudeo[[#This Row],[Precio de Venta]]*VentasMenudeo[[#This Row],[Cantidad]]-VentasMenudeo[[#This Row],[Descuento]],VentasMenudeo[[#This Row],[Producto]]=$A$4,VentasMenudeo[[#This Row],[Precio de Venta]]*VentasMenudeo[[#This Row],[Cantidad]]-VentasMenudeo[[#This Row],[Descuento]],VentasMenudeo[[#This Row],[Producto]]=$A$5,VentasMenudeo[[#This Row],[Precio de Venta]]*VentasMenudeo[[#This Row],[Cantidad]]-VentasMenudeo[[#This Row],[Descuento]]),0)","v":250},250]
["2022-05-26","Julio","IPLAY MAX","Sour Apple",1,"$20 Descuento",null,{"$f":"_xlfn.IFNA(VLOOKUP(VentasMenudeo[[#This Row],[Promoción]],PromocionesMenudeo[[Promocion]:[Descuento]],2,0),0)","v":20},{"$f":"_xlfn.IFNA(VLOOKUP(VentasMenudeo[[#This Row],[Producto]],$A$2:$B$5,2,FALSE),0)","v":270},{"$f":"_xlfn.IFNA(_xlfn.IFS(VentasMenudeo[[#This Row],[Producto]]=$A$2,VentasMenudeo[[#This Row],[Precio de Venta]]*VentasMenudeo[[#This Row],[Cantidad]]-VentasMenudeo[[#This Row],[Descuento]],VentasMenudeo[[#This Row],[Producto]]=$A$3,VentasMenudeo[[#This Row],[Precio de Venta]]*VentasMenudeo[[#This Row],[Cantidad]]-VentasMenudeo[[#This Row],[Descuento]],VentasMenudeo[[#This Row],[Producto]]=$A$4,VentasMenudeo[[#This Row],[Precio de Venta]]*VentasMenudeo[[#This Row],[Cantidad]]-VentasMenudeo[[#This Row],[Descuento]],VentasMenudeo[[#This Row],[Producto]]=$A$5,VentasMenudeo[[#This Row],[Precio de Venta]]*VentasMenudeo[[#This Row],[Cantidad]]-VentasMenudeo[[#This Row],[Descuento]]),0)","v":250},250]
["2022-05-26","Hugo","IPLAY MAX","Berry Watermelon",1,"$20 Descuento",null,{"$f":"_xlfn.IFNA(VLOOKUP(VentasMenudeo[[#This Row],[Promoción]],PromocionesMenudeo[[Promocion]:[Descuento]],2,0),0)","v":20},{"$f":"_xlfn.IFNA(VLOOKUP(VentasMenudeo[[#This Row],[Producto]],$A$2:$B$5,2,FALSE),0)","v":270},{"$f":"_xlfn.IFNA(_xlfn.IFS(VentasMenudeo[[#This Row],[Producto]]=$A$2,VentasMenudeo[[#This Row],[Precio de Venta]]*VentasMenudeo[[#This Row],[Cantidad]]-VentasMenudeo[[#This Row],[Descuento]],VentasMenudeo[[#This Row],[Producto]]=$A$3,VentasMenudeo[[#This Row],[Precio de Venta]]*VentasMenudeo[[#This Row],[Cantidad]]-VentasMenudeo[[#This Row],[Descuento]],VentasMenudeo[[#This Row],[Producto]]=$A$4,VentasMenudeo[[#This Row],[Precio de Venta]]*VentasMenudeo[[#This Row],[Cantidad]]-VentasMenudeo[[#This Row],[Descuento]],VentasMenudeo[[#This Row],[Producto]]=$A$5,VentasMenudeo[[#This Row],[Precio de Venta]]*VentasMenudeo[[#This Row],[Cantidad]]-VentasMenudeo[[#This Row],[Descuento]]),0)","v":250},250]
["2022-05-30","Julio","IPLAY MAX","Cool mint",1,"$20 Descuento",null,{"$f":"_xlfn.IFNA(VLOOKUP(VentasMenudeo[[#This Row],[Promoción]],PromocionesMenudeo[[Promocion]:[Descuento]],2,0),0)","v":20},{"$f":"_xlfn.IFNA(VLOOKUP(VentasMenudeo[[#This Row],[Producto]],$A$2:$B$5,2,FALSE),0)","v":270},{"$f":"_xlfn.IFNA(_xlfn.IFS(VentasMenudeo[[#This Row],[Producto]]=$A$2,VentasMenudeo[[#This Row],[Precio de Venta]]*VentasMenudeo[[#This Row],[Cantidad]]-VentasMenudeo[[#This Row],[Descuento]],VentasMenudeo[[#This Row],[Producto]]=$A$3,VentasMenudeo[[#This Row],[Precio de Venta]]*VentasMenudeo[[#This Row],[Cantidad]]-VentasMenudeo[[#This Row],[Descuento]],VentasMenudeo[[#This Row],[Producto]]=$A$4,VentasMenudeo[[#This Row],[Precio de Venta]]*VentasMenudeo[[#This Row],[Cantidad]]-VentasMenudeo[[#This Row],[Descuento]],VentasMenudeo[[#This Row],[Producto]]=$A$5,VentasMenudeo[[#This Row],[Precio de Venta]]*VentasMenudeo[[#This Row],[Cantidad]]-VentasMenudeo[[#This Row],[Descuento]]),0)","v":250},250]
["2022-05-30","Hugo","IPLAY MAX","Bluerazz",1,"$20 Descuento",null,{"$f":"_xlfn.IFNA(VLOOKUP(VentasMenudeo[[#This Row],[Promoción]],PromocionesMenudeo[[Promocion]:[Descuento]],2,0),0)","v":20},{"$f":"_xlfn.IFNA(VLOOKUP(VentasMenudeo[[#This Row],[Producto]],$A$2:$B$5,2,FALSE),0)","v":270},{"$f":"_xlfn.IFNA(_xlfn.IFS(VentasMenudeo[[#This Row],[Producto]]=$A$2,VentasMenudeo[[#This Row],[Precio de Venta]]*VentasMenudeo[[#This Row],[Cantidad]]-VentasMenudeo[[#This Row],[Descuento]],VentasMenudeo[[#This Row],[Producto]]=$A$3,VentasMenudeo[[#This Row],[Precio de Venta]]*VentasMenudeo[[#This Row],[Cantidad]]-VentasMenudeo[[#This Row],[Descuento]],VentasMenudeo[[#This Row],[Producto]]=$A$4,VentasMenudeo[[#This Row],[Precio de Venta]]*VentasMenudeo[[#This Row],[Cantidad]]-VentasMenudeo[[#This Row],[Descuento]],VentasMenudeo[[#This Row],[Producto]]=$A$5,VentasMenudeo[[#This Row],[Precio de Venta]]*VentasMenudeo[[#This Row],[Cantidad]]-VentasMenudeo[[#This Row],[Descuento]]),0)","v":250},250]
["2022-05-30","Hugo","IPLAY MAX","Peach Ice",1,"$20 Descuento",null,{"$f":"_xlfn.IFNA(VLOOKUP(VentasMenudeo[[#This Row],[Promoción]],PromocionesMenudeo[[Promocion]:[Descuento]],2,0),0)","v":20},{"$f":"_xlfn.IFNA(VLOOKUP(VentasMenudeo[[#This Row],[Producto]],$A$2:$B$5,2,FALSE),0)","v":270},{"$f":"_xlfn.IFNA(_xlfn.IFS(VentasMenudeo[[#This Row],[Producto]]=$A$2,VentasMenudeo[[#This Row],[Precio de Venta]]*VentasMenudeo[[#This Row],[Cantidad]]-VentasMenudeo[[#This Row],[Descuento]],VentasMenudeo[[#This Row],[Producto]]=$A$3,VentasMenudeo[[#This Row],[Precio de Venta]]*VentasMenudeo[[#This Row],[Cantidad]]-VentasMenudeo[[#This Row],[Descuento]],VentasMenudeo[[#This Row],[Producto]]=$A$4,VentasMenudeo[[#This Row],[Precio de Venta]]*VentasMenudeo[[#This Row],[Cantidad]]-VentasMenudeo[[#This Row],[Descuento]],VentasMenudeo[[#This Row],[Producto]]=$A$5,VentasMenudeo[[#This Row],[Precio de Venta]]*VentasMenudeo[[#This Row],[Cantidad]]-VentasMenudeo[[#This Row],[Descuento]]),0)","v":250},250]
["2022-05-30","Hugo","IPLAY MAX","Peach Ice",1,"$20 Descuento",null,{"$f":"_xlfn.IFNA(VLOOKUP(VentasMenudeo[[#This Row],[Promoción]],PromocionesMenudeo[[Promocion]:[Descuento]],2,0),0)","v":20},{"$f":"_xlfn.IFNA(VLOOKUP(VentasMenudeo[[#This Row],[Producto]],$A$2:$B$5,2,FALSE),0)","v":270},{"$f":"_xlfn.IFNA(_xlfn.IFS(VentasMenudeo[[#This Row],[Producto]]=$A$2,VentasMenudeo[[#This Row],[Precio de Venta]]*VentasMenudeo[[#This Row],[Cantidad]]-VentasMenudeo[[#This Row],[Descuento]],VentasMenudeo[[#This Row],[Producto]]=$A$3,VentasMenudeo[[#This Row],[Precio de Venta]]*VentasMenudeo[[#This Row],[Cantidad]]-VentasMenudeo[[#This Row],[Descuento]],VentasMenudeo[[#This Row],[Producto]]=$A$4,VentasMenudeo[[#This Row],[Precio de Venta]]*VentasMenudeo[[#This Row],[Cantidad]]-VentasMenudeo[[#This Row],[Descuento]],VentasMenudeo[[#This Row],[Producto]]=$A$5,VentasMenudeo[[#This Row],[Precio de Venta]]*VentasMenudeo[[#This Row],[Cantidad]]-VentasMenudeo[[#This Row],[Descuento]]),0)","v":250},250]
["2022-05-30","Hugo","IPLAY MAX","Berry Watermelon",1,"$20 Descuento",null,{"$f":"_xlfn.IFNA(VLOOKUP(VentasMenudeo[[#This Row],[Promoción]],PromocionesMenudeo[[Promocion]:[Descuento]],2,0),0)","v":20},{"$f":"_xlfn.IFNA(VLOOKUP(VentasMenudeo[[#This Row],[Producto]],$A$2:$B$5,2,FALSE),0)","v":270},{"$f":"_xlfn.IFNA(_xlfn.IFS(VentasMenudeo[[#This Row],[Producto]]=$A$2,VentasMenudeo[[#This Row],[Precio de Venta]]*VentasMenudeo[[#This Row],[Cantidad]]-VentasMenudeo[[#This Row],[Descuento]],VentasMenudeo[[#This Row],[Producto]]=$A$3,VentasMenudeo[[#This Row],[Precio de Venta]]*VentasMenudeo[[#This Row],[Cantidad]]-VentasMenudeo[[#This Row],[Descuento]],VentasMenudeo[[#This Row],[Producto]]=$A$4,VentasMenudeo[[#This Row],[Precio de Venta]]*VentasMenudeo[[#This Row],[Cantidad]]-VentasMenudeo[[#This Row],[Descuento]],VentasMenudeo[[#This Row],[Producto]]=$A$5,VentasMenudeo[[#This Row],[Precio de Venta]]*VentasMenudeo[[#This Row],[Cantidad]]-VentasMenudeo[[#This Row],[Descuento]]),0)","v":250},250]
["2022-05-30","Hugo","IPLAY MAX","Grapestraw",1,"$20 Descuento",null,{"$f":"_xlfn.IFNA(VLOOKUP(VentasMenudeo[[#This Row],[Promoción]],PromocionesMenudeo[[Promocion]:[Descuento]],2,0),0)","v":20},{"$f":"_xlfn.IFNA(VLOOKUP(VentasMenudeo[[#This Row],[Producto]],$A$2:$B$5,2,FALSE),0)","v":270},{"$f":"_xlfn.IFNA(_xlfn.IFS(VentasMenudeo[[#This Row],[Producto]]=$A$2,VentasMenudeo[[#This Row],[Precio de Venta]]*VentasMenudeo[[#This Row],[Cantidad]]-VentasMenudeo[[#This Row],[Descuento]],VentasMenudeo[[#This Row],[Producto]]=$A$3,VentasMenudeo[[#This Row],[Precio de Venta]]*VentasMenudeo[[#This Row],[Cantidad]]-VentasMenudeo[[#This Row],[Descuento]],VentasMenudeo[[#This Row],[Producto]]=$A$4,VentasMenudeo[[#This Row],[Precio de Venta]]*VentasMenudeo[[#This Row],[Cantidad]]-VentasMenudeo[[#This Row],[Descuento]],VentasMenudeo[[#This Row],[Producto]]=$A$5,VentasMenudeo[[#This Row],[Precio de Venta]]*VentasMenudeo[[#This Row],[Cantidad]]-VentasMenudeo[[#This Row],[Descuento]]),0)","v":250},250]
["2022-05-30","Hugo","IPLAY MAX","Bluerazz",1,"$20 Descuento",null,{"$f":"_xlfn.IFNA(VLOOKUP(VentasMenudeo[[#This Row],[Promoción]],PromocionesMenudeo[[Promocion]:[Descuento]],2,0),0)","v":20},{"$f":"_xlfn.IFNA(VLOOKUP(VentasMenudeo[[#This Row],[Producto]],$A$2:$B$5,2,FALSE),0)","v":270},{"$f":"_xlfn.IFNA(_xlfn.IFS(VentasMenudeo[[#This Row],[Producto]]=$A$2,VentasMenudeo[[#This Row],[Precio de Venta]]*VentasMenudeo[[#This Row],[Cantidad]]-VentasMenudeo[[#This Row],[Descuento]],VentasMenudeo[[#This Row],[Producto]]=$A$3,VentasMenudeo[[#This Row],[Precio de Venta]]*VentasMenudeo[[#This Row],[Cantidad]]-VentasMenudeo[[#This Row],[Descuento]],VentasMenudeo[[#This Row],[Producto]]=$A$4,VentasMenudeo[[#This Row],[Precio de Venta]]*VentasMenudeo[[#This Row],[Cantidad]]-VentasMenudeo[[#This Row],[Descuento]],VentasMenudeo[[#This Row],[Producto]]=$A$5,VentasMenudeo[[#This Row],[Precio de Venta]]*VentasMenudeo[[#This Row],[Cantidad]]-VentasMenudeo[[#This Row],[Descuento]]),0)","v":250},250]
["2022-05-30","Julio","IPLAY MAX","Strawberry Lychee",1,"$20 Descuento",null,{"$f":"_xlfn.IFNA(VLOOKUP(VentasMenudeo[[#This Row],[Promoción]],PromocionesMenudeo[[Promocion]:[Descuento]],2,0),0)","v":20},{"$f":"_xlfn.IFNA(VLOOKUP(VentasMenudeo[[#This Row],[Producto]],$A$2:$B$5,2,FALSE),0)","v":270},{"$f":"_xlfn.IFNA(_xlfn.IFS(VentasMenudeo[[#This Row],[Producto]]=$A$2,VentasMenudeo[[#This Row],[Precio de Venta]]*VentasMenudeo[[#This Row],[Cantidad]]-VentasMenudeo[[#This Row],[Descuento]],VentasMenudeo[[#This Row],[Producto]]=$A$3,VentasMenudeo[[#This Row],[Precio de Venta]]*VentasMenudeo[[#This Row],[Cantidad]]-VentasMenudeo[[#This Row],[Descuento]],VentasMenudeo[[#This Row],[Producto]]=$A$4,VentasMenudeo[[#This Row],[Precio de Venta]]*VentasMenudeo[[#This Row],[Cantidad]]-VentasMenudeo[[#This Row],[Descuento]],VentasMenudeo[[#This Row],[Producto]]=$A$5,VentasMenudeo[[#This Row],[Precio de Venta]]*VentasMenudeo[[#This Row],[Cantidad]]-VentasMenudeo[[#This Row],[Descuento]]),0)","v":250},250]
["2022-05-30","Hugo","IPLAY MAX","Cool mint",1,"$20 Descuento",null,{"$f":"_xlfn.IFNA(VLOOKUP(VentasMenudeo[[#This Row],[Promoción]],PromocionesMenudeo[[Promocion]:[Descuento]],2,0),0)","v":20},{"$f":"_xlfn.IFNA(VLOOKUP(VentasMenudeo[[#This Row],[Producto]],$A$2:$B$5,2,FALSE),0)","v":270},{"$f":"_xlfn.IFNA(_xlfn.IFS(VentasMenudeo[[#This Row],[Producto]]=$A$2,VentasMenudeo[[#This Row],[Precio de Venta]]*VentasMenudeo[[#This Row],[Cantidad]]-VentasMenudeo[[#This Row],[Descuento]],VentasMenudeo[[#This Row],[Producto]]=$A$3,VentasMenudeo[[#This Row],[Precio de Venta]]*VentasMenudeo[[#This Row],[Cantidad]]-VentasMenudeo[[#This Row],[Descuento]],VentasMenudeo[[#This Row],[Producto]]=$A$4,VentasMenudeo[[#This Row],[Precio de Venta]]*VentasMenudeo[[#This Row],[Cantidad]]-VentasMenudeo[[#This Row],[Descuento]],VentasMenudeo[[#This Row],[Producto]]=$A$5,VentasMenudeo[[#This Row],[Precio de Venta]]*VentasMenudeo[[#This Row],[Cantidad]]-VentasMenudeo[[#This Row],[Descuento]]),0)","v":250},250]
["2022-05-30","Hugo","IPLAY MAX","Cool mint",1,"$20 Descuento",null,{"$f":"_xlfn.IFNA(VLOOKUP(VentasMenudeo[[#This Row],[Promoción]],PromocionesMenudeo[[Promocion]:[Descuento]],2,0),0)","v":20},{"$f":"_xlfn.IFNA(VLOOKUP(VentasMenudeo[[#This Row],[Producto]],$A$2:$B$5,2,FALSE),0)","v":270},{"$f":"_xlfn.IFNA(_xlfn.IFS(VentasMenudeo[[#This Row],[Producto]]=$A$2,VentasMenudeo[[#This Row],[Precio de Venta]]*VentasMenudeo[[#This Row],[Cantidad]]-VentasMenudeo[[#This Row],[Descuento]],VentasMenudeo[[#This Row],[Producto]]=$A$3,VentasMenudeo[[#This Row],[Precio de Venta]]*VentasMenudeo[[#This Row],[Cantidad]]-VentasMenudeo[[#This Row],[Descuento]],VentasMenudeo[[#This Row],[Producto]]=$A$4,VentasMenudeo[[#This Row],[Precio de Venta]]*VentasMenudeo[[#This Row],[Cantidad]]-VentasMenudeo[[#This Row],[Descuento]],VentasMenudeo[[#This Row],[Producto]]=$A$5,VentasMenudeo[[#This Row],[Precio de Venta]]*VentasMenudeo[[#This Row],[Cantidad]]-VentasMenudeo[[#This Row],[Descuento]]),0)","v":250},250]
["2022-05-30","Hugo","IPLAY MAX","GrapeFruit berry",1,"$20 Descuento",null,{"$f":"_xlfn.IFNA(VLOOKUP(VentasMenudeo[[#This Row],[Promoción]],PromocionesMenudeo[[Promocion]:[Descuento]],2,0),0)","v":20},{"$f":"_xlfn.IFNA(VLOOKUP(VentasMenudeo[[#This Row],[Producto]],$A$2:$B$5,2,FALSE),0)","v":270},{"$f":"_xlfn.IFNA(_xlfn.IFS(VentasMenudeo[[#This Row],[Producto]]=$A$2,VentasMenudeo[[#This Row],[Precio de Venta]]*VentasMenudeo[[#This Row],[Cantidad]]-VentasMenudeo[[#This Row],[Descuento]],VentasMenudeo[[#This Row],[Producto]]=$A$3,VentasMenudeo[[#This Row],[Precio de Venta]]*VentasMenudeo[[#This Row],[Cantidad]]-VentasMenudeo[[#This Row],[Descuento]],VentasMenudeo[[#This Row],[Producto]]=$A$4,VentasMenudeo[[#This Row],[Precio de Venta]]*VentasMenudeo[[#This Row],[Cantidad]]-VentasMenudeo[[#This Row],[Descuento]],VentasMenudeo[[#This Row],[Producto]]=$A$5,VentasMenudeo[[#This Row],[Precio de Venta]]*VentasMenudeo[[#This Row],[Cantidad]]-VentasMenudeo[[#This Row],[Descuento]]),0)","v":250},250]
["2022-05-30","Hugo","IPLAY MAX","Peach Ice",1,"$20 Descuento",null,{"$f":"_xlfn.IFNA(VLOOKUP(VentasMenudeo[[#This Row],[Promoción]],PromocionesMenudeo[[Promocion]:[Descuento]],2,0),0)","v":20},{"$f":"_xlfn.IFNA(VLOOKUP(VentasMenudeo[[#This Row],[Producto]],$A$2:$B$5,2,FALSE),0)","v":270},{"$f":"_xlfn.IFNA(_xlfn.IFS(VentasMenudeo[[#This Row],[Producto]]=$A$2,VentasMenudeo[[#This Row],[Precio de Venta]]*VentasMenudeo[[#This Row],[Cantidad]]-VentasMenudeo[[#This Row],[Descuento]],VentasMenudeo[[#This Row],[Producto]]=$A$3,VentasMenudeo[[#This Row],[Precio de Venta]]*VentasMenudeo[[#This Row],[Cantidad]]-VentasMenudeo[[#This Row],[Descuento]],VentasMenudeo[[#This Row],[Producto]]=$A$4,VentasMenudeo[[#This Row],[Precio de Venta]]*VentasMenudeo[[#This Row],[Cantidad]]-VentasMenudeo[[#This Row],[Descuento]],VentasMenudeo[[#This Row],[Producto]]=$A$5,VentasMenudeo[[#This Row],[Precio de Venta]]*VentasMenudeo[[#This Row],[Cantidad]]-VentasMenudeo[[#This Row],[Descuento]]),0)","v":250},250]
["2022-05-30","Hugo","IPLAY MAX","Cool mint",1,"$20 Descuento",null,{"$f":"_xlfn.IFNA(VLOOKUP(VentasMenudeo[[#This Row],[Promoción]],PromocionesMenudeo[[Promocion]:[Descuento]],2,0),0)","v":20},{"$f":"_xlfn.IFNA(VLOOKUP(VentasMenudeo[[#This Row],[Producto]],$A$2:$B$5,2,FALSE),0)","v":270},{"$f":"_xlfn.IFNA(_xlfn.IFS(VentasMenudeo[[#This Row],[Producto]]=$A$2,VentasMenudeo[[#This Row],[Precio de Venta]]*VentasMenudeo[[#This Row],[Cantidad]]-VentasMenudeo[[#This Row],[Descuento]],VentasMenudeo[[#This Row],[Producto]]=$A$3,VentasMenudeo[[#This Row],[Precio de Venta]]*VentasMenudeo[[#This Row],[Cantidad]]-VentasMenudeo[[#This Row],[Descuento]],VentasMenudeo[[#This Row],[Producto]]=$A$4,VentasMenudeo[[#This Row],[Precio de Venta]]*VentasMenudeo[[#This Row],[Cantidad]]-VentasMenudeo[[#This Row],[Descuento]],VentasMenudeo[[#This Row],[Producto]]=$A$5,VentasMenudeo[[#This Row],[Precio de Venta]]*VentasMenudeo[[#This Row],[Cantidad]]-VentasMenudeo[[#This Row],[Descuento]]),0)","v":250},250]
["2022-05-30","Hugo","IPLAY MAX","Peach Ice",1,"$20 Descuento",null,{"$f":"_xlfn.IFNA(VLOOKUP(VentasMenudeo[[#This Row],[Promoción]],PromocionesMenudeo[[Promocion]:[Descuento]],2,0),0)","v":20},{"$f":"_xlfn.IFNA(VLOOKUP(VentasMenudeo[[#This Row],[Producto]],$A$2:$B$5,2,FALSE),0)","v":270},{"$f":"_xlfn.IFNA(_xlfn.IFS(VentasMenudeo[[#This Row],[Producto]]=$A$2,VentasMenudeo[[#This Row],[Precio de Venta]]*VentasMenudeo[[#This Row],[Cantidad]]-VentasMenudeo[[#This Row],[Descuento]],VentasMenudeo[[#This Row],[Producto]]=$A$3,VentasMenudeo[[#This Row],[Precio de Venta]]*VentasMenudeo[[#This Row],[Cantidad]]-VentasMenudeo[[#This Row],[Descuento]],VentasMenudeo[[#This Row],[Producto]]=$A$4,VentasMenudeo[[#This Row],[Precio de Venta]]*VentasMenudeo[[#This Row],[Cantidad]]-VentasMenudeo[[#This Row],[Descuento]],VentasMenudeo[[#This Row],[Producto]]=$A$5,VentasMenudeo[[#This Row],[Precio de Venta]]*VentasMenudeo[[#This Row],[Cantidad]]-VentasMenudeo[[#This Row],[Descuento]]),0)","v":250},250]
["2022-05-30","Hugo","IPLAY MAX","GrapeFruit berry",1,"$20 Descuento",null,{"$f":"_xlfn.IFNA(VLOOKUP(VentasMenudeo[[#This Row],[Promoción]],PromocionesMenudeo[[Promocion]:[Descuento]],2,0),0)","v":20},{"$f":"_xlfn.IFNA(VLOOKUP(VentasMenudeo[[#This Row],[Producto]],$A$2:$B$5,2,FALSE),0)","v":270},{"$f":"_xlfn.IFNA(_xlfn.IFS(VentasMenudeo[[#This Row],[Producto]]=$A$2,VentasMenudeo[[#This Row],[Precio de Venta]]*VentasMenudeo[[#This Row],[Cantidad]]-VentasMenudeo[[#This Row],[Descuento]],VentasMenudeo[[#This Row],[Producto]]=$A$3,VentasMenudeo[[#This Row],[Precio de Venta]]*VentasMenudeo[[#This Row],[Cantidad]]-VentasMenudeo[[#This Row],[Descuento]],VentasMenudeo[[#This Row],[Producto]]=$A$4,VentasMenudeo[[#This Row],[Precio de Venta]]*VentasMenudeo[[#This Row],[Cantidad]]-VentasMenudeo[[#This Row],[Descuento]],VentasMenudeo[[#This Row],[Producto]]=$A$5,VentasMenudeo[[#This Row],[Precio de Venta]]*VentasMenudeo[[#This Row],[Cantidad]]-VentasMenudeo[[#This Row],[Descuento]]),0)","v":250},250]
["2022-05-30","Hugo","IPLAY MAX","Peach Ice",1,"$20 Descuento",null,{"$f":"_xlfn.IFNA(VLOOKUP(VentasMenudeo[[#This Row],[Promoción]],PromocionesMenudeo[[Promocion]:[Descuento]],2,0),0)","v":20},{"$f":"_xlfn.IFNA(VLOOKUP(VentasMenudeo[[#This Row],[Producto]],$A$2:$B$5,2,FALSE),0)","v":270},{"$f":"_xlfn.IFNA(_xlfn.IFS(VentasMenudeo[[#This Row],[Producto]]=$A$2,VentasMenudeo[[#This Row],[Precio de Venta]]*VentasMenudeo[[#This Row],[Cantidad]]-VentasMenudeo[[#This Row],[Descuento]],VentasMenudeo[[#This Row],[Producto]]=$A$3,VentasMenudeo[[#This Row],[Precio de Venta]]*VentasMenudeo[[#This Row],[Cantidad]]-VentasMenudeo[[#This Row],[Descuento]],VentasMenudeo[[#This Row],[Producto]]=$A$4,VentasMenudeo[[#This Row],[Precio de Venta]]*VentasMenudeo[[#This Row],[Cantidad]]-VentasMenudeo[[#This Row],[Descuento]],VentasMenudeo[[#This Row],[Producto]]=$A$5,VentasMenudeo[[#This Row],[Precio de Venta]]*VentasMenudeo[[#This Row],[Cantidad]]-VentasMenudeo[[#This Row],[Descuento]]),0)","v":250},250]
["2022-05-30","Hugo","IPLAY MAX","Bluerazz",1,"$20 Descuento",null,{"$f":"_xlfn.IFNA(VLOOKUP(VentasMenudeo[[#This Row],[Promoción]],PromocionesMenudeo[[Promocion]:[Descuento]],2,0),0)","v":20},{"$f":"_xlfn.IFNA(VLOOKUP(VentasMenudeo[[#This Row],[Producto]],$A$2:$B$5,2,FALSE),0)","v":270},{"$f":"_xlfn.IFNA(_xlfn.IFS(VentasMenudeo[[#This Row],[Producto]]=$A$2,VentasMenudeo[[#This Row],[Precio de Venta]]*VentasMenudeo[[#This Row],[Cantidad]]-VentasMenudeo[[#This Row],[Descuento]],VentasMenudeo[[#This Row],[Producto]]=$A$3,VentasMenudeo[[#This Row],[Precio de Venta]]*VentasMenudeo[[#This Row],[Cantidad]]-VentasMenudeo[[#This Row],[Descuento]],VentasMenudeo[[#This Row],[Producto]]=$A$4,VentasMenudeo[[#This Row],[Precio de Venta]]*VentasMenudeo[[#This Row],[Cantidad]]-VentasMenudeo[[#This Row],[Descuento]],VentasMenudeo[[#This Row],[Producto]]=$A$5,VentasMenudeo[[#This Row],[Precio de Venta]]*VentasMenudeo[[#This Row],[Cantidad]]-VentasMenudeo[[#This Row],[Descuento]]),0)","v":250},250]
["2022-05-30","Hugo","IPLAY MAX","Bluerazz",1,"$20 Descuento",null,{"$f":"_xlfn.IFNA(VLOOKUP(VentasMenudeo[[#This Row],[Promoción]],PromocionesMenudeo[[Promocion]:[Descuento]],2,0),0)","v":20},{"$f":"_xlfn.IFNA(VLOOKUP(VentasMenudeo[[#This Row],[Producto]],$A$2:$B$5,2,FALSE),0)","v":270},{"$f":"_xlfn.IFNA(_xlfn.IFS(VentasMenudeo[[#This Row],[Producto]]=$A$2,VentasMenudeo[[#This Row],[Precio de Venta]]*VentasMenudeo[[#This Row],[Cantidad]]-VentasMenudeo[[#This Row],[Descuento]],VentasMenudeo[[#This Row],[Producto]]=$A$3,VentasMenudeo[[#This Row],[Precio de Venta]]*VentasMenudeo[[#This Row],[Cantidad]]-VentasMenudeo[[#This Row],[Descuento]],VentasMenudeo[[#This Row],[Producto]]=$A$4,VentasMenudeo[[#This Row],[Precio de Venta]]*VentasMenudeo[[#This Row],[Cantidad]]-VentasMenudeo[[#This Row],[Descuento]],VentasMenudeo[[#This Row],[Producto]]=$A$5,VentasMenudeo[[#This Row],[Precio de Venta]]*VentasMenudeo[[#This Row],[Cantidad]]-VentasMenudeo[[#This Row],[Descuento]]),0)","v":250},250]
["2022-05-30","Hugo","IPLAY MAX","Guava",1,"$20 Descuento",null,{"$f":"_xlfn.IFNA(VLOOKUP(VentasMenudeo[[#This Row],[Promoción]],PromocionesMenudeo[[Promocion]:[Descuento]],2,0),0)","v":20},{"$f":"_xlfn.IFNA(VLOOKUP(VentasMenudeo[[#This Row],[Producto]],$A$2:$B$5,2,FALSE),0)","v":270},{"$f":"_xlfn.IFNA(_xlfn.IFS(VentasMenudeo[[#This Row],[Producto]]=$A$2,VentasMenudeo[[#This Row],[Precio de Venta]]*VentasMenudeo[[#This Row],[Cantidad]]-VentasMenudeo[[#This Row],[Descuento]],VentasMenudeo[[#This Row],[Producto]]=$A$3,VentasMenudeo[[#This Row],[Precio de Venta]]*VentasMenudeo[[#This Row],[Cantidad]]-VentasMenudeo[[#This Row],[Descuento]],VentasMenudeo[[#This Row],[Producto]]=$A$4,VentasMenudeo[[#This Row],[Precio de Venta]]*VentasMenudeo[[#This Row],[Cantidad]]-VentasMenudeo[[#This Row],[Descuento]],VentasMenudeo[[#This Row],[Producto]]=$A$5,VentasMenudeo[[#This Row],[Precio de Venta]]*VentasMenudeo[[#This Row],[Cantidad]]-VentasMenudeo[[#This Row],[Descuento]]),0)","v":250},250]
["2022-05-30","Hugo","IPLAY MAX","Guava",1,"$20 Descuento",null,{"$f":"_xlfn.IFNA(VLOOKUP(VentasMenudeo[[#This Row],[Promoción]],PromocionesMenudeo[[Promocion]:[Descuento]],2,0),0)","v":20},{"$f":"_xlfn.IFNA(VLOOKUP(VentasMenudeo[[#This Row],[Producto]],$A$2:$B$5,2,FALSE),0)","v":270},{"$f":"_xlfn.IFNA(_xlfn.IFS(VentasMenudeo[[#This Row],[Producto]]=$A$2,VentasMenudeo[[#This Row],[Precio de Venta]]*VentasMenudeo[[#This Row],[Cantidad]]-VentasMenudeo[[#This Row],[Descuento]],VentasMenudeo[[#This Row],[Producto]]=$A$3,VentasMenudeo[[#This Row],[Precio de Venta]]*VentasMenudeo[[#This Row],[Cantidad]]-VentasMenudeo[[#This Row],[Descuento]],VentasMenudeo[[#This Row],[Producto]]=$A$4,VentasMenudeo[[#This Row],[Precio de Venta]]*VentasMenudeo[[#This Row],[Cantidad]]-VentasMenudeo[[#This Row],[Descuento]],VentasMenudeo[[#This Row],[Producto]]=$A$5,VentasMenudeo[[#This Row],[Precio de Venta]]*VentasMenudeo[[#This Row],[Cantidad]]-VentasMenudeo[[#This Row],[Descuento]]),0)","v":250},250]
["2022-05-30","Hugo","IPLAY MAX","Guava",1,"$20 Descuento",null,{"$f":"_xlfn.IFNA(VLOOKUP(VentasMenudeo[[#This Row],[Promoción]],PromocionesMenudeo[[Promocion]:[Descuento]],2,0),0)","v":20},{"$f":"_xlfn.IFNA(VLOOKUP(VentasMenudeo[[#This Row],[Producto]],$A$2:$B$5,2,FALSE),0)","v":270},{"$f":"_xlfn.IFNA(_xlfn.IFS(VentasMenudeo[[#This Row],[Producto]]=$A$2,VentasMenudeo[[#This Row],[Precio de Venta]]*VentasMenudeo[[#This Row],[Cantidad]]-VentasMenudeo[[#This Row],[Descuento]],VentasMenudeo[[#This Row],[Producto]]=$A$3,VentasMenudeo[[#This Row],[Precio de Venta]]*VentasMenudeo[[#This Row],[Cantidad]]-VentasMenudeo[[#This Row],[Descuento]],VentasMenudeo[[#This Row],[Producto]]=$A$4,VentasMenudeo[[#This Row],[Precio de Venta]]*VentasMenudeo[[#This Row],[Cantidad]]-VentasMenudeo[[#This Row],[Descuento]],VentasMenudeo[[#This Row],[Producto]]=$A$5,VentasMenudeo[[#This Row],[Precio de Venta]]*VentasMenudeo[[#This Row],[Cantidad]]-VentasMenudeo[[#This Row],[Descuento]]),0)","v":250},250]
["2022-05-30","Hugo","IPLAY MAX","Peach Ice",1,"$20 Descuento",null,{"$f":"_xlfn.IFNA(VLOOKUP(VentasMenudeo[[#This Row],[Promoción]],PromocionesMenudeo[[Promocion]:[Descuento]],2,0),0)","v":20},{"$f":"_xlfn.IFNA(VLOOKUP(VentasMenudeo[[#This Row],[Producto]],$A$2:$B$5,2,FALSE),0)","v":270},{"$f":"_xlfn.IFNA(_xlfn.IFS(VentasMenudeo[[#This Row],[Producto]]=$A$2,VentasMenudeo[[#This Row],[Precio de Venta]]*VentasMenudeo[[#This Row],[Cantidad]]-VentasMenudeo[[#This Row],[Descuento]],VentasMenudeo[[#This Row],[Producto]]=$A$3,VentasMenudeo[[#This Row],[Precio de Venta]]*VentasMenudeo[[#This Row],[Cantidad]]-VentasMenudeo[[#This Row],[Descuento]],VentasMenudeo[[#This Row],[Producto]]=$A$4,VentasMenudeo[[#This Row],[Precio de Venta]]*VentasMenudeo[[#This Row],[Cantidad]]-VentasMenudeo[[#This Row],[Descuento]],VentasMenudeo[[#This Row],[Producto]]=$A$5,VentasMenudeo[[#This Row],[Precio de Venta]]*VentasMenudeo[[#This Row],[Cantidad]]-VentasMenudeo[[#This Row],[Descuento]]),0)","v":250},250]
["2022-05-30","Hugo","IPLAY MAX","Cool mint",1,"$20 Descuento",null,{"$f":"_xlfn.IFNA(VLOOKUP(VentasMenudeo[[#This Row],[Promoción]],PromocionesMenudeo[[Promocion]:[Descuento]],2,0),0)","v":20},{"$f":"_xlfn.IFNA(VLOOKUP(VentasMenudeo[[#This Row],[Producto]],$A$2:$B$5,2,FALSE),0)","v":270},{"$f":"_xlfn.IFNA(_xlfn.IFS(VentasMenudeo[[#This Row],[Producto]]=$A$2,VentasMenudeo[[#This Row],[Precio de Venta]]*VentasMenudeo[[#This Row],[Cantidad]]-VentasMenudeo[[#This Row],[Descuento]],VentasMenudeo[[#This Row],[Producto]]=$A$3,VentasMenudeo[[#This Row],[Precio de Venta]]*VentasMenudeo[[#This Row],[Cantidad]]-VentasMenudeo[[#This Row],[Descuento]],VentasMenudeo[[#This Row],[Producto]]=$A$4,VentasMenudeo[[#This Row],[Precio de Venta]]*VentasMenudeo[[#This Row],[Cantidad]]-VentasMenudeo[[#This Row],[Descuento]],VentasMenudeo[[#This Row],[Producto]]=$A$5,VentasMenudeo[[#This Row],[Precio de Venta]]*VentasMenudeo[[#This Row],[Cantidad]]-VentasMenudeo[[#This Row],[Descuento]]),0)","v":250},250]
["2022-05-30","Hugo","IPLAY MAX","Berry Watermelon",1,"$20 Descuento",null,{"$f":"_xlfn.IFNA(VLOOKUP(VentasMenudeo[[#This Row],[Promoción]],PromocionesMenudeo[[Promocion]:[Descuento]],2,0),0)","v":20},{"$f":"_xlfn.IFNA(VLOOKUP(VentasMenudeo[[#This Row],[Producto]],$A$2:$B$5,2,FALSE),0)","v":270},{"$f":"_xlfn.IFNA(_xlfn.IFS(VentasMenudeo[[#This Row],[Producto]]=$A$2,VentasMenudeo[[#This Row],[Precio de Venta]]*VentasMenudeo[[#This Row],[Cantidad]]-VentasMenudeo[[#This Row],[Descuento]],VentasMenudeo[[#This Row],[Producto]]=$A$3,VentasMenudeo[[#This Row],[Precio de Venta]]*VentasMenudeo[[#This Row],[Cantidad]]-VentasMenudeo[[#This Row],[Descuento]],VentasMenudeo[[#This Row],[Producto]]=$A$4,VentasMenudeo[[#This Row],[Precio de Venta]]*VentasMenudeo[[#This Row],[Cantidad]]-VentasMenudeo[[#This Row],[Descuento]],VentasMenudeo[[#This Row],[Producto]]=$A$5,VentasMenudeo[[#This Row],[Precio de Venta]]*VentasMenudeo[[#This Row],[Cantidad]]-VentasMenudeo[[#This Row],[Descuento]]),0)","v":250},250]
["2022-05-30","Hugo","IPLAY MAX","Cool mint",1,"$20 Descuento",null,{"$f":"_xlfn.IFNA(VLOOKUP(VentasMenudeo[[#This Row],[Promoción]],PromocionesMenudeo[[Promocion]:[Descuento]],2,0),0)","v":20},{"$f":"_xlfn.IFNA(VLOOKUP(VentasMenudeo[[#This Row],[Producto]],$A$2:$B$5,2,FALSE),0)","v":270},{"$f":"_xlfn.IFNA(_xlfn.IFS(VentasMenudeo[[#This Row],[Producto]]=$A$2,VentasMenudeo[[#This Row],[Precio de Venta]]*VentasMenudeo[[#This Row],[Cantidad]]-VentasMenudeo[[#This Row],[Descuento]],VentasMenudeo[[#This Row],[Producto]]=$A$3,VentasMenudeo[[#This Row],[Precio de Venta]]*VentasMenudeo[[#This Row],[Cantidad]]-VentasMenudeo[[#This Row],[Descuento]],VentasMenudeo[[#This Row],[Producto]]=$A$4,VentasMenudeo[[#This Row],[Precio de Venta]]*VentasMenudeo[[#This Row],[Cantidad]]-VentasMenudeo[[#This Row],[Descuento]],VentasMenudeo[[#This Row],[Producto]]=$A$5,VentasMenudeo[[#This Row],[Precio de Venta]]*VentasMenudeo[[#This Row],[Cantidad]]-VentasMenudeo[[#This Row],[Descuento]]),0)","v":250},250]
["2022-05-30","Hugo","IPLAY MAX","Coconut",1,"$20 Descuento",null,{"$f":"_xlfn.IFNA(VLOOKUP(VentasMenudeo[[#This Row],[Promoción]],PromocionesMenudeo[[Promocion]:[Descuento]],2,0),0)","v":20},{"$f":"_xlfn.IFNA(VLOOKUP(VentasMenudeo[[#This Row],[Producto]],$A$2:$B$5,2,FALSE),0)","v":270},{"$f":"_xlfn.IFNA(_xlfn.IFS(VentasMenudeo[[#This Row],[Producto]]=$A$2,VentasMenudeo[[#This Row],[Precio de Venta]]*VentasMenudeo[[#This Row],[Cantidad]]-VentasMenudeo[[#This Row],[Descuento]],VentasMenudeo[[#This Row],[Producto]]=$A$3,VentasMenudeo[[#This Row],[Precio de Venta]]*VentasMenudeo[[#This Row],[Cantidad]]-VentasMenudeo[[#This Row],[Descuento]],VentasMenudeo[[#This Row],[Producto]]=$A$4,VentasMenudeo[[#This Row],[Precio de Venta]]*VentasMenudeo[[#This Row],[Cantidad]]-VentasMenudeo[[#This Row],[Descuento]],VentasMenudeo[[#This Row],[Producto]]=$A$5,VentasMenudeo[[#This Row],[Precio de Venta]]*VentasMenudeo[[#This Row],[Cantidad]]-VentasMenudeo[[#This Row],[Descuento]]),0)","v":250},250]
["2022-05-30","Hugo","IPLAY MAX","Cool mint",1,"$20 Descuento",null,{"$f":"_xlfn.IFNA(VLOOKUP(VentasMenudeo[[#This Row],[Promoción]],PromocionesMenudeo[[Promocion]:[Descuento]],2,0),0)","v":20},{"$f":"_xlfn.IFNA(VLOOKUP(VentasMenudeo[[#This Row],[Producto]],$A$2:$B$5,2,FALSE),0)","v":270},{"$f":"_xlfn.IFNA(_xlfn.IFS(VentasMenudeo[[#This Row],[Producto]]=$A$2,VentasMenudeo[[#This Row],[Precio de Venta]]*VentasMenudeo[[#This Row],[Cantidad]]-VentasMenudeo[[#This Row],[Descuento]],VentasMenudeo[[#This Row],[Producto]]=$A$3,VentasMenudeo[[#This Row],[Precio de Venta]]*VentasMenudeo[[#This Row],[Cantidad]]-VentasMenudeo[[#This Row],[Descuento]],VentasMenudeo[[#This Row],[Producto]]=$A$4,VentasMenudeo[[#This Row],[Precio de Venta]]*VentasMenudeo[[#This Row],[Cantidad]]-VentasMenudeo[[#This Row],[Descuento]],VentasMenudeo[[#This Row],[Producto]]=$A$5,VentasMenudeo[[#This Row],[Precio de Venta]]*VentasMenudeo[[#This Row],[Cantidad]]-VentasMenudeo[[#This Row],[Descuento]]),0)","v":250},250]
["2022-05-30","Hugo","IPLAY MAX","Grapestraw",1,"$20 Descuento",null,{"$f":"_xlfn.IFNA(VLOOKUP(VentasMenudeo[[#This Row],[Promoción]],PromocionesMenudeo[[Promocion]:[Descuento]],2,0),0)","v":20},{"$f":"_xlfn.IFNA(VLOOKUP(VentasMenudeo[[#This Row],[Producto]],$A$2:$B$5,2,FALSE),0)","v":270},{"$f":"_xlfn.IFNA(_xlfn.IFS(VentasMenudeo[[#This Row],[Producto]]=$A$2,VentasMenudeo[[#This Row],[Precio de Venta]]*VentasMenudeo[[#This Row],[Cantidad]]-VentasMenudeo[[#This Row],[Descuento]],VentasMenudeo[[#This Row],[Producto]]=$A$3,VentasMenudeo[[#This Row],[Precio de Venta]]*VentasMenudeo[[#This Row],[Cantidad]]-VentasMenudeo[[#This Row],[Descuento]],VentasMenudeo[[#This Row],[Producto]]=$A$4,VentasMenudeo[[#This Row],[Precio de Venta]]*VentasMenudeo[[#This Row],[Cantidad]]-VentasMenudeo[[#This Row],[Descuento]],VentasMenudeo[[#This Row],[Producto]]=$A$5,VentasMenudeo[[#This Row],[Precio de Venta]]*VentasMenudeo[[#This Row],[Cantidad]]-VentasMenudeo[[#This Row],[Descuento]]),0)","v":250},250]
["2022-06-02","Hugo","IPLAY MAX","Cool mint",1,"$20 Descuento",null,{"$f":"_xlfn.IFNA(VLOOKUP(VentasMenudeo[[#This Row],[Promoción]],PromocionesMenudeo[[Promocion]:[Descuento]],2,0),0)","v":20},{"$f":"_xlfn.IFNA(VLOOKUP(VentasMenudeo[[#This Row],[Producto]],$A$2:$B$5,2,FALSE),0)","v":270},{"$f":"_xlfn.IFNA(_xlfn.IFS(VentasMenudeo[[#This Row],[Producto]]=$A$2,VentasMenudeo[[#This Row],[Precio de Venta]]*VentasMenudeo[[#This Row],[Cantidad]]-VentasMenudeo[[#This Row],[Descuento]],VentasMenudeo[[#This Row],[Producto]]=$A$3,VentasMenudeo[[#This Row],[Precio de Venta]]*VentasMenudeo[[#This Row],[Cantidad]]-VentasMenudeo[[#This Row],[Descuento]],VentasMenudeo[[#This Row],[Producto]]=$A$4,VentasMenudeo[[#This Row],[Precio de Venta]]*VentasMenudeo[[#This Row],[Cantidad]]-VentasMenudeo[[#This Row],[Descuento]],VentasMenudeo[[#This Row],[Producto]]=$A$5,VentasMenudeo[[#This Row],[Precio de Venta]]*VentasMenudeo[[#This Row],[Cantidad]]-VentasMenudeo[[#This Row],[Descuento]]),0)","v":250},250]
["2022-06-02","Hugo","IPLAY MAX","Cool mint",1,"$20 Descuento",null,{"$f":"_xlfn.IFNA(VLOOKUP(VentasMenudeo[[#This Row],[Promoción]],PromocionesMenudeo[[Promocion]:[Descuento]],2,0),0)","v":20},{"$f":"_xlfn.IFNA(VLOOKUP(VentasMenudeo[[#This Row],[Producto]],$A$2:$B$5,2,FALSE),0)","v":270},{"$f":"_xlfn.IFNA(_xlfn.IFS(VentasMenudeo[[#This Row],[Producto]]=$A$2,VentasMenudeo[[#This Row],[Precio de Venta]]*VentasMenudeo[[#This Row],[Cantidad]]-VentasMenudeo[[#This Row],[Descuento]],VentasMenudeo[[#This Row],[Producto]]=$A$3,VentasMenudeo[[#This Row],[Precio de Venta]]*VentasMenudeo[[#This Row],[Cantidad]]-VentasMenudeo[[#This Row],[Descuento]],VentasMenudeo[[#This Row],[Producto]]=$A$4,VentasMenudeo[[#This Row],[Precio de Venta]]*VentasMenudeo[[#This Row],[Cantidad]]-VentasMenudeo[[#This Row],[Descuento]],VentasMenudeo[[#This Row],[Producto]]=$A$5,VentasMenudeo[[#This Row],[Precio de Venta]]*VentasMenudeo[[#This Row],[Cantidad]]-VentasMenudeo[[#This Row],[Descuento]]),0)","v":250},250]
["2022-06-02","Hugo","IPLAY MAX","Peach Ice",1,"$20 Descuento",null,{"$f":"_xlfn.IFNA(VLOOKUP(VentasMenudeo[[#This Row],[Promoción]],PromocionesMenudeo[[Promocion]:[Descuento]],2,0),0)","v":20},{"$f":"_xlfn.IFNA(VLOOKUP(VentasMenudeo[[#This Row],[Producto]],$A$2:$B$5,2,FALSE),0)","v":270},{"$f":"_xlfn.IFNA(_xlfn.IFS(VentasMenudeo[[#This Row],[Producto]]=$A$2,VentasMenudeo[[#This Row],[Precio de Venta]]*VentasMenudeo[[#This Row],[Cantidad]]-VentasMenudeo[[#This Row],[Descuento]],VentasMenudeo[[#This Row],[Producto]]=$A$3,VentasMenudeo[[#This Row],[Precio de Venta]]*VentasMenudeo[[#This Row],[Cantidad]]-VentasMenudeo[[#This Row],[Descuento]],VentasMenudeo[[#This Row],[Producto]]=$A$4,VentasMenudeo[[#This Row],[Precio de Venta]]*VentasMenudeo[[#This Row],[Cantidad]]-VentasMenudeo[[#This Row],[Descuento]],VentasMenudeo[[#This Row],[Producto]]=$A$5,VentasMenudeo[[#This Row],[Precio de Venta]]*VentasMenudeo[[#This Row],[Cantidad]]-VentasMenudeo[[#This Row],[Descuento]]),0)","v":250},250]
["2022-06-02","Hugo","IPLAY MAX","Peach Ice",1,"$20 Descuento",null,{"$f":"_xlfn.IFNA(VLOOKUP(VentasMenudeo[[#This Row],[Promoción]],PromocionesMenudeo[[Promocion]:[Descuento]],2,0),0)","v":20},{"$f":"_xlfn.IFNA(VLOOKUP(VentasMenudeo[[#This Row],[Producto]],$A$2:$B$5,2,FALSE),0)","v":270},{"$f":"_xlfn.IFNA(_xlfn.IFS(VentasMenudeo[[#This Row],[Producto]]=$A$2,VentasMenudeo[[#This Row],[Precio de Venta]]*VentasMenudeo[[#This Row],[Cantidad]]-VentasMenudeo[[#This Row],[Descuento]],VentasMenudeo[[#This Row],[Producto]]=$A$3,VentasMenudeo[[#This Row],[Precio de Venta]]*VentasMenudeo[[#This Row],[Cantidad]]-VentasMenudeo[[#This Row],[Descuento]],VentasMenudeo[[#This Row],[Producto]]=$A$4,VentasMenudeo[[#This Row],[Precio de Venta]]*VentasMenudeo[[#This Row],[Cantidad]]-VentasMenudeo[[#This Row],[Descuento]],VentasMenudeo[[#This Row],[Producto]]=$A$5,VentasMenudeo[[#This Row],[Precio de Venta]]*VentasMenudeo[[#This Row],[Cantidad]]-VentasMenudeo[[#This Row],[Descuento]]),0)","v":250},250]
["2022-06-02","Hugo","IPLAY MAX","GrapeFruit berry",1,"$20 Descuento",null,{"$f":"_xlfn.IFNA(VLOOKUP(VentasMenudeo[[#This Row],[Promoción]],PromocionesMenudeo[[Promocion]:[Descuento]],2,0),0)","v":20},{"$f":"_xlfn.IFNA(VLOOKUP(VentasMenudeo[[#This Row],[Producto]],$A$2:$B$5,2,FALSE),0)","v":270},{"$f":"_xlfn.IFNA(_xlfn.IFS(VentasMenudeo[[#This Row],[Producto]]=$A$2,VentasMenudeo[[#This Row],[Precio de Venta]]*VentasMenudeo[[#This Row],[Cantidad]]-VentasMenudeo[[#This Row],[Descuento]],VentasMenudeo[[#This Row],[Producto]]=$A$3,VentasMenudeo[[#This Row],[Precio de Venta]]*VentasMenudeo[[#This Row],[Cantidad]]-VentasMenudeo[[#This Row],[Descuento]],VentasMenudeo[[#This Row],[Producto]]=$A$4,VentasMenudeo[[#This Row],[Precio de Venta]]*VentasMenudeo[[#This Row],[Cantidad]]-VentasMenudeo[[#This Row],[Descuento]],VentasMenudeo[[#This Row],[Producto]]=$A$5,VentasMenudeo[[#This Row],[Precio de Venta]]*VentasMenudeo[[#This Row],[Cantidad]]-VentasMenudeo[[#This Row],[Descuento]]),0)","v":250},250]
["2022-06-02","Hugo","IPLAY MAX","Coconut",1,"$20 Descuento",null,{"$f":"_xlfn.IFNA(VLOOKUP(VentasMenudeo[[#This Row],[Promoción]],PromocionesMenudeo[[Promocion]:[Descuento]],2,0),0)","v":20},{"$f":"_xlfn.IFNA(VLOOKUP(VentasMenudeo[[#This Row],[Producto]],$A$2:$B$5,2,FALSE),0)","v":270},{"$f":"_xlfn.IFNA(_xlfn.IFS(VentasMenudeo[[#This Row],[Producto]]=$A$2,VentasMenudeo[[#This Row],[Precio de Venta]]*VentasMenudeo[[#This Row],[Cantidad]]-VentasMenudeo[[#This Row],[Descuento]],VentasMenudeo[[#This Row],[Producto]]=$A$3,VentasMenudeo[[#This Row],[Precio de Venta]]*VentasMenudeo[[#This Row],[Cantidad]]-VentasMenudeo[[#This Row],[Descuento]],VentasMenudeo[[#This Row],[Producto]]=$A$4,VentasMenudeo[[#This Row],[Precio de Venta]]*VentasMenudeo[[#This Row],[Cantidad]]-VentasMenudeo[[#This Row],[Descuento]],VentasMenudeo[[#This Row],[Producto]]=$A$5,VentasMenudeo[[#This Row],[Precio de Venta]]*VentasMenudeo[[#This Row],[Cantidad]]-VentasMenudeo[[#This Row],[Descuento]]),0)","v":250},250]
["2022-06-02","Hugo","IPLAY MAX","Peach Ice",1,"$20 Descuento",null,{"$f":"_xlfn.IFNA(VLOOKUP(VentasMenudeo[[#This Row],[Promoción]],PromocionesMenudeo[[Promocion]:[Descuento]],2,0),0)","v":20},{"$f":"_xlfn.IFNA(VLOOKUP(VentasMenudeo[[#This Row],[Producto]],$A$2:$B$5,2,FALSE),0)","v":270},{"$f":"_xlfn.IFNA(_xlfn.IFS(VentasMenudeo[[#This Row],[Producto]]=$A$2,VentasMenudeo[[#This Row],[Precio de Venta]]*VentasMenudeo[[#This Row],[Cantidad]]-VentasMenudeo[[#This Row],[Descuento]],VentasMenudeo[[#This Row],[Producto]]=$A$3,VentasMenudeo[[#This Row],[Precio de Venta]]*VentasMenudeo[[#This Row],[Cantidad]]-VentasMenudeo[[#This Row],[Descuento]],VentasMenudeo[[#This Row],[Producto]]=$A$4,VentasMenudeo[[#This Row],[Precio de Venta]]*VentasMenudeo[[#This Row],[Cantidad]]-VentasMenudeo[[#This Row],[Descuento]],VentasMenudeo[[#This Row],[Producto]]=$A$5,VentasMenudeo[[#This Row],[Precio de Venta]]*VentasMenudeo[[#This Row],[Cantidad]]-VentasMenudeo[[#This Row],[Descuento]]),0)","v":250},250]
["2022-06-02","Hugo","IPLAY MAX","Strawberry Lychee",1,"$20 Descuento",null,{"$f":"_xlfn.IFNA(VLOOKUP(VentasMenudeo[[#This Row],[Promoción]],PromocionesMenudeo[[Promocion]:[Descuento]],2,0),0)","v":20},{"$f":"_xlfn.IFNA(VLOOKUP(VentasMenudeo[[#This Row],[Producto]],$A$2:$B$5,2,FALSE),0)","v":270},{"$f":"_xlfn.IFNA(_xlfn.IFS(VentasMenudeo[[#This Row],[Producto]]=$A$2,VentasMenudeo[[#This Row],[Precio de Venta]]*VentasMenudeo[[#This Row],[Cantidad]]-VentasMenudeo[[#This Row],[Descuento]],VentasMenudeo[[#This Row],[Producto]]=$A$3,VentasMenudeo[[#This Row],[Precio de Venta]]*VentasMenudeo[[#This Row],[Cantidad]]-VentasMenudeo[[#This Row],[Descuento]],VentasMenudeo[[#This Row],[Producto]]=$A$4,VentasMenudeo[[#This Row],[Precio de Venta]]*VentasMenudeo[[#This Row],[Cantidad]]-VentasMenudeo[[#This Row],[Descuento]],VentasMenudeo[[#This Row],[Producto]]=$A$5,VentasMenudeo[[#This Row],[Precio de Venta]]*VentasMenudeo[[#This Row],[Cantidad]]-VentasMenudeo[[#This Row],[Descuento]]),0)","v":250},250]
["2022-06-02","Hugo","IPLAY MAX","Cool mint",1,"$20 Descuento",null,{"$f":"_xlfn.IFNA(VLOOKUP(VentasMenudeo[[#This Row],[Promoción]],PromocionesMenudeo[[Promocion]:[Descuento]],2,0),0)","v":20},{"$f":"_xlfn.IFNA(VLOOKUP(VentasMenudeo[[#This Row],[Producto]],$A$2:$B$5,2,FALSE),0)","v":270},{"$f":"_xlfn.IFNA(_xlfn.IFS(VentasMenudeo[[#This Row],[Producto]]=$A$2,VentasMenudeo[[#This Row],[Precio de Venta]]*VentasMenudeo[[#This Row],[Cantidad]]-VentasMenudeo[[#This Row],[Descuento]],VentasMenudeo[[#This Row],[Producto]]=$A$3,VentasMenudeo[[#This Row],[Precio de Venta]]*VentasMenudeo[[#This Row],[Cantidad]]-VentasMenudeo[[#This Row],[Descuento]],VentasMenudeo[[#This Row],[Producto]]=$A$4,VentasMenudeo[[#This Row],[Precio de Venta]]*VentasMenudeo[[#This Row],[Cantidad]]-VentasMenudeo[[#This Row],[Descuento]],VentasMenudeo[[#This Row],[Producto]]=$A$5,VentasMenudeo[[#This Row],[Precio de Venta]]*VentasMenudeo[[#This Row],[Cantidad]]-VentasMenudeo[[#This Row],[Descuento]]),0)","v":250},250]
["2022-06-02","Hugo","IPLAY MAX","Cool mint",1,"$20 Descuento",null,{"$f":"_xlfn.IFNA(VLOOKUP(VentasMenudeo[[#This Row],[Promoción]],PromocionesMenudeo[[Promocion]:[Descuento]],2,0),0)","v":20},{"$f":"_xlfn.IFNA(VLOOKUP(VentasMenudeo[[#This Row],[Producto]],$A$2:$B$5,2,FALSE),0)","v":270},{"$f":"_xlfn.IFNA(_xlfn.IFS(VentasMenudeo[[#This Row],[Producto]]=$A$2,VentasMenudeo[[#This Row],[Precio de Venta]]*VentasMenudeo[[#This Row],[Cantidad]]-VentasMenudeo[[#This Row],[Descuento]],VentasMenudeo[[#This Row],[Producto]]=$A$3,VentasMenudeo[[#This Row],[Precio de Venta]]*VentasMenudeo[[#This Row],[Cantidad]]-VentasMenudeo[[#This Row],[Descuento]],VentasMenudeo[[#This Row],[Producto]]=$A$4,VentasMenudeo[[#This Row],[Precio de Venta]]*VentasMenudeo[[#This Row],[Cantidad]]-VentasMenudeo[[#This Row],[Descuento]],VentasMenudeo[[#This Row],[Producto]]=$A$5,VentasMenudeo[[#This Row],[Precio de Venta]]*VentasMenudeo[[#This Row],[Cantidad]]-VentasMenudeo[[#This Row],[Descuento]]),0)","v":250},250]
["2022-06-02","Hugo","IPLAY MAX","Coconut",1,"$20 Descuento",null,{"$f":"_xlfn.IFNA(VLOOKUP(VentasMenudeo[[#This Row],[Promoción]],PromocionesMenudeo[[Promocion]:[Descuento]],2,0),0)","v":20},{"$f":"_xlfn.IFNA(VLOOKUP(VentasMenudeo[[#This Row],[Producto]],$A$2:$B$5,2,FALSE),0)","v":270},{"$f":"_xlfn.IFNA(_xlfn.IFS(VentasMenudeo[[#This Row],[Producto]]=$A$2,VentasMenudeo[[#This Row],[Precio de Venta]]*VentasMenudeo[[#This Row],[Cantidad]]-VentasMenudeo[[#This Row],[Descuento]],VentasMenudeo[[#This Row],[Producto]]=$A$3,VentasMenudeo[[#This Row],[Precio de Venta]]*VentasMenudeo[[#This Row],[Cantidad]]-VentasMenudeo[[#This Row],[Descuento]],VentasMenudeo[[#This Row],[Producto]]=$A$4,VentasMenudeo[[#This Row],[Precio de Venta]]*VentasMenudeo[[#This Row],[Cantidad]]-VentasMenudeo[[#This Row],[Descuento]],VentasMenudeo[[#This Row],[Producto]]=$A$5,VentasMenudeo[[#This Row],[Precio de Venta]]*VentasMenudeo[[#This Row],[Cantidad]]-VentasMenudeo[[#This Row],[Descuento]]),0)","v":250},250]
["2022-06-02","Hugo","IPLAY MAX","Berry Watermelon",1,"$20 Descuento",null,{"$f":"_xlfn.IFNA(VLOOKUP(VentasMenudeo[[#This Row],[Promoción]],PromocionesMenudeo[[Promocion]:[Descuento]],2,0),0)","v":20},{"$f":"_xlfn.IFNA(VLOOKUP(VentasMenudeo[[#This Row],[Producto]],$A$2:$B$5,2,FALSE),0)","v":270},{"$f":"_xlfn.IFNA(_xlfn.IFS(VentasMenudeo[[#This Row],[Producto]]=$A$2,VentasMenudeo[[#This Row],[Precio de Venta]]*VentasMenudeo[[#This Row],[Cantidad]]-VentasMenudeo[[#This Row],[Descuento]],VentasMenudeo[[#This Row],[Producto]]=$A$3,VentasMenudeo[[#This Row],[Precio de Venta]]*VentasMenudeo[[#This Row],[Cantidad]]-VentasMenudeo[[#This Row],[Descuento]],VentasMenudeo[[#This Row],[Producto]]=$A$4,VentasMenudeo[[#This Row],[Precio de Venta]]*VentasMenudeo[[#This Row],[Cantidad]]-VentasMenudeo[[#This Row],[Descuento]],VentasMenudeo[[#This Row],[Producto]]=$A$5,VentasMenudeo[[#This Row],[Precio de Venta]]*VentasMenudeo[[#This Row],[Cantidad]]-VentasMenudeo[[#This Row],[Descuento]]),0)","v":250},250]
["2022-06-02","Hugo","IPLAY MAX","Cool mint",1,"$20 Descuento",null,{"$f":"_xlfn.IFNA(VLOOKUP(VentasMenudeo[[#This Row],[Promoción]],PromocionesMenudeo[[Promocion]:[Descuento]],2,0),0)","v":20},{"$f":"_xlfn.IFNA(VLOOKUP(VentasMenudeo[[#This Row],[Producto]],$A$2:$B$5,2,FALSE),0)","v":270},{"$f":"_xlfn.IFNA(_xlfn.IFS(VentasMenudeo[[#This Row],[Producto]]=$A$2,VentasMenudeo[[#This Row],[Precio de Venta]]*VentasMenudeo[[#This Row],[Cantidad]]-VentasMenudeo[[#This Row],[Descuento]],VentasMenudeo[[#This Row],[Producto]]=$A$3,VentasMenudeo[[#This Row],[Precio de Venta]]*VentasMenudeo[[#This Row],[Cantidad]]-VentasMenudeo[[#This Row],[Descuento]],VentasMenudeo[[#This Row],[Producto]]=$A$4,VentasMenudeo[[#This Row],[Precio de Venta]]*VentasMenudeo[[#This Row],[Cantidad]]-VentasMenudeo[[#This Row],[Descuento]],VentasMenudeo[[#This Row],[Producto]]=$A$5,VentasMenudeo[[#This Row],[Precio de Venta]]*VentasMenudeo[[#This Row],[Cantidad]]-VentasMenudeo[[#This Row],[Descuento]]),0)","v":250},250]
["2022-06-02","Hugo","IPLAY MAX","Peach Ice",1,"$20 Descuento",null,{"$f":"_xlfn.IFNA(VLOOKUP(VentasMenudeo[[#This Row],[Promoción]],PromocionesMenudeo[[Promocion]:[Descuento]],2,0),0)","v":20},{"$f":"_xlfn.IFNA(VLOOKUP(VentasMenudeo[[#This Row],[Producto]],$A$2:$B$5,2,FALSE),0)","v":270},{"$f":"_xlfn.IFNA(_xlfn.IFS(VentasMenudeo[[#This Row],[Producto]]=$A$2,VentasMenudeo[[#This Row],[Precio de Venta]]*VentasMenudeo[[#This Row],[Cantidad]]-VentasMenudeo[[#This Row],[Descuento]],VentasMenudeo[[#This Row],[Producto]]=$A$3,VentasMenudeo[[#This Row],[Precio de Venta]]*VentasMenudeo[[#This Row],[Cantidad]]-VentasMenudeo[[#This Row],[Descuento]],VentasMenudeo[[#This Row],[Producto]]=$A$4,VentasMenudeo[[#This Row],[Precio de Venta]]*VentasMenudeo[[#This Row],[Cantidad]]-VentasMenudeo[[#This Row],[Descuento]],VentasMenudeo[[#This Row],[Producto]]=$A$5,VentasMenudeo[[#This Row],[Precio de Venta]]*VentasMenudeo[[#This Row],[Cantidad]]-VentasMenudeo[[#This Row],[Descuento]]),0)","v":250},250]
["2022-06-02","Hugo","IPLAY MAX","Bluerazz",1,"$20 Descuento",null,{"$f":"_xlfn.IFNA(VLOOKUP(VentasMenudeo[[#This Row],[Promoción]],PromocionesMenudeo[[Promocion]:[Descuento]],2,0),0)","v":20},{"$f":"_xlfn.IFNA(VLOOKUP(VentasMenudeo[[#This Row],[Producto]],$A$2:$B$5,2,FALSE),0)","v":270},{"$f":"_xlfn.IFNA(_xlfn.IFS(VentasMenudeo[[#This Row],[Producto]]=$A$2,VentasMenudeo[[#This Row],[Precio de Venta]]*VentasMenudeo[[#This Row],[Cantidad]]-VentasMenudeo[[#This Row],[Descuento]],VentasMenudeo[[#This Row],[Producto]]=$A$3,VentasMenudeo[[#This Row],[Precio de Venta]]*VentasMenudeo[[#This Row],[Cantidad]]-VentasMenudeo[[#This Row],[Descuento]],VentasMenudeo[[#This Row],[Producto]]=$A$4,VentasMenudeo[[#This Row],[Precio de Venta]]*VentasMenudeo[[#This Row],[Cantidad]]-VentasMenudeo[[#This Row],[Descuento]],VentasMenudeo[[#This Row],[Producto]]=$A$5,VentasMenudeo[[#This Row],[Precio de Venta]]*VentasMenudeo[[#This Row],[Cantidad]]-VentasMenudeo[[#This Row],[Descuento]]),0)","v":250},250]
["2022-06-02","Hugo","IPLAY MAX","Coconut",1,"$20 Descuento",null,{"$f":"_xlfn.IFNA(VLOOKUP(VentasMenudeo[[#This Row],[Promoción]],PromocionesMenudeo[[Promocion]:[Descuento]],2,0),0)","v":20},{"$f":"_xlfn.IFNA(VLOOKUP(VentasMenudeo[[#This Row],[Producto]],$A$2:$B$5,2,FALSE),0)","v":270},{"$f":"_xlfn.IFNA(_xlfn.IFS(VentasMenudeo[[#This Row],[Producto]]=$A$2,VentasMenudeo[[#This Row],[Precio de Venta]]*VentasMenudeo[[#This Row],[Cantidad]]-VentasMenudeo[[#This Row],[Descuento]],VentasMenudeo[[#This Row],[Producto]]=$A$3,VentasMenudeo[[#This Row],[Precio de Venta]]*VentasMenudeo[[#This Row],[Cantidad]]-VentasMenudeo[[#This Row],[Descuento]],VentasMenudeo[[#This Row],[Producto]]=$A$4,VentasMenudeo[[#This Row],[Precio de Venta]]*VentasMenudeo[[#This Row],[Cantidad]]-VentasMenudeo[[#This Row],[Descuento]],VentasMenudeo[[#This Row],[Producto]]=$A$5,VentasMenudeo[[#This Row],[Precio de Venta]]*VentasMenudeo[[#This Row],[Cantidad]]-VentasMenudeo[[#This Row],[Descuento]]),0)","v":250},250]
["2022-06-02","Hugo","IPLAY MAX","Coconut",1,"$20 Descuento",null,{"$f":"_xlfn.IFNA(VLOOKUP(VentasMenudeo[[#This Row],[Promoción]],PromocionesMenudeo[[Promocion]:[Descuento]],2,0),0)","v":20},{"$f":"_xlfn.IFNA(VLOOKUP(VentasMenudeo[[#This Row],[Producto]],$A$2:$B$5,2,FALSE),0)","v":270},{"$f":"_xlfn.IFNA(_xlfn.IFS(VentasMenudeo[[#This Row],[Producto]]=$A$2,VentasMenudeo[[#This Row],[Precio de Venta]]*VentasMenudeo[[#This Row],[Cantidad]]-VentasMenudeo[[#This Row],[Descuento]],VentasMenudeo[[#This Row],[Producto]]=$A$3,VentasMenudeo[[#This Row],[Precio de Venta]]*VentasMenudeo[[#This Row],[Cantidad]]-VentasMenudeo[[#This Row],[Descuento]],VentasMenudeo[[#This Row],[Producto]]=$A$4,VentasMenudeo[[#This Row],[Precio de Venta]]*VentasMenudeo[[#This Row],[Cantidad]]-VentasMenudeo[[#This Row],[Descuento]],VentasMenudeo[[#This Row],[Producto]]=$A$5,VentasMenudeo[[#This Row],[Precio de Venta]]*VentasMenudeo[[#This Row],[Cantidad]]-VentasMenudeo[[#This Row],[Descuento]]),0)","v":250},250]
["2022-06-02","Hugo","IPLAY MAX","Bluerazz",1,"$20 Descuento",null,{"$f":"_xlfn.IFNA(VLOOKUP(VentasMenudeo[[#This Row],[Promoción]],PromocionesMenudeo[[Promocion]:[Descuento]],2,0),0)","v":20},{"$f":"_xlfn.IFNA(VLOOKUP(VentasMenudeo[[#This Row],[Producto]],$A$2:$B$5,2,FALSE),0)","v":270},{"$f":"_xlfn.IFNA(_xlfn.IFS(VentasMenudeo[[#This Row],[Producto]]=$A$2,VentasMenudeo[[#This Row],[Precio de Venta]]*VentasMenudeo[[#This Row],[Cantidad]]-VentasMenudeo[[#This Row],[Descuento]],VentasMenudeo[[#This Row],[Producto]]=$A$3,VentasMenudeo[[#This Row],[Precio de Venta]]*VentasMenudeo[[#This Row],[Cantidad]]-VentasMenudeo[[#This Row],[Descuento]],VentasMenudeo[[#This Row],[Producto]]=$A$4,VentasMenudeo[[#This Row],[Precio de Venta]]*VentasMenudeo[[#This Row],[Cantidad]]-VentasMenudeo[[#This Row],[Descuento]],VentasMenudeo[[#This Row],[Producto]]=$A$5,VentasMenudeo[[#This Row],[Precio de Venta]]*VentasMenudeo[[#This Row],[Cantidad]]-VentasMenudeo[[#This Row],[Descuento]]),0)","v":250},250]
["2022-06-02","Hugo","IPLAY MAX","Bluerazz",1,"$20 Descuento",null,{"$f":"_xlfn.IFNA(VLOOKUP(VentasMenudeo[[#This Row],[Promoción]],PromocionesMenudeo[[Promocion]:[Descuento]],2,0),0)","v":20},{"$f":"_xlfn.IFNA(VLOOKUP(VentasMenudeo[[#This Row],[Producto]],$A$2:$B$5,2,FALSE),0)","v":270},{"$f":"_xlfn.IFNA(_xlfn.IFS(VentasMenudeo[[#This Row],[Producto]]=$A$2,VentasMenudeo[[#This Row],[Precio de Venta]]*VentasMenudeo[[#This Row],[Cantidad]]-VentasMenudeo[[#This Row],[Descuento]],VentasMenudeo[[#This Row],[Producto]]=$A$3,VentasMenudeo[[#This Row],[Precio de Venta]]*VentasMenudeo[[#This Row],[Cantidad]]-VentasMenudeo[[#This Row],[Descuento]],VentasMenudeo[[#This Row],[Producto]]=$A$4,VentasMenudeo[[#This Row],[Precio de Venta]]*VentasMenudeo[[#This Row],[Cantidad]]-VentasMenudeo[[#This Row],[Descuento]],VentasMenudeo[[#This Row],[Producto]]=$A$5,VentasMenudeo[[#This Row],[Precio de Venta]]*VentasMenudeo[[#This Row],[Cantidad]]-VentasMenudeo[[#This Row],[Descuento]]),0)","v":250},250]
["2022-06-02","Hugo","IPLAY MAX","Bluerazz",1,"$20 Descuento",null,{"$f":"_xlfn.IFNA(VLOOKUP(VentasMenudeo[[#This Row],[Promoción]],PromocionesMenudeo[[Promocion]:[Descuento]],2,0),0)","v":20},{"$f":"_xlfn.IFNA(VLOOKUP(VentasMenudeo[[#This Row],[Producto]],$A$2:$B$5,2,FALSE),0)","v":270},{"$f":"_xlfn.IFNA(_xlfn.IFS(VentasMenudeo[[#This Row],[Producto]]=$A$2,VentasMenudeo[[#This Row],[Precio de Venta]]*VentasMenudeo[[#This Row],[Cantidad]]-VentasMenudeo[[#This Row],[Descuento]],VentasMenudeo[[#This Row],[Producto]]=$A$3,VentasMenudeo[[#This Row],[Precio de Venta]]*VentasMenudeo[[#This Row],[Cantidad]]-VentasMenudeo[[#This Row],[Descuento]],VentasMenudeo[[#This Row],[Producto]]=$A$4,VentasMenudeo[[#This Row],[Precio de Venta]]*VentasMenudeo[[#This Row],[Cantidad]]-VentasMenudeo[[#This Row],[Descuento]],VentasMenudeo[[#This Row],[Producto]]=$A$5,VentasMenudeo[[#This Row],[Precio de Venta]]*VentasMenudeo[[#This Row],[Cantidad]]-VentasMenudeo[[#This Row],[Descuento]]),0)","v":250},250]
["2022-06-02","Hugo","IPLAY MAX","Grapestraw",1,"$20 Descuento",null,{"$f":"_xlfn.IFNA(VLOOKUP(VentasMenudeo[[#This Row],[Promoción]],PromocionesMenudeo[[Promocion]:[Descuento]],2,0),0)","v":20},{"$f":"_xlfn.IFNA(VLOOKUP(VentasMenudeo[[#This Row],[Producto]],$A$2:$B$5,2,FALSE),0)","v":270},{"$f":"_xlfn.IFNA(_xlfn.IFS(VentasMenudeo[[#This Row],[Producto]]=$A$2,VentasMenudeo[[#This Row],[Precio de Venta]]*VentasMenudeo[[#This Row],[Cantidad]]-VentasMenudeo[[#This Row],[Descuento]],VentasMenudeo[[#This Row],[Producto]]=$A$3,VentasMenudeo[[#This Row],[Precio de Venta]]*VentasMenudeo[[#This Row],[Cantidad]]-VentasMenudeo[[#This Row],[Descuento]],VentasMenudeo[[#This Row],[Producto]]=$A$4,VentasMenudeo[[#This Row],[Precio de Venta]]*VentasMenudeo[[#This Row],[Cantidad]]-VentasMenudeo[[#This Row],[Descuento]],VentasMenudeo[[#This Row],[Producto]]=$A$5,VentasMenudeo[[#This Row],[Precio de Venta]]*VentasMenudeo[[#This Row],[Cantidad]]-VentasMenudeo[[#This Row],[Descuento]]),0)","v":250},250]
["2022-06-02","Hugo","IPLAY MAX","Grapestraw",1,"$20 Descuento",null,{"$f":"_xlfn.IFNA(VLOOKUP(VentasMenudeo[[#This Row],[Promoción]],PromocionesMenudeo[[Promocion]:[Descuento]],2,0),0)","v":20},{"$f":"_xlfn.IFNA(VLOOKUP(VentasMenudeo[[#This Row],[Producto]],$A$2:$B$5,2,FALSE),0)","v":270},{"$f":"_xlfn.IFNA(_xlfn.IFS(VentasMenudeo[[#This Row],[Producto]]=$A$2,VentasMenudeo[[#This Row],[Precio de Venta]]*VentasMenudeo[[#This Row],[Cantidad]]-VentasMenudeo[[#This Row],[Descuento]],VentasMenudeo[[#This Row],[Producto]]=$A$3,VentasMenudeo[[#This Row],[Precio de Venta]]*VentasMenudeo[[#This Row],[Cantidad]]-VentasMenudeo[[#This Row],[Descuento]],VentasMenudeo[[#This Row],[Producto]]=$A$4,VentasMenudeo[[#This Row],[Precio de Venta]]*VentasMenudeo[[#This Row],[Cantidad]]-VentasMenudeo[[#This Row],[Descuento]],VentasMenudeo[[#This Row],[Producto]]=$A$5,VentasMenudeo[[#This Row],[Precio de Venta]]*VentasMenudeo[[#This Row],[Cantidad]]-VentasMenudeo[[#This Row],[Descuento]]),0)","v":250},250]
["2022-06-02","Hugo","IPLAY MAX","Guava",1,"$20 Descuento",null,{"$f":"_xlfn.IFNA(VLOOKUP(VentasMenudeo[[#This Row],[Promoción]],PromocionesMenudeo[[Promocion]:[Descuento]],2,0),0)","v":20},{"$f":"_xlfn.IFNA(VLOOKUP(VentasMenudeo[[#This Row],[Producto]],$A$2:$B$5,2,FALSE),0)","v":270},{"$f":"_xlfn.IFNA(_xlfn.IFS(VentasMenudeo[[#This Row],[Producto]]=$A$2,VentasMenudeo[[#This Row],[Precio de Venta]]*VentasMenudeo[[#This Row],[Cantidad]]-VentasMenudeo[[#This Row],[Descuento]],VentasMenudeo[[#This Row],[Producto]]=$A$3,VentasMenudeo[[#This Row],[Precio de Venta]]*VentasMenudeo[[#This Row],[Cantidad]]-VentasMenudeo[[#This Row],[Descuento]],VentasMenudeo[[#This Row],[Producto]]=$A$4,VentasMenudeo[[#This Row],[Precio de Venta]]*VentasMenudeo[[#This Row],[Cantidad]]-VentasMenudeo[[#This Row],[Descuento]],VentasMenudeo[[#This Row],[Producto]]=$A$5,VentasMenudeo[[#This Row],[Precio de Venta]]*VentasMenudeo[[#This Row],[Cantidad]]-VentasMenudeo[[#This Row],[Descuento]]),0)","v":250},250]
["2022-06-03","Hugo","IPLAY MAX","Berry Watermelon",1,"$20 Descuento",null,{"$f":"_xlfn.IFNA(VLOOKUP(VentasMenudeo[[#This Row],[Promoción]],PromocionesMenudeo[[Promocion]:[Descuento]],2,0),0)","v":20},{"$f":"_xlfn.IFNA(VLOOKUP(VentasMenudeo[[#This Row],[Producto]],$A$2:$B$5,2,FALSE),0)","v":270},{"$f":"_xlfn.IFNA(_xlfn.IFS(VentasMenudeo[[#This Row],[Producto]]=$A$2,VentasMenudeo[[#This Row],[Precio de Venta]]*VentasMenudeo[[#This Row],[Cantidad]]-VentasMenudeo[[#This Row],[Descuento]],VentasMenudeo[[#This Row],[Producto]]=$A$3,VentasMenudeo[[#This Row],[Precio de Venta]]*VentasMenudeo[[#This Row],[Cantidad]]-VentasMenudeo[[#This Row],[Descuento]],VentasMenudeo[[#This Row],[Producto]]=$A$4,VentasMenudeo[[#This Row],[Precio de Venta]]*VentasMenudeo[[#This Row],[Cantidad]]-VentasMenudeo[[#This Row],[Descuento]],VentasMenudeo[[#This Row],[Producto]]=$A$5,VentasMenudeo[[#This Row],[Precio de Venta]]*VentasMenudeo[[#This Row],[Cantidad]]-VentasMenudeo[[#This Row],[Descuento]]),0)","v":250},250]
["2022-06-03","Hugo","IPLAY MAX","Coconut",1,"$20 Descuento",null,{"$f":"_xlfn.IFNA(VLOOKUP(VentasMenudeo[[#This Row],[Promoción]],PromocionesMenudeo[[Promocion]:[Descuento]],2,0),0)","v":20},{"$f":"_xlfn.IFNA(VLOOKUP(VentasMenudeo[[#This Row],[Producto]],$A$2:$B$5,2,FALSE),0)","v":270},{"$f":"_xlfn.IFNA(_xlfn.IFS(VentasMenudeo[[#This Row],[Producto]]=$A$2,VentasMenudeo[[#This Row],[Precio de Venta]]*VentasMenudeo[[#This Row],[Cantidad]]-VentasMenudeo[[#This Row],[Descuento]],VentasMenudeo[[#This Row],[Producto]]=$A$3,VentasMenudeo[[#This Row],[Precio de Venta]]*VentasMenudeo[[#This Row],[Cantidad]]-VentasMenudeo[[#This Row],[Descuento]],VentasMenudeo[[#This Row],[Producto]]=$A$4,VentasMenudeo[[#This Row],[Precio de Venta]]*VentasMenudeo[[#This Row],[Cantidad]]-VentasMenudeo[[#This Row],[Descuento]],VentasMenudeo[[#This Row],[Producto]]=$A$5,VentasMenudeo[[#This Row],[Precio de Venta]]*VentasMenudeo[[#This Row],[Cantidad]]-VentasMenudeo[[#This Row],[Descuento]]),0)","v":250},250]
["2022-06-06","Hugo","IPLAY MAX","Sour Apple",1,"$20 Descuento",null,{"$f":"_xlfn.IFNA(VLOOKUP(VentasMenudeo[[#This Row],[Promoción]],PromocionesMenudeo[[Promocion]:[Descuento]],2,0),0)","v":20},{"$f":"_xlfn.IFNA(VLOOKUP(VentasMenudeo[[#This Row],[Producto]],$A$2:$B$5,2,FALSE),0)","v":270},{"$f":"_xlfn.IFNA(_xlfn.IFS(VentasMenudeo[[#This Row],[Producto]]=$A$2,VentasMenudeo[[#This Row],[Precio de Venta]]*VentasMenudeo[[#This Row],[Cantidad]]-VentasMenudeo[[#This Row],[Descuento]],VentasMenudeo[[#This Row],[Producto]]=$A$3,VentasMenudeo[[#This Row],[Precio de Venta]]*VentasMenudeo[[#This Row],[Cantidad]]-VentasMenudeo[[#This Row],[Descuento]],VentasMenudeo[[#This Row],[Producto]]=$A$4,VentasMenudeo[[#This Row],[Precio de Venta]]*VentasMenudeo[[#This Row],[Cantidad]]-VentasMenudeo[[#This Row],[Descuento]],VentasMenudeo[[#This Row],[Producto]]=$A$5,VentasMenudeo[[#This Row],[Precio de Venta]]*VentasMenudeo[[#This Row],[Cantidad]]-VentasMenudeo[[#This Row],[Descuento]]),0)","v":250},250]
["2022-06-06","Hugo","IPLAY MAX","Berry Watermelon",1,"$20 Descuento",null,{"$f":"_xlfn.IFNA(VLOOKUP(VentasMenudeo[[#This Row],[Promoción]],PromocionesMenudeo[[Promocion]:[Descuento]],2,0),0)","v":20},{"$f":"_xlfn.IFNA(VLOOKUP(VentasMenudeo[[#This Row],[Producto]],$A$2:$B$5,2,FALSE),0)","v":270},{"$f":"_xlfn.IFNA(_xlfn.IFS(VentasMenudeo[[#This Row],[Producto]]=$A$2,VentasMenudeo[[#This Row],[Precio de Venta]]*VentasMenudeo[[#This Row],[Cantidad]]-VentasMenudeo[[#This Row],[Descuento]],VentasMenudeo[[#This Row],[Producto]]=$A$3,VentasMenudeo[[#This Row],[Precio de Venta]]*VentasMenudeo[[#This Row],[Cantidad]]-VentasMenudeo[[#This Row],[Descuento]],VentasMenudeo[[#This Row],[Producto]]=$A$4,VentasMenudeo[[#This Row],[Precio de Venta]]*VentasMenudeo[[#This Row],[Cantidad]]-VentasMenudeo[[#This Row],[Descuento]],VentasMenudeo[[#This Row],[Producto]]=$A$5,VentasMenudeo[[#This Row],[Precio de Venta]]*VentasMenudeo[[#This Row],[Cantidad]]-VentasMenudeo[[#This Row],[Descuento]]),0)","v":250},250]
["2022-06-06","Hugo","IPLAY MAX","Coconut",1,"$20 Descuento",null,{"$f":"_xlfn.IFNA(VLOOKUP(VentasMenudeo[[#This Row],[Promoción]],PromocionesMenudeo[[Promocion]:[Descuento]],2,0),0)","v":20},{"$f":"_xlfn.IFNA(VLOOKUP(VentasMenudeo[[#This Row],[Producto]],$A$2:$B$5,2,FALSE),0)","v":270},{"$f":"_xlfn.IFNA(_xlfn.IFS(VentasMenudeo[[#This Row],[Producto]]=$A$2,VentasMenudeo[[#This Row],[Precio de Venta]]*VentasMenudeo[[#This Row],[Cantidad]]-VentasMenudeo[[#This Row],[Descuento]],VentasMenudeo[[#This Row],[Producto]]=$A$3,VentasMenudeo[[#This Row],[Precio de Venta]]*VentasMenudeo[[#This Row],[Cantidad]]-VentasMenudeo[[#This Row],[Descuento]],VentasMenudeo[[#This Row],[Producto]]=$A$4,VentasMenudeo[[#This Row],[Precio de Venta]]*VentasMenudeo[[#This Row],[Cantidad]]-VentasMenudeo[[#This Row],[Descuento]],VentasMenudeo[[#This Row],[Producto]]=$A$5,VentasMenudeo[[#This Row],[Precio de Venta]]*VentasMenudeo[[#This Row],[Cantidad]]-VentasMenudeo[[#This Row],[Descuento]]),0)","v":250},250]
["2022-06-06","Hugo","IPLAY MAX","Coconut",1,"$20 Descuento",null,{"$f":"_xlfn.IFNA(VLOOKUP(VentasMenudeo[[#This Row],[Promoción]],PromocionesMenudeo[[Promocion]:[Descuento]],2,0),0)","v":20},{"$f":"_xlfn.IFNA(VLOOKUP(VentasMenudeo[[#This Row],[Producto]],$A$2:$B$5,2,FALSE),0)","v":270},{"$f":"_xlfn.IFNA(_xlfn.IFS(VentasMenudeo[[#This Row],[Producto]]=$A$2,VentasMenudeo[[#This Row],[Precio de Venta]]*VentasMenudeo[[#This Row],[Cantidad]]-VentasMenudeo[[#This Row],[Descuento]],VentasMenudeo[[#This Row],[Producto]]=$A$3,VentasMenudeo[[#This Row],[Precio de Venta]]*VentasMenudeo[[#This Row],[Cantidad]]-VentasMenudeo[[#This Row],[Descuento]],VentasMenudeo[[#This Row],[Producto]]=$A$4,VentasMenudeo[[#This Row],[Precio de Venta]]*VentasMenudeo[[#This Row],[Cantidad]]-VentasMenudeo[[#This Row],[Descuento]],VentasMenudeo[[#This Row],[Producto]]=$A$5,VentasMenudeo[[#This Row],[Precio de Venta]]*VentasMenudeo[[#This Row],[Cantidad]]-VentasMenudeo[[#This Row],[Descuento]]),0)","v":250},250]
["2022-06-06","Hugo","IPLAY MAX","Bluerazz",1,"$20 Descuento",null,{"$f":"_xlfn.IFNA(VLOOKUP(VentasMenudeo[[#This Row],[Promoción]],PromocionesMenudeo[[Promocion]:[Descuento]],2,0),0)","v":20},{"$f":"_xlfn.IFNA(VLOOKUP(VentasMenudeo[[#This Row],[Producto]],$A$2:$B$5,2,FALSE),0)","v":270},{"$f":"_xlfn.IFNA(_xlfn.IFS(VentasMenudeo[[#This Row],[Producto]]=$A$2,VentasMenudeo[[#This Row],[Precio de Venta]]*VentasMenudeo[[#This Row],[Cantidad]]-VentasMenudeo[[#This Row],[Descuento]],VentasMenudeo[[#This Row],[Producto]]=$A$3,VentasMenudeo[[#This Row],[Precio de Venta]]*VentasMenudeo[[#This Row],[Cantidad]]-VentasMenudeo[[#This Row],[Descuento]],VentasMenudeo[[#This Row],[Producto]]=$A$4,VentasMenudeo[[#This Row],[Precio de Venta]]*VentasMenudeo[[#This Row],[Cantidad]]-VentasMenudeo[[#This Row],[Descuento]],VentasMenudeo[[#This Row],[Producto]]=$A$5,VentasMenudeo[[#This Row],[Precio de Venta]]*VentasMenudeo[[#This Row],[Cantidad]]-VentasMenudeo[[#This Row],[Descuento]]),0)","v":250},250]
["2022-06-06","Hugo","IPLAY MAX","Lemon cookies",1,"$20 Descuento",null,{"$f":"_xlfn.IFNA(VLOOKUP(VentasMenudeo[[#This Row],[Promoción]],PromocionesMenudeo[[Promocion]:[Descuento]],2,0),0)","v":20},{"$f":"_xlfn.IFNA(VLOOKUP(VentasMenudeo[[#This Row],[Producto]],$A$2:$B$5,2,FALSE),0)","v":270},{"$f":"_xlfn.IFNA(_xlfn.IFS(VentasMenudeo[[#This Row],[Producto]]=$A$2,VentasMenudeo[[#This Row],[Precio de Venta]]*VentasMenudeo[[#This Row],[Cantidad]]-VentasMenudeo[[#This Row],[Descuento]],VentasMenudeo[[#This Row],[Producto]]=$A$3,VentasMenudeo[[#This Row],[Precio de Venta]]*VentasMenudeo[[#This Row],[Cantidad]]-VentasMenudeo[[#This Row],[Descuento]],VentasMenudeo[[#This Row],[Producto]]=$A$4,VentasMenudeo[[#This Row],[Precio de Venta]]*VentasMenudeo[[#This Row],[Cantidad]]-VentasMenudeo[[#This Row],[Descuento]],VentasMenudeo[[#This Row],[Producto]]=$A$5,VentasMenudeo[[#This Row],[Precio de Venta]]*VentasMenudeo[[#This Row],[Cantidad]]-VentasMenudeo[[#This Row],[Descuento]]),0)","v":250},250]
["2022-06-06","Hugo","IPLAY MAX","Bluerazz",1,"$20 Descuento",null,{"$f":"_xlfn.IFNA(VLOOKUP(VentasMenudeo[[#This Row],[Promoción]],PromocionesMenudeo[[Promocion]:[Descuento]],2,0),0)","v":20},{"$f":"_xlfn.IFNA(VLOOKUP(VentasMenudeo[[#This Row],[Producto]],$A$2:$B$5,2,FALSE),0)","v":270},{"$f":"_xlfn.IFNA(_xlfn.IFS(VentasMenudeo[[#This Row],[Producto]]=$A$2,VentasMenudeo[[#This Row],[Precio de Venta]]*VentasMenudeo[[#This Row],[Cantidad]]-VentasMenudeo[[#This Row],[Descuento]],VentasMenudeo[[#This Row],[Producto]]=$A$3,VentasMenudeo[[#This Row],[Precio de Venta]]*VentasMenudeo[[#This Row],[Cantidad]]-VentasMenudeo[[#This Row],[Descuento]],VentasMenudeo[[#This Row],[Producto]]=$A$4,VentasMenudeo[[#This Row],[Precio de Venta]]*VentasMenudeo[[#This Row],[Cantidad]]-VentasMenudeo[[#This Row],[Descuento]],VentasMenudeo[[#This Row],[Producto]]=$A$5,VentasMenudeo[[#This Row],[Precio de Venta]]*VentasMenudeo[[#This Row],[Cantidad]]-VentasMenudeo[[#This Row],[Descuento]]),0)","v":250},250]
["2022-06-06","Hugo","IPLAY MAX","Berry Watermelon",1,"$20 Descuento",null,{"$f":"_xlfn.IFNA(VLOOKUP(VentasMenudeo[[#This Row],[Promoción]],PromocionesMenudeo[[Promocion]:[Descuento]],2,0),0)","v":20},{"$f":"_xlfn.IFNA(VLOOKUP(VentasMenudeo[[#This Row],[Producto]],$A$2:$B$5,2,FALSE),0)","v":270},{"$f":"_xlfn.IFNA(_xlfn.IFS(VentasMenudeo[[#This Row],[Producto]]=$A$2,VentasMenudeo[[#This Row],[Precio de Venta]]*VentasMenudeo[[#This Row],[Cantidad]]-VentasMenudeo[[#This Row],[Descuento]],VentasMenudeo[[#This Row],[Producto]]=$A$3,VentasMenudeo[[#This Row],[Precio de Venta]]*VentasMenudeo[[#This Row],[Cantidad]]-VentasMenudeo[[#This Row],[Descuento]],VentasMenudeo[[#This Row],[Producto]]=$A$4,VentasMenudeo[[#This Row],[Precio de Venta]]*VentasMenudeo[[#This Row],[Cantidad]]-VentasMenudeo[[#This Row],[Descuento]],VentasMenudeo[[#This Row],[Producto]]=$A$5,VentasMenudeo[[#This Row],[Precio de Venta]]*VentasMenudeo[[#This Row],[Cantidad]]-VentasMenudeo[[#This Row],[Descuento]]),0)","v":250},250]
["2022-06-16","Hugo","IPLAY MAX","Berry Watermelon",1,"$20 Descuento",null,{"$f":"_xlfn.IFNA(VLOOKUP(VentasMenudeo[[#This Row],[Promoción]],PromocionesMenudeo[[Promocion]:[Descuento]],2,0),0)","v":20},{"$f":"_xlfn.IFNA(VLOOKUP(VentasMenudeo[[#This Row],[Producto]],$A$2:$B$5,2,FALSE),0)","v":270},{"$f":"_xlfn.IFNA(_xlfn.IFS(VentasMenudeo[[#This Row],[Producto]]=$A$2,VentasMenudeo[[#This Row],[Precio de Venta]]*VentasMenudeo[[#This Row],[Cantidad]]-VentasMenudeo[[#This Row],[Descuento]],VentasMenudeo[[#This Row],[Producto]]=$A$3,VentasMenudeo[[#This Row],[Precio de Venta]]*VentasMenudeo[[#This Row],[Cantidad]]-VentasMenudeo[[#This Row],[Descuento]],VentasMenudeo[[#This Row],[Producto]]=$A$4,VentasMenudeo[[#This Row],[Precio de Venta]]*VentasMenudeo[[#This Row],[Cantidad]]-VentasMenudeo[[#This Row],[Descuento]],VentasMenudeo[[#This Row],[Producto]]=$A$5,VentasMenudeo[[#This Row],[Precio de Venta]]*VentasMenudeo[[#This Row],[Cantidad]]-VentasMenudeo[[#This Row],[Descuento]]),0)","v":250},250]
["2022-06-16","Hugo","IPLAY MAX","Berry Watermelon",1,"$20 Descuento",null,{"$f":"_xlfn.IFNA(VLOOKUP(VentasMenudeo[[#This Row],[Promoción]],PromocionesMenudeo[[Promocion]:[Descuento]],2,0),0)","v":20},{"$f":"_xlfn.IFNA(VLOOKUP(VentasMenudeo[[#This Row],[Producto]],$A$2:$B$5,2,FALSE),0)","v":270},{"$f":"_xlfn.IFNA(_xlfn.IFS(VentasMenudeo[[#This Row],[Producto]]=$A$2,VentasMenudeo[[#This Row],[Precio de Venta]]*VentasMenudeo[[#This Row],[Cantidad]]-VentasMenudeo[[#This Row],[Descuento]],VentasMenudeo[[#This Row],[Producto]]=$A$3,VentasMenudeo[[#This Row],[Precio de Venta]]*VentasMenudeo[[#This Row],[Cantidad]]-VentasMenudeo[[#This Row],[Descuento]],VentasMenudeo[[#This Row],[Producto]]=$A$4,VentasMenudeo[[#This Row],[Precio de Venta]]*VentasMenudeo[[#This Row],[Cantidad]]-VentasMenudeo[[#This Row],[Descuento]],VentasMenudeo[[#This Row],[Producto]]=$A$5,VentasMenudeo[[#This Row],[Precio de Venta]]*VentasMenudeo[[#This Row],[Cantidad]]-VentasMenudeo[[#This Row],[Descuento]]),0)","v":250},250]
["2022-06-16","Hugo","IPLAY MAX","Sour Apple",1,"$20 Descuento",null,{"$f":"_xlfn.IFNA(VLOOKUP(VentasMenudeo[[#This Row],[Promoción]],PromocionesMenudeo[[Promocion]:[Descuento]],2,0),0)","v":20},{"$f":"_xlfn.IFNA(VLOOKUP(VentasMenudeo[[#This Row],[Producto]],$A$2:$B$5,2,FALSE),0)","v":270},{"$f":"_xlfn.IFNA(_xlfn.IFS(VentasMenudeo[[#This Row],[Producto]]=$A$2,VentasMenudeo[[#This Row],[Precio de Venta]]*VentasMenudeo[[#This Row],[Cantidad]]-VentasMenudeo[[#This Row],[Descuento]],VentasMenudeo[[#This Row],[Producto]]=$A$3,VentasMenudeo[[#This Row],[Precio de Venta]]*VentasMenudeo[[#This Row],[Cantidad]]-VentasMenudeo[[#This Row],[Descuento]],VentasMenudeo[[#This Row],[Producto]]=$A$4,VentasMenudeo[[#This Row],[Precio de Venta]]*VentasMenudeo[[#This Row],[Cantidad]]-VentasMenudeo[[#This Row],[Descuento]],VentasMenudeo[[#This Row],[Producto]]=$A$5,VentasMenudeo[[#This Row],[Precio de Venta]]*VentasMenudeo[[#This Row],[Cantidad]]-VentasMenudeo[[#This Row],[Descuento]]),0)","v":250},250]
["2022-06-16","Hugo","IPLAY MAX","Sour Apple",1,"$20 Descuento",null,{"$f":"_xlfn.IFNA(VLOOKUP(VentasMenudeo[[#This Row],[Promoción]],PromocionesMenudeo[[Promocion]:[Descuento]],2,0),0)","v":20},{"$f":"_xlfn.IFNA(VLOOKUP(VentasMenudeo[[#This Row],[Producto]],$A$2:$B$5,2,FALSE),0)","v":270},{"$f":"_xlfn.IFNA(_xlfn.IFS(VentasMenudeo[[#This Row],[Producto]]=$A$2,VentasMenudeo[[#This Row],[Precio de Venta]]*VentasMenudeo[[#This Row],[Cantidad]]-VentasMenudeo[[#This Row],[Descuento]],VentasMenudeo[[#This Row],[Producto]]=$A$3,VentasMenudeo[[#This Row],[Precio de Venta]]*VentasMenudeo[[#This Row],[Cantidad]]-VentasMenudeo[[#This Row],[Descuento]],VentasMenudeo[[#This Row],[Producto]]=$A$4,VentasMenudeo[[#This Row],[Precio de Venta]]*VentasMenudeo[[#This Row],[Cantidad]]-VentasMenudeo[[#This Row],[Descuento]],VentasMenudeo[[#This Row],[Producto]]=$A$5,VentasMenudeo[[#This Row],[Precio de Venta]]*VentasMenudeo[[#This Row],[Cantidad]]-VentasMenudeo[[#This Row],[Descuento]]),0)","v":250},250]
["2022-06-16","Hugo","IPLAY MAX","Bluerazz",1,"$20 Descuento",null,{"$f":"_xlfn.IFNA(VLOOKUP(VentasMenudeo[[#This Row],[Promoción]],PromocionesMenudeo[[Promocion]:[Descuento]],2,0),0)","v":20},{"$f":"_xlfn.IFNA(VLOOKUP(VentasMenudeo[[#This Row],[Producto]],$A$2:$B$5,2,FALSE),0)","v":270},{"$f":"_xlfn.IFNA(_xlfn.IFS(VentasMenudeo[[#This Row],[Producto]]=$A$2,VentasMenudeo[[#This Row],[Precio de Venta]]*VentasMenudeo[[#This Row],[Cantidad]]-VentasMenudeo[[#This Row],[Descuento]],VentasMenudeo[[#This Row],[Producto]]=$A$3,VentasMenudeo[[#This Row],[Precio de Venta]]*VentasMenudeo[[#This Row],[Cantidad]]-VentasMenudeo[[#This Row],[Descuento]],VentasMenudeo[[#This Row],[Producto]]=$A$4,VentasMenudeo[[#This Row],[Precio de Venta]]*VentasMenudeo[[#This Row],[Cantidad]]-VentasMenudeo[[#This Row],[Descuento]],VentasMenudeo[[#This Row],[Producto]]=$A$5,VentasMenudeo[[#This Row],[Precio de Venta]]*VentasMenudeo[[#This Row],[Cantidad]]-VentasMenudeo[[#This Row],[Descuento]]),0)","v":250},250]
["2022-06-16","Hugo","IPLAY MAX","Berry Watermelon",1,"$20 Descuento",null,{"$f":"_xlfn.IFNA(VLOOKUP(VentasMenudeo[[#This Row],[Promoción]],PromocionesMenudeo[[Promocion]:[Descuento]],2,0),0)","v":20},{"$f":"_xlfn.IFNA(VLOOKUP(VentasMenudeo[[#This Row],[Producto]],$A$2:$B$5,2,FALSE),0)","v":270},{"$f":"_xlfn.IFNA(_xlfn.IFS(VentasMenudeo[[#This Row],[Producto]]=$A$2,VentasMenudeo[[#This Row],[Precio de Venta]]*VentasMenudeo[[#This Row],[Cantidad]]-VentasMenudeo[[#This Row],[Descuento]],VentasMenudeo[[#This Row],[Producto]]=$A$3,VentasMenudeo[[#This Row],[Precio de Venta]]*VentasMenudeo[[#This Row],[Cantidad]]-VentasMenudeo[[#This Row],[Descuento]],VentasMenudeo[[#This Row],[Producto]]=$A$4,VentasMenudeo[[#This Row],[Precio de Venta]]*VentasMenudeo[[#This Row],[Cantidad]]-VentasMenudeo[[#This Row],[Descuento]],VentasMenudeo[[#This Row],[Producto]]=$A$5,VentasMenudeo[[#This Row],[Precio de Venta]]*VentasMenudeo[[#This Row],[Cantidad]]-VentasMenudeo[[#This Row],[Descuento]]),0)","v":250},250]
["2022-06-16","Hugo","IPLAY MAX","GrapeFruit berry",1,"$20 Descuento",null,{"$f":"_xlfn.IFNA(VLOOKUP(VentasMenudeo[[#This Row],[Promoción]],PromocionesMenudeo[[Promocion]:[Descuento]],2,0),0)","v":20},{"$f":"_xlfn.IFNA(VLOOKUP(VentasMenudeo[[#This Row],[Producto]],$A$2:$B$5,2,FALSE),0)","v":270},{"$f":"_xlfn.IFNA(_xlfn.IFS(VentasMenudeo[[#This Row],[Producto]]=$A$2,VentasMenudeo[[#This Row],[Precio de Venta]]*VentasMenudeo[[#This Row],[Cantidad]]-VentasMenudeo[[#This Row],[Descuento]],VentasMenudeo[[#This Row],[Producto]]=$A$3,VentasMenudeo[[#This Row],[Precio de Venta]]*VentasMenudeo[[#This Row],[Cantidad]]-VentasMenudeo[[#This Row],[Descuento]],VentasMenudeo[[#This Row],[Producto]]=$A$4,VentasMenudeo[[#This Row],[Precio de Venta]]*VentasMenudeo[[#This Row],[Cantidad]]-VentasMenudeo[[#This Row],[Descuento]],VentasMenudeo[[#This Row],[Producto]]=$A$5,VentasMenudeo[[#This Row],[Precio de Venta]]*VentasMenudeo[[#This Row],[Cantidad]]-VentasMenudeo[[#This Row],[Descuento]]),0)","v":250},250]
["2022-06-16","Hugo","IPLAY MAX","Guava",1,"$20 Descuento",null,{"$f":"_xlfn.IFNA(VLOOKUP(VentasMenudeo[[#This Row],[Promoción]],PromocionesMenudeo[[Promocion]:[Descuento]],2,0),0)","v":20},{"$f":"_xlfn.IFNA(VLOOKUP(VentasMenudeo[[#This Row],[Producto]],$A$2:$B$5,2,FALSE),0)","v":270},{"$f":"_xlfn.IFNA(_xlfn.IFS(VentasMenudeo[[#This Row],[Producto]]=$A$2,VentasMenudeo[[#This Row],[Precio de Venta]]*VentasMenudeo[[#This Row],[Cantidad]]-VentasMenudeo[[#This Row],[Descuento]],VentasMenudeo[[#This Row],[Producto]]=$A$3,VentasMenudeo[[#This Row],[Precio de Venta]]*VentasMenudeo[[#This Row],[Cantidad]]-VentasMenudeo[[#This Row],[Descuento]],VentasMenudeo[[#This Row],[Producto]]=$A$4,VentasMenudeo[[#This Row],[Precio de Venta]]*VentasMenudeo[[#This Row],[Cantidad]]-VentasMenudeo[[#This Row],[Descuento]],VentasMenudeo[[#This Row],[Producto]]=$A$5,VentasMenudeo[[#This Row],[Precio de Venta]]*VentasMenudeo[[#This Row],[Cantidad]]-VentasMenudeo[[#This Row],[Descuento]]),0)","v":250},250]
["2022-06-16","Hugo","IPLAY MAX","Guava",1,"$20 Descuento",null,{"$f":"_xlfn.IFNA(VLOOKUP(VentasMenudeo[[#This Row],[Promoción]],PromocionesMenudeo[[Promocion]:[Descuento]],2,0),0)","v":20},{"$f":"_xlfn.IFNA(VLOOKUP(VentasMenudeo[[#This Row],[Producto]],$A$2:$B$5,2,FALSE),0)","v":270},{"$f":"_xlfn.IFNA(_xlfn.IFS(VentasMenudeo[[#This Row],[Producto]]=$A$2,VentasMenudeo[[#This Row],[Precio de Venta]]*VentasMenudeo[[#This Row],[Cantidad]]-VentasMenudeo[[#This Row],[Descuento]],VentasMenudeo[[#This Row],[Producto]]=$A$3,VentasMenudeo[[#This Row],[Precio de Venta]]*VentasMenudeo[[#This Row],[Cantidad]]-VentasMenudeo[[#This Row],[Descuento]],VentasMenudeo[[#This Row],[Producto]]=$A$4,VentasMenudeo[[#This Row],[Precio de Venta]]*VentasMenudeo[[#This Row],[Cantidad]]-VentasMenudeo[[#This Row],[Descuento]],VentasMenudeo[[#This Row],[Producto]]=$A$5,VentasMenudeo[[#This Row],[Precio de Venta]]*VentasMenudeo[[#This Row],[Cantidad]]-VentasMenudeo[[#This Row],[Descuento]]),0)","v":250},250]
["2022-06-16","Hugo","IPLAY MAX","Guava",1,"$20 Descuento",null,{"$f":"_xlfn.IFNA(VLOOKUP(VentasMenudeo[[#This Row],[Promoción]],PromocionesMenudeo[[Promocion]:[Descuento]],2,0),0)","v":20},{"$f":"_xlfn.IFNA(VLOOKUP(VentasMenudeo[[#This Row],[Producto]],$A$2:$B$5,2,FALSE),0)","v":270},{"$f":"_xlfn.IFNA(_xlfn.IFS(VentasMenudeo[[#This Row],[Producto]]=$A$2,VentasMenudeo[[#This Row],[Precio de Venta]]*VentasMenudeo[[#This Row],[Cantidad]]-VentasMenudeo[[#This Row],[Descuento]],VentasMenudeo[[#This Row],[Producto]]=$A$3,VentasMenudeo[[#This Row],[Precio de Venta]]*VentasMenudeo[[#This Row],[Cantidad]]-VentasMenudeo[[#This Row],[Descuento]],VentasMenudeo[[#This Row],[Producto]]=$A$4,VentasMenudeo[[#This Row],[Precio de Venta]]*VentasMenudeo[[#This Row],[Cantidad]]-VentasMenudeo[[#This Row],[Descuento]],VentasMenudeo[[#This Row],[Producto]]=$A$5,VentasMenudeo[[#This Row],[Precio de Venta]]*VentasMenudeo[[#This Row],[Cantidad]]-VentasMenudeo[[#This Row],[Descuento]]),0)","v":250},250]
["2022-06-16","Hugo","IPLAY MAX","Berry Watermelon",1,"$20 Descuento",null,{"$f":"_xlfn.IFNA(VLOOKUP(VentasMenudeo[[#This Row],[Promoción]],PromocionesMenudeo[[Promocion]:[Descuento]],2,0),0)","v":20},{"$f":"_xlfn.IFNA(VLOOKUP(VentasMenudeo[[#This Row],[Producto]],$A$2:$B$5,2,FALSE),0)","v":270},{"$f":"_xlfn.IFNA(_xlfn.IFS(VentasMenudeo[[#This Row],[Producto]]=$A$2,VentasMenudeo[[#This Row],[Precio de Venta]]*VentasMenudeo[[#This Row],[Cantidad]]-VentasMenudeo[[#This Row],[Descuento]],VentasMenudeo[[#This Row],[Producto]]=$A$3,VentasMenudeo[[#This Row],[Precio de Venta]]*VentasMenudeo[[#This Row],[Cantidad]]-VentasMenudeo[[#This Row],[Descuento]],VentasMenudeo[[#This Row],[Producto]]=$A$4,VentasMenudeo[[#This Row],[Precio de Venta]]*VentasMenudeo[[#This Row],[Cantidad]]-VentasMenudeo[[#This Row],[Descuento]],VentasMenudeo[[#This Row],[Producto]]=$A$5,VentasMenudeo[[#This Row],[Precio de Venta]]*VentasMenudeo[[#This Row],[Cantidad]]-VentasMenudeo[[#This Row],[Descuento]]),0)","v":250},250]
["2022-06-16","Hugo","IPLAY MAX","GrapeFruit berry",1,"$20 Descuento",null,{"$f":"_xlfn.IFNA(VLOOKUP(VentasMenudeo[[#This Row],[Promoción]],PromocionesMenudeo[[Promocion]:[Descuento]],2,0),0)","v":20},{"$f":"_xlfn.IFNA(VLOOKUP(VentasMenudeo[[#This Row],[Producto]],$A$2:$B$5,2,FALSE),0)","v":270},{"$f":"_xlfn.IFNA(_xlfn.IFS(VentasMenudeo[[#This Row],[Producto]]=$A$2,VentasMenudeo[[#This Row],[Precio de Venta]]*VentasMenudeo[[#This Row],[Cantidad]]-VentasMenudeo[[#This Row],[Descuento]],VentasMenudeo[[#This Row],[Producto]]=$A$3,VentasMenudeo[[#This Row],[Precio de Venta]]*VentasMenudeo[[#This Row],[Cantidad]]-VentasMenudeo[[#This Row],[Descuento]],VentasMenudeo[[#This Row],[Producto]]=$A$4,VentasMenudeo[[#This Row],[Precio de Venta]]*VentasMenudeo[[#This Row],[Cantidad]]-VentasMenudeo[[#This Row],[Descuento]],VentasMenudeo[[#This Row],[Producto]]=$A$5,VentasMenudeo[[#This Row],[Precio de Venta]]*VentasMenudeo[[#This Row],[Cantidad]]-VentasMenudeo[[#This Row],[Descuento]]),0)","v":250},250]
["2022-06-16","Hugo","IPLAY MAX","Guava",1,"$20 Descuento",null,{"$f":"_xlfn.IFNA(VLOOKUP(VentasMenudeo[[#This Row],[Promoción]],PromocionesMenudeo[[Promocion]:[Descuento]],2,0),0)","v":20},{"$f":"_xlfn.IFNA(VLOOKUP(VentasMenudeo[[#This Row],[Producto]],$A$2:$B$5,2,FALSE),0)","v":270},{"$f":"_xlfn.IFNA(_xlfn.IFS(VentasMenudeo[[#This Row],[Producto]]=$A$2,VentasMenudeo[[#This Row],[Precio de Venta]]*VentasMenudeo[[#This Row],[Cantidad]]-VentasMenudeo[[#This Row],[Descuento]],VentasMenudeo[[#This Row],[Producto]]=$A$3,VentasMenudeo[[#This Row],[Precio de Venta]]*VentasMenudeo[[#This Row],[Cantidad]]-VentasMenudeo[[#This Row],[Descuento]],VentasMenudeo[[#This Row],[Producto]]=$A$4,VentasMenudeo[[#This Row],[Precio de Venta]]*VentasMenudeo[[#This Row],[Cantidad]]-VentasMenudeo[[#This Row],[Descuento]],VentasMenudeo[[#This Row],[Producto]]=$A$5,VentasMenudeo[[#This Row],[Precio de Venta]]*VentasMenudeo[[#This Row],[Cantidad]]-VentasMenudeo[[#This Row],[Descuento]]),0)","v":250},250]
["2022-06-16","Hugo","IPLAY MAX","Berry Watermelon",1,"$20 Descuento",null,{"$f":"_xlfn.IFNA(VLOOKUP(VentasMenudeo[[#This Row],[Promoción]],PromocionesMenudeo[[Promocion]:[Descuento]],2,0),0)","v":20},{"$f":"_xlfn.IFNA(VLOOKUP(VentasMenudeo[[#This Row],[Producto]],$A$2:$B$5,2,FALSE),0)","v":270},{"$f":"_xlfn.IFNA(_xlfn.IFS(VentasMenudeo[[#This Row],[Producto]]=$A$2,VentasMenudeo[[#This Row],[Precio de Venta]]*VentasMenudeo[[#This Row],[Cantidad]]-VentasMenudeo[[#This Row],[Descuento]],VentasMenudeo[[#This Row],[Producto]]=$A$3,VentasMenudeo[[#This Row],[Precio de Venta]]*VentasMenudeo[[#This Row],[Cantidad]]-VentasMenudeo[[#This Row],[Descuento]],VentasMenudeo[[#This Row],[Producto]]=$A$4,VentasMenudeo[[#This Row],[Precio de Venta]]*VentasMenudeo[[#This Row],[Cantidad]]-VentasMenudeo[[#This Row],[Descuento]],VentasMenudeo[[#This Row],[Producto]]=$A$5,VentasMenudeo[[#This Row],[Precio de Venta]]*VentasMenudeo[[#This Row],[Cantidad]]-VentasMenudeo[[#This Row],[Descuento]]),0)","v":250},250]
["2022-06-16","Hugo","IPLAY MAX","Berry Watermelon",1,"$20 Descuento",null,{"$f":"_xlfn.IFNA(VLOOKUP(VentasMenudeo[[#This Row],[Promoción]],PromocionesMenudeo[[Promocion]:[Descuento]],2,0),0)","v":20},{"$f":"_xlfn.IFNA(VLOOKUP(VentasMenudeo[[#This Row],[Producto]],$A$2:$B$5,2,FALSE),0)","v":270},{"$f":"_xlfn.IFNA(_xlfn.IFS(VentasMenudeo[[#This Row],[Producto]]=$A$2,VentasMenudeo[[#This Row],[Precio de Venta]]*VentasMenudeo[[#This Row],[Cantidad]]-VentasMenudeo[[#This Row],[Descuento]],VentasMenudeo[[#This Row],[Producto]]=$A$3,VentasMenudeo[[#This Row],[Precio de Venta]]*VentasMenudeo[[#This Row],[Cantidad]]-VentasMenudeo[[#This Row],[Descuento]],VentasMenudeo[[#This Row],[Producto]]=$A$4,VentasMenudeo[[#This Row],[Precio de Venta]]*VentasMenudeo[[#This Row],[Cantidad]]-VentasMenudeo[[#This Row],[Descuento]],VentasMenudeo[[#This Row],[Producto]]=$A$5,VentasMenudeo[[#This Row],[Precio de Venta]]*VentasMenudeo[[#This Row],[Cantidad]]-VentasMenudeo[[#This Row],[Descuento]]),0)","v":250},250]
["2022-06-16","Hugo","IPLAY MAX","Guava",1,"$20 Descuento",null,{"$f":"_xlfn.IFNA(VLOOKUP(VentasMenudeo[[#This Row],[Promoción]],PromocionesMenudeo[[Promocion]:[Descuento]],2,0),0)","v":20},{"$f":"_xlfn.IFNA(VLOOKUP(VentasMenudeo[[#This Row],[Producto]],$A$2:$B$5,2,FALSE),0)","v":270},{"$f":"_xlfn.IFNA(_xlfn.IFS(VentasMenudeo[[#This Row],[Producto]]=$A$2,VentasMenudeo[[#This Row],[Precio de Venta]]*VentasMenudeo[[#This Row],[Cantidad]]-VentasMenudeo[[#This Row],[Descuento]],VentasMenudeo[[#This Row],[Producto]]=$A$3,VentasMenudeo[[#This Row],[Precio de Venta]]*VentasMenudeo[[#This Row],[Cantidad]]-VentasMenudeo[[#This Row],[Descuento]],VentasMenudeo[[#This Row],[Producto]]=$A$4,VentasMenudeo[[#This Row],[Precio de Venta]]*VentasMenudeo[[#This Row],[Cantidad]]-VentasMenudeo[[#This Row],[Descuento]],VentasMenudeo[[#This Row],[Producto]]=$A$5,VentasMenudeo[[#This Row],[Precio de Venta]]*VentasMenudeo[[#This Row],[Cantidad]]-VentasMenudeo[[#This Row],[Descuento]]),0)","v":250},250]
["2022-06-16","Hugo","IPLAY MAX","Berry Watermelon",1,"$20 Descuento",null,{"$f":"_xlfn.IFNA(VLOOKUP(VentasMenudeo[[#This Row],[Promoción]],PromocionesMenudeo[[Promocion]:[Descuento]],2,0),0)","v":20},{"$f":"_xlfn.IFNA(VLOOKUP(VentasMenudeo[[#This Row],[Producto]],$A$2:$B$5,2,FALSE),0)","v":270},{"$f":"_xlfn.IFNA(_xlfn.IFS(VentasMenudeo[[#This Row],[Producto]]=$A$2,VentasMenudeo[[#This Row],[Precio de Venta]]*VentasMenudeo[[#This Row],[Cantidad]]-VentasMenudeo[[#This Row],[Descuento]],VentasMenudeo[[#This Row],[Producto]]=$A$3,VentasMenudeo[[#This Row],[Precio de Venta]]*VentasMenudeo[[#This Row],[Cantidad]]-VentasMenudeo[[#This Row],[Descuento]],VentasMenudeo[[#This Row],[Producto]]=$A$4,VentasMenudeo[[#This Row],[Precio de Venta]]*VentasMenudeo[[#This Row],[Cantidad]]-VentasMenudeo[[#This Row],[Descuento]],VentasMenudeo[[#This Row],[Producto]]=$A$5,VentasMenudeo[[#This Row],[Precio de Venta]]*VentasMenudeo[[#This Row],[Cantidad]]-VentasMenudeo[[#This Row],[Descuento]]),0)","v":250},250]
["2022-06-16","Hugo","IPLAY MAX","Bluerazz",1,"$20 Descuento",null,{"$f":"_xlfn.IFNA(VLOOKUP(VentasMenudeo[[#This Row],[Promoción]],PromocionesMenudeo[[Promocion]:[Descuento]],2,0),0)","v":20},{"$f":"_xlfn.IFNA(VLOOKUP(VentasMenudeo[[#This Row],[Producto]],$A$2:$B$5,2,FALSE),0)","v":270},{"$f":"_xlfn.IFNA(_xlfn.IFS(VentasMenudeo[[#This Row],[Producto]]=$A$2,VentasMenudeo[[#This Row],[Precio de Venta]]*VentasMenudeo[[#This Row],[Cantidad]]-VentasMenudeo[[#This Row],[Descuento]],VentasMenudeo[[#This Row],[Producto]]=$A$3,VentasMenudeo[[#This Row],[Precio de Venta]]*VentasMenudeo[[#This Row],[Cantidad]]-VentasMenudeo[[#This Row],[Descuento]],VentasMenudeo[[#This Row],[Producto]]=$A$4,VentasMenudeo[[#This Row],[Precio de Venta]]*VentasMenudeo[[#This Row],[Cantidad]]-VentasMenudeo[[#This Row],[Descuento]],VentasMenudeo[[#This Row],[Producto]]=$A$5,VentasMenudeo[[#This Row],[Precio de Venta]]*VentasMenudeo[[#This Row],[Cantidad]]-VentasMenudeo[[#This Row],[Descuento]]),0)","v":250},250]
["2022-06-16","Hugo","IPLAY MAX","GrapeFruit berry",1,"$20 Descuento",null,{"$f":"_xlfn.IFNA(VLOOKUP(VentasMenudeo[[#This Row],[Promoción]],PromocionesMenudeo[[Promocion]:[Descuento]],2,0),0)","v":20},{"$f":"_xlfn.IFNA(VLOOKUP(VentasMenudeo[[#This Row],[Producto]],$A$2:$B$5,2,FALSE),0)","v":270},{"$f":"_xlfn.IFNA(_xlfn.IFS(VentasMenudeo[[#This Row],[Producto]]=$A$2,VentasMenudeo[[#This Row],[Precio de Venta]]*VentasMenudeo[[#This Row],[Cantidad]]-VentasMenudeo[[#This Row],[Descuento]],VentasMenudeo[[#This Row],[Producto]]=$A$3,VentasMenudeo[[#This Row],[Precio de Venta]]*VentasMenudeo[[#This Row],[Cantidad]]-VentasMenudeo[[#This Row],[Descuento]],VentasMenudeo[[#This Row],[Producto]]=$A$4,VentasMenudeo[[#This Row],[Precio de Venta]]*VentasMenudeo[[#This Row],[Cantidad]]-VentasMenudeo[[#This Row],[Descuento]],VentasMenudeo[[#This Row],[Producto]]=$A$5,VentasMenudeo[[#This Row],[Precio de Venta]]*VentasMenudeo[[#This Row],[Cantidad]]-VentasMenudeo[[#This Row],[Descuento]]),0)","v":250},250]
["2022-06-16","Hugo","IPLAY MAX","Bluerazz",1,"$20 Descuento",null,{"$f":"_xlfn.IFNA(VLOOKUP(VentasMenudeo[[#This Row],[Promoción]],PromocionesMenudeo[[Promocion]:[Descuento]],2,0),0)","v":20},{"$f":"_xlfn.IFNA(VLOOKUP(VentasMenudeo[[#This Row],[Producto]],$A$2:$B$5,2,FALSE),0)","v":270},{"$f":"_xlfn.IFNA(_xlfn.IFS(VentasMenudeo[[#This Row],[Producto]]=$A$2,VentasMenudeo[[#This Row],[Precio de Venta]]*VentasMenudeo[[#This Row],[Cantidad]]-VentasMenudeo[[#This Row],[Descuento]],VentasMenudeo[[#This Row],[Producto]]=$A$3,VentasMenudeo[[#This Row],[Precio de Venta]]*VentasMenudeo[[#This Row],[Cantidad]]-VentasMenudeo[[#This Row],[Descuento]],VentasMenudeo[[#This Row],[Producto]]=$A$4,VentasMenudeo[[#This Row],[Precio de Venta]]*VentasMenudeo[[#This Row],[Cantidad]]-VentasMenudeo[[#This Row],[Descuento]],VentasMenudeo[[#This Row],[Producto]]=$A$5,VentasMenudeo[[#This Row],[Precio de Venta]]*VentasMenudeo[[#This Row],[Cantidad]]-VentasMenudeo[[#This Row],[Descuento]]),0)","v":250},250]
["2022-06-16","Hugo","IPLAY MAX","GrapeFruit berry",1,"$20 Descuento",null,{"$f":"_xlfn.IFNA(VLOOKUP(VentasMenudeo[[#This Row],[Promoción]],PromocionesMenudeo[[Promocion]:[Descuento]],2,0),0)","v":20},{"$f":"_xlfn.IFNA(VLOOKUP(VentasMenudeo[[#This Row],[Producto]],$A$2:$B$5,2,FALSE),0)","v":270},{"$f":"_xlfn.IFNA(_xlfn.IFS(VentasMenudeo[[#This Row],[Producto]]=$A$2,VentasMenudeo[[#This Row],[Precio de Venta]]*VentasMenudeo[[#This Row],[Cantidad]]-VentasMenudeo[[#This Row],[Descuento]],VentasMenudeo[[#This Row],[Producto]]=$A$3,VentasMenudeo[[#This Row],[Precio de Venta]]*VentasMenudeo[[#This Row],[Cantidad]]-VentasMenudeo[[#This Row],[Descuento]],VentasMenudeo[[#This Row],[Producto]]=$A$4,VentasMenudeo[[#This Row],[Precio de Venta]]*VentasMenudeo[[#This Row],[Cantidad]]-VentasMenudeo[[#This Row],[Descuento]],VentasMenudeo[[#This Row],[Producto]]=$A$5,VentasMenudeo[[#This Row],[Precio de Venta]]*VentasMenudeo[[#This Row],[Cantidad]]-VentasMenudeo[[#This Row],[Descuento]]),0)","v":250},250]
["2022-06-16","Hugo","IPLAY MAX","Coconut",1,"$20 Descuento",null,{"$f":"_xlfn.IFNA(VLOOKUP(VentasMenudeo[[#This Row],[Promoción]],PromocionesMenudeo[[Promocion]:[Descuento]],2,0),0)","v":20},{"$f":"_xlfn.IFNA(VLOOKUP(VentasMenudeo[[#This Row],[Producto]],$A$2:$B$5,2,FALSE),0)","v":270},{"$f":"_xlfn.IFNA(_xlfn.IFS(VentasMenudeo[[#This Row],[Producto]]=$A$2,VentasMenudeo[[#This Row],[Precio de Venta]]*VentasMenudeo[[#This Row],[Cantidad]]-VentasMenudeo[[#This Row],[Descuento]],VentasMenudeo[[#This Row],[Producto]]=$A$3,VentasMenudeo[[#This Row],[Precio de Venta]]*VentasMenudeo[[#This Row],[Cantidad]]-VentasMenudeo[[#This Row],[Descuento]],VentasMenudeo[[#This Row],[Producto]]=$A$4,VentasMenudeo[[#This Row],[Precio de Venta]]*VentasMenudeo[[#This Row],[Cantidad]]-VentasMenudeo[[#This Row],[Descuento]],VentasMenudeo[[#This Row],[Producto]]=$A$5,VentasMenudeo[[#This Row],[Precio de Venta]]*VentasMenudeo[[#This Row],[Cantidad]]-VentasMenudeo[[#This Row],[Descuento]]),0)","v":250},250]
["2022-06-17","Hugo","IPLAY MAX","Bluerazz",1,"$20 Descuento",null,{"$f":"_xlfn.IFNA(VLOOKUP(VentasMenudeo[[#This Row],[Promoción]],PromocionesMenudeo[[Promocion]:[Descuento]],2,0),0)","v":20},{"$f":"_xlfn.IFNA(VLOOKUP(VentasMenudeo[[#This Row],[Producto]],$A$2:$B$5,2,FALSE),0)","v":270},{"$f":"_xlfn.IFNA(_xlfn.IFS(VentasMenudeo[[#This Row],[Producto]]=$A$2,VentasMenudeo[[#This Row],[Precio de Venta]]*VentasMenudeo[[#This Row],[Cantidad]]-VentasMenudeo[[#This Row],[Descuento]],VentasMenudeo[[#This Row],[Producto]]=$A$3,VentasMenudeo[[#This Row],[Precio de Venta]]*VentasMenudeo[[#This Row],[Cantidad]]-VentasMenudeo[[#This Row],[Descuento]],VentasMenudeo[[#This Row],[Producto]]=$A$4,VentasMenudeo[[#This Row],[Precio de Venta]]*VentasMenudeo[[#This Row],[Cantidad]]-VentasMenudeo[[#This Row],[Descuento]],VentasMenudeo[[#This Row],[Producto]]=$A$5,VentasMenudeo[[#This Row],[Precio de Venta]]*VentasMenudeo[[#This Row],[Cantidad]]-VentasMenudeo[[#This Row],[Descuento]]),0)","v":250},250]
["2022-06-17","Hugo","IPLAY MAX","Berry Watermelon",1,"$20 Descuento",null,{"$f":"_xlfn.IFNA(VLOOKUP(VentasMenudeo[[#This Row],[Promoción]],PromocionesMenudeo[[Promocion]:[Descuento]],2,0),0)","v":20},{"$f":"_xlfn.IFNA(VLOOKUP(VentasMenudeo[[#This Row],[Producto]],$A$2:$B$5,2,FALSE),0)","v":270},{"$f":"_xlfn.IFNA(_xlfn.IFS(VentasMenudeo[[#This Row],[Producto]]=$A$2,VentasMenudeo[[#This Row],[Precio de Venta]]*VentasMenudeo[[#This Row],[Cantidad]]-VentasMenudeo[[#This Row],[Descuento]],VentasMenudeo[[#This Row],[Producto]]=$A$3,VentasMenudeo[[#This Row],[Precio de Venta]]*VentasMenudeo[[#This Row],[Cantidad]]-VentasMenudeo[[#This Row],[Descuento]],VentasMenudeo[[#This Row],[Producto]]=$A$4,VentasMenudeo[[#This Row],[Precio de Venta]]*VentasMenudeo[[#This Row],[Cantidad]]-VentasMenudeo[[#This Row],[Descuento]],VentasMenudeo[[#This Row],[Producto]]=$A$5,VentasMenudeo[[#This Row],[Precio de Venta]]*VentasMenudeo[[#This Row],[Cantidad]]-VentasMenudeo[[#This Row],[Descuento]]),0)","v":250},250]
["2022-06-17","Hugo","IPLAY MAX","Coconut",1,"$20 Descuento",null,{"$f":"_xlfn.IFNA(VLOOKUP(VentasMenudeo[[#This Row],[Promoción]],PromocionesMenudeo[[Promocion]:[Descuento]],2,0),0)","v":20},{"$f":"_xlfn.IFNA(VLOOKUP(VentasMenudeo[[#This Row],[Producto]],$A$2:$B$5,2,FALSE),0)","v":270},{"$f":"_xlfn.IFNA(_xlfn.IFS(VentasMenudeo[[#This Row],[Producto]]=$A$2,VentasMenudeo[[#This Row],[Precio de Venta]]*VentasMenudeo[[#This Row],[Cantidad]]-VentasMenudeo[[#This Row],[Descuento]],VentasMenudeo[[#This Row],[Producto]]=$A$3,VentasMenudeo[[#This Row],[Precio de Venta]]*VentasMenudeo[[#This Row],[Cantidad]]-VentasMenudeo[[#This Row],[Descuento]],VentasMenudeo[[#This Row],[Producto]]=$A$4,VentasMenudeo[[#This Row],[Precio de Venta]]*VentasMenudeo[[#This Row],[Cantidad]]-VentasMenudeo[[#This Row],[Descuento]],VentasMenudeo[[#This Row],[Producto]]=$A$5,VentasMenudeo[[#This Row],[Precio de Venta]]*VentasMenudeo[[#This Row],[Cantidad]]-VentasMenudeo[[#This Row],[Descuento]]),0)","v":250},250]
["2022-06-17","Hugo","IPLAY MAX","Strawberry Lychee",1,"$20 Descuento",null,{"$f":"_xlfn.IFNA(VLOOKUP(VentasMenudeo[[#This Row],[Promoción]],PromocionesMenudeo[[Promocion]:[Descuento]],2,0),0)","v":20},{"$f":"_xlfn.IFNA(VLOOKUP(VentasMenudeo[[#This Row],[Producto]],$A$2:$B$5,2,FALSE),0)","v":270},{"$f":"_xlfn.IFNA(_xlfn.IFS(VentasMenudeo[[#This Row],[Producto]]=$A$2,VentasMenudeo[[#This Row],[Precio de Venta]]*VentasMenudeo[[#This Row],[Cantidad]]-VentasMenudeo[[#This Row],[Descuento]],VentasMenudeo[[#This Row],[Producto]]=$A$3,VentasMenudeo[[#This Row],[Precio de Venta]]*VentasMenudeo[[#This Row],[Cantidad]]-VentasMenudeo[[#This Row],[Descuento]],VentasMenudeo[[#This Row],[Producto]]=$A$4,VentasMenudeo[[#This Row],[Precio de Venta]]*VentasMenudeo[[#This Row],[Cantidad]]-VentasMenudeo[[#This Row],[Descuento]],VentasMenudeo[[#This Row],[Producto]]=$A$5,VentasMenudeo[[#This Row],[Precio de Venta]]*VentasMenudeo[[#This Row],[Cantidad]]-VentasMenudeo[[#This Row],[Descuento]]),0)","v":250},250]
["2022-06-17","Hugo","IPLAY MAX","Sour Apple",1,"$20 Descuento",null,{"$f":"_xlfn.IFNA(VLOOKUP(VentasMenudeo[[#This Row],[Promoción]],PromocionesMenudeo[[Promocion]:[Descuento]],2,0),0)","v":20},{"$f":"_xlfn.IFNA(VLOOKUP(VentasMenudeo[[#This Row],[Producto]],$A$2:$B$5,2,FALSE),0)","v":270},{"$f":"_xlfn.IFNA(_xlfn.IFS(VentasMenudeo[[#This Row],[Producto]]=$A$2,VentasMenudeo[[#This Row],[Precio de Venta]]*VentasMenudeo[[#This Row],[Cantidad]]-VentasMenudeo[[#This Row],[Descuento]],VentasMenudeo[[#This Row],[Producto]]=$A$3,VentasMenudeo[[#This Row],[Precio de Venta]]*VentasMenudeo[[#This Row],[Cantidad]]-VentasMenudeo[[#This Row],[Descuento]],VentasMenudeo[[#This Row],[Producto]]=$A$4,VentasMenudeo[[#This Row],[Precio de Venta]]*VentasMenudeo[[#This Row],[Cantidad]]-VentasMenudeo[[#This Row],[Descuento]],VentasMenudeo[[#This Row],[Producto]]=$A$5,VentasMenudeo[[#This Row],[Precio de Venta]]*VentasMenudeo[[#This Row],[Cantidad]]-VentasMenudeo[[#This Row],[Descuento]]),0)","v":250},250]
["2022-06-20","Hugo","IPLAY MAX","Strawberry Lychee",1,"$20 Descuento",null,{"$f":"_xlfn.IFNA(VLOOKUP(VentasMenudeo[[#This Row],[Promoción]],PromocionesMenudeo[[Promocion]:[Descuento]],2,0),0)","v":20},{"$f":"_xlfn.IFNA(VLOOKUP(VentasMenudeo[[#This Row],[Producto]],$A$2:$B$5,2,FALSE),0)","v":270},{"$f":"_xlfn.IFNA(_xlfn.IFS(VentasMenudeo[[#This Row],[Producto]]=$A$2,VentasMenudeo[[#This Row],[Precio de Venta]]*VentasMenudeo[[#This Row],[Cantidad]]-VentasMenudeo[[#This Row],[Descuento]],VentasMenudeo[[#This Row],[Producto]]=$A$3,VentasMenudeo[[#This Row],[Precio de Venta]]*VentasMenudeo[[#This Row],[Cantidad]]-VentasMenudeo[[#This Row],[Descuento]],VentasMenudeo[[#This Row],[Producto]]=$A$4,VentasMenudeo[[#This Row],[Precio de Venta]]*VentasMenudeo[[#This Row],[Cantidad]]-VentasMenudeo[[#This Row],[Descuento]],VentasMenudeo[[#This Row],[Producto]]=$A$5,VentasMenudeo[[#This Row],[Precio de Venta]]*VentasMenudeo[[#This Row],[Cantidad]]-VentasMenudeo[[#This Row],[Descuento]]),0)","v":250},250]
["2022-06-20","Hugo","IPLAY MAX","Strawberry Lychee",1,"$20 Descuento",null,{"$f":"_xlfn.IFNA(VLOOKUP(VentasMenudeo[[#This Row],[Promoción]],PromocionesMenudeo[[Promocion]:[Descuento]],2,0),0)","v":20},{"$f":"_xlfn.IFNA(VLOOKUP(VentasMenudeo[[#This Row],[Producto]],$A$2:$B$5,2,FALSE),0)","v":270},{"$f":"_xlfn.IFNA(_xlfn.IFS(VentasMenudeo[[#This Row],[Producto]]=$A$2,VentasMenudeo[[#This Row],[Precio de Venta]]*VentasMenudeo[[#This Row],[Cantidad]]-VentasMenudeo[[#This Row],[Descuento]],VentasMenudeo[[#This Row],[Producto]]=$A$3,VentasMenudeo[[#This Row],[Precio de Venta]]*VentasMenudeo[[#This Row],[Cantidad]]-VentasMenudeo[[#This Row],[Descuento]],VentasMenudeo[[#This Row],[Producto]]=$A$4,VentasMenudeo[[#This Row],[Precio de Venta]]*VentasMenudeo[[#This Row],[Cantidad]]-VentasMenudeo[[#This Row],[Descuento]],VentasMenudeo[[#This Row],[Producto]]=$A$5,VentasMenudeo[[#This Row],[Precio de Venta]]*VentasMenudeo[[#This Row],[Cantidad]]-VentasMenudeo[[#This Row],[Descuento]]),0)","v":250},250]
["2022-06-20","Hugo","IPLAY MAX","Bluerazz",1,"$20 Descuento",null,{"$f":"_xlfn.IFNA(VLOOKUP(VentasMenudeo[[#This Row],[Promoción]],PromocionesMenudeo[[Promocion]:[Descuento]],2,0),0)","v":20},{"$f":"_xlfn.IFNA(VLOOKUP(VentasMenudeo[[#This Row],[Producto]],$A$2:$B$5,2,FALSE),0)","v":270},{"$f":"_xlfn.IFNA(_xlfn.IFS(VentasMenudeo[[#This Row],[Producto]]=$A$2,VentasMenudeo[[#This Row],[Precio de Venta]]*VentasMenudeo[[#This Row],[Cantidad]]-VentasMenudeo[[#This Row],[Descuento]],VentasMenudeo[[#This Row],[Producto]]=$A$3,VentasMenudeo[[#This Row],[Precio de Venta]]*VentasMenudeo[[#This Row],[Cantidad]]-VentasMenudeo[[#This Row],[Descuento]],VentasMenudeo[[#This Row],[Producto]]=$A$4,VentasMenudeo[[#This Row],[Precio de Venta]]*VentasMenudeo[[#This Row],[Cantidad]]-VentasMenudeo[[#This Row],[Descuento]],VentasMenudeo[[#This Row],[Producto]]=$A$5,VentasMenudeo[[#This Row],[Precio de Venta]]*VentasMenudeo[[#This Row],[Cantidad]]-VentasMenudeo[[#This Row],[Descuento]]),0)","v":250},250]
["2022-06-20","Hugo","IPLAY MAX","Bluerazz",1,"$20 Descuento",null,{"$f":"_xlfn.IFNA(VLOOKUP(VentasMenudeo[[#This Row],[Promoción]],PromocionesMenudeo[[Promocion]:[Descuento]],2,0),0)","v":20},{"$f":"_xlfn.IFNA(VLOOKUP(VentasMenudeo[[#This Row],[Producto]],$A$2:$B$5,2,FALSE),0)","v":270},{"$f":"_xlfn.IFNA(_xlfn.IFS(VentasMenudeo[[#This Row],[Producto]]=$A$2,VentasMenudeo[[#This Row],[Precio de Venta]]*VentasMenudeo[[#This Row],[Cantidad]]-VentasMenudeo[[#This Row],[Descuento]],VentasMenudeo[[#This Row],[Producto]]=$A$3,VentasMenudeo[[#This Row],[Precio de Venta]]*VentasMenudeo[[#This Row],[Cantidad]]-VentasMenudeo[[#This Row],[Descuento]],VentasMenudeo[[#This Row],[Producto]]=$A$4,VentasMenudeo[[#This Row],[Precio de Venta]]*VentasMenudeo[[#This Row],[Cantidad]]-VentasMenudeo[[#This Row],[Descuento]],VentasMenudeo[[#This Row],[Producto]]=$A$5,VentasMenudeo[[#This Row],[Precio de Venta]]*VentasMenudeo[[#This Row],[Cantidad]]-VentasMenudeo[[#This Row],[Descuento]]),0)","v":250},250]
["2022-06-20","Hugo","IPLAY MAX","Bluerazz",1,"$20 Descuento",null,{"$f":"_xlfn.IFNA(VLOOKUP(VentasMenudeo[[#This Row],[Promoción]],PromocionesMenudeo[[Promocion]:[Descuento]],2,0),0)","v":20},{"$f":"_xlfn.IFNA(VLOOKUP(VentasMenudeo[[#This Row],[Producto]],$A$2:$B$5,2,FALSE),0)","v":270},{"$f":"_xlfn.IFNA(_xlfn.IFS(VentasMenudeo[[#This Row],[Producto]]=$A$2,VentasMenudeo[[#This Row],[Precio de Venta]]*VentasMenudeo[[#This Row],[Cantidad]]-VentasMenudeo[[#This Row],[Descuento]],VentasMenudeo[[#This Row],[Producto]]=$A$3,VentasMenudeo[[#This Row],[Precio de Venta]]*VentasMenudeo[[#This Row],[Cantidad]]-VentasMenudeo[[#This Row],[Descuento]],VentasMenudeo[[#This Row],[Producto]]=$A$4,VentasMenudeo[[#This Row],[Precio de Venta]]*VentasMenudeo[[#This Row],[Cantidad]]-VentasMenudeo[[#This Row],[Descuento]],VentasMenudeo[[#This Row],[Producto]]=$A$5,VentasMenudeo[[#This Row],[Precio de Venta]]*VentasMenudeo[[#This Row],[Cantidad]]-VentasMenudeo[[#This Row],[Descuento]]),0)","v":250},250]
["2022-06-20","Hugo","IPLAY MAX","Bluerazz",1,"$20 Descuento",null,{"$f":"_xlfn.IFNA(VLOOKUP(VentasMenudeo[[#This Row],[Promoción]],PromocionesMenudeo[[Promocion]:[Descuento]],2,0),0)","v":20},{"$f":"_xlfn.IFNA(VLOOKUP(VentasMenudeo[[#This Row],[Producto]],$A$2:$B$5,2,FALSE),0)","v":270},{"$f":"_xlfn.IFNA(_xlfn.IFS(VentasMenudeo[[#This Row],[Producto]]=$A$2,VentasMenudeo[[#This Row],[Precio de Venta]]*VentasMenudeo[[#This Row],[Cantidad]]-VentasMenudeo[[#This Row],[Descuento]],VentasMenudeo[[#This Row],[Producto]]=$A$3,VentasMenudeo[[#This Row],[Precio de Venta]]*VentasMenudeo[[#This Row],[Cantidad]]-VentasMenudeo[[#This Row],[Descuento]],VentasMenudeo[[#This Row],[Producto]]=$A$4,VentasMenudeo[[#This Row],[Precio de Venta]]*VentasMenudeo[[#This Row],[Cantidad]]-VentasMenudeo[[#This Row],[Descuento]],VentasMenudeo[[#This Row],[Producto]]=$A$5,VentasMenudeo[[#This Row],[Precio de Venta]]*VentasMenudeo[[#This Row],[Cantidad]]-VentasMenudeo[[#This Row],[Descuento]]),0)","v":250},250]
["2022-06-20","Hugo","IPLAY MAX","Berry Watermelon",1,"$20 Descuento",null,{"$f":"_xlfn.IFNA(VLOOKUP(VentasMenudeo[[#This Row],[Promoción]],PromocionesMenudeo[[Promocion]:[Descuento]],2,0),0)","v":20},{"$f":"_xlfn.IFNA(VLOOKUP(VentasMenudeo[[#This Row],[Producto]],$A$2:$B$5,2,FALSE),0)","v":270},{"$f":"_xlfn.IFNA(_xlfn.IFS(VentasMenudeo[[#This Row],[Producto]]=$A$2,VentasMenudeo[[#This Row],[Precio de Venta]]*VentasMenudeo[[#This Row],[Cantidad]]-VentasMenudeo[[#This Row],[Descuento]],VentasMenudeo[[#This Row],[Producto]]=$A$3,VentasMenudeo[[#This Row],[Precio de Venta]]*VentasMenudeo[[#This Row],[Cantidad]]-VentasMenudeo[[#This Row],[Descuento]],VentasMenudeo[[#This Row],[Producto]]=$A$4,VentasMenudeo[[#This Row],[Precio de Venta]]*VentasMenudeo[[#This Row],[Cantidad]]-VentasMenudeo[[#This Row],[Descuento]],VentasMenudeo[[#This Row],[Producto]]=$A$5,VentasMenudeo[[#This Row],[Precio de Venta]]*VentasMenudeo[[#This Row],[Cantidad]]-VentasMenudeo[[#This Row],[Descuento]]),0)","v":250},250]
["2022-06-20","Hugo","IPLAY MAX","Guava",1,"$20 Descuento",null,{"$f":"_xlfn.IFNA(VLOOKUP(VentasMenudeo[[#This Row],[Promoción]],PromocionesMenudeo[[Promocion]:[Descuento]],2,0),0)","v":20},{"$f":"_xlfn.IFNA(VLOOKUP(VentasMenudeo[[#This Row],[Producto]],$A$2:$B$5,2,FALSE),0)","v":270},{"$f":"_xlfn.IFNA(_xlfn.IFS(VentasMenudeo[[#This Row],[Producto]]=$A$2,VentasMenudeo[[#This Row],[Precio de Venta]]*VentasMenudeo[[#This Row],[Cantidad]]-VentasMenudeo[[#This Row],[Descuento]],VentasMenudeo[[#This Row],[Producto]]=$A$3,VentasMenudeo[[#This Row],[Precio de Venta]]*VentasMenudeo[[#This Row],[Cantidad]]-VentasMenudeo[[#This Row],[Descuento]],VentasMenudeo[[#This Row],[Producto]]=$A$4,VentasMenudeo[[#This Row],[Precio de Venta]]*VentasMenudeo[[#This Row],[Cantidad]]-VentasMenudeo[[#This Row],[Descuento]],VentasMenudeo[[#This Row],[Producto]]=$A$5,VentasMenudeo[[#This Row],[Precio de Venta]]*VentasMenudeo[[#This Row],[Cantidad]]-VentasMenudeo[[#This Row],[Descuento]]),0)","v":250},250]
["2022-06-20","Hugo","IPLAY MAX","Guava",1,"$20 Descuento",null,{"$f":"_xlfn.IFNA(VLOOKUP(VentasMenudeo[[#This Row],[Promoción]],PromocionesMenudeo[[Promocion]:[Descuento]],2,0),0)","v":20},{"$f":"_xlfn.IFNA(VLOOKUP(VentasMenudeo[[#This Row],[Producto]],$A$2:$B$5,2,FALSE),0)","v":270},{"$f":"_xlfn.IFNA(_xlfn.IFS(VentasMenudeo[[#This Row],[Producto]]=$A$2,VentasMenudeo[[#This Row],[Precio de Venta]]*VentasMenudeo[[#This Row],[Cantidad]]-VentasMenudeo[[#This Row],[Descuento]],VentasMenudeo[[#This Row],[Producto]]=$A$3,VentasMenudeo[[#This Row],[Precio de Venta]]*VentasMenudeo[[#This Row],[Cantidad]]-VentasMenudeo[[#This Row],[Descuento]],VentasMenudeo[[#This Row],[Producto]]=$A$4,VentasMenudeo[[#This Row],[Precio de Venta]]*VentasMenudeo[[#This Row],[Cantidad]]-VentasMenudeo[[#This Row],[Descuento]],VentasMenudeo[[#This Row],[Producto]]=$A$5,VentasMenudeo[[#This Row],[Precio de Venta]]*VentasMenudeo[[#This Row],[Cantidad]]-VentasMenudeo[[#This Row],[Descuento]]),0)","v":250},250]
["2022-06-20","Hugo","IPLAY MAX","GrapeFruit berry",1,"$20 Descuento",null,{"$f":"_xlfn.IFNA(VLOOKUP(VentasMenudeo[[#This Row],[Promoción]],PromocionesMenudeo[[Promocion]:[Descuento]],2,0),0)","v":20},{"$f":"_xlfn.IFNA(VLOOKUP(VentasMenudeo[[#This Row],[Producto]],$A$2:$B$5,2,FALSE),0)","v":270},{"$f":"_xlfn.IFNA(_xlfn.IFS(VentasMenudeo[[#This Row],[Producto]]=$A$2,VentasMenudeo[[#This Row],[Precio de Venta]]*VentasMenudeo[[#This Row],[Cantidad]]-VentasMenudeo[[#This Row],[Descuento]],VentasMenudeo[[#This Row],[Producto]]=$A$3,VentasMenudeo[[#This Row],[Precio de Venta]]*VentasMenudeo[[#This Row],[Cantidad]]-VentasMenudeo[[#This Row],[Descuento]],VentasMenudeo[[#This Row],[Producto]]=$A$4,VentasMenudeo[[#This Row],[Precio de Venta]]*VentasMenudeo[[#This Row],[Cantidad]]-VentasMenudeo[[#This Row],[Descuento]],VentasMenudeo[[#This Row],[Producto]]=$A$5,VentasMenudeo[[#This Row],[Precio de Venta]]*VentasMenudeo[[#This Row],[Cantidad]]-VentasMenudeo[[#This Row],[Descuento]]),0)","v":250},250]
["2022-06-26","Hugo","IPLAY MAX","Berry Watermelon",1,"$20 Descuento",null,{"$f":"_xlfn.IFNA(VLOOKUP(VentasMenudeo[[#This Row],[Promoción]],PromocionesMenudeo[[Promocion]:[Descuento]],2,0),0)","v":20},{"$f":"_xlfn.IFNA(VLOOKUP(VentasMenudeo[[#This Row],[Producto]],$A$2:$B$5,2,FALSE),0)","v":270},{"$f":"_xlfn.IFNA(_xlfn.IFS(VentasMenudeo[[#This Row],[Producto]]=$A$2,VentasMenudeo[[#This Row],[Precio de Venta]]*VentasMenudeo[[#This Row],[Cantidad]]-VentasMenudeo[[#This Row],[Descuento]],VentasMenudeo[[#This Row],[Producto]]=$A$3,VentasMenudeo[[#This Row],[Precio de Venta]]*VentasMenudeo[[#This Row],[Cantidad]]-VentasMenudeo[[#This Row],[Descuento]],VentasMenudeo[[#This Row],[Producto]]=$A$4,VentasMenudeo[[#This Row],[Precio de Venta]]*VentasMenudeo[[#This Row],[Cantidad]]-VentasMenudeo[[#This Row],[Descuento]],VentasMenudeo[[#This Row],[Producto]]=$A$5,VentasMenudeo[[#This Row],[Precio de Venta]]*VentasMenudeo[[#This Row],[Cantidad]]-VentasMenudeo[[#This Row],[Descuento]]),0)","v":250},250]
["2022-06-26","Hugo","IPLAY MAX","Berry Watermelon",1,"$20 Descuento",null,{"$f":"_xlfn.IFNA(VLOOKUP(VentasMenudeo[[#This Row],[Promoción]],PromocionesMenudeo[[Promocion]:[Descuento]],2,0),0)","v":20},{"$f":"_xlfn.IFNA(VLOOKUP(VentasMenudeo[[#This Row],[Producto]],$A$2:$B$5,2,FALSE),0)","v":270},{"$f":"_xlfn.IFNA(_xlfn.IFS(VentasMenudeo[[#This Row],[Producto]]=$A$2,VentasMenudeo[[#This Row],[Precio de Venta]]*VentasMenudeo[[#This Row],[Cantidad]]-VentasMenudeo[[#This Row],[Descuento]],VentasMenudeo[[#This Row],[Producto]]=$A$3,VentasMenudeo[[#This Row],[Precio de Venta]]*VentasMenudeo[[#This Row],[Cantidad]]-VentasMenudeo[[#This Row],[Descuento]],VentasMenudeo[[#This Row],[Producto]]=$A$4,VentasMenudeo[[#This Row],[Precio de Venta]]*VentasMenudeo[[#This Row],[Cantidad]]-VentasMenudeo[[#This Row],[Descuento]],VentasMenudeo[[#This Row],[Producto]]=$A$5,VentasMenudeo[[#This Row],[Precio de Venta]]*VentasMenudeo[[#This Row],[Cantidad]]-VentasMenudeo[[#This Row],[Descuento]]),0)","v":250},250]
["2022-06-26","Hugo","IPLAY MAX","Bluerazz",1,"$20 Descuento",null,{"$f":"_xlfn.IFNA(VLOOKUP(VentasMenudeo[[#This Row],[Promoción]],PromocionesMenudeo[[Promocion]:[Descuento]],2,0),0)","v":20},{"$f":"_xlfn.IFNA(VLOOKUP(VentasMenudeo[[#This Row],[Producto]],$A$2:$B$5,2,FALSE),0)","v":270},{"$f":"_xlfn.IFNA(_xlfn.IFS(VentasMenudeo[[#This Row],[Producto]]=$A$2,VentasMenudeo[[#This Row],[Precio de Venta]]*VentasMenudeo[[#This Row],[Cantidad]]-VentasMenudeo[[#This Row],[Descuento]],VentasMenudeo[[#This Row],[Producto]]=$A$3,VentasMenudeo[[#This Row],[Precio de Venta]]*VentasMenudeo[[#This Row],[Cantidad]]-VentasMenudeo[[#This Row],[Descuento]],VentasMenudeo[[#This Row],[Producto]]=$A$4,VentasMenudeo[[#This Row],[Precio de Venta]]*VentasMenudeo[[#This Row],[Cantidad]]-VentasMenudeo[[#This Row],[Descuento]],VentasMenudeo[[#This Row],[Producto]]=$A$5,VentasMenudeo[[#This Row],[Precio de Venta]]*VentasMenudeo[[#This Row],[Cantidad]]-VentasMenudeo[[#This Row],[Descuento]]),0)","v":250},250]
["2022-06-26","Hugo","IPLAY MAX","Bluerazz",1,"$20 Descuento",null,{"$f":"_xlfn.IFNA(VLOOKUP(VentasMenudeo[[#This Row],[Promoción]],PromocionesMenudeo[[Promocion]:[Descuento]],2,0),0)","v":20},{"$f":"_xlfn.IFNA(VLOOKUP(VentasMenudeo[[#This Row],[Producto]],$A$2:$B$5,2,FALSE),0)","v":270},{"$f":"_xlfn.IFNA(_xlfn.IFS(VentasMenudeo[[#This Row],[Producto]]=$A$2,VentasMenudeo[[#This Row],[Precio de Venta]]*VentasMenudeo[[#This Row],[Cantidad]]-VentasMenudeo[[#This Row],[Descuento]],VentasMenudeo[[#This Row],[Producto]]=$A$3,VentasMenudeo[[#This Row],[Precio de Venta]]*VentasMenudeo[[#This Row],[Cantidad]]-VentasMenudeo[[#This Row],[Descuento]],VentasMenudeo[[#This Row],[Producto]]=$A$4,VentasMenudeo[[#This Row],[Precio de Venta]]*VentasMenudeo[[#This Row],[Cantidad]]-VentasMenudeo[[#This Row],[Descuento]],VentasMenudeo[[#This Row],[Producto]]=$A$5,VentasMenudeo[[#This Row],[Precio de Venta]]*VentasMenudeo[[#This Row],[Cantidad]]-VentasMenudeo[[#This Row],[Descuento]]),0)","v":250},250]
["2022-06-26","Hugo","IPLAY MAX","Bluerazz",1,"$20 Descuento",null,{"$f":"_xlfn.IFNA(VLOOKUP(VentasMenudeo[[#This Row],[Promoción]],PromocionesMenudeo[[Promocion]:[Descuento]],2,0),0)","v":20},{"$f":"_xlfn.IFNA(VLOOKUP(VentasMenudeo[[#This Row],[Producto]],$A$2:$B$5,2,FALSE),0)","v":270},{"$f":"_xlfn.IFNA(_xlfn.IFS(VentasMenudeo[[#This Row],[Producto]]=$A$2,VentasMenudeo[[#This Row],[Precio de Venta]]*VentasMenudeo[[#This Row],[Cantidad]]-VentasMenudeo[[#This Row],[Descuento]],VentasMenudeo[[#This Row],[Producto]]=$A$3,VentasMenudeo[[#This Row],[Precio de Venta]]*VentasMenudeo[[#This Row],[Cantidad]]-VentasMenudeo[[#This Row],[Descuento]],VentasMenudeo[[#This Row],[Producto]]=$A$4,VentasMenudeo[[#This Row],[Precio de Venta]]*VentasMenudeo[[#This Row],[Cantidad]]-VentasMenudeo[[#This Row],[Descuento]],VentasMenudeo[[#This Row],[Producto]]=$A$5,VentasMenudeo[[#This Row],[Precio de Venta]]*VentasMenudeo[[#This Row],[Cantidad]]-VentasMenudeo[[#This Row],[Descuento]]),0)","v":250},250]
["2022-06-26","Hugo","IPLAY MAX","Bluerazz",1,"$20 Descuento",null,{"$f":"_xlfn.IFNA(VLOOKUP(VentasMenudeo[[#This Row],[Promoción]],PromocionesMenudeo[[Promocion]:[Descuento]],2,0),0)","v":20},{"$f":"_xlfn.IFNA(VLOOKUP(VentasMenudeo[[#This Row],[Producto]],$A$2:$B$5,2,FALSE),0)","v":270},{"$f":"_xlfn.IFNA(_xlfn.IFS(VentasMenudeo[[#This Row],[Producto]]=$A$2,VentasMenudeo[[#This Row],[Precio de Venta]]*VentasMenudeo[[#This Row],[Cantidad]]-VentasMenudeo[[#This Row],[Descuento]],VentasMenudeo[[#This Row],[Producto]]=$A$3,VentasMenudeo[[#This Row],[Precio de Venta]]*VentasMenudeo[[#This Row],[Cantidad]]-VentasMenudeo[[#This Row],[Descuento]],VentasMenudeo[[#This Row],[Producto]]=$A$4,VentasMenudeo[[#This Row],[Precio de Venta]]*VentasMenudeo[[#This Row],[Cantidad]]-VentasMenudeo[[#This Row],[Descuento]],VentasMenudeo[[#This Row],[Producto]]=$A$5,VentasMenudeo[[#This Row],[Precio de Venta]]*VentasMenudeo[[#This Row],[Cantidad]]-VentasMenudeo[[#This Row],[Descuento]]),0)","v":250},250]
["2022-06-26","Hugo","IPLAY MAX","Bluerazz",1,"$20 Descuento",null,{"$f":"_xlfn.IFNA(VLOOKUP(VentasMenudeo[[#This Row],[Promoción]],PromocionesMenudeo[[Promocion]:[Descuento]],2,0),0)","v":20},{"$f":"_xlfn.IFNA(VLOOKUP(VentasMenudeo[[#This Row],[Producto]],$A$2:$B$5,2,FALSE),0)","v":270},{"$f":"_xlfn.IFNA(_xlfn.IFS(VentasMenudeo[[#This Row],[Producto]]=$A$2,VentasMenudeo[[#This Row],[Precio de Venta]]*VentasMenudeo[[#This Row],[Cantidad]]-VentasMenudeo[[#This Row],[Descuento]],VentasMenudeo[[#This Row],[Producto]]=$A$3,VentasMenudeo[[#This Row],[Precio de Venta]]*VentasMenudeo[[#This Row],[Cantidad]]-VentasMenudeo[[#This Row],[Descuento]],VentasMenudeo[[#This Row],[Producto]]=$A$4,VentasMenudeo[[#This Row],[Precio de Venta]]*VentasMenudeo[[#This Row],[Cantidad]]-VentasMenudeo[[#This Row],[Descuento]],VentasMenudeo[[#This Row],[Producto]]=$A$5,VentasMenudeo[[#This Row],[Precio de Venta]]*VentasMenudeo[[#This Row],[Cantidad]]-VentasMenudeo[[#This Row],[Descuento]]),0)","v":250},250]
["2022-06-26","Hugo","IPLAY MAX","Bluerazz",1,"$20 Descuento",null,{"$f":"_xlfn.IFNA(VLOOKUP(VentasMenudeo[[#This Row],[Promoción]],PromocionesMenudeo[[Promocion]:[Descuento]],2,0),0)","v":20},{"$f":"_xlfn.IFNA(VLOOKUP(VentasMenudeo[[#This Row],[Producto]],$A$2:$B$5,2,FALSE),0)","v":270},{"$f":"_xlfn.IFNA(_xlfn.IFS(VentasMenudeo[[#This Row],[Producto]]=$A$2,VentasMenudeo[[#This Row],[Precio de Venta]]*VentasMenudeo[[#This Row],[Cantidad]]-VentasMenudeo[[#This Row],[Descuento]],VentasMenudeo[[#This Row],[Producto]]=$A$3,VentasMenudeo[[#This Row],[Precio de Venta]]*VentasMenudeo[[#This Row],[Cantidad]]-VentasMenudeo[[#This Row],[Descuento]],VentasMenudeo[[#This Row],[Producto]]=$A$4,VentasMenudeo[[#This Row],[Precio de Venta]]*VentasMenudeo[[#This Row],[Cantidad]]-VentasMenudeo[[#This Row],[Descuento]],VentasMenudeo[[#This Row],[Producto]]=$A$5,VentasMenudeo[[#This Row],[Precio de Venta]]*VentasMenudeo[[#This Row],[Cantidad]]-VentasMenudeo[[#This Row],[Descuento]]),0)","v":250},250]
["2022-06-26","Hugo","IPLAY MAX","Bluerazz",1,"$20 Descuento",null,{"$f":"_xlfn.IFNA(VLOOKUP(VentasMenudeo[[#This Row],[Promoción]],PromocionesMenudeo[[Promocion]:[Descuento]],2,0),0)","v":20},{"$f":"_xlfn.IFNA(VLOOKUP(VentasMenudeo[[#This Row],[Producto]],$A$2:$B$5,2,FALSE),0)","v":270},{"$f":"_xlfn.IFNA(_xlfn.IFS(VentasMenudeo[[#This Row],[Producto]]=$A$2,VentasMenudeo[[#This Row],[Precio de Venta]]*VentasMenudeo[[#This Row],[Cantidad]]-VentasMenudeo[[#This Row],[Descuento]],VentasMenudeo[[#This Row],[Producto]]=$A$3,VentasMenudeo[[#This Row],[Precio de Venta]]*VentasMenudeo[[#This Row],[Cantidad]]-VentasMenudeo[[#This Row],[Descuento]],VentasMenudeo[[#This Row],[Producto]]=$A$4,VentasMenudeo[[#This Row],[Precio de Venta]]*VentasMenudeo[[#This Row],[Cantidad]]-VentasMenudeo[[#This Row],[Descuento]],VentasMenudeo[[#This Row],[Producto]]=$A$5,VentasMenudeo[[#This Row],[Precio de Venta]]*VentasMenudeo[[#This Row],[Cantidad]]-VentasMenudeo[[#This Row],[Descuento]]),0)","v":250},250]
["2022-06-26","Hugo","IPLAY MAX","Bluerazz",1,"$20 Descuento",null,{"$f":"_xlfn.IFNA(VLOOKUP(VentasMenudeo[[#This Row],[Promoción]],PromocionesMenudeo[[Promocion]:[Descuento]],2,0),0)","v":20},{"$f":"_xlfn.IFNA(VLOOKUP(VentasMenudeo[[#This Row],[Producto]],$A$2:$B$5,2,FALSE),0)","v":270},{"$f":"_xlfn.IFNA(_xlfn.IFS(VentasMenudeo[[#This Row],[Producto]]=$A$2,VentasMenudeo[[#This Row],[Precio de Venta]]*VentasMenudeo[[#This Row],[Cantidad]]-VentasMenudeo[[#This Row],[Descuento]],VentasMenudeo[[#This Row],[Producto]]=$A$3,VentasMenudeo[[#This Row],[Precio de Venta]]*VentasMenudeo[[#This Row],[Cantidad]]-VentasMenudeo[[#This Row],[Descuento]],VentasMenudeo[[#This Row],[Producto]]=$A$4,VentasMenudeo[[#This Row],[Precio de Venta]]*VentasMenudeo[[#This Row],[Cantidad]]-VentasMenudeo[[#This Row],[Descuento]],VentasMenudeo[[#This Row],[Producto]]=$A$5,VentasMenudeo[[#This Row],[Precio de Venta]]*VentasMenudeo[[#This Row],[Cantidad]]-VentasMenudeo[[#This Row],[Descuento]]),0)","v":250},250]
["2022-06-26","Hugo","IPLAY MAX","Bluerazz",1,"$20 Descuento",null,{"$f":"_xlfn.IFNA(VLOOKUP(VentasMenudeo[[#This Row],[Promoción]],PromocionesMenudeo[[Promocion]:[Descuento]],2,0),0)","v":20},{"$f":"_xlfn.IFNA(VLOOKUP(VentasMenudeo[[#This Row],[Producto]],$A$2:$B$5,2,FALSE),0)","v":270},{"$f":"_xlfn.IFNA(_xlfn.IFS(VentasMenudeo[[#This Row],[Producto]]=$A$2,VentasMenudeo[[#This Row],[Precio de Venta]]*VentasMenudeo[[#This Row],[Cantidad]]-VentasMenudeo[[#This Row],[Descuento]],VentasMenudeo[[#This Row],[Producto]]=$A$3,VentasMenudeo[[#This Row],[Precio de Venta]]*VentasMenudeo[[#This Row],[Cantidad]]-VentasMenudeo[[#This Row],[Descuento]],VentasMenudeo[[#This Row],[Producto]]=$A$4,VentasMenudeo[[#This Row],[Precio de Venta]]*VentasMenudeo[[#This Row],[Cantidad]]-VentasMenudeo[[#This Row],[Descuento]],VentasMenudeo[[#This Row],[Producto]]=$A$5,VentasMenudeo[[#This Row],[Precio de Venta]]*VentasMenudeo[[#This Row],[Cantidad]]-VentasMenudeo[[#This Row],[Descuento]]),0)","v":250},250]
["2022-06-26","Hugo","IPLAY MAX","Bluerazz",1,"$20 Descuento",null,{"$f":"_xlfn.IFNA(VLOOKUP(VentasMenudeo[[#This Row],[Promoción]],PromocionesMenudeo[[Promocion]:[Descuento]],2,0),0)","v":20},{"$f":"_xlfn.IFNA(VLOOKUP(VentasMenudeo[[#This Row],[Producto]],$A$2:$B$5,2,FALSE),0)","v":270},{"$f":"_xlfn.IFNA(_xlfn.IFS(VentasMenudeo[[#This Row],[Producto]]=$A$2,VentasMenudeo[[#This Row],[Precio de Venta]]*VentasMenudeo[[#This Row],[Cantidad]]-VentasMenudeo[[#This Row],[Descuento]],VentasMenudeo[[#This Row],[Producto]]=$A$3,VentasMenudeo[[#This Row],[Precio de Venta]]*VentasMenudeo[[#This Row],[Cantidad]]-VentasMenudeo[[#This Row],[Descuento]],VentasMenudeo[[#This Row],[Producto]]=$A$4,VentasMenudeo[[#This Row],[Precio de Venta]]*VentasMenudeo[[#This Row],[Cantidad]]-VentasMenudeo[[#This Row],[Descuento]],VentasMenudeo[[#This Row],[Producto]]=$A$5,VentasMenudeo[[#This Row],[Precio de Venta]]*VentasMenudeo[[#This Row],[Cantidad]]-VentasMenudeo[[#This Row],[Descuento]]),0)","v":250},250]
["2022-06-26","Hugo","IPLAY MAX","GrapeFruit berry",1,"$20 Descuento",null,{"$f":"_xlfn.IFNA(VLOOKUP(VentasMenudeo[[#This Row],[Promoción]],PromocionesMenudeo[[Promocion]:[Descuento]],2,0),0)","v":20},{"$f":"_xlfn.IFNA(VLOOKUP(VentasMenudeo[[#This Row],[Producto]],$A$2:$B$5,2,FALSE),0)","v":270},{"$f":"_xlfn.IFNA(_xlfn.IFS(VentasMenudeo[[#This Row],[Producto]]=$A$2,VentasMenudeo[[#This Row],[Precio de Venta]]*VentasMenudeo[[#This Row],[Cantidad]]-VentasMenudeo[[#This Row],[Descuento]],VentasMenudeo[[#This Row],[Producto]]=$A$3,VentasMenudeo[[#This Row],[Precio de Venta]]*VentasMenudeo[[#This Row],[Cantidad]]-VentasMenudeo[[#This Row],[Descuento]],VentasMenudeo[[#This Row],[Producto]]=$A$4,VentasMenudeo[[#This Row],[Precio de Venta]]*VentasMenudeo[[#This Row],[Cantidad]]-VentasMenudeo[[#This Row],[Descuento]],VentasMenudeo[[#This Row],[Producto]]=$A$5,VentasMenudeo[[#This Row],[Precio de Venta]]*VentasMenudeo[[#This Row],[Cantidad]]-VentasMenudeo[[#This Row],[Descuento]]),0)","v":250},250]
["2022-06-26","Hugo","IPLAY MAX","Strawberry Lychee",1,"$20 Descuento",null,{"$f":"_xlfn.IFNA(VLOOKUP(VentasMenudeo[[#This Row],[Promoción]],PromocionesMenudeo[[Promocion]:[Descuento]],2,0),0)","v":20},{"$f":"_xlfn.IFNA(VLOOKUP(VentasMenudeo[[#This Row],[Producto]],$A$2:$B$5,2,FALSE),0)","v":270},{"$f":"_xlfn.IFNA(_xlfn.IFS(VentasMenudeo[[#This Row],[Producto]]=$A$2,VentasMenudeo[[#This Row],[Precio de Venta]]*VentasMenudeo[[#This Row],[Cantidad]]-VentasMenudeo[[#This Row],[Descuento]],VentasMenudeo[[#This Row],[Producto]]=$A$3,VentasMenudeo[[#This Row],[Precio de Venta]]*VentasMenudeo[[#This Row],[Cantidad]]-VentasMenudeo[[#This Row],[Descuento]],VentasMenudeo[[#This Row],[Producto]]=$A$4,VentasMenudeo[[#This Row],[Precio de Venta]]*VentasMenudeo[[#This Row],[Cantidad]]-VentasMenudeo[[#This Row],[Descuento]],VentasMenudeo[[#This Row],[Producto]]=$A$5,VentasMenudeo[[#This Row],[Precio de Venta]]*VentasMenudeo[[#This Row],[Cantidad]]-VentasMenudeo[[#This Row],[Descuento]]),0)","v":250},250]
["2022-06-26","Hugo","IPLAY MAX","Strawberry Lychee",1,"$20 Descuento",null,{"$f":"_xlfn.IFNA(VLOOKUP(VentasMenudeo[[#This Row],[Promoción]],PromocionesMenudeo[[Promocion]:[Descuento]],2,0),0)","v":20},{"$f":"_xlfn.IFNA(VLOOKUP(VentasMenudeo[[#This Row],[Producto]],$A$2:$B$5,2,FALSE),0)","v":270},{"$f":"_xlfn.IFNA(_xlfn.IFS(VentasMenudeo[[#This Row],[Producto]]=$A$2,VentasMenudeo[[#This Row],[Precio de Venta]]*VentasMenudeo[[#This Row],[Cantidad]]-VentasMenudeo[[#This Row],[Descuento]],VentasMenudeo[[#This Row],[Producto]]=$A$3,VentasMenudeo[[#This Row],[Precio de Venta]]*VentasMenudeo[[#This Row],[Cantidad]]-VentasMenudeo[[#This Row],[Descuento]],VentasMenudeo[[#This Row],[Producto]]=$A$4,VentasMenudeo[[#This Row],[Precio de Venta]]*VentasMenudeo[[#This Row],[Cantidad]]-VentasMenudeo[[#This Row],[Descuento]],VentasMenudeo[[#This Row],[Producto]]=$A$5,VentasMenudeo[[#This Row],[Precio de Venta]]*VentasMenudeo[[#This Row],[Cantidad]]-VentasMenudeo[[#This Row],[Descuento]]),0)","v":250},250]
["2022-06-26","Hugo","IPLAY MAX","Strawberry Lychee",1,"$20 Descuento",null,{"$f":"_xlfn.IFNA(VLOOKUP(VentasMenudeo[[#This Row],[Promoción]],PromocionesMenudeo[[Promocion]:[Descuento]],2,0),0)","v":20},{"$f":"_xlfn.IFNA(VLOOKUP(VentasMenudeo[[#This Row],[Producto]],$A$2:$B$5,2,FALSE),0)","v":270},{"$f":"_xlfn.IFNA(_xlfn.IFS(VentasMenudeo[[#This Row],[Producto]]=$A$2,VentasMenudeo[[#This Row],[Precio de Venta]]*VentasMenudeo[[#This Row],[Cantidad]]-VentasMenudeo[[#This Row],[Descuento]],VentasMenudeo[[#This Row],[Producto]]=$A$3,VentasMenudeo[[#This Row],[Precio de Venta]]*VentasMenudeo[[#This Row],[Cantidad]]-VentasMenudeo[[#This Row],[Descuento]],VentasMenudeo[[#This Row],[Producto]]=$A$4,VentasMenudeo[[#This Row],[Precio de Venta]]*VentasMenudeo[[#This Row],[Cantidad]]-VentasMenudeo[[#This Row],[Descuento]],VentasMenudeo[[#This Row],[Producto]]=$A$5,VentasMenudeo[[#This Row],[Precio de Venta]]*VentasMenudeo[[#This Row],[Cantidad]]-VentasMenudeo[[#This Row],[Descuento]]),0)","v":250},250]
["2022-06-26","Hugo","IPLAY MAX","Strawberry Lychee",1,"$20 Descuento",null,{"$f":"_xlfn.IFNA(VLOOKUP(VentasMenudeo[[#This Row],[Promoción]],PromocionesMenudeo[[Promocion]:[Descuento]],2,0),0)","v":20},{"$f":"_xlfn.IFNA(VLOOKUP(VentasMenudeo[[#This Row],[Producto]],$A$2:$B$5,2,FALSE),0)","v":270},{"$f":"_xlfn.IFNA(_xlfn.IFS(VentasMenudeo[[#This Row],[Producto]]=$A$2,VentasMenudeo[[#This Row],[Precio de Venta]]*VentasMenudeo[[#This Row],[Cantidad]]-VentasMenudeo[[#This Row],[Descuento]],VentasMenudeo[[#This Row],[Producto]]=$A$3,VentasMenudeo[[#This Row],[Precio de Venta]]*VentasMenudeo[[#This Row],[Cantidad]]-VentasMenudeo[[#This Row],[Descuento]],VentasMenudeo[[#This Row],[Producto]]=$A$4,VentasMenudeo[[#This Row],[Precio de Venta]]*VentasMenudeo[[#This Row],[Cantidad]]-VentasMenudeo[[#This Row],[Descuento]],VentasMenudeo[[#This Row],[Producto]]=$A$5,VentasMenudeo[[#This Row],[Precio de Venta]]*VentasMenudeo[[#This Row],[Cantidad]]-VentasMenudeo[[#This Row],[Descuento]]),0)","v":250},250]
["2022-06-26","Hugo","IPLAY MAX","Strawberry Lychee",1,"$20 Descuento",null,{"$f":"_xlfn.IFNA(VLOOKUP(VentasMenudeo[[#This Row],[Promoción]],PromocionesMenudeo[[Promocion]:[Descuento]],2,0),0)","v":20},{"$f":"_xlfn.IFNA(VLOOKUP(VentasMenudeo[[#This Row],[Producto]],$A$2:$B$5,2,FALSE),0)","v":270},{"$f":"_xlfn.IFNA(_xlfn.IFS(VentasMenudeo[[#This Row],[Producto]]=$A$2,VentasMenudeo[[#This Row],[Precio de Venta]]*VentasMenudeo[[#This Row],[Cantidad]]-VentasMenudeo[[#This Row],[Descuento]],VentasMenudeo[[#This Row],[Producto]]=$A$3,VentasMenudeo[[#This Row],[Precio de Venta]]*VentasMenudeo[[#This Row],[Cantidad]]-VentasMenudeo[[#This Row],[Descuento]],VentasMenudeo[[#This Row],[Producto]]=$A$4,VentasMenudeo[[#This Row],[Precio de Venta]]*VentasMenudeo[[#This Row],[Cantidad]]-VentasMenudeo[[#This Row],[Descuento]],VentasMenudeo[[#This Row],[Producto]]=$A$5,VentasMenudeo[[#This Row],[Precio de Venta]]*VentasMenudeo[[#This Row],[Cantidad]]-VentasMenudeo[[#This Row],[Descuento]]),0)","v":250},250]
["2022-06-26","Hugo","IPLAY MAX","Guava",1,"$20 Descuento",null,{"$f":"_xlfn.IFNA(VLOOKUP(VentasMenudeo[[#This Row],[Promoción]],PromocionesMenudeo[[Promocion]:[Descuento]],2,0),0)","v":20},{"$f":"_xlfn.IFNA(VLOOKUP(VentasMenudeo[[#This Row],[Producto]],$A$2:$B$5,2,FALSE),0)","v":270},{"$f":"_xlfn.IFNA(_xlfn.IFS(VentasMenudeo[[#This Row],[Producto]]=$A$2,VentasMenudeo[[#This Row],[Precio de Venta]]*VentasMenudeo[[#This Row],[Cantidad]]-VentasMenudeo[[#This Row],[Descuento]],VentasMenudeo[[#This Row],[Producto]]=$A$3,VentasMenudeo[[#This Row],[Precio de Venta]]*VentasMenudeo[[#This Row],[Cantidad]]-VentasMenudeo[[#This Row],[Descuento]],VentasMenudeo[[#This Row],[Producto]]=$A$4,VentasMenudeo[[#This Row],[Precio de Venta]]*VentasMenudeo[[#This Row],[Cantidad]]-VentasMenudeo[[#This Row],[Descuento]],VentasMenudeo[[#This Row],[Producto]]=$A$5,VentasMenudeo[[#This Row],[Precio de Venta]]*VentasMenudeo[[#This Row],[Cantidad]]-VentasMenudeo[[#This Row],[Descuento]]),0)","v":250},250]
["2022-06-26","Hugo","IPLAY MAX","Guava",1,"$20 Descuento",null,{"$f":"_xlfn.IFNA(VLOOKUP(VentasMenudeo[[#This Row],[Promoción]],PromocionesMenudeo[[Promocion]:[Descuento]],2,0),0)","v":20},{"$f":"_xlfn.IFNA(VLOOKUP(VentasMenudeo[[#This Row],[Producto]],$A$2:$B$5,2,FALSE),0)","v":270},{"$f":"_xlfn.IFNA(_xlfn.IFS(VentasMenudeo[[#This Row],[Producto]]=$A$2,VentasMenudeo[[#This Row],[Precio de Venta]]*VentasMenudeo[[#This Row],[Cantidad]]-VentasMenudeo[[#This Row],[Descuento]],VentasMenudeo[[#This Row],[Producto]]=$A$3,VentasMenudeo[[#This Row],[Precio de Venta]]*VentasMenudeo[[#This Row],[Cantidad]]-VentasMenudeo[[#This Row],[Descuento]],VentasMenudeo[[#This Row],[Producto]]=$A$4,VentasMenudeo[[#This Row],[Precio de Venta]]*VentasMenudeo[[#This Row],[Cantidad]]-VentasMenudeo[[#This Row],[Descuento]],VentasMenudeo[[#This Row],[Producto]]=$A$5,VentasMenudeo[[#This Row],[Precio de Venta]]*VentasMenudeo[[#This Row],[Cantidad]]-VentasMenudeo[[#This Row],[Descuento]]),0)","v":250},250]
["2022-07-02","Hugo","IPLAY MAX","Strawberry Lychee",1,"$20 Descuento",null,{"$f":"_xlfn.IFNA(VLOOKUP(VentasMenudeo[[#This Row],[Promoción]],PromocionesMenudeo[[Promocion]:[Descuento]],2,0),0)","v":20},{"$f":"_xlfn.IFNA(VLOOKUP(VentasMenudeo[[#This Row],[Producto]],$A$2:$B$5,2,FALSE),0)","v":270},{"$f":"_xlfn.IFNA(_xlfn.IFS(VentasMenudeo[[#This Row],[Producto]]=$A$2,VentasMenudeo[[#This Row],[Precio de Venta]]*VentasMenudeo[[#This Row],[Cantidad]]-VentasMenudeo[[#This Row],[Descuento]],VentasMenudeo[[#This Row],[Producto]]=$A$3,VentasMenudeo[[#This Row],[Precio de Venta]]*VentasMenudeo[[#This Row],[Cantidad]]-VentasMenudeo[[#This Row],[Descuento]],VentasMenudeo[[#This Row],[Producto]]=$A$4,VentasMenudeo[[#This Row],[Precio de Venta]]*VentasMenudeo[[#This Row],[Cantidad]]-VentasMenudeo[[#This Row],[Descuento]],VentasMenudeo[[#This Row],[Producto]]=$A$5,VentasMenudeo[[#This Row],[Precio de Venta]]*VentasMenudeo[[#This Row],[Cantidad]]-VentasMenudeo[[#This Row],[Descuento]]),0)","v":250},250]
["2022-07-02","Hugo","IPLAY MAX","GrapeFruit berry",1,"$20 Descuento",null,{"$f":"_xlfn.IFNA(VLOOKUP(VentasMenudeo[[#This Row],[Promoción]],PromocionesMenudeo[[Promocion]:[Descuento]],2,0),0)","v":20},{"$f":"_xlfn.IFNA(VLOOKUP(VentasMenudeo[[#This Row],[Producto]],$A$2:$B$5,2,FALSE),0)","v":270},{"$f":"_xlfn.IFNA(_xlfn.IFS(VentasMenudeo[[#This Row],[Producto]]=$A$2,VentasMenudeo[[#This Row],[Precio de Venta]]*VentasMenudeo[[#This Row],[Cantidad]]-VentasMenudeo[[#This Row],[Descuento]],VentasMenudeo[[#This Row],[Producto]]=$A$3,VentasMenudeo[[#This Row],[Precio de Venta]]*VentasMenudeo[[#This Row],[Cantidad]]-VentasMenudeo[[#This Row],[Descuento]],VentasMenudeo[[#This Row],[Producto]]=$A$4,VentasMenudeo[[#This Row],[Precio de Venta]]*VentasMenudeo[[#This Row],[Cantidad]]-VentasMenudeo[[#This Row],[Descuento]],VentasMenudeo[[#This Row],[Producto]]=$A$5,VentasMenudeo[[#This Row],[Precio de Venta]]*VentasMenudeo[[#This Row],[Cantidad]]-VentasMenudeo[[#This Row],[Descuento]]),0)","v":250},250]
["2022-07-02","Hugo","IPLAY MAX","Strawberry Lychee",1,"$20 Descuento",null,{"$f":"_xlfn.IFNA(VLOOKUP(VentasMenudeo[[#This Row],[Promoción]],PromocionesMenudeo[[Promocion]:[Descuento]],2,0),0)","v":20},{"$f":"_xlfn.IFNA(VLOOKUP(VentasMenudeo[[#This Row],[Producto]],$A$2:$B$5,2,FALSE),0)","v":270},{"$f":"_xlfn.IFNA(_xlfn.IFS(VentasMenudeo[[#This Row],[Producto]]=$A$2,VentasMenudeo[[#This Row],[Precio de Venta]]*VentasMenudeo[[#This Row],[Cantidad]]-VentasMenudeo[[#This Row],[Descuento]],VentasMenudeo[[#This Row],[Producto]]=$A$3,VentasMenudeo[[#This Row],[Precio de Venta]]*VentasMenudeo[[#This Row],[Cantidad]]-VentasMenudeo[[#This Row],[Descuento]],VentasMenudeo[[#This Row],[Producto]]=$A$4,VentasMenudeo[[#This Row],[Precio de Venta]]*VentasMenudeo[[#This Row],[Cantidad]]-VentasMenudeo[[#This Row],[Descuento]],VentasMenudeo[[#This Row],[Producto]]=$A$5,VentasMenudeo[[#This Row],[Precio de Venta]]*VentasMenudeo[[#This Row],[Cantidad]]-VentasMenudeo[[#This Row],[Descuento]]),0)","v":250},250]
["2022-07-02","Hugo","IPLAY MAX","GrapeFruit berry",1,"$20 Descuento",null,{"$f":"_xlfn.IFNA(VLOOKUP(VentasMenudeo[[#This Row],[Promoción]],PromocionesMenudeo[[Promocion]:[Descuento]],2,0),0)","v":20},{"$f":"_xlfn.IFNA(VLOOKUP(VentasMenudeo[[#This Row],[Producto]],$A$2:$B$5,2,FALSE),0)","v":270},{"$f":"_xlfn.IFNA(_xlfn.IFS(VentasMenudeo[[#This Row],[Producto]]=$A$2,VentasMenudeo[[#This Row],[Precio de Venta]]*VentasMenudeo[[#This Row],[Cantidad]]-VentasMenudeo[[#This Row],[Descuento]],VentasMenudeo[[#This Row],[Producto]]=$A$3,VentasMenudeo[[#This Row],[Precio de Venta]]*VentasMenudeo[[#This Row],[Cantidad]]-VentasMenudeo[[#This Row],[Descuento]],VentasMenudeo[[#This Row],[Producto]]=$A$4,VentasMenudeo[[#This Row],[Precio de Venta]]*VentasMenudeo[[#This Row],[Cantidad]]-VentasMenudeo[[#This Row],[Descuento]],VentasMenudeo[[#This Row],[Producto]]=$A$5,VentasMenudeo[[#This Row],[Precio de Venta]]*VentasMenudeo[[#This Row],[Cantidad]]-VentasMenudeo[[#This Row],[Descuento]]),0)","v":250},250]
["2022-07-02","Hugo","IPLAY MAX","GrapeFruit berry",1,"$20 Descuento",null,{"$f":"_xlfn.IFNA(VLOOKUP(VentasMenudeo[[#This Row],[Promoción]],PromocionesMenudeo[[Promocion]:[Descuento]],2,0),0)","v":20},{"$f":"_xlfn.IFNA(VLOOKUP(VentasMenudeo[[#This Row],[Producto]],$A$2:$B$5,2,FALSE),0)","v":270},{"$f":"_xlfn.IFNA(_xlfn.IFS(VentasMenudeo[[#This Row],[Producto]]=$A$2,VentasMenudeo[[#This Row],[Precio de Venta]]*VentasMenudeo[[#This Row],[Cantidad]]-VentasMenudeo[[#This Row],[Descuento]],VentasMenudeo[[#This Row],[Producto]]=$A$3,VentasMenudeo[[#This Row],[Precio de Venta]]*VentasMenudeo[[#This Row],[Cantidad]]-VentasMenudeo[[#This Row],[Descuento]],VentasMenudeo[[#This Row],[Producto]]=$A$4,VentasMenudeo[[#This Row],[Precio de Venta]]*VentasMenudeo[[#This Row],[Cantidad]]-VentasMenudeo[[#This Row],[Descuento]],VentasMenudeo[[#This Row],[Producto]]=$A$5,VentasMenudeo[[#This Row],[Precio de Venta]]*VentasMenudeo[[#This Row],[Cantidad]]-VentasMenudeo[[#This Row],[Descuento]]),0)","v":250},250]
["2022-07-02","Hugo","IPLAY MAX","GrapeFruit berry",1,"$20 Descuento",null,{"$f":"_xlfn.IFNA(VLOOKUP(VentasMenudeo[[#This Row],[Promoción]],PromocionesMenudeo[[Promocion]:[Descuento]],2,0),0)","v":20},{"$f":"_xlfn.IFNA(VLOOKUP(VentasMenudeo[[#This Row],[Producto]],$A$2:$B$5,2,FALSE),0)","v":270},{"$f":"_xlfn.IFNA(_xlfn.IFS(VentasMenudeo[[#This Row],[Producto]]=$A$2,VentasMenudeo[[#This Row],[Precio de Venta]]*VentasMenudeo[[#This Row],[Cantidad]]-VentasMenudeo[[#This Row],[Descuento]],VentasMenudeo[[#This Row],[Producto]]=$A$3,VentasMenudeo[[#This Row],[Precio de Venta]]*VentasMenudeo[[#This Row],[Cantidad]]-VentasMenudeo[[#This Row],[Descuento]],VentasMenudeo[[#This Row],[Producto]]=$A$4,VentasMenudeo[[#This Row],[Precio de Venta]]*VentasMenudeo[[#This Row],[Cantidad]]-VentasMenudeo[[#This Row],[Descuento]],VentasMenudeo[[#This Row],[Producto]]=$A$5,VentasMenudeo[[#This Row],[Precio de Venta]]*VentasMenudeo[[#This Row],[Cantidad]]-VentasMenudeo[[#This Row],[Descuento]]),0)","v":250},250]
["2022-07-02","Hugo","IPLAY MAX","Sour Apple",1,"$20 Descuento",null,{"$f":"_xlfn.IFNA(VLOOKUP(VentasMenudeo[[#This Row],[Promoción]],PromocionesMenudeo[[Promocion]:[Descuento]],2,0),0)","v":20},{"$f":"_xlfn.IFNA(VLOOKUP(VentasMenudeo[[#This Row],[Producto]],$A$2:$B$5,2,FALSE),0)","v":270},{"$f":"_xlfn.IFNA(_xlfn.IFS(VentasMenudeo[[#This Row],[Producto]]=$A$2,VentasMenudeo[[#This Row],[Precio de Venta]]*VentasMenudeo[[#This Row],[Cantidad]]-VentasMenudeo[[#This Row],[Descuento]],VentasMenudeo[[#This Row],[Producto]]=$A$3,VentasMenudeo[[#This Row],[Precio de Venta]]*VentasMenudeo[[#This Row],[Cantidad]]-VentasMenudeo[[#This Row],[Descuento]],VentasMenudeo[[#This Row],[Producto]]=$A$4,VentasMenudeo[[#This Row],[Precio de Venta]]*VentasMenudeo[[#This Row],[Cantidad]]-VentasMenudeo[[#This Row],[Descuento]],VentasMenudeo[[#This Row],[Producto]]=$A$5,VentasMenudeo[[#This Row],[Precio de Venta]]*VentasMenudeo[[#This Row],[Cantidad]]-VentasMenudeo[[#This Row],[Descuento]]),0)","v":250},250]
["2022-07-02","Hugo","IPLAY MAX","Berry Watermelon",1,"$20 Descuento",null,{"$f":"_xlfn.IFNA(VLOOKUP(VentasMenudeo[[#This Row],[Promoción]],PromocionesMenudeo[[Promocion]:[Descuento]],2,0),0)","v":20},{"$f":"_xlfn.IFNA(VLOOKUP(VentasMenudeo[[#This Row],[Producto]],$A$2:$B$5,2,FALSE),0)","v":270},{"$f":"_xlfn.IFNA(_xlfn.IFS(VentasMenudeo[[#This Row],[Producto]]=$A$2,VentasMenudeo[[#This Row],[Precio de Venta]]*VentasMenudeo[[#This Row],[Cantidad]]-VentasMenudeo[[#This Row],[Descuento]],VentasMenudeo[[#This Row],[Producto]]=$A$3,VentasMenudeo[[#This Row],[Precio de Venta]]*VentasMenudeo[[#This Row],[Cantidad]]-VentasMenudeo[[#This Row],[Descuento]],VentasMenudeo[[#This Row],[Producto]]=$A$4,VentasMenudeo[[#This Row],[Precio de Venta]]*VentasMenudeo[[#This Row],[Cantidad]]-VentasMenudeo[[#This Row],[Descuento]],VentasMenudeo[[#This Row],[Producto]]=$A$5,VentasMenudeo[[#This Row],[Precio de Venta]]*VentasMenudeo[[#This Row],[Cantidad]]-VentasMenudeo[[#This Row],[Descuento]]),0)","v":250},250]
["2022-07-02","Hugo","IPLAY MAX","GrapeFruit berry",1,"$20 Descuento",null,{"$f":"_xlfn.IFNA(VLOOKUP(VentasMenudeo[[#This Row],[Promoción]],PromocionesMenudeo[[Promocion]:[Descuento]],2,0),0)","v":20},{"$f":"_xlfn.IFNA(VLOOKUP(VentasMenudeo[[#This Row],[Producto]],$A$2:$B$5,2,FALSE),0)","v":270},{"$f":"_xlfn.IFNA(_xlfn.IFS(VentasMenudeo[[#This Row],[Producto]]=$A$2,VentasMenudeo[[#This Row],[Precio de Venta]]*VentasMenudeo[[#This Row],[Cantidad]]-VentasMenudeo[[#This Row],[Descuento]],VentasMenudeo[[#This Row],[Producto]]=$A$3,VentasMenudeo[[#This Row],[Precio de Venta]]*VentasMenudeo[[#This Row],[Cantidad]]-VentasMenudeo[[#This Row],[Descuento]],VentasMenudeo[[#This Row],[Producto]]=$A$4,VentasMenudeo[[#This Row],[Precio de Venta]]*VentasMenudeo[[#This Row],[Cantidad]]-VentasMenudeo[[#This Row],[Descuento]],VentasMenudeo[[#This Row],[Producto]]=$A$5,VentasMenudeo[[#This Row],[Precio de Venta]]*VentasMenudeo[[#This Row],[Cantidad]]-VentasMenudeo[[#This Row],[Descuento]]),0)","v":250},250]
["2022-07-02","Hugo","IPLAY MAX","GrapeFruit berry",1,"$20 Descuento",null,{"$f":"_xlfn.IFNA(VLOOKUP(VentasMenudeo[[#This Row],[Promoción]],PromocionesMenudeo[[Promocion]:[Descuento]],2,0),0)","v":20},{"$f":"_xlfn.IFNA(VLOOKUP(VentasMenudeo[[#This Row],[Producto]],$A$2:$B$5,2,FALSE),0)","v":270},{"$f":"_xlfn.IFNA(_xlfn.IFS(VentasMenudeo[[#This Row],[Producto]]=$A$2,VentasMenudeo[[#This Row],[Precio de Venta]]*VentasMenudeo[[#This Row],[Cantidad]]-VentasMenudeo[[#This Row],[Descuento]],VentasMenudeo[[#This Row],[Producto]]=$A$3,VentasMenudeo[[#This Row],[Precio de Venta]]*VentasMenudeo[[#This Row],[Cantidad]]-VentasMenudeo[[#This Row],[Descuento]],VentasMenudeo[[#This Row],[Producto]]=$A$4,VentasMenudeo[[#This Row],[Precio de Venta]]*VentasMenudeo[[#This Row],[Cantidad]]-VentasMenudeo[[#This Row],[Descuento]],VentasMenudeo[[#This Row],[Producto]]=$A$5,VentasMenudeo[[#This Row],[Precio de Venta]]*VentasMenudeo[[#This Row],[Cantidad]]-VentasMenudeo[[#This Row],[Descuento]]),0)","v":250},250]
["2022-07-02","Hugo","IPLAY MAX","Berry Watermelon",1,"$20 Descuento",null,{"$f":"_xlfn.IFNA(VLOOKUP(VentasMenudeo[[#This Row],[Promoción]],PromocionesMenudeo[[Promocion]:[Descuento]],2,0),0)","v":20},{"$f":"_xlfn.IFNA(VLOOKUP(VentasMenudeo[[#This Row],[Producto]],$A$2:$B$5,2,FALSE),0)","v":270},{"$f":"_xlfn.IFNA(_xlfn.IFS(VentasMenudeo[[#This Row],[Producto]]=$A$2,VentasMenudeo[[#This Row],[Precio de Venta]]*VentasMenudeo[[#This Row],[Cantidad]]-VentasMenudeo[[#This Row],[Descuento]],VentasMenudeo[[#This Row],[Producto]]=$A$3,VentasMenudeo[[#This Row],[Precio de Venta]]*VentasMenudeo[[#This Row],[Cantidad]]-VentasMenudeo[[#This Row],[Descuento]],VentasMenudeo[[#This Row],[Producto]]=$A$4,VentasMenudeo[[#This Row],[Precio de Venta]]*VentasMenudeo[[#This Row],[Cantidad]]-VentasMenudeo[[#This Row],[Descuento]],VentasMenudeo[[#This Row],[Producto]]=$A$5,VentasMenudeo[[#This Row],[Precio de Venta]]*VentasMenudeo[[#This Row],[Cantidad]]-VentasMenudeo[[#This Row],[Descuento]]),0)","v":250},250]
["2022-07-02","Hugo","IPLAY MAX","Berry Watermelon",1,"$20 Descuento",null,{"$f":"_xlfn.IFNA(VLOOKUP(VentasMenudeo[[#This Row],[Promoción]],PromocionesMenudeo[[Promocion]:[Descuento]],2,0),0)","v":20},{"$f":"_xlfn.IFNA(VLOOKUP(VentasMenudeo[[#This Row],[Producto]],$A$2:$B$5,2,FALSE),0)","v":270},{"$f":"_xlfn.IFNA(_xlfn.IFS(VentasMenudeo[[#This Row],[Producto]]=$A$2,VentasMenudeo[[#This Row],[Precio de Venta]]*VentasMenudeo[[#This Row],[Cantidad]]-VentasMenudeo[[#This Row],[Descuento]],VentasMenudeo[[#This Row],[Producto]]=$A$3,VentasMenudeo[[#This Row],[Precio de Venta]]*VentasMenudeo[[#This Row],[Cantidad]]-VentasMenudeo[[#This Row],[Descuento]],VentasMenudeo[[#This Row],[Producto]]=$A$4,VentasMenudeo[[#This Row],[Precio de Venta]]*VentasMenudeo[[#This Row],[Cantidad]]-VentasMenudeo[[#This Row],[Descuento]],VentasMenudeo[[#This Row],[Producto]]=$A$5,VentasMenudeo[[#This Row],[Precio de Venta]]*VentasMenudeo[[#This Row],[Cantidad]]-VentasMenudeo[[#This Row],[Descuento]]),0)","v":250},250]
["2022-07-02","Hugo","IPLAY MAX","Guava",1,"$20 Descuento",null,{"$f":"_xlfn.IFNA(VLOOKUP(VentasMenudeo[[#This Row],[Promoción]],PromocionesMenudeo[[Promocion]:[Descuento]],2,0),0)","v":20},{"$f":"_xlfn.IFNA(VLOOKUP(VentasMenudeo[[#This Row],[Producto]],$A$2:$B$5,2,FALSE),0)","v":270},{"$f":"_xlfn.IFNA(_xlfn.IFS(VentasMenudeo[[#This Row],[Producto]]=$A$2,VentasMenudeo[[#This Row],[Precio de Venta]]*VentasMenudeo[[#This Row],[Cantidad]]-VentasMenudeo[[#This Row],[Descuento]],VentasMenudeo[[#This Row],[Producto]]=$A$3,VentasMenudeo[[#This Row],[Precio de Venta]]*VentasMenudeo[[#This Row],[Cantidad]]-VentasMenudeo[[#This Row],[Descuento]],VentasMenudeo[[#This Row],[Producto]]=$A$4,VentasMenudeo[[#This Row],[Precio de Venta]]*VentasMenudeo[[#This Row],[Cantidad]]-VentasMenudeo[[#This Row],[Descuento]],VentasMenudeo[[#This Row],[Producto]]=$A$5,VentasMenudeo[[#This Row],[Precio de Venta]]*VentasMenudeo[[#This Row],[Cantidad]]-VentasMenudeo[[#This Row],[Descuento]]),0)","v":250},250]
["2022-07-02","Hugo","IPLAY MAX","Berry Watermelon",1,"$20 Descuento",null,{"$f":"_xlfn.IFNA(VLOOKUP(VentasMenudeo[[#This Row],[Promoción]],PromocionesMenudeo[[Promocion]:[Descuento]],2,0),0)","v":20},{"$f":"_xlfn.IFNA(VLOOKUP(VentasMenudeo[[#This Row],[Producto]],$A$2:$B$5,2,FALSE),0)","v":270},{"$f":"_xlfn.IFNA(_xlfn.IFS(VentasMenudeo[[#This Row],[Producto]]=$A$2,VentasMenudeo[[#This Row],[Precio de Venta]]*VentasMenudeo[[#This Row],[Cantidad]]-VentasMenudeo[[#This Row],[Descuento]],VentasMenudeo[[#This Row],[Producto]]=$A$3,VentasMenudeo[[#This Row],[Precio de Venta]]*VentasMenudeo[[#This Row],[Cantidad]]-VentasMenudeo[[#This Row],[Descuento]],VentasMenudeo[[#This Row],[Producto]]=$A$4,VentasMenudeo[[#This Row],[Precio de Venta]]*VentasMenudeo[[#This Row],[Cantidad]]-VentasMenudeo[[#This Row],[Descuento]],VentasMenudeo[[#This Row],[Producto]]=$A$5,VentasMenudeo[[#This Row],[Precio de Venta]]*VentasMenudeo[[#This Row],[Cantidad]]-VentasMenudeo[[#This Row],[Descuento]]),0)","v":250},250]
["2022-07-02","Hugo","IPLAY MAX","Grapestraw",1,"$20 Descuento",null,{"$f":"_xlfn.IFNA(VLOOKUP(VentasMenudeo[[#This Row],[Promoción]],PromocionesMenudeo[[Promocion]:[Descuento]],2,0),0)","v":20},{"$f":"_xlfn.IFNA(VLOOKUP(VentasMenudeo[[#This Row],[Producto]],$A$2:$B$5,2,FALSE),0)","v":270},{"$f":"_xlfn.IFNA(_xlfn.IFS(VentasMenudeo[[#This Row],[Producto]]=$A$2,VentasMenudeo[[#This Row],[Precio de Venta]]*VentasMenudeo[[#This Row],[Cantidad]]-VentasMenudeo[[#This Row],[Descuento]],VentasMenudeo[[#This Row],[Producto]]=$A$3,VentasMenudeo[[#This Row],[Precio de Venta]]*VentasMenudeo[[#This Row],[Cantidad]]-VentasMenudeo[[#This Row],[Descuento]],VentasMenudeo[[#This Row],[Producto]]=$A$4,VentasMenudeo[[#This Row],[Precio de Venta]]*VentasMenudeo[[#This Row],[Cantidad]]-VentasMenudeo[[#This Row],[Descuento]],VentasMenudeo[[#This Row],[Producto]]=$A$5,VentasMenudeo[[#This Row],[Precio de Venta]]*VentasMenudeo[[#This Row],[Cantidad]]-VentasMenudeo[[#This Row],[Descuento]]),0)","v":250},250]
["2022-07-02","Hugo","IPLAY MAX","Grapestraw",1,"$20 Descuento",null,{"$f":"_xlfn.IFNA(VLOOKUP(VentasMenudeo[[#This Row],[Promoción]],PromocionesMenudeo[[Promocion]:[Descuento]],2,0),0)","v":20},{"$f":"_xlfn.IFNA(VLOOKUP(VentasMenudeo[[#This Row],[Producto]],$A$2:$B$5,2,FALSE),0)","v":270},{"$f":"_xlfn.IFNA(_xlfn.IFS(VentasMenudeo[[#This Row],[Producto]]=$A$2,VentasMenudeo[[#This Row],[Precio de Venta]]*VentasMenudeo[[#This Row],[Cantidad]]-VentasMenudeo[[#This Row],[Descuento]],VentasMenudeo[[#This Row],[Producto]]=$A$3,VentasMenudeo[[#This Row],[Precio de Venta]]*VentasMenudeo[[#This Row],[Cantidad]]-VentasMenudeo[[#This Row],[Descuento]],VentasMenudeo[[#This Row],[Producto]]=$A$4,VentasMenudeo[[#This Row],[Precio de Venta]]*VentasMenudeo[[#This Row],[Cantidad]]-VentasMenudeo[[#This Row],[Descuento]],VentasMenudeo[[#This Row],[Producto]]=$A$5,VentasMenudeo[[#This Row],[Precio de Venta]]*VentasMenudeo[[#This Row],[Cantidad]]-VentasMenudeo[[#This Row],[Descuento]]),0)","v":250},250]
["2022-07-02","Hugo","IPLAY MAX","Grape Ice",1,"$20 Descuento",null,{"$f":"_xlfn.IFNA(VLOOKUP(VentasMenudeo[[#This Row],[Promoción]],PromocionesMenudeo[[Promocion]:[Descuento]],2,0),0)","v":20},{"$f":"_xlfn.IFNA(VLOOKUP(VentasMenudeo[[#This Row],[Producto]],$A$2:$B$5,2,FALSE),0)","v":270},{"$f":"_xlfn.IFNA(_xlfn.IFS(VentasMenudeo[[#This Row],[Producto]]=$A$2,VentasMenudeo[[#This Row],[Precio de Venta]]*VentasMenudeo[[#This Row],[Cantidad]]-VentasMenudeo[[#This Row],[Descuento]],VentasMenudeo[[#This Row],[Producto]]=$A$3,VentasMenudeo[[#This Row],[Precio de Venta]]*VentasMenudeo[[#This Row],[Cantidad]]-VentasMenudeo[[#This Row],[Descuento]],VentasMenudeo[[#This Row],[Producto]]=$A$4,VentasMenudeo[[#This Row],[Precio de Venta]]*VentasMenudeo[[#This Row],[Cantidad]]-VentasMenudeo[[#This Row],[Descuento]],VentasMenudeo[[#This Row],[Producto]]=$A$5,VentasMenudeo[[#This Row],[Precio de Venta]]*VentasMenudeo[[#This Row],[Cantidad]]-VentasMenudeo[[#This Row],[Descuento]]),0)","v":250},250]
["2022-07-02","Hugo","IPLAY MAX","Berry Watermelon",1,"$20 Descuento",null,{"$f":"_xlfn.IFNA(VLOOKUP(VentasMenudeo[[#This Row],[Promoción]],PromocionesMenudeo[[Promocion]:[Descuento]],2,0),0)","v":20},{"$f":"_xlfn.IFNA(VLOOKUP(VentasMenudeo[[#This Row],[Producto]],$A$2:$B$5,2,FALSE),0)","v":270},{"$f":"_xlfn.IFNA(_xlfn.IFS(VentasMenudeo[[#This Row],[Producto]]=$A$2,VentasMenudeo[[#This Row],[Precio de Venta]]*VentasMenudeo[[#This Row],[Cantidad]]-VentasMenudeo[[#This Row],[Descuento]],VentasMenudeo[[#This Row],[Producto]]=$A$3,VentasMenudeo[[#This Row],[Precio de Venta]]*VentasMenudeo[[#This Row],[Cantidad]]-VentasMenudeo[[#This Row],[Descuento]],VentasMenudeo[[#This Row],[Producto]]=$A$4,VentasMenudeo[[#This Row],[Precio de Venta]]*VentasMenudeo[[#This Row],[Cantidad]]-VentasMenudeo[[#This Row],[Descuento]],VentasMenudeo[[#This Row],[Producto]]=$A$5,VentasMenudeo[[#This Row],[Precio de Venta]]*VentasMenudeo[[#This Row],[Cantidad]]-VentasMenudeo[[#This Row],[Descuento]]),0)","v":250},250]
["2022-07-02","Hugo","IPLAY MAX","Guava",1,"$20 Descuento",null,{"$f":"_xlfn.IFNA(VLOOKUP(VentasMenudeo[[#This Row],[Promoción]],PromocionesMenudeo[[Promocion]:[Descuento]],2,0),0)","v":20},{"$f":"_xlfn.IFNA(VLOOKUP(VentasMenudeo[[#This Row],[Producto]],$A$2:$B$5,2,FALSE),0)","v":270},{"$f":"_xlfn.IFNA(_xlfn.IFS(VentasMenudeo[[#This Row],[Producto]]=$A$2,VentasMenudeo[[#This Row],[Precio de Venta]]*VentasMenudeo[[#This Row],[Cantidad]]-VentasMenudeo[[#This Row],[Descuento]],VentasMenudeo[[#This Row],[Producto]]=$A$3,VentasMenudeo[[#This Row],[Precio de Venta]]*VentasMenudeo[[#This Row],[Cantidad]]-VentasMenudeo[[#This Row],[Descuento]],VentasMenudeo[[#This Row],[Producto]]=$A$4,VentasMenudeo[[#This Row],[Precio de Venta]]*VentasMenudeo[[#This Row],[Cantidad]]-VentasMenudeo[[#This Row],[Descuento]],VentasMenudeo[[#This Row],[Producto]]=$A$5,VentasMenudeo[[#This Row],[Precio de Venta]]*VentasMenudeo[[#This Row],[Cantidad]]-VentasMenudeo[[#This Row],[Descuento]]),0)","v":250},250]
["2022-07-02","Hugo","IPLAY MAX","Guava",1,"$20 Descuento",null,{"$f":"_xlfn.IFNA(VLOOKUP(VentasMenudeo[[#This Row],[Promoción]],PromocionesMenudeo[[Promocion]:[Descuento]],2,0),0)","v":20},{"$f":"_xlfn.IFNA(VLOOKUP(VentasMenudeo[[#This Row],[Producto]],$A$2:$B$5,2,FALSE),0)","v":270},{"$f":"_xlfn.IFNA(_xlfn.IFS(VentasMenudeo[[#This Row],[Producto]]=$A$2,VentasMenudeo[[#This Row],[Precio de Venta]]*VentasMenudeo[[#This Row],[Cantidad]]-VentasMenudeo[[#This Row],[Descuento]],VentasMenudeo[[#This Row],[Producto]]=$A$3,VentasMenudeo[[#This Row],[Precio de Venta]]*VentasMenudeo[[#This Row],[Cantidad]]-VentasMenudeo[[#This Row],[Descuento]],VentasMenudeo[[#This Row],[Producto]]=$A$4,VentasMenudeo[[#This Row],[Precio de Venta]]*VentasMenudeo[[#This Row],[Cantidad]]-VentasMenudeo[[#This Row],[Descuento]],VentasMenudeo[[#This Row],[Producto]]=$A$5,VentasMenudeo[[#This Row],[Precio de Venta]]*VentasMenudeo[[#This Row],[Cantidad]]-VentasMenudeo[[#This Row],[Descuento]]),0)","v":250},250]
["2022-07-02","Hugo","IPLAY MAX","Berry Watermelon",1,"$20 Descuento",null,{"$f":"_xlfn.IFNA(VLOOKUP(VentasMenudeo[[#This Row],[Promoción]],PromocionesMenudeo[[Promocion]:[Descuento]],2,0),0)","v":20},{"$f":"_xlfn.IFNA(VLOOKUP(VentasMenudeo[[#This Row],[Producto]],$A$2:$B$5,2,FALSE),0)","v":270},{"$f":"_xlfn.IFNA(_xlfn.IFS(VentasMenudeo[[#This Row],[Producto]]=$A$2,VentasMenudeo[[#This Row],[Precio de Venta]]*VentasMenudeo[[#This Row],[Cantidad]]-VentasMenudeo[[#This Row],[Descuento]],VentasMenudeo[[#This Row],[Producto]]=$A$3,VentasMenudeo[[#This Row],[Precio de Venta]]*VentasMenudeo[[#This Row],[Cantidad]]-VentasMenudeo[[#This Row],[Descuento]],VentasMenudeo[[#This Row],[Producto]]=$A$4,VentasMenudeo[[#This Row],[Precio de Venta]]*VentasMenudeo[[#This Row],[Cantidad]]-VentasMenudeo[[#This Row],[Descuento]],VentasMenudeo[[#This Row],[Producto]]=$A$5,VentasMenudeo[[#This Row],[Precio de Venta]]*VentasMenudeo[[#This Row],[Cantidad]]-VentasMenudeo[[#This Row],[Descuento]]),0)","v":250},250]
["2022-07-02","Hugo","IPLAY MAX","Grapestraw",1,"$20 Descuento",null,{"$f":"_xlfn.IFNA(VLOOKUP(VentasMenudeo[[#This Row],[Promoción]],PromocionesMenudeo[[Promocion]:[Descuento]],2,0),0)","v":20},{"$f":"_xlfn.IFNA(VLOOKUP(VentasMenudeo[[#This Row],[Producto]],$A$2:$B$5,2,FALSE),0)","v":270},{"$f":"_xlfn.IFNA(_xlfn.IFS(VentasMenudeo[[#This Row],[Producto]]=$A$2,VentasMenudeo[[#This Row],[Precio de Venta]]*VentasMenudeo[[#This Row],[Cantidad]]-VentasMenudeo[[#This Row],[Descuento]],VentasMenudeo[[#This Row],[Producto]]=$A$3,VentasMenudeo[[#This Row],[Precio de Venta]]*VentasMenudeo[[#This Row],[Cantidad]]-VentasMenudeo[[#This Row],[Descuento]],VentasMenudeo[[#This Row],[Producto]]=$A$4,VentasMenudeo[[#This Row],[Precio de Venta]]*VentasMenudeo[[#This Row],[Cantidad]]-VentasMenudeo[[#This Row],[Descuento]],VentasMenudeo[[#This Row],[Producto]]=$A$5,VentasMenudeo[[#This Row],[Precio de Venta]]*VentasMenudeo[[#This Row],[Cantidad]]-VentasMenudeo[[#This Row],[Descuento]]),0)","v":250},250]
["2022-07-02","Hugo","IPLAY MAX","Energy ICE",1,"$20 Descuento",null,{"$f":"_xlfn.IFNA(VLOOKUP(VentasMenudeo[[#This Row],[Promoción]],PromocionesMenudeo[[Promocion]:[Descuento]],2,0),0)","v":20},{"$f":"_xlfn.IFNA(VLOOKUP(VentasMenudeo[[#This Row],[Producto]],$A$2:$B$5,2,FALSE),0)","v":270},{"$f":"_xlfn.IFNA(_xlfn.IFS(VentasMenudeo[[#This Row],[Producto]]=$A$2,VentasMenudeo[[#This Row],[Precio de Venta]]*VentasMenudeo[[#This Row],[Cantidad]]-VentasMenudeo[[#This Row],[Descuento]],VentasMenudeo[[#This Row],[Producto]]=$A$3,VentasMenudeo[[#This Row],[Precio de Venta]]*VentasMenudeo[[#This Row],[Cantidad]]-VentasMenudeo[[#This Row],[Descuento]],VentasMenudeo[[#This Row],[Producto]]=$A$4,VentasMenudeo[[#This Row],[Precio de Venta]]*VentasMenudeo[[#This Row],[Cantidad]]-VentasMenudeo[[#This Row],[Descuento]],VentasMenudeo[[#This Row],[Producto]]=$A$5,VentasMenudeo[[#This Row],[Precio de Venta]]*VentasMenudeo[[#This Row],[Cantidad]]-VentasMenudeo[[#This Row],[Descuento]]),0)","v":250},250]
["2022-07-02","Hugo","IPLAY MAX","Energy ICE",1,"$20 Descuento",null,{"$f":"_xlfn.IFNA(VLOOKUP(VentasMenudeo[[#This Row],[Promoción]],PromocionesMenudeo[[Promocion]:[Descuento]],2,0),0)","v":20},{"$f":"_xlfn.IFNA(VLOOKUP(VentasMenudeo[[#This Row],[Producto]],$A$2:$B$5,2,FALSE),0)","v":270},{"$f":"_xlfn.IFNA(_xlfn.IFS(VentasMenudeo[[#This Row],[Producto]]=$A$2,VentasMenudeo[[#This Row],[Precio de Venta]]*VentasMenudeo[[#This Row],[Cantidad]]-VentasMenudeo[[#This Row],[Descuento]],VentasMenudeo[[#This Row],[Producto]]=$A$3,VentasMenudeo[[#This Row],[Precio de Venta]]*VentasMenudeo[[#This Row],[Cantidad]]-VentasMenudeo[[#This Row],[Descuento]],VentasMenudeo[[#This Row],[Producto]]=$A$4,VentasMenudeo[[#This Row],[Precio de Venta]]*VentasMenudeo[[#This Row],[Cantidad]]-VentasMenudeo[[#This Row],[Descuento]],VentasMenudeo[[#This Row],[Producto]]=$A$5,VentasMenudeo[[#This Row],[Precio de Venta]]*VentasMenudeo[[#This Row],[Cantidad]]-VentasMenudeo[[#This Row],[Descuento]]),0)","v":250},250]
["2022-07-02","Hugo","IPLAY MAX","Energy ICE",1,"$20 Descuento",null,{"$f":"_xlfn.IFNA(VLOOKUP(VentasMenudeo[[#This Row],[Promoción]],PromocionesMenudeo[[Promocion]:[Descuento]],2,0),0)","v":20},{"$f":"_xlfn.IFNA(VLOOKUP(VentasMenudeo[[#This Row],[Producto]],$A$2:$B$5,2,FALSE),0)","v":270},{"$f":"_xlfn.IFNA(_xlfn.IFS(VentasMenudeo[[#This Row],[Producto]]=$A$2,VentasMenudeo[[#This Row],[Precio de Venta]]*VentasMenudeo[[#This Row],[Cantidad]]-VentasMenudeo[[#This Row],[Descuento]],VentasMenudeo[[#This Row],[Producto]]=$A$3,VentasMenudeo[[#This Row],[Precio de Venta]]*VentasMenudeo[[#This Row],[Cantidad]]-VentasMenudeo[[#This Row],[Descuento]],VentasMenudeo[[#This Row],[Producto]]=$A$4,VentasMenudeo[[#This Row],[Precio de Venta]]*VentasMenudeo[[#This Row],[Cantidad]]-VentasMenudeo[[#This Row],[Descuento]],VentasMenudeo[[#This Row],[Producto]]=$A$5,VentasMenudeo[[#This Row],[Precio de Venta]]*VentasMenudeo[[#This Row],[Cantidad]]-VentasMenudeo[[#This Row],[Descuento]]),0)","v":250},250]
["2022-07-02","Hugo","IPLAY MAX","Berry Watermelon",1,"$20 Descuento",null,{"$f":"_xlfn.IFNA(VLOOKUP(VentasMenudeo[[#This Row],[Promoción]],PromocionesMenudeo[[Promocion]:[Descuento]],2,0),0)","v":20},{"$f":"_xlfn.IFNA(VLOOKUP(VentasMenudeo[[#This Row],[Producto]],$A$2:$B$5,2,FALSE),0)","v":270},{"$f":"_xlfn.IFNA(_xlfn.IFS(VentasMenudeo[[#This Row],[Producto]]=$A$2,VentasMenudeo[[#This Row],[Precio de Venta]]*VentasMenudeo[[#This Row],[Cantidad]]-VentasMenudeo[[#This Row],[Descuento]],VentasMenudeo[[#This Row],[Producto]]=$A$3,VentasMenudeo[[#This Row],[Precio de Venta]]*VentasMenudeo[[#This Row],[Cantidad]]-VentasMenudeo[[#This Row],[Descuento]],VentasMenudeo[[#This Row],[Producto]]=$A$4,VentasMenudeo[[#This Row],[Precio de Venta]]*VentasMenudeo[[#This Row],[Cantidad]]-VentasMenudeo[[#This Row],[Descuento]],VentasMenudeo[[#This Row],[Producto]]=$A$5,VentasMenudeo[[#This Row],[Precio de Venta]]*VentasMenudeo[[#This Row],[Cantidad]]-VentasMenudeo[[#This Row],[Descuento]]),0)","v":250},250]
["2022-07-02","Hugo","IPLAY MAX","Berry Watermelon",1,"$20 Descuento",null,{"$f":"_xlfn.IFNA(VLOOKUP(VentasMenudeo[[#This Row],[Promoción]],PromocionesMenudeo[[Promocion]:[Descuento]],2,0),0)","v":20},{"$f":"_xlfn.IFNA(VLOOKUP(VentasMenudeo[[#This Row],[Producto]],$A$2:$B$5,2,FALSE),0)","v":270},{"$f":"_xlfn.IFNA(_xlfn.IFS(VentasMenudeo[[#This Row],[Producto]]=$A$2,VentasMenudeo[[#This Row],[Precio de Venta]]*VentasMenudeo[[#This Row],[Cantidad]]-VentasMenudeo[[#This Row],[Descuento]],VentasMenudeo[[#This Row],[Producto]]=$A$3,VentasMenudeo[[#This Row],[Precio de Venta]]*VentasMenudeo[[#This Row],[Cantidad]]-VentasMenudeo[[#This Row],[Descuento]],VentasMenudeo[[#This Row],[Producto]]=$A$4,VentasMenudeo[[#This Row],[Precio de Venta]]*VentasMenudeo[[#This Row],[Cantidad]]-VentasMenudeo[[#This Row],[Descuento]],VentasMenudeo[[#This Row],[Producto]]=$A$5,VentasMenudeo[[#This Row],[Precio de Venta]]*VentasMenudeo[[#This Row],[Cantidad]]-VentasMenudeo[[#This Row],[Descuento]]),0)","v":250},250]
["2022-07-06","Hugo","IPLAY MAX","Peach Ice",1,"$20 Descuento",null,{"$f":"_xlfn.IFNA(VLOOKUP(VentasMenudeo[[#This Row],[Promoción]],PromocionesMenudeo[[Promocion]:[Descuento]],2,0),0)","v":20},{"$f":"_xlfn.IFNA(VLOOKUP(VentasMenudeo[[#This Row],[Producto]],$A$2:$B$5,2,FALSE),0)","v":270},{"$f":"_xlfn.IFNA(_xlfn.IFS(VentasMenudeo[[#This Row],[Producto]]=$A$2,VentasMenudeo[[#This Row],[Precio de Venta]]*VentasMenudeo[[#This Row],[Cantidad]]-VentasMenudeo[[#This Row],[Descuento]],VentasMenudeo[[#This Row],[Producto]]=$A$3,VentasMenudeo[[#This Row],[Precio de Venta]]*VentasMenudeo[[#This Row],[Cantidad]]-VentasMenudeo[[#This Row],[Descuento]],VentasMenudeo[[#This Row],[Producto]]=$A$4,VentasMenudeo[[#This Row],[Precio de Venta]]*VentasMenudeo[[#This Row],[Cantidad]]-VentasMenudeo[[#This Row],[Descuento]],VentasMenudeo[[#This Row],[Producto]]=$A$5,VentasMenudeo[[#This Row],[Precio de Venta]]*VentasMenudeo[[#This Row],[Cantidad]]-VentasMenudeo[[#This Row],[Descuento]]),0)","v":250},250]
["2022-07-06","Hugo","IPLAY MAX","Peach Ice",1,"$20 Descuento",null,{"$f":"_xlfn.IFNA(VLOOKUP(VentasMenudeo[[#This Row],[Promoción]],PromocionesMenudeo[[Promocion]:[Descuento]],2,0),0)","v":20},{"$f":"_xlfn.IFNA(VLOOKUP(VentasMenudeo[[#This Row],[Producto]],$A$2:$B$5,2,FALSE),0)","v":270},{"$f":"_xlfn.IFNA(_xlfn.IFS(VentasMenudeo[[#This Row],[Producto]]=$A$2,VentasMenudeo[[#This Row],[Precio de Venta]]*VentasMenudeo[[#This Row],[Cantidad]]-VentasMenudeo[[#This Row],[Descuento]],VentasMenudeo[[#This Row],[Producto]]=$A$3,VentasMenudeo[[#This Row],[Precio de Venta]]*VentasMenudeo[[#This Row],[Cantidad]]-VentasMenudeo[[#This Row],[Descuento]],VentasMenudeo[[#This Row],[Producto]]=$A$4,VentasMenudeo[[#This Row],[Precio de Venta]]*VentasMenudeo[[#This Row],[Cantidad]]-VentasMenudeo[[#This Row],[Descuento]],VentasMenudeo[[#This Row],[Producto]]=$A$5,VentasMenudeo[[#This Row],[Precio de Venta]]*VentasMenudeo[[#This Row],[Cantidad]]-VentasMenudeo[[#This Row],[Descuento]]),0)","v":250},250]
["2022-07-06","Hugo","IPLAY MAX","Peach Ice",1,"$20 Descuento",null,{"$f":"_xlfn.IFNA(VLOOKUP(VentasMenudeo[[#This Row],[Promoción]],PromocionesMenudeo[[Promocion]:[Descuento]],2,0),0)","v":20},{"$f":"_xlfn.IFNA(VLOOKUP(VentasMenudeo[[#This Row],[Producto]],$A$2:$B$5,2,FALSE),0)","v":270},{"$f":"_xlfn.IFNA(_xlfn.IFS(VentasMenudeo[[#This Row],[Producto]]=$A$2,VentasMenudeo[[#This Row],[Precio de Venta]]*VentasMenudeo[[#This Row],[Cantidad]]-VentasMenudeo[[#This Row],[Descuento]],VentasMenudeo[[#This Row],[Producto]]=$A$3,VentasMenudeo[[#This Row],[Precio de Venta]]*VentasMenudeo[[#This Row],[Cantidad]]-VentasMenudeo[[#This Row],[Descuento]],VentasMenudeo[[#This Row],[Producto]]=$A$4,VentasMenudeo[[#This Row],[Precio de Venta]]*VentasMenudeo[[#This Row],[Cantidad]]-VentasMenudeo[[#This Row],[Descuento]],VentasMenudeo[[#This Row],[Producto]]=$A$5,VentasMenudeo[[#This Row],[Precio de Venta]]*VentasMenudeo[[#This Row],[Cantidad]]-VentasMenudeo[[#This Row],[Descuento]]),0)","v":250},250]
["2022-07-06","Hugo","IPLAY MAX","Cool mint",1,"$20 Descuento",null,{"$f":"_xlfn.IFNA(VLOOKUP(VentasMenudeo[[#This Row],[Promoción]],PromocionesMenudeo[[Promocion]:[Descuento]],2,0),0)","v":20},{"$f":"_xlfn.IFNA(VLOOKUP(VentasMenudeo[[#This Row],[Producto]],$A$2:$B$5,2,FALSE),0)","v":270},{"$f":"_xlfn.IFNA(_xlfn.IFS(VentasMenudeo[[#This Row],[Producto]]=$A$2,VentasMenudeo[[#This Row],[Precio de Venta]]*VentasMenudeo[[#This Row],[Cantidad]]-VentasMenudeo[[#This Row],[Descuento]],VentasMenudeo[[#This Row],[Producto]]=$A$3,VentasMenudeo[[#This Row],[Precio de Venta]]*VentasMenudeo[[#This Row],[Cantidad]]-VentasMenudeo[[#This Row],[Descuento]],VentasMenudeo[[#This Row],[Producto]]=$A$4,VentasMenudeo[[#This Row],[Precio de Venta]]*VentasMenudeo[[#This Row],[Cantidad]]-VentasMenudeo[[#This Row],[Descuento]],VentasMenudeo[[#This Row],[Producto]]=$A$5,VentasMenudeo[[#This Row],[Precio de Venta]]*VentasMenudeo[[#This Row],[Cantidad]]-VentasMenudeo[[#This Row],[Descuento]]),0)","v":250},250]
["2022-07-06","Hugo","IPLAY MAX","Cocumber Lemonade",1,"$20 Descuento",null,{"$f":"_xlfn.IFNA(VLOOKUP(VentasMenudeo[[#This Row],[Promoción]],PromocionesMenudeo[[Promocion]:[Descuento]],2,0),0)","v":20},{"$f":"_xlfn.IFNA(VLOOKUP(VentasMenudeo[[#This Row],[Producto]],$A$2:$B$5,2,FALSE),0)","v":270},{"$f":"_xlfn.IFNA(_xlfn.IFS(VentasMenudeo[[#This Row],[Producto]]=$A$2,VentasMenudeo[[#This Row],[Precio de Venta]]*VentasMenudeo[[#This Row],[Cantidad]]-VentasMenudeo[[#This Row],[Descuento]],VentasMenudeo[[#This Row],[Producto]]=$A$3,VentasMenudeo[[#This Row],[Precio de Venta]]*VentasMenudeo[[#This Row],[Cantidad]]-VentasMenudeo[[#This Row],[Descuento]],VentasMenudeo[[#This Row],[Producto]]=$A$4,VentasMenudeo[[#This Row],[Precio de Venta]]*VentasMenudeo[[#This Row],[Cantidad]]-VentasMenudeo[[#This Row],[Descuento]],VentasMenudeo[[#This Row],[Producto]]=$A$5,VentasMenudeo[[#This Row],[Precio de Venta]]*VentasMenudeo[[#This Row],[Cantidad]]-VentasMenudeo[[#This Row],[Descuento]]),0)","v":250},250]
["2022-07-06","Hugo","IPLAY MAX","Energy ICE",1,"$20 Descuento",null,{"$f":"_xlfn.IFNA(VLOOKUP(VentasMenudeo[[#This Row],[Promoción]],PromocionesMenudeo[[Promocion]:[Descuento]],2,0),0)","v":20},{"$f":"_xlfn.IFNA(VLOOKUP(VentasMenudeo[[#This Row],[Producto]],$A$2:$B$5,2,FALSE),0)","v":270},{"$f":"_xlfn.IFNA(_xlfn.IFS(VentasMenudeo[[#This Row],[Producto]]=$A$2,VentasMenudeo[[#This Row],[Precio de Venta]]*VentasMenudeo[[#This Row],[Cantidad]]-VentasMenudeo[[#This Row],[Descuento]],VentasMenudeo[[#This Row],[Producto]]=$A$3,VentasMenudeo[[#This Row],[Precio de Venta]]*VentasMenudeo[[#This Row],[Cantidad]]-VentasMenudeo[[#This Row],[Descuento]],VentasMenudeo[[#This Row],[Producto]]=$A$4,VentasMenudeo[[#This Row],[Precio de Venta]]*VentasMenudeo[[#This Row],[Cantidad]]-VentasMenudeo[[#This Row],[Descuento]],VentasMenudeo[[#This Row],[Producto]]=$A$5,VentasMenudeo[[#This Row],[Precio de Venta]]*VentasMenudeo[[#This Row],[Cantidad]]-VentasMenudeo[[#This Row],[Descuento]]),0)","v":250},250]
["2022-07-06","Hugo","IPLAY MAX","Cool mint",1,"$20 Descuento",null,{"$f":"_xlfn.IFNA(VLOOKUP(VentasMenudeo[[#This Row],[Promoción]],PromocionesMenudeo[[Promocion]:[Descuento]],2,0),0)","v":20},{"$f":"_xlfn.IFNA(VLOOKUP(VentasMenudeo[[#This Row],[Producto]],$A$2:$B$5,2,FALSE),0)","v":270},{"$f":"_xlfn.IFNA(_xlfn.IFS(VentasMenudeo[[#This Row],[Producto]]=$A$2,VentasMenudeo[[#This Row],[Precio de Venta]]*VentasMenudeo[[#This Row],[Cantidad]]-VentasMenudeo[[#This Row],[Descuento]],VentasMenudeo[[#This Row],[Producto]]=$A$3,VentasMenudeo[[#This Row],[Precio de Venta]]*VentasMenudeo[[#This Row],[Cantidad]]-VentasMenudeo[[#This Row],[Descuento]],VentasMenudeo[[#This Row],[Producto]]=$A$4,VentasMenudeo[[#This Row],[Precio de Venta]]*VentasMenudeo[[#This Row],[Cantidad]]-VentasMenudeo[[#This Row],[Descuento]],VentasMenudeo[[#This Row],[Producto]]=$A$5,VentasMenudeo[[#This Row],[Precio de Venta]]*VentasMenudeo[[#This Row],[Cantidad]]-VentasMenudeo[[#This Row],[Descuento]]),0)","v":250},250]
["2022-07-06","Hugo","IPLAY MAX","Coconut",1,"$20 Descuento",null,{"$f":"_xlfn.IFNA(VLOOKUP(VentasMenudeo[[#This Row],[Promoción]],PromocionesMenudeo[[Promocion]:[Descuento]],2,0),0)","v":20},{"$f":"_xlfn.IFNA(VLOOKUP(VentasMenudeo[[#This Row],[Producto]],$A$2:$B$5,2,FALSE),0)","v":270},{"$f":"_xlfn.IFNA(_xlfn.IFS(VentasMenudeo[[#This Row],[Producto]]=$A$2,VentasMenudeo[[#This Row],[Precio de Venta]]*VentasMenudeo[[#This Row],[Cantidad]]-VentasMenudeo[[#This Row],[Descuento]],VentasMenudeo[[#This Row],[Producto]]=$A$3,VentasMenudeo[[#This Row],[Precio de Venta]]*VentasMenudeo[[#This Row],[Cantidad]]-VentasMenudeo[[#This Row],[Descuento]],VentasMenudeo[[#This Row],[Producto]]=$A$4,VentasMenudeo[[#This Row],[Precio de Venta]]*VentasMenudeo[[#This Row],[Cantidad]]-VentasMenudeo[[#This Row],[Descuento]],VentasMenudeo[[#This Row],[Producto]]=$A$5,VentasMenudeo[[#This Row],[Precio de Venta]]*VentasMenudeo[[#This Row],[Cantidad]]-VentasMenudeo[[#This Row],[Descuento]]),0)","v":250},250]
["2022-07-06","Hugo","IPLAY MAX","Berry Watermelon",1,"$20 Descuento",null,{"$f":"_xlfn.IFNA(VLOOKUP(VentasMenudeo[[#This Row],[Promoción]],PromocionesMenudeo[[Promocion]:[Descuento]],2,0),0)","v":20},{"$f":"_xlfn.IFNA(VLOOKUP(VentasMenudeo[[#This Row],[Producto]],$A$2:$B$5,2,FALSE),0)","v":270},{"$f":"_xlfn.IFNA(_xlfn.IFS(VentasMenudeo[[#This Row],[Producto]]=$A$2,VentasMenudeo[[#This Row],[Precio de Venta]]*VentasMenudeo[[#This Row],[Cantidad]]-VentasMenudeo[[#This Row],[Descuento]],VentasMenudeo[[#This Row],[Producto]]=$A$3,VentasMenudeo[[#This Row],[Precio de Venta]]*VentasMenudeo[[#This Row],[Cantidad]]-VentasMenudeo[[#This Row],[Descuento]],VentasMenudeo[[#This Row],[Producto]]=$A$4,VentasMenudeo[[#This Row],[Precio de Venta]]*VentasMenudeo[[#This Row],[Cantidad]]-VentasMenudeo[[#This Row],[Descuento]],VentasMenudeo[[#This Row],[Producto]]=$A$5,VentasMenudeo[[#This Row],[Precio de Venta]]*VentasMenudeo[[#This Row],[Cantidad]]-VentasMenudeo[[#This Row],[Descuento]]),0)","v":250},250]
["2022-07-06","Hugo","IPLAY MAX","Bluerazz",1,"$20 Descuento",null,{"$f":"_xlfn.IFNA(VLOOKUP(VentasMenudeo[[#This Row],[Promoción]],PromocionesMenudeo[[Promocion]:[Descuento]],2,0),0)","v":20},{"$f":"_xlfn.IFNA(VLOOKUP(VentasMenudeo[[#This Row],[Producto]],$A$2:$B$5,2,FALSE),0)","v":270},{"$f":"_xlfn.IFNA(_xlfn.IFS(VentasMenudeo[[#This Row],[Producto]]=$A$2,VentasMenudeo[[#This Row],[Precio de Venta]]*VentasMenudeo[[#This Row],[Cantidad]]-VentasMenudeo[[#This Row],[Descuento]],VentasMenudeo[[#This Row],[Producto]]=$A$3,VentasMenudeo[[#This Row],[Precio de Venta]]*VentasMenudeo[[#This Row],[Cantidad]]-VentasMenudeo[[#This Row],[Descuento]],VentasMenudeo[[#This Row],[Producto]]=$A$4,VentasMenudeo[[#This Row],[Precio de Venta]]*VentasMenudeo[[#This Row],[Cantidad]]-VentasMenudeo[[#This Row],[Descuento]],VentasMenudeo[[#This Row],[Producto]]=$A$5,VentasMenudeo[[#This Row],[Precio de Venta]]*VentasMenudeo[[#This Row],[Cantidad]]-VentasMenudeo[[#This Row],[Descuento]]),0)","v":250},250]
["2022-07-06","Hugo","IPLAY MAX","Bluerazz",1,"$20 Descuento",null,{"$f":"_xlfn.IFNA(VLOOKUP(VentasMenudeo[[#This Row],[Promoción]],PromocionesMenudeo[[Promocion]:[Descuento]],2,0),0)","v":20},{"$f":"_xlfn.IFNA(VLOOKUP(VentasMenudeo[[#This Row],[Producto]],$A$2:$B$5,2,FALSE),0)","v":270},{"$f":"_xlfn.IFNA(_xlfn.IFS(VentasMenudeo[[#This Row],[Producto]]=$A$2,VentasMenudeo[[#This Row],[Precio de Venta]]*VentasMenudeo[[#This Row],[Cantidad]]-VentasMenudeo[[#This Row],[Descuento]],VentasMenudeo[[#This Row],[Producto]]=$A$3,VentasMenudeo[[#This Row],[Precio de Venta]]*VentasMenudeo[[#This Row],[Cantidad]]-VentasMenudeo[[#This Row],[Descuento]],VentasMenudeo[[#This Row],[Producto]]=$A$4,VentasMenudeo[[#This Row],[Precio de Venta]]*VentasMenudeo[[#This Row],[Cantidad]]-VentasMenudeo[[#This Row],[Descuento]],VentasMenudeo[[#This Row],[Producto]]=$A$5,VentasMenudeo[[#This Row],[Precio de Venta]]*VentasMenudeo[[#This Row],[Cantidad]]-VentasMenudeo[[#This Row],[Descuento]]),0)","v":250},250]
["2022-07-06","Hugo","IPLAY MAX","Grapestraw",1,"$20 Descuento",null,{"$f":"_xlfn.IFNA(VLOOKUP(VentasMenudeo[[#This Row],[Promoción]],PromocionesMenudeo[[Promocion]:[Descuento]],2,0),0)","v":20},{"$f":"_xlfn.IFNA(VLOOKUP(VentasMenudeo[[#This Row],[Producto]],$A$2:$B$5,2,FALSE),0)","v":270},{"$f":"_xlfn.IFNA(_xlfn.IFS(VentasMenudeo[[#This Row],[Producto]]=$A$2,VentasMenudeo[[#This Row],[Precio de Venta]]*VentasMenudeo[[#This Row],[Cantidad]]-VentasMenudeo[[#This Row],[Descuento]],VentasMenudeo[[#This Row],[Producto]]=$A$3,VentasMenudeo[[#This Row],[Precio de Venta]]*VentasMenudeo[[#This Row],[Cantidad]]-VentasMenudeo[[#This Row],[Descuento]],VentasMenudeo[[#This Row],[Producto]]=$A$4,VentasMenudeo[[#This Row],[Precio de Venta]]*VentasMenudeo[[#This Row],[Cantidad]]-VentasMenudeo[[#This Row],[Descuento]],VentasMenudeo[[#This Row],[Producto]]=$A$5,VentasMenudeo[[#This Row],[Precio de Venta]]*VentasMenudeo[[#This Row],[Cantidad]]-VentasMenudeo[[#This Row],[Descuento]]),0)","v":250},250]
["2022-07-06","Hugo","IPLAY MAX","Peach Ice",1,"$20 Descuento",null,{"$f":"_xlfn.IFNA(VLOOKUP(VentasMenudeo[[#This Row],[Promoción]],PromocionesMenudeo[[Promocion]:[Descuento]],2,0),0)","v":20},{"$f":"_xlfn.IFNA(VLOOKUP(VentasMenudeo[[#This Row],[Producto]],$A$2:$B$5,2,FALSE),0)","v":270},{"$f":"_xlfn.IFNA(_xlfn.IFS(VentasMenudeo[[#This Row],[Producto]]=$A$2,VentasMenudeo[[#This Row],[Precio de Venta]]*VentasMenudeo[[#This Row],[Cantidad]]-VentasMenudeo[[#This Row],[Descuento]],VentasMenudeo[[#This Row],[Producto]]=$A$3,VentasMenudeo[[#This Row],[Precio de Venta]]*VentasMenudeo[[#This Row],[Cantidad]]-VentasMenudeo[[#This Row],[Descuento]],VentasMenudeo[[#This Row],[Producto]]=$A$4,VentasMenudeo[[#This Row],[Precio de Venta]]*VentasMenudeo[[#This Row],[Cantidad]]-VentasMenudeo[[#This Row],[Descuento]],VentasMenudeo[[#This Row],[Producto]]=$A$5,VentasMenudeo[[#This Row],[Precio de Venta]]*VentasMenudeo[[#This Row],[Cantidad]]-VentasMenudeo[[#This Row],[Descuento]]),0)","v":250},250]
["2022-07-06","Hugo","IPLAY MAX","Berry Watermelon",1,"$20 Descuento",null,{"$f":"_xlfn.IFNA(VLOOKUP(VentasMenudeo[[#This Row],[Promoción]],PromocionesMenudeo[[Promocion]:[Descuento]],2,0),0)","v":20},{"$f":"_xlfn.IFNA(VLOOKUP(VentasMenudeo[[#This Row],[Producto]],$A$2:$B$5,2,FALSE),0)","v":270},{"$f":"_xlfn.IFNA(_xlfn.IFS(VentasMenudeo[[#This Row],[Producto]]=$A$2,VentasMenudeo[[#This Row],[Precio de Venta]]*VentasMenudeo[[#This Row],[Cantidad]]-VentasMenudeo[[#This Row],[Descuento]],VentasMenudeo[[#This Row],[Producto]]=$A$3,VentasMenudeo[[#This Row],[Precio de Venta]]*VentasMenudeo[[#This Row],[Cantidad]]-VentasMenudeo[[#This Row],[Descuento]],VentasMenudeo[[#This Row],[Producto]]=$A$4,VentasMenudeo[[#This Row],[Precio de Venta]]*VentasMenudeo[[#This Row],[Cantidad]]-VentasMenudeo[[#This Row],[Descuento]],VentasMenudeo[[#This Row],[Producto]]=$A$5,VentasMenudeo[[#This Row],[Precio de Venta]]*VentasMenudeo[[#This Row],[Cantidad]]-VentasMenudeo[[#This Row],[Descuento]]),0)","v":250},250]
["2022-07-06","Hugo","IPLAY MAX","Guava",1,"$20 Descuento",null,{"$f":"_xlfn.IFNA(VLOOKUP(VentasMenudeo[[#This Row],[Promoción]],PromocionesMenudeo[[Promocion]:[Descuento]],2,0),0)","v":20},{"$f":"_xlfn.IFNA(VLOOKUP(VentasMenudeo[[#This Row],[Producto]],$A$2:$B$5,2,FALSE),0)","v":270},{"$f":"_xlfn.IFNA(_xlfn.IFS(VentasMenudeo[[#This Row],[Producto]]=$A$2,VentasMenudeo[[#This Row],[Precio de Venta]]*VentasMenudeo[[#This Row],[Cantidad]]-VentasMenudeo[[#This Row],[Descuento]],VentasMenudeo[[#This Row],[Producto]]=$A$3,VentasMenudeo[[#This Row],[Precio de Venta]]*VentasMenudeo[[#This Row],[Cantidad]]-VentasMenudeo[[#This Row],[Descuento]],VentasMenudeo[[#This Row],[Producto]]=$A$4,VentasMenudeo[[#This Row],[Precio de Venta]]*VentasMenudeo[[#This Row],[Cantidad]]-VentasMenudeo[[#This Row],[Descuento]],VentasMenudeo[[#This Row],[Producto]]=$A$5,VentasMenudeo[[#This Row],[Precio de Venta]]*VentasMenudeo[[#This Row],[Cantidad]]-VentasMenudeo[[#This Row],[Descuento]]),0)","v":250},250]
["2022-07-11","Hugo","IPLAY MAX","Berry Watermelon",1,"$20 Descuento",null,{"$f":"_xlfn.IFNA(VLOOKUP(VentasMenudeo[[#This Row],[Promoción]],PromocionesMenudeo[[Promocion]:[Descuento]],2,0),0)","v":20},{"$f":"_xlfn.IFNA(VLOOKUP(VentasMenudeo[[#This Row],[Producto]],$A$2:$B$5,2,FALSE),0)","v":270},{"$f":"_xlfn.IFNA(_xlfn.IFS(VentasMenudeo[[#This Row],[Producto]]=$A$2,VentasMenudeo[[#This Row],[Precio de Venta]]*VentasMenudeo[[#This Row],[Cantidad]]-VentasMenudeo[[#This Row],[Descuento]],VentasMenudeo[[#This Row],[Producto]]=$A$3,VentasMenudeo[[#This Row],[Precio de Venta]]*VentasMenudeo[[#This Row],[Cantidad]]-VentasMenudeo[[#This Row],[Descuento]],VentasMenudeo[[#This Row],[Producto]]=$A$4,VentasMenudeo[[#This Row],[Precio de Venta]]*VentasMenudeo[[#This Row],[Cantidad]]-VentasMenudeo[[#This Row],[Descuento]],VentasMenudeo[[#This Row],[Producto]]=$A$5,VentasMenudeo[[#This Row],[Precio de Venta]]*VentasMenudeo[[#This Row],[Cantidad]]-VentasMenudeo[[#This Row],[Descuento]]),0)","v":250},250]
["2022-07-14","Hugo","IPLAY MAX","Banana Ice",1,"$20 Descuento",null,{"$f":"_xlfn.IFNA(VLOOKUP(VentasMenudeo[[#This Row],[Promoción]],PromocionesMenudeo[[Promocion]:[Descuento]],2,0),0)","v":20},{"$f":"_xlfn.IFNA(VLOOKUP(VentasMenudeo[[#This Row],[Producto]],$A$2:$B$5,2,FALSE),0)","v":270},{"$f":"_xlfn.IFNA(_xlfn.IFS(VentasMenudeo[[#This Row],[Producto]]=$A$2,VentasMenudeo[[#This Row],[Precio de Venta]]*VentasMenudeo[[#This Row],[Cantidad]]-VentasMenudeo[[#This Row],[Descuento]],VentasMenudeo[[#This Row],[Producto]]=$A$3,VentasMenudeo[[#This Row],[Precio de Venta]]*VentasMenudeo[[#This Row],[Cantidad]]-VentasMenudeo[[#This Row],[Descuento]],VentasMenudeo[[#This Row],[Producto]]=$A$4,VentasMenudeo[[#This Row],[Precio de Venta]]*VentasMenudeo[[#This Row],[Cantidad]]-VentasMenudeo[[#This Row],[Descuento]],VentasMenudeo[[#This Row],[Producto]]=$A$5,VentasMenudeo[[#This Row],[Precio de Venta]]*VentasMenudeo[[#This Row],[Cantidad]]-VentasMenudeo[[#This Row],[Descuento]]),0)","v":250},250]
["2022-07-14","Hugo","IPLAY MAX","Banana Ice",1,"$20 Descuento",null,{"$f":"_xlfn.IFNA(VLOOKUP(VentasMenudeo[[#This Row],[Promoción]],PromocionesMenudeo[[Promocion]:[Descuento]],2,0),0)","v":20},{"$f":"_xlfn.IFNA(VLOOKUP(VentasMenudeo[[#This Row],[Producto]],$A$2:$B$5,2,FALSE),0)","v":270},{"$f":"_xlfn.IFNA(_xlfn.IFS(VentasMenudeo[[#This Row],[Producto]]=$A$2,VentasMenudeo[[#This Row],[Precio de Venta]]*VentasMenudeo[[#This Row],[Cantidad]]-VentasMenudeo[[#This Row],[Descuento]],VentasMenudeo[[#This Row],[Producto]]=$A$3,VentasMenudeo[[#This Row],[Precio de Venta]]*VentasMenudeo[[#This Row],[Cantidad]]-VentasMenudeo[[#This Row],[Descuento]],VentasMenudeo[[#This Row],[Producto]]=$A$4,VentasMenudeo[[#This Row],[Precio de Venta]]*VentasMenudeo[[#This Row],[Cantidad]]-VentasMenudeo[[#This Row],[Descuento]],VentasMenudeo[[#This Row],[Producto]]=$A$5,VentasMenudeo[[#This Row],[Precio de Venta]]*VentasMenudeo[[#This Row],[Cantidad]]-VentasMenudeo[[#This Row],[Descuento]]),0)","v":250},250]
["2022-07-14","Hugo","IPLAY MAX","Banana Ice",1,"$20 Descuento",null,{"$f":"_xlfn.IFNA(VLOOKUP(VentasMenudeo[[#This Row],[Promoción]],PromocionesMenudeo[[Promocion]:[Descuento]],2,0),0)","v":20},{"$f":"_xlfn.IFNA(VLOOKUP(VentasMenudeo[[#This Row],[Producto]],$A$2:$B$5,2,FALSE),0)","v":270},{"$f":"_xlfn.IFNA(_xlfn.IFS(VentasMenudeo[[#This Row],[Producto]]=$A$2,VentasMenudeo[[#This Row],[Precio de Venta]]*VentasMenudeo[[#This Row],[Cantidad]]-VentasMenudeo[[#This Row],[Descuento]],VentasMenudeo[[#This Row],[Producto]]=$A$3,VentasMenudeo[[#This Row],[Precio de Venta]]*VentasMenudeo[[#This Row],[Cantidad]]-VentasMenudeo[[#This Row],[Descuento]],VentasMenudeo[[#This Row],[Producto]]=$A$4,VentasMenudeo[[#This Row],[Precio de Venta]]*VentasMenudeo[[#This Row],[Cantidad]]-VentasMenudeo[[#This Row],[Descuento]],VentasMenudeo[[#This Row],[Producto]]=$A$5,VentasMenudeo[[#This Row],[Precio de Venta]]*VentasMenudeo[[#This Row],[Cantidad]]-VentasMenudeo[[#This Row],[Descuento]]),0)","v":250},250]
["2022-07-14","Hugo","IPLAY MAX","Berry Watermelon",1,"$20 Descuento",null,{"$f":"_xlfn.IFNA(VLOOKUP(VentasMenudeo[[#This Row],[Promoción]],PromocionesMenudeo[[Promocion]:[Descuento]],2,0),0)","v":20},{"$f":"_xlfn.IFNA(VLOOKUP(VentasMenudeo[[#This Row],[Producto]],$A$2:$B$5,2,FALSE),0)","v":270},{"$f":"_xlfn.IFNA(_xlfn.IFS(VentasMenudeo[[#This Row],[Producto]]=$A$2,VentasMenudeo[[#This Row],[Precio de Venta]]*VentasMenudeo[[#This Row],[Cantidad]]-VentasMenudeo[[#This Row],[Descuento]],VentasMenudeo[[#This Row],[Producto]]=$A$3,VentasMenudeo[[#This Row],[Precio de Venta]]*VentasMenudeo[[#This Row],[Cantidad]]-VentasMenudeo[[#This Row],[Descuento]],VentasMenudeo[[#This Row],[Producto]]=$A$4,VentasMenudeo[[#This Row],[Precio de Venta]]*VentasMenudeo[[#This Row],[Cantidad]]-VentasMenudeo[[#This Row],[Descuento]],VentasMenudeo[[#This Row],[Producto]]=$A$5,VentasMenudeo[[#This Row],[Precio de Venta]]*VentasMenudeo[[#This Row],[Cantidad]]-VentasMenudeo[[#This Row],[Descuento]]),0)","v":250},250]
["2022-07-14","Hugo","IPLAY MAX","Bluerazz",1,"$20 Descuento",null,{"$f":"_xlfn.IFNA(VLOOKUP(VentasMenudeo[[#This Row],[Promoción]],PromocionesMenudeo[[Promocion]:[Descuento]],2,0),0)","v":20},{"$f":"_xlfn.IFNA(VLOOKUP(VentasMenudeo[[#This Row],[Producto]],$A$2:$B$5,2,FALSE),0)","v":270},{"$f":"_xlfn.IFNA(_xlfn.IFS(VentasMenudeo[[#This Row],[Producto]]=$A$2,VentasMenudeo[[#This Row],[Precio de Venta]]*VentasMenudeo[[#This Row],[Cantidad]]-VentasMenudeo[[#This Row],[Descuento]],VentasMenudeo[[#This Row],[Producto]]=$A$3,VentasMenudeo[[#This Row],[Precio de Venta]]*VentasMenudeo[[#This Row],[Cantidad]]-VentasMenudeo[[#This Row],[Descuento]],VentasMenudeo[[#This Row],[Producto]]=$A$4,VentasMenudeo[[#This Row],[Precio de Venta]]*VentasMenudeo[[#This Row],[Cantidad]]-VentasMenudeo[[#This Row],[Descuento]],VentasMenudeo[[#This Row],[Producto]]=$A$5,VentasMenudeo[[#This Row],[Precio de Venta]]*VentasMenudeo[[#This Row],[Cantidad]]-VentasMenudeo[[#This Row],[Descuento]]),0)","v":250},250]
["2022-07-14","Hugo","IPLAY MAX","Bluerazz",1,"$20 Descuento",null,{"$f":"_xlfn.IFNA(VLOOKUP(VentasMenudeo[[#This Row],[Promoción]],PromocionesMenudeo[[Promocion]:[Descuento]],2,0),0)","v":20},{"$f":"_xlfn.IFNA(VLOOKUP(VentasMenudeo[[#This Row],[Producto]],$A$2:$B$5,2,FALSE),0)","v":270},{"$f":"_xlfn.IFNA(_xlfn.IFS(VentasMenudeo[[#This Row],[Producto]]=$A$2,VentasMenudeo[[#This Row],[Precio de Venta]]*VentasMenudeo[[#This Row],[Cantidad]]-VentasMenudeo[[#This Row],[Descuento]],VentasMenudeo[[#This Row],[Producto]]=$A$3,VentasMenudeo[[#This Row],[Precio de Venta]]*VentasMenudeo[[#This Row],[Cantidad]]-VentasMenudeo[[#This Row],[Descuento]],VentasMenudeo[[#This Row],[Producto]]=$A$4,VentasMenudeo[[#This Row],[Precio de Venta]]*VentasMenudeo[[#This Row],[Cantidad]]-VentasMenudeo[[#This Row],[Descuento]],VentasMenudeo[[#This Row],[Producto]]=$A$5,VentasMenudeo[[#This Row],[Precio de Venta]]*VentasMenudeo[[#This Row],[Cantidad]]-VentasMenudeo[[#This Row],[Descuento]]),0)","v":250},250]
["2022-07-14","Hugo","IPLAY MAX","Bluerazz",1,"$20 Descuento",null,{"$f":"_xlfn.IFNA(VLOOKUP(VentasMenudeo[[#This Row],[Promoción]],PromocionesMenudeo[[Promocion]:[Descuento]],2,0),0)","v":20},{"$f":"_xlfn.IFNA(VLOOKUP(VentasMenudeo[[#This Row],[Producto]],$A$2:$B$5,2,FALSE),0)","v":270},{"$f":"_xlfn.IFNA(_xlfn.IFS(VentasMenudeo[[#This Row],[Producto]]=$A$2,VentasMenudeo[[#This Row],[Precio de Venta]]*VentasMenudeo[[#This Row],[Cantidad]]-VentasMenudeo[[#This Row],[Descuento]],VentasMenudeo[[#This Row],[Producto]]=$A$3,VentasMenudeo[[#This Row],[Precio de Venta]]*VentasMenudeo[[#This Row],[Cantidad]]-VentasMenudeo[[#This Row],[Descuento]],VentasMenudeo[[#This Row],[Producto]]=$A$4,VentasMenudeo[[#This Row],[Precio de Venta]]*VentasMenudeo[[#This Row],[Cantidad]]-VentasMenudeo[[#This Row],[Descuento]],VentasMenudeo[[#This Row],[Producto]]=$A$5,VentasMenudeo[[#This Row],[Precio de Venta]]*VentasMenudeo[[#This Row],[Cantidad]]-VentasMenudeo[[#This Row],[Descuento]]),0)","v":250},250]
["2022-07-14","Hugo","IPLAY MAX","Bluerazz",1,"$20 Descuento",null,{"$f":"_xlfn.IFNA(VLOOKUP(VentasMenudeo[[#This Row],[Promoción]],PromocionesMenudeo[[Promocion]:[Descuento]],2,0),0)","v":20},{"$f":"_xlfn.IFNA(VLOOKUP(VentasMenudeo[[#This Row],[Producto]],$A$2:$B$5,2,FALSE),0)","v":270},{"$f":"_xlfn.IFNA(_xlfn.IFS(VentasMenudeo[[#This Row],[Producto]]=$A$2,VentasMenudeo[[#This Row],[Precio de Venta]]*VentasMenudeo[[#This Row],[Cantidad]]-VentasMenudeo[[#This Row],[Descuento]],VentasMenudeo[[#This Row],[Producto]]=$A$3,VentasMenudeo[[#This Row],[Precio de Venta]]*VentasMenudeo[[#This Row],[Cantidad]]-VentasMenudeo[[#This Row],[Descuento]],VentasMenudeo[[#This Row],[Producto]]=$A$4,VentasMenudeo[[#This Row],[Precio de Venta]]*VentasMenudeo[[#This Row],[Cantidad]]-VentasMenudeo[[#This Row],[Descuento]],VentasMenudeo[[#This Row],[Producto]]=$A$5,VentasMenudeo[[#This Row],[Precio de Venta]]*VentasMenudeo[[#This Row],[Cantidad]]-VentasMenudeo[[#This Row],[Descuento]]),0)","v":250},250]
["2022-07-14","Hugo","IPLAY MAX","Bluerazz",1,"$20 Descuento",null,{"$f":"_xlfn.IFNA(VLOOKUP(VentasMenudeo[[#This Row],[Promoción]],PromocionesMenudeo[[Promocion]:[Descuento]],2,0),0)","v":20},{"$f":"_xlfn.IFNA(VLOOKUP(VentasMenudeo[[#This Row],[Producto]],$A$2:$B$5,2,FALSE),0)","v":270},{"$f":"_xlfn.IFNA(_xlfn.IFS(VentasMenudeo[[#This Row],[Producto]]=$A$2,VentasMenudeo[[#This Row],[Precio de Venta]]*VentasMenudeo[[#This Row],[Cantidad]]-VentasMenudeo[[#This Row],[Descuento]],VentasMenudeo[[#This Row],[Producto]]=$A$3,VentasMenudeo[[#This Row],[Precio de Venta]]*VentasMenudeo[[#This Row],[Cantidad]]-VentasMenudeo[[#This Row],[Descuento]],VentasMenudeo[[#This Row],[Producto]]=$A$4,VentasMenudeo[[#This Row],[Precio de Venta]]*VentasMenudeo[[#This Row],[Cantidad]]-VentasMenudeo[[#This Row],[Descuento]],VentasMenudeo[[#This Row],[Producto]]=$A$5,VentasMenudeo[[#This Row],[Precio de Venta]]*VentasMenudeo[[#This Row],[Cantidad]]-VentasMenudeo[[#This Row],[Descuento]]),0)","v":250},250]
["2022-07-14","Hugo","IPLAY MAX","Bluerazz",1,"$20 Descuento",null,{"$f":"_xlfn.IFNA(VLOOKUP(VentasMenudeo[[#This Row],[Promoción]],PromocionesMenudeo[[Promocion]:[Descuento]],2,0),0)","v":20},{"$f":"_xlfn.IFNA(VLOOKUP(VentasMenudeo[[#This Row],[Producto]],$A$2:$B$5,2,FALSE),0)","v":270},{"$f":"_xlfn.IFNA(_xlfn.IFS(VentasMenudeo[[#This Row],[Producto]]=$A$2,VentasMenudeo[[#This Row],[Precio de Venta]]*VentasMenudeo[[#This Row],[Cantidad]]-VentasMenudeo[[#This Row],[Descuento]],VentasMenudeo[[#This Row],[Producto]]=$A$3,VentasMenudeo[[#This Row],[Precio de Venta]]*VentasMenudeo[[#This Row],[Cantidad]]-VentasMenudeo[[#This Row],[Descuento]],VentasMenudeo[[#This Row],[Producto]]=$A$4,VentasMenudeo[[#This Row],[Precio de Venta]]*VentasMenudeo[[#This Row],[Cantidad]]-VentasMenudeo[[#This Row],[Descuento]],VentasMenudeo[[#This Row],[Producto]]=$A$5,VentasMenudeo[[#This Row],[Precio de Venta]]*VentasMenudeo[[#This Row],[Cantidad]]-VentasMenudeo[[#This Row],[Descuento]]),0)","v":250},250]
["2022-07-14","Hugo","IPLAY MAX","Bluerazz",1,"$20 Descuento",null,{"$f":"_xlfn.IFNA(VLOOKUP(VentasMenudeo[[#This Row],[Promoción]],PromocionesMenudeo[[Promocion]:[Descuento]],2,0),0)","v":20},{"$f":"_xlfn.IFNA(VLOOKUP(VentasMenudeo[[#This Row],[Producto]],$A$2:$B$5,2,FALSE),0)","v":270},{"$f":"_xlfn.IFNA(_xlfn.IFS(VentasMenudeo[[#This Row],[Producto]]=$A$2,VentasMenudeo[[#This Row],[Precio de Venta]]*VentasMenudeo[[#This Row],[Cantidad]]-VentasMenudeo[[#This Row],[Descuento]],VentasMenudeo[[#This Row],[Producto]]=$A$3,VentasMenudeo[[#This Row],[Precio de Venta]]*VentasMenudeo[[#This Row],[Cantidad]]-VentasMenudeo[[#This Row],[Descuento]],VentasMenudeo[[#This Row],[Producto]]=$A$4,VentasMenudeo[[#This Row],[Precio de Venta]]*VentasMenudeo[[#This Row],[Cantidad]]-VentasMenudeo[[#This Row],[Descuento]],VentasMenudeo[[#This Row],[Producto]]=$A$5,VentasMenudeo[[#This Row],[Precio de Venta]]*VentasMenudeo[[#This Row],[Cantidad]]-VentasMenudeo[[#This Row],[Descuento]]),0)","v":250},250]
["2022-07-14","Hugo","IPLAY MAX","Coconut",1,"$20 Descuento",null,{"$f":"_xlfn.IFNA(VLOOKUP(VentasMenudeo[[#This Row],[Promoción]],PromocionesMenudeo[[Promocion]:[Descuento]],2,0),0)","v":20},{"$f":"_xlfn.IFNA(VLOOKUP(VentasMenudeo[[#This Row],[Producto]],$A$2:$B$5,2,FALSE),0)","v":270},{"$f":"_xlfn.IFNA(_xlfn.IFS(VentasMenudeo[[#This Row],[Producto]]=$A$2,VentasMenudeo[[#This Row],[Precio de Venta]]*VentasMenudeo[[#This Row],[Cantidad]]-VentasMenudeo[[#This Row],[Descuento]],VentasMenudeo[[#This Row],[Producto]]=$A$3,VentasMenudeo[[#This Row],[Precio de Venta]]*VentasMenudeo[[#This Row],[Cantidad]]-VentasMenudeo[[#This Row],[Descuento]],VentasMenudeo[[#This Row],[Producto]]=$A$4,VentasMenudeo[[#This Row],[Precio de Venta]]*VentasMenudeo[[#This Row],[Cantidad]]-VentasMenudeo[[#This Row],[Descuento]],VentasMenudeo[[#This Row],[Producto]]=$A$5,VentasMenudeo[[#This Row],[Precio de Venta]]*VentasMenudeo[[#This Row],[Cantidad]]-VentasMenudeo[[#This Row],[Descuento]]),0)","v":250},250]
["2022-07-14","Hugo","IPLAY MAX","Coconut",1,"$20 Descuento",null,{"$f":"_xlfn.IFNA(VLOOKUP(VentasMenudeo[[#This Row],[Promoción]],PromocionesMenudeo[[Promocion]:[Descuento]],2,0),0)","v":20},{"$f":"_xlfn.IFNA(VLOOKUP(VentasMenudeo[[#This Row],[Producto]],$A$2:$B$5,2,FALSE),0)","v":270},{"$f":"_xlfn.IFNA(_xlfn.IFS(VentasMenudeo[[#This Row],[Producto]]=$A$2,VentasMenudeo[[#This Row],[Precio de Venta]]*VentasMenudeo[[#This Row],[Cantidad]]-VentasMenudeo[[#This Row],[Descuento]],VentasMenudeo[[#This Row],[Producto]]=$A$3,VentasMenudeo[[#This Row],[Precio de Venta]]*VentasMenudeo[[#This Row],[Cantidad]]-VentasMenudeo[[#This Row],[Descuento]],VentasMenudeo[[#This Row],[Producto]]=$A$4,VentasMenudeo[[#This Row],[Precio de Venta]]*VentasMenudeo[[#This Row],[Cantidad]]-VentasMenudeo[[#This Row],[Descuento]],VentasMenudeo[[#This Row],[Producto]]=$A$5,VentasMenudeo[[#This Row],[Precio de Venta]]*VentasMenudeo[[#This Row],[Cantidad]]-VentasMenudeo[[#This Row],[Descuento]]),0)","v":250},250]
["2022-07-14","Hugo","IPLAY MAX","Coconut",1,"$20 Descuento",null,{"$f":"_xlfn.IFNA(VLOOKUP(VentasMenudeo[[#This Row],[Promoción]],PromocionesMenudeo[[Promocion]:[Descuento]],2,0),0)","v":20},{"$f":"_xlfn.IFNA(VLOOKUP(VentasMenudeo[[#This Row],[Producto]],$A$2:$B$5,2,FALSE),0)","v":270},{"$f":"_xlfn.IFNA(_xlfn.IFS(VentasMenudeo[[#This Row],[Producto]]=$A$2,VentasMenudeo[[#This Row],[Precio de Venta]]*VentasMenudeo[[#This Row],[Cantidad]]-VentasMenudeo[[#This Row],[Descuento]],VentasMenudeo[[#This Row],[Producto]]=$A$3,VentasMenudeo[[#This Row],[Precio de Venta]]*VentasMenudeo[[#This Row],[Cantidad]]-VentasMenudeo[[#This Row],[Descuento]],VentasMenudeo[[#This Row],[Producto]]=$A$4,VentasMenudeo[[#This Row],[Precio de Venta]]*VentasMenudeo[[#This Row],[Cantidad]]-VentasMenudeo[[#This Row],[Descuento]],VentasMenudeo[[#This Row],[Producto]]=$A$5,VentasMenudeo[[#This Row],[Precio de Venta]]*VentasMenudeo[[#This Row],[Cantidad]]-VentasMenudeo[[#This Row],[Descuento]]),0)","v":250},250]
["2022-07-14","Hugo","IPLAY MAX","Coconut",1,"$20 Descuento",null,{"$f":"_xlfn.IFNA(VLOOKUP(VentasMenudeo[[#This Row],[Promoción]],PromocionesMenudeo[[Promocion]:[Descuento]],2,0),0)","v":20},{"$f":"_xlfn.IFNA(VLOOKUP(VentasMenudeo[[#This Row],[Producto]],$A$2:$B$5,2,FALSE),0)","v":270},{"$f":"_xlfn.IFNA(_xlfn.IFS(VentasMenudeo[[#This Row],[Producto]]=$A$2,VentasMenudeo[[#This Row],[Precio de Venta]]*VentasMenudeo[[#This Row],[Cantidad]]-VentasMenudeo[[#This Row],[Descuento]],VentasMenudeo[[#This Row],[Producto]]=$A$3,VentasMenudeo[[#This Row],[Precio de Venta]]*VentasMenudeo[[#This Row],[Cantidad]]-VentasMenudeo[[#This Row],[Descuento]],VentasMenudeo[[#This Row],[Producto]]=$A$4,VentasMenudeo[[#This Row],[Precio de Venta]]*VentasMenudeo[[#This Row],[Cantidad]]-VentasMenudeo[[#This Row],[Descuento]],VentasMenudeo[[#This Row],[Producto]]=$A$5,VentasMenudeo[[#This Row],[Precio de Venta]]*VentasMenudeo[[#This Row],[Cantidad]]-VentasMenudeo[[#This Row],[Descuento]]),0)","v":250},250]
["2022-07-14","Hugo","IPLAY MAX","Coconut",1,"$20 Descuento",null,{"$f":"_xlfn.IFNA(VLOOKUP(VentasMenudeo[[#This Row],[Promoción]],PromocionesMenudeo[[Promocion]:[Descuento]],2,0),0)","v":20},{"$f":"_xlfn.IFNA(VLOOKUP(VentasMenudeo[[#This Row],[Producto]],$A$2:$B$5,2,FALSE),0)","v":270},{"$f":"_xlfn.IFNA(_xlfn.IFS(VentasMenudeo[[#This Row],[Producto]]=$A$2,VentasMenudeo[[#This Row],[Precio de Venta]]*VentasMenudeo[[#This Row],[Cantidad]]-VentasMenudeo[[#This Row],[Descuento]],VentasMenudeo[[#This Row],[Producto]]=$A$3,VentasMenudeo[[#This Row],[Precio de Venta]]*VentasMenudeo[[#This Row],[Cantidad]]-VentasMenudeo[[#This Row],[Descuento]],VentasMenudeo[[#This Row],[Producto]]=$A$4,VentasMenudeo[[#This Row],[Precio de Venta]]*VentasMenudeo[[#This Row],[Cantidad]]-VentasMenudeo[[#This Row],[Descuento]],VentasMenudeo[[#This Row],[Producto]]=$A$5,VentasMenudeo[[#This Row],[Precio de Venta]]*VentasMenudeo[[#This Row],[Cantidad]]-VentasMenudeo[[#This Row],[Descuento]]),0)","v":250},250]
["2022-07-14","Hugo","IPLAY MAX","Coconut",1,"$20 Descuento",null,{"$f":"_xlfn.IFNA(VLOOKUP(VentasMenudeo[[#This Row],[Promoción]],PromocionesMenudeo[[Promocion]:[Descuento]],2,0),0)","v":20},{"$f":"_xlfn.IFNA(VLOOKUP(VentasMenudeo[[#This Row],[Producto]],$A$2:$B$5,2,FALSE),0)","v":270},{"$f":"_xlfn.IFNA(_xlfn.IFS(VentasMenudeo[[#This Row],[Producto]]=$A$2,VentasMenudeo[[#This Row],[Precio de Venta]]*VentasMenudeo[[#This Row],[Cantidad]]-VentasMenudeo[[#This Row],[Descuento]],VentasMenudeo[[#This Row],[Producto]]=$A$3,VentasMenudeo[[#This Row],[Precio de Venta]]*VentasMenudeo[[#This Row],[Cantidad]]-VentasMenudeo[[#This Row],[Descuento]],VentasMenudeo[[#This Row],[Producto]]=$A$4,VentasMenudeo[[#This Row],[Precio de Venta]]*VentasMenudeo[[#This Row],[Cantidad]]-VentasMenudeo[[#This Row],[Descuento]],VentasMenudeo[[#This Row],[Producto]]=$A$5,VentasMenudeo[[#This Row],[Precio de Venta]]*VentasMenudeo[[#This Row],[Cantidad]]-VentasMenudeo[[#This Row],[Descuento]]),0)","v":250},250]
["2022-07-14","Hugo","IPLAY MAX","Coconut",1,"$20 Descuento",null,{"$f":"_xlfn.IFNA(VLOOKUP(VentasMenudeo[[#This Row],[Promoción]],PromocionesMenudeo[[Promocion]:[Descuento]],2,0),0)","v":20},{"$f":"_xlfn.IFNA(VLOOKUP(VentasMenudeo[[#This Row],[Producto]],$A$2:$B$5,2,FALSE),0)","v":270},{"$f":"_xlfn.IFNA(_xlfn.IFS(VentasMenudeo[[#This Row],[Producto]]=$A$2,VentasMenudeo[[#This Row],[Precio de Venta]]*VentasMenudeo[[#This Row],[Cantidad]]-VentasMenudeo[[#This Row],[Descuento]],VentasMenudeo[[#This Row],[Producto]]=$A$3,VentasMenudeo[[#This Row],[Precio de Venta]]*VentasMenudeo[[#This Row],[Cantidad]]-VentasMenudeo[[#This Row],[Descuento]],VentasMenudeo[[#This Row],[Producto]]=$A$4,VentasMenudeo[[#This Row],[Precio de Venta]]*VentasMenudeo[[#This Row],[Cantidad]]-VentasMenudeo[[#This Row],[Descuento]],VentasMenudeo[[#This Row],[Producto]]=$A$5,VentasMenudeo[[#This Row],[Precio de Venta]]*VentasMenudeo[[#This Row],[Cantidad]]-VentasMenudeo[[#This Row],[Descuento]]),0)","v":250},250]
["2022-07-14","Hugo","IPLAY MAX","Coconut",1,"$20 Descuento",null,{"$f":"_xlfn.IFNA(VLOOKUP(VentasMenudeo[[#This Row],[Promoción]],PromocionesMenudeo[[Promocion]:[Descuento]],2,0),0)","v":20},{"$f":"_xlfn.IFNA(VLOOKUP(VentasMenudeo[[#This Row],[Producto]],$A$2:$B$5,2,FALSE),0)","v":270},{"$f":"_xlfn.IFNA(_xlfn.IFS(VentasMenudeo[[#This Row],[Producto]]=$A$2,VentasMenudeo[[#This Row],[Precio de Venta]]*VentasMenudeo[[#This Row],[Cantidad]]-VentasMenudeo[[#This Row],[Descuento]],VentasMenudeo[[#This Row],[Producto]]=$A$3,VentasMenudeo[[#This Row],[Precio de Venta]]*VentasMenudeo[[#This Row],[Cantidad]]-VentasMenudeo[[#This Row],[Descuento]],VentasMenudeo[[#This Row],[Producto]]=$A$4,VentasMenudeo[[#This Row],[Precio de Venta]]*VentasMenudeo[[#This Row],[Cantidad]]-VentasMenudeo[[#This Row],[Descuento]],VentasMenudeo[[#This Row],[Producto]]=$A$5,VentasMenudeo[[#This Row],[Precio de Venta]]*VentasMenudeo[[#This Row],[Cantidad]]-VentasMenudeo[[#This Row],[Descuento]]),0)","v":250},250]
["2022-07-14","Hugo","IPLAY MAX","Cocumber Lemonade",1,"$20 Descuento",null,{"$f":"_xlfn.IFNA(VLOOKUP(VentasMenudeo[[#This Row],[Promoción]],PromocionesMenudeo[[Promocion]:[Descuento]],2,0),0)","v":20},{"$f":"_xlfn.IFNA(VLOOKUP(VentasMenudeo[[#This Row],[Producto]],$A$2:$B$5,2,FALSE),0)","v":270},{"$f":"_xlfn.IFNA(_xlfn.IFS(VentasMenudeo[[#This Row],[Producto]]=$A$2,VentasMenudeo[[#This Row],[Precio de Venta]]*VentasMenudeo[[#This Row],[Cantidad]]-VentasMenudeo[[#This Row],[Descuento]],VentasMenudeo[[#This Row],[Producto]]=$A$3,VentasMenudeo[[#This Row],[Precio de Venta]]*VentasMenudeo[[#This Row],[Cantidad]]-VentasMenudeo[[#This Row],[Descuento]],VentasMenudeo[[#This Row],[Producto]]=$A$4,VentasMenudeo[[#This Row],[Precio de Venta]]*VentasMenudeo[[#This Row],[Cantidad]]-VentasMenudeo[[#This Row],[Descuento]],VentasMenudeo[[#This Row],[Producto]]=$A$5,VentasMenudeo[[#This Row],[Precio de Venta]]*VentasMenudeo[[#This Row],[Cantidad]]-VentasMenudeo[[#This Row],[Descuento]]),0)","v":250},250]
["2022-07-14","Hugo","IPLAY MAX","Cool mint",1,"$20 Descuento",null,{"$f":"_xlfn.IFNA(VLOOKUP(VentasMenudeo[[#This Row],[Promoción]],PromocionesMenudeo[[Promocion]:[Descuento]],2,0),0)","v":20},{"$f":"_xlfn.IFNA(VLOOKUP(VentasMenudeo[[#This Row],[Producto]],$A$2:$B$5,2,FALSE),0)","v":270},{"$f":"_xlfn.IFNA(_xlfn.IFS(VentasMenudeo[[#This Row],[Producto]]=$A$2,VentasMenudeo[[#This Row],[Precio de Venta]]*VentasMenudeo[[#This Row],[Cantidad]]-VentasMenudeo[[#This Row],[Descuento]],VentasMenudeo[[#This Row],[Producto]]=$A$3,VentasMenudeo[[#This Row],[Precio de Venta]]*VentasMenudeo[[#This Row],[Cantidad]]-VentasMenudeo[[#This Row],[Descuento]],VentasMenudeo[[#This Row],[Producto]]=$A$4,VentasMenudeo[[#This Row],[Precio de Venta]]*VentasMenudeo[[#This Row],[Cantidad]]-VentasMenudeo[[#This Row],[Descuento]],VentasMenudeo[[#This Row],[Producto]]=$A$5,VentasMenudeo[[#This Row],[Precio de Venta]]*VentasMenudeo[[#This Row],[Cantidad]]-VentasMenudeo[[#This Row],[Descuento]]),0)","v":250},250]
["2022-07-14","Hugo","IPLAY MAX","Cool mint",1,"$20 Descuento",null,{"$f":"_xlfn.IFNA(VLOOKUP(VentasMenudeo[[#This Row],[Promoción]],PromocionesMenudeo[[Promocion]:[Descuento]],2,0),0)","v":20},{"$f":"_xlfn.IFNA(VLOOKUP(VentasMenudeo[[#This Row],[Producto]],$A$2:$B$5,2,FALSE),0)","v":270},{"$f":"_xlfn.IFNA(_xlfn.IFS(VentasMenudeo[[#This Row],[Producto]]=$A$2,VentasMenudeo[[#This Row],[Precio de Venta]]*VentasMenudeo[[#This Row],[Cantidad]]-VentasMenudeo[[#This Row],[Descuento]],VentasMenudeo[[#This Row],[Producto]]=$A$3,VentasMenudeo[[#This Row],[Precio de Venta]]*VentasMenudeo[[#This Row],[Cantidad]]-VentasMenudeo[[#This Row],[Descuento]],VentasMenudeo[[#This Row],[Producto]]=$A$4,VentasMenudeo[[#This Row],[Precio de Venta]]*VentasMenudeo[[#This Row],[Cantidad]]-VentasMenudeo[[#This Row],[Descuento]],VentasMenudeo[[#This Row],[Producto]]=$A$5,VentasMenudeo[[#This Row],[Precio de Venta]]*VentasMenudeo[[#This Row],[Cantidad]]-VentasMenudeo[[#This Row],[Descuento]]),0)","v":250},250]
["2022-07-14","Hugo","IPLAY MAX","Cool mint",1,"$20 Descuento",null,{"$f":"_xlfn.IFNA(VLOOKUP(VentasMenudeo[[#This Row],[Promoción]],PromocionesMenudeo[[Promocion]:[Descuento]],2,0),0)","v":20},{"$f":"_xlfn.IFNA(VLOOKUP(VentasMenudeo[[#This Row],[Producto]],$A$2:$B$5,2,FALSE),0)","v":270},{"$f":"_xlfn.IFNA(_xlfn.IFS(VentasMenudeo[[#This Row],[Producto]]=$A$2,VentasMenudeo[[#This Row],[Precio de Venta]]*VentasMenudeo[[#This Row],[Cantidad]]-VentasMenudeo[[#This Row],[Descuento]],VentasMenudeo[[#This Row],[Producto]]=$A$3,VentasMenudeo[[#This Row],[Precio de Venta]]*VentasMenudeo[[#This Row],[Cantidad]]-VentasMenudeo[[#This Row],[Descuento]],VentasMenudeo[[#This Row],[Producto]]=$A$4,VentasMenudeo[[#This Row],[Precio de Venta]]*VentasMenudeo[[#This Row],[Cantidad]]-VentasMenudeo[[#This Row],[Descuento]],VentasMenudeo[[#This Row],[Producto]]=$A$5,VentasMenudeo[[#This Row],[Precio de Venta]]*VentasMenudeo[[#This Row],[Cantidad]]-VentasMenudeo[[#This Row],[Descuento]]),0)","v":250},250]
["2022-07-14","Hugo","IPLAY MAX","Cool mint",1,"$20 Descuento",null,{"$f":"_xlfn.IFNA(VLOOKUP(VentasMenudeo[[#This Row],[Promoción]],PromocionesMenudeo[[Promocion]:[Descuento]],2,0),0)","v":20},{"$f":"_xlfn.IFNA(VLOOKUP(VentasMenudeo[[#This Row],[Producto]],$A$2:$B$5,2,FALSE),0)","v":270},{"$f":"_xlfn.IFNA(_xlfn.IFS(VentasMenudeo[[#This Row],[Producto]]=$A$2,VentasMenudeo[[#This Row],[Precio de Venta]]*VentasMenudeo[[#This Row],[Cantidad]]-VentasMenudeo[[#This Row],[Descuento]],VentasMenudeo[[#This Row],[Producto]]=$A$3,VentasMenudeo[[#This Row],[Precio de Venta]]*VentasMenudeo[[#This Row],[Cantidad]]-VentasMenudeo[[#This Row],[Descuento]],VentasMenudeo[[#This Row],[Producto]]=$A$4,VentasMenudeo[[#This Row],[Precio de Venta]]*VentasMenudeo[[#This Row],[Cantidad]]-VentasMenudeo[[#This Row],[Descuento]],VentasMenudeo[[#This Row],[Producto]]=$A$5,VentasMenudeo[[#This Row],[Precio de Venta]]*VentasMenudeo[[#This Row],[Cantidad]]-VentasMenudeo[[#This Row],[Descuento]]),0)","v":250},250]
["2022-07-14","Hugo","IPLAY MAX","Grapestraw",1,"$20 Descuento",null,{"$f":"_xlfn.IFNA(VLOOKUP(VentasMenudeo[[#This Row],[Promoción]],PromocionesMenudeo[[Promocion]:[Descuento]],2,0),0)","v":20},{"$f":"_xlfn.IFNA(VLOOKUP(VentasMenudeo[[#This Row],[Producto]],$A$2:$B$5,2,FALSE),0)","v":270},{"$f":"_xlfn.IFNA(_xlfn.IFS(VentasMenudeo[[#This Row],[Producto]]=$A$2,VentasMenudeo[[#This Row],[Precio de Venta]]*VentasMenudeo[[#This Row],[Cantidad]]-VentasMenudeo[[#This Row],[Descuento]],VentasMenudeo[[#This Row],[Producto]]=$A$3,VentasMenudeo[[#This Row],[Precio de Venta]]*VentasMenudeo[[#This Row],[Cantidad]]-VentasMenudeo[[#This Row],[Descuento]],VentasMenudeo[[#This Row],[Producto]]=$A$4,VentasMenudeo[[#This Row],[Precio de Venta]]*VentasMenudeo[[#This Row],[Cantidad]]-VentasMenudeo[[#This Row],[Descuento]],VentasMenudeo[[#This Row],[Producto]]=$A$5,VentasMenudeo[[#This Row],[Precio de Venta]]*VentasMenudeo[[#This Row],[Cantidad]]-VentasMenudeo[[#This Row],[Descuento]]),0)","v":250},250]
["2022-07-14","Hugo","IPLAY MAX","Grapestraw",1,"$20 Descuento",null,{"$f":"_xlfn.IFNA(VLOOKUP(VentasMenudeo[[#This Row],[Promoción]],PromocionesMenudeo[[Promocion]:[Descuento]],2,0),0)","v":20},{"$f":"_xlfn.IFNA(VLOOKUP(VentasMenudeo[[#This Row],[Producto]],$A$2:$B$5,2,FALSE),0)","v":270},{"$f":"_xlfn.IFNA(_xlfn.IFS(VentasMenudeo[[#This Row],[Producto]]=$A$2,VentasMenudeo[[#This Row],[Precio de Venta]]*VentasMenudeo[[#This Row],[Cantidad]]-VentasMenudeo[[#This Row],[Descuento]],VentasMenudeo[[#This Row],[Producto]]=$A$3,VentasMenudeo[[#This Row],[Precio de Venta]]*VentasMenudeo[[#This Row],[Cantidad]]-VentasMenudeo[[#This Row],[Descuento]],VentasMenudeo[[#This Row],[Producto]]=$A$4,VentasMenudeo[[#This Row],[Precio de Venta]]*VentasMenudeo[[#This Row],[Cantidad]]-VentasMenudeo[[#This Row],[Descuento]],VentasMenudeo[[#This Row],[Producto]]=$A$5,VentasMenudeo[[#This Row],[Precio de Venta]]*VentasMenudeo[[#This Row],[Cantidad]]-VentasMenudeo[[#This Row],[Descuento]]),0)","v":250},250]
["2022-07-14","Hugo","IPLAY MAX","Grapestraw",1,"$20 Descuento",null,{"$f":"_xlfn.IFNA(VLOOKUP(VentasMenudeo[[#This Row],[Promoción]],PromocionesMenudeo[[Promocion]:[Descuento]],2,0),0)","v":20},{"$f":"_xlfn.IFNA(VLOOKUP(VentasMenudeo[[#This Row],[Producto]],$A$2:$B$5,2,FALSE),0)","v":270},{"$f":"_xlfn.IFNA(_xlfn.IFS(VentasMenudeo[[#This Row],[Producto]]=$A$2,VentasMenudeo[[#This Row],[Precio de Venta]]*VentasMenudeo[[#This Row],[Cantidad]]-VentasMenudeo[[#This Row],[Descuento]],VentasMenudeo[[#This Row],[Producto]]=$A$3,VentasMenudeo[[#This Row],[Precio de Venta]]*VentasMenudeo[[#This Row],[Cantidad]]-VentasMenudeo[[#This Row],[Descuento]],VentasMenudeo[[#This Row],[Producto]]=$A$4,VentasMenudeo[[#This Row],[Precio de Venta]]*VentasMenudeo[[#This Row],[Cantidad]]-VentasMenudeo[[#This Row],[Descuento]],VentasMenudeo[[#This Row],[Producto]]=$A$5,VentasMenudeo[[#This Row],[Precio de Venta]]*VentasMenudeo[[#This Row],[Cantidad]]-VentasMenudeo[[#This Row],[Descuento]]),0)","v":250},250]
["2022-07-14","Hugo","IPLAY MAX","Grapestraw",1,"$20 Descuento",null,{"$f":"_xlfn.IFNA(VLOOKUP(VentasMenudeo[[#This Row],[Promoción]],PromocionesMenudeo[[Promocion]:[Descuento]],2,0),0)","v":20},{"$f":"_xlfn.IFNA(VLOOKUP(VentasMenudeo[[#This Row],[Producto]],$A$2:$B$5,2,FALSE),0)","v":270},{"$f":"_xlfn.IFNA(_xlfn.IFS(VentasMenudeo[[#This Row],[Producto]]=$A$2,VentasMenudeo[[#This Row],[Precio de Venta]]*VentasMenudeo[[#This Row],[Cantidad]]-VentasMenudeo[[#This Row],[Descuento]],VentasMenudeo[[#This Row],[Producto]]=$A$3,VentasMenudeo[[#This Row],[Precio de Venta]]*VentasMenudeo[[#This Row],[Cantidad]]-VentasMenudeo[[#This Row],[Descuento]],VentasMenudeo[[#This Row],[Producto]]=$A$4,VentasMenudeo[[#This Row],[Precio de Venta]]*VentasMenudeo[[#This Row],[Cantidad]]-VentasMenudeo[[#This Row],[Descuento]],VentasMenudeo[[#This Row],[Producto]]=$A$5,VentasMenudeo[[#This Row],[Precio de Venta]]*VentasMenudeo[[#This Row],[Cantidad]]-VentasMenudeo[[#This Row],[Descuento]]),0)","v":250},250]
["2022-07-14","Hugo","IPLAY MAX","Grapestraw",1,"$20 Descuento",null,{"$f":"_xlfn.IFNA(VLOOKUP(VentasMenudeo[[#This Row],[Promoción]],PromocionesMenudeo[[Promocion]:[Descuento]],2,0),0)","v":20},{"$f":"_xlfn.IFNA(VLOOKUP(VentasMenudeo[[#This Row],[Producto]],$A$2:$B$5,2,FALSE),0)","v":270},{"$f":"_xlfn.IFNA(_xlfn.IFS(VentasMenudeo[[#This Row],[Producto]]=$A$2,VentasMenudeo[[#This Row],[Precio de Venta]]*VentasMenudeo[[#This Row],[Cantidad]]-VentasMenudeo[[#This Row],[Descuento]],VentasMenudeo[[#This Row],[Producto]]=$A$3,VentasMenudeo[[#This Row],[Precio de Venta]]*VentasMenudeo[[#This Row],[Cantidad]]-VentasMenudeo[[#This Row],[Descuento]],VentasMenudeo[[#This Row],[Producto]]=$A$4,VentasMenudeo[[#This Row],[Precio de Venta]]*VentasMenudeo[[#This Row],[Cantidad]]-VentasMenudeo[[#This Row],[Descuento]],VentasMenudeo[[#This Row],[Producto]]=$A$5,VentasMenudeo[[#This Row],[Precio de Venta]]*VentasMenudeo[[#This Row],[Cantidad]]-VentasMenudeo[[#This Row],[Descuento]]),0)","v":250},250]
["2022-07-14","Hugo","IPLAY MAX","Grapestraw",1,"$20 Descuento",null,{"$f":"_xlfn.IFNA(VLOOKUP(VentasMenudeo[[#This Row],[Promoción]],PromocionesMenudeo[[Promocion]:[Descuento]],2,0),0)","v":20},{"$f":"_xlfn.IFNA(VLOOKUP(VentasMenudeo[[#This Row],[Producto]],$A$2:$B$5,2,FALSE),0)","v":270},{"$f":"_xlfn.IFNA(_xlfn.IFS(VentasMenudeo[[#This Row],[Producto]]=$A$2,VentasMenudeo[[#This Row],[Precio de Venta]]*VentasMenudeo[[#This Row],[Cantidad]]-VentasMenudeo[[#This Row],[Descuento]],VentasMenudeo[[#This Row],[Producto]]=$A$3,VentasMenudeo[[#This Row],[Precio de Venta]]*VentasMenudeo[[#This Row],[Cantidad]]-VentasMenudeo[[#This Row],[Descuento]],VentasMenudeo[[#This Row],[Producto]]=$A$4,VentasMenudeo[[#This Row],[Precio de Venta]]*VentasMenudeo[[#This Row],[Cantidad]]-VentasMenudeo[[#This Row],[Descuento]],VentasMenudeo[[#This Row],[Producto]]=$A$5,VentasMenudeo[[#This Row],[Precio de Venta]]*VentasMenudeo[[#This Row],[Cantidad]]-VentasMenudeo[[#This Row],[Descuento]]),0)","v":250},250]
["2022-07-14","Hugo","IPLAY MAX","Grapestraw",1,"$20 Descuento",null,{"$f":"_xlfn.IFNA(VLOOKUP(VentasMenudeo[[#This Row],[Promoción]],PromocionesMenudeo[[Promocion]:[Descuento]],2,0),0)","v":20},{"$f":"_xlfn.IFNA(VLOOKUP(VentasMenudeo[[#This Row],[Producto]],$A$2:$B$5,2,FALSE),0)","v":270},{"$f":"_xlfn.IFNA(_xlfn.IFS(VentasMenudeo[[#This Row],[Producto]]=$A$2,VentasMenudeo[[#This Row],[Precio de Venta]]*VentasMenudeo[[#This Row],[Cantidad]]-VentasMenudeo[[#This Row],[Descuento]],VentasMenudeo[[#This Row],[Producto]]=$A$3,VentasMenudeo[[#This Row],[Precio de Venta]]*VentasMenudeo[[#This Row],[Cantidad]]-VentasMenudeo[[#This Row],[Descuento]],VentasMenudeo[[#This Row],[Producto]]=$A$4,VentasMenudeo[[#This Row],[Precio de Venta]]*VentasMenudeo[[#This Row],[Cantidad]]-VentasMenudeo[[#This Row],[Descuento]],VentasMenudeo[[#This Row],[Producto]]=$A$5,VentasMenudeo[[#This Row],[Precio de Venta]]*VentasMenudeo[[#This Row],[Cantidad]]-VentasMenudeo[[#This Row],[Descuento]]),0)","v":250},250]
["2022-07-14","Hugo","IPLAY MAX","Grapestraw",1,"$20 Descuento",null,{"$f":"_xlfn.IFNA(VLOOKUP(VentasMenudeo[[#This Row],[Promoción]],PromocionesMenudeo[[Promocion]:[Descuento]],2,0),0)","v":20},{"$f":"_xlfn.IFNA(VLOOKUP(VentasMenudeo[[#This Row],[Producto]],$A$2:$B$5,2,FALSE),0)","v":270},{"$f":"_xlfn.IFNA(_xlfn.IFS(VentasMenudeo[[#This Row],[Producto]]=$A$2,VentasMenudeo[[#This Row],[Precio de Venta]]*VentasMenudeo[[#This Row],[Cantidad]]-VentasMenudeo[[#This Row],[Descuento]],VentasMenudeo[[#This Row],[Producto]]=$A$3,VentasMenudeo[[#This Row],[Precio de Venta]]*VentasMenudeo[[#This Row],[Cantidad]]-VentasMenudeo[[#This Row],[Descuento]],VentasMenudeo[[#This Row],[Producto]]=$A$4,VentasMenudeo[[#This Row],[Precio de Venta]]*VentasMenudeo[[#This Row],[Cantidad]]-VentasMenudeo[[#This Row],[Descuento]],VentasMenudeo[[#This Row],[Producto]]=$A$5,VentasMenudeo[[#This Row],[Precio de Venta]]*VentasMenudeo[[#This Row],[Cantidad]]-VentasMenudeo[[#This Row],[Descuento]]),0)","v":250},250]
["2022-07-14","Hugo","IPLAY MAX","Grapestraw",1,"$20 Descuento",null,{"$f":"_xlfn.IFNA(VLOOKUP(VentasMenudeo[[#This Row],[Promoción]],PromocionesMenudeo[[Promocion]:[Descuento]],2,0),0)","v":20},{"$f":"_xlfn.IFNA(VLOOKUP(VentasMenudeo[[#This Row],[Producto]],$A$2:$B$5,2,FALSE),0)","v":270},{"$f":"_xlfn.IFNA(_xlfn.IFS(VentasMenudeo[[#This Row],[Producto]]=$A$2,VentasMenudeo[[#This Row],[Precio de Venta]]*VentasMenudeo[[#This Row],[Cantidad]]-VentasMenudeo[[#This Row],[Descuento]],VentasMenudeo[[#This Row],[Producto]]=$A$3,VentasMenudeo[[#This Row],[Precio de Venta]]*VentasMenudeo[[#This Row],[Cantidad]]-VentasMenudeo[[#This Row],[Descuento]],VentasMenudeo[[#This Row],[Producto]]=$A$4,VentasMenudeo[[#This Row],[Precio de Venta]]*VentasMenudeo[[#This Row],[Cantidad]]-VentasMenudeo[[#This Row],[Descuento]],VentasMenudeo[[#This Row],[Producto]]=$A$5,VentasMenudeo[[#This Row],[Precio de Venta]]*VentasMenudeo[[#This Row],[Cantidad]]-VentasMenudeo[[#This Row],[Descuento]]),0)","v":250},250]
["2022-07-14","Hugo","IPLAY MAX","Guava",1,"$20 Descuento",null,{"$f":"_xlfn.IFNA(VLOOKUP(VentasMenudeo[[#This Row],[Promoción]],PromocionesMenudeo[[Promocion]:[Descuento]],2,0),0)","v":20},{"$f":"_xlfn.IFNA(VLOOKUP(VentasMenudeo[[#This Row],[Producto]],$A$2:$B$5,2,FALSE),0)","v":270},{"$f":"_xlfn.IFNA(_xlfn.IFS(VentasMenudeo[[#This Row],[Producto]]=$A$2,VentasMenudeo[[#This Row],[Precio de Venta]]*VentasMenudeo[[#This Row],[Cantidad]]-VentasMenudeo[[#This Row],[Descuento]],VentasMenudeo[[#This Row],[Producto]]=$A$3,VentasMenudeo[[#This Row],[Precio de Venta]]*VentasMenudeo[[#This Row],[Cantidad]]-VentasMenudeo[[#This Row],[Descuento]],VentasMenudeo[[#This Row],[Producto]]=$A$4,VentasMenudeo[[#This Row],[Precio de Venta]]*VentasMenudeo[[#This Row],[Cantidad]]-VentasMenudeo[[#This Row],[Descuento]],VentasMenudeo[[#This Row],[Producto]]=$A$5,VentasMenudeo[[#This Row],[Precio de Venta]]*VentasMenudeo[[#This Row],[Cantidad]]-VentasMenudeo[[#This Row],[Descuento]]),0)","v":250},250]
["2022-07-14","Hugo","IPLAY MAX","Guava",1,"$20 Descuento",null,{"$f":"_xlfn.IFNA(VLOOKUP(VentasMenudeo[[#This Row],[Promoción]],PromocionesMenudeo[[Promocion]:[Descuento]],2,0),0)","v":20},{"$f":"_xlfn.IFNA(VLOOKUP(VentasMenudeo[[#This Row],[Producto]],$A$2:$B$5,2,FALSE),0)","v":270},{"$f":"_xlfn.IFNA(_xlfn.IFS(VentasMenudeo[[#This Row],[Producto]]=$A$2,VentasMenudeo[[#This Row],[Precio de Venta]]*VentasMenudeo[[#This Row],[Cantidad]]-VentasMenudeo[[#This Row],[Descuento]],VentasMenudeo[[#This Row],[Producto]]=$A$3,VentasMenudeo[[#This Row],[Precio de Venta]]*VentasMenudeo[[#This Row],[Cantidad]]-VentasMenudeo[[#This Row],[Descuento]],VentasMenudeo[[#This Row],[Producto]]=$A$4,VentasMenudeo[[#This Row],[Precio de Venta]]*VentasMenudeo[[#This Row],[Cantidad]]-VentasMenudeo[[#This Row],[Descuento]],VentasMenudeo[[#This Row],[Producto]]=$A$5,VentasMenudeo[[#This Row],[Precio de Venta]]*VentasMenudeo[[#This Row],[Cantidad]]-VentasMenudeo[[#This Row],[Descuento]]),0)","v":250},250]
["2022-07-14","Hugo","IPLAY MAX","Sour Apple",1,"$20 Descuento",null,{"$f":"_xlfn.IFNA(VLOOKUP(VentasMenudeo[[#This Row],[Promoción]],PromocionesMenudeo[[Promocion]:[Descuento]],2,0),0)","v":20},{"$f":"_xlfn.IFNA(VLOOKUP(VentasMenudeo[[#This Row],[Producto]],$A$2:$B$5,2,FALSE),0)","v":270},{"$f":"_xlfn.IFNA(_xlfn.IFS(VentasMenudeo[[#This Row],[Producto]]=$A$2,VentasMenudeo[[#This Row],[Precio de Venta]]*VentasMenudeo[[#This Row],[Cantidad]]-VentasMenudeo[[#This Row],[Descuento]],VentasMenudeo[[#This Row],[Producto]]=$A$3,VentasMenudeo[[#This Row],[Precio de Venta]]*VentasMenudeo[[#This Row],[Cantidad]]-VentasMenudeo[[#This Row],[Descuento]],VentasMenudeo[[#This Row],[Producto]]=$A$4,VentasMenudeo[[#This Row],[Precio de Venta]]*VentasMenudeo[[#This Row],[Cantidad]]-VentasMenudeo[[#This Row],[Descuento]],VentasMenudeo[[#This Row],[Producto]]=$A$5,VentasMenudeo[[#This Row],[Precio de Venta]]*VentasMenudeo[[#This Row],[Cantidad]]-VentasMenudeo[[#This Row],[Descuento]]),0)","v":250},250]
["2022-07-14","Hugo","IPLAY MAX","Sour Apple",1,"$20 Descuento",null,{"$f":"_xlfn.IFNA(VLOOKUP(VentasMenudeo[[#This Row],[Promoción]],PromocionesMenudeo[[Promocion]:[Descuento]],2,0),0)","v":20},{"$f":"_xlfn.IFNA(VLOOKUP(VentasMenudeo[[#This Row],[Producto]],$A$2:$B$5,2,FALSE),0)","v":270},{"$f":"_xlfn.IFNA(_xlfn.IFS(VentasMenudeo[[#This Row],[Producto]]=$A$2,VentasMenudeo[[#This Row],[Precio de Venta]]*VentasMenudeo[[#This Row],[Cantidad]]-VentasMenudeo[[#This Row],[Descuento]],VentasMenudeo[[#This Row],[Producto]]=$A$3,VentasMenudeo[[#This Row],[Precio de Venta]]*VentasMenudeo[[#This Row],[Cantidad]]-VentasMenudeo[[#This Row],[Descuento]],VentasMenudeo[[#This Row],[Producto]]=$A$4,VentasMenudeo[[#This Row],[Precio de Venta]]*VentasMenudeo[[#This Row],[Cantidad]]-VentasMenudeo[[#This Row],[Descuento]],VentasMenudeo[[#This Row],[Producto]]=$A$5,VentasMenudeo[[#This Row],[Precio de Venta]]*VentasMenudeo[[#This Row],[Cantidad]]-VentasMenudeo[[#This Row],[Descuento]]),0)","v":250},250]
["2022-07-14","Hugo","IPLAY MAX","Peach Ice",1,"$20 Descuento",null,{"$f":"_xlfn.IFNA(VLOOKUP(VentasMenudeo[[#This Row],[Promoción]],PromocionesMenudeo[[Promocion]:[Descuento]],2,0),0)","v":20},{"$f":"_xlfn.IFNA(VLOOKUP(VentasMenudeo[[#This Row],[Producto]],$A$2:$B$5,2,FALSE),0)","v":270},{"$f":"_xlfn.IFNA(_xlfn.IFS(VentasMenudeo[[#This Row],[Producto]]=$A$2,VentasMenudeo[[#This Row],[Precio de Venta]]*VentasMenudeo[[#This Row],[Cantidad]]-VentasMenudeo[[#This Row],[Descuento]],VentasMenudeo[[#This Row],[Producto]]=$A$3,VentasMenudeo[[#This Row],[Precio de Venta]]*VentasMenudeo[[#This Row],[Cantidad]]-VentasMenudeo[[#This Row],[Descuento]],VentasMenudeo[[#This Row],[Producto]]=$A$4,VentasMenudeo[[#This Row],[Precio de Venta]]*VentasMenudeo[[#This Row],[Cantidad]]-VentasMenudeo[[#This Row],[Descuento]],VentasMenudeo[[#This Row],[Producto]]=$A$5,VentasMenudeo[[#This Row],[Precio de Venta]]*VentasMenudeo[[#This Row],[Cantidad]]-VentasMenudeo[[#This Row],[Descuento]]),0)","v":250},250]
["2022-07-14","Hugo","IPLAY MAX","Peach Ice",1,"$20 Descuento",null,{"$f":"_xlfn.IFNA(VLOOKUP(VentasMenudeo[[#This Row],[Promoción]],PromocionesMenudeo[[Promocion]:[Descuento]],2,0),0)","v":20},{"$f":"_xlfn.IFNA(VLOOKUP(VentasMenudeo[[#This Row],[Producto]],$A$2:$B$5,2,FALSE),0)","v":270},{"$f":"_xlfn.IFNA(_xlfn.IFS(VentasMenudeo[[#This Row],[Producto]]=$A$2,VentasMenudeo[[#This Row],[Precio de Venta]]*VentasMenudeo[[#This Row],[Cantidad]]-VentasMenudeo[[#This Row],[Descuento]],VentasMenudeo[[#This Row],[Producto]]=$A$3,VentasMenudeo[[#This Row],[Precio de Venta]]*VentasMenudeo[[#This Row],[Cantidad]]-VentasMenudeo[[#This Row],[Descuento]],VentasMenudeo[[#This Row],[Producto]]=$A$4,VentasMenudeo[[#This Row],[Precio de Venta]]*VentasMenudeo[[#This Row],[Cantidad]]-VentasMenudeo[[#This Row],[Descuento]],VentasMenudeo[[#This Row],[Producto]]=$A$5,VentasMenudeo[[#This Row],[Precio de Venta]]*VentasMenudeo[[#This Row],[Cantidad]]-VentasMenudeo[[#This Row],[Descuento]]),0)","v":250},250]
["2022-07-14","Hugo","IPLAY MAX","Peach Ice",1,"$20 Descuento",null,{"$f":"_xlfn.IFNA(VLOOKUP(VentasMenudeo[[#This Row],[Promoción]],PromocionesMenudeo[[Promocion]:[Descuento]],2,0),0)","v":20},{"$f":"_xlfn.IFNA(VLOOKUP(VentasMenudeo[[#This Row],[Producto]],$A$2:$B$5,2,FALSE),0)","v":270},{"$f":"_xlfn.IFNA(_xlfn.IFS(VentasMenudeo[[#This Row],[Producto]]=$A$2,VentasMenudeo[[#This Row],[Precio de Venta]]*VentasMenudeo[[#This Row],[Cantidad]]-VentasMenudeo[[#This Row],[Descuento]],VentasMenudeo[[#This Row],[Producto]]=$A$3,VentasMenudeo[[#This Row],[Precio de Venta]]*VentasMenudeo[[#This Row],[Cantidad]]-VentasMenudeo[[#This Row],[Descuento]],VentasMenudeo[[#This Row],[Producto]]=$A$4,VentasMenudeo[[#This Row],[Precio de Venta]]*VentasMenudeo[[#This Row],[Cantidad]]-VentasMenudeo[[#This Row],[Descuento]],VentasMenudeo[[#This Row],[Producto]]=$A$5,VentasMenudeo[[#This Row],[Precio de Venta]]*VentasMenudeo[[#This Row],[Cantidad]]-VentasMenudeo[[#This Row],[Descuento]]),0)","v":250},250]
["2022-07-14","Hugo","IPLAY MAX","Peach Ice",1,"$20 Descuento",null,{"$f":"_xlfn.IFNA(VLOOKUP(VentasMenudeo[[#This Row],[Promoción]],PromocionesMenudeo[[Promocion]:[Descuento]],2,0),0)","v":20},{"$f":"_xlfn.IFNA(VLOOKUP(VentasMenudeo[[#This Row],[Producto]],$A$2:$B$5,2,FALSE),0)","v":270},{"$f":"_xlfn.IFNA(_xlfn.IFS(VentasMenudeo[[#This Row],[Producto]]=$A$2,VentasMenudeo[[#This Row],[Precio de Venta]]*VentasMenudeo[[#This Row],[Cantidad]]-VentasMenudeo[[#This Row],[Descuento]],VentasMenudeo[[#This Row],[Producto]]=$A$3,VentasMenudeo[[#This Row],[Precio de Venta]]*VentasMenudeo[[#This Row],[Cantidad]]-VentasMenudeo[[#This Row],[Descuento]],VentasMenudeo[[#This Row],[Producto]]=$A$4,VentasMenudeo[[#This Row],[Precio de Venta]]*VentasMenudeo[[#This Row],[Cantidad]]-VentasMenudeo[[#This Row],[Descuento]],VentasMenudeo[[#This Row],[Producto]]=$A$5,VentasMenudeo[[#This Row],[Precio de Venta]]*VentasMenudeo[[#This Row],[Cantidad]]-VentasMenudeo[[#This Row],[Descuento]]),0)","v":250},250]
["2022-07-14","Hugo","IPLAY MAX","Grape Ice",1,"$20 Descuento",null,{"$f":"_xlfn.IFNA(VLOOKUP(VentasMenudeo[[#This Row],[Promoción]],PromocionesMenudeo[[Promocion]:[Descuento]],2,0),0)","v":20},{"$f":"_xlfn.IFNA(VLOOKUP(VentasMenudeo[[#This Row],[Producto]],$A$2:$B$5,2,FALSE),0)","v":270},{"$f":"_xlfn.IFNA(_xlfn.IFS(VentasMenudeo[[#This Row],[Producto]]=$A$2,VentasMenudeo[[#This Row],[Precio de Venta]]*VentasMenudeo[[#This Row],[Cantidad]]-VentasMenudeo[[#This Row],[Descuento]],VentasMenudeo[[#This Row],[Producto]]=$A$3,VentasMenudeo[[#This Row],[Precio de Venta]]*VentasMenudeo[[#This Row],[Cantidad]]-VentasMenudeo[[#This Row],[Descuento]],VentasMenudeo[[#This Row],[Producto]]=$A$4,VentasMenudeo[[#This Row],[Precio de Venta]]*VentasMenudeo[[#This Row],[Cantidad]]-VentasMenudeo[[#This Row],[Descuento]],VentasMenudeo[[#This Row],[Producto]]=$A$5,VentasMenudeo[[#This Row],[Precio de Venta]]*VentasMenudeo[[#This Row],[Cantidad]]-VentasMenudeo[[#This Row],[Descuento]]),0)","v":250},250]
["2022-07-15","Hugo","IPLAY MAX","Peach Ice",1,"$20 Descuento",null,{"$f":"_xlfn.IFNA(VLOOKUP(VentasMenudeo[[#This Row],[Promoción]],PromocionesMenudeo[[Promocion]:[Descuento]],2,0),0)","v":20},{"$f":"_xlfn.IFNA(VLOOKUP(VentasMenudeo[[#This Row],[Producto]],$A$2:$B$5,2,FALSE),0)","v":270},{"$f":"_xlfn.IFNA(_xlfn.IFS(VentasMenudeo[[#This Row],[Producto]]=$A$2,VentasMenudeo[[#This Row],[Precio de Venta]]*VentasMenudeo[[#This Row],[Cantidad]]-VentasMenudeo[[#This Row],[Descuento]],VentasMenudeo[[#This Row],[Producto]]=$A$3,VentasMenudeo[[#This Row],[Precio de Venta]]*VentasMenudeo[[#This Row],[Cantidad]]-VentasMenudeo[[#This Row],[Descuento]],VentasMenudeo[[#This Row],[Producto]]=$A$4,VentasMenudeo[[#This Row],[Precio de Venta]]*VentasMenudeo[[#This Row],[Cantidad]]-VentasMenudeo[[#This Row],[Descuento]],VentasMenudeo[[#This Row],[Producto]]=$A$5,VentasMenudeo[[#This Row],[Precio de Venta]]*VentasMenudeo[[#This Row],[Cantidad]]-VentasMenudeo[[#This Row],[Descuento]]),0)","v":250},250]
["2022-07-15","Hugo","IPLAY MAX","Peach Ice",1,"$20 Descuento",null,{"$f":"_xlfn.IFNA(VLOOKUP(VentasMenudeo[[#This Row],[Promoción]],PromocionesMenudeo[[Promocion]:[Descuento]],2,0),0)","v":20},{"$f":"_xlfn.IFNA(VLOOKUP(VentasMenudeo[[#This Row],[Producto]],$A$2:$B$5,2,FALSE),0)","v":270},{"$f":"_xlfn.IFNA(_xlfn.IFS(VentasMenudeo[[#This Row],[Producto]]=$A$2,VentasMenudeo[[#This Row],[Precio de Venta]]*VentasMenudeo[[#This Row],[Cantidad]]-VentasMenudeo[[#This Row],[Descuento]],VentasMenudeo[[#This Row],[Producto]]=$A$3,VentasMenudeo[[#This Row],[Precio de Venta]]*VentasMenudeo[[#This Row],[Cantidad]]-VentasMenudeo[[#This Row],[Descuento]],VentasMenudeo[[#This Row],[Producto]]=$A$4,VentasMenudeo[[#This Row],[Precio de Venta]]*VentasMenudeo[[#This Row],[Cantidad]]-VentasMenudeo[[#This Row],[Descuento]],VentasMenudeo[[#This Row],[Producto]]=$A$5,VentasMenudeo[[#This Row],[Precio de Venta]]*VentasMenudeo[[#This Row],[Cantidad]]-VentasMenudeo[[#This Row],[Descuento]]),0)","v":250},250]
["2022-07-15","Hugo","IPLAY MAX","GrapeFruit berry",1,"$20 Descuento",null,{"$f":"_xlfn.IFNA(VLOOKUP(VentasMenudeo[[#This Row],[Promoción]],PromocionesMenudeo[[Promocion]:[Descuento]],2,0),0)","v":20},{"$f":"_xlfn.IFNA(VLOOKUP(VentasMenudeo[[#This Row],[Producto]],$A$2:$B$5,2,FALSE),0)","v":270},{"$f":"_xlfn.IFNA(_xlfn.IFS(VentasMenudeo[[#This Row],[Producto]]=$A$2,VentasMenudeo[[#This Row],[Precio de Venta]]*VentasMenudeo[[#This Row],[Cantidad]]-VentasMenudeo[[#This Row],[Descuento]],VentasMenudeo[[#This Row],[Producto]]=$A$3,VentasMenudeo[[#This Row],[Precio de Venta]]*VentasMenudeo[[#This Row],[Cantidad]]-VentasMenudeo[[#This Row],[Descuento]],VentasMenudeo[[#This Row],[Producto]]=$A$4,VentasMenudeo[[#This Row],[Precio de Venta]]*VentasMenudeo[[#This Row],[Cantidad]]-VentasMenudeo[[#This Row],[Descuento]],VentasMenudeo[[#This Row],[Producto]]=$A$5,VentasMenudeo[[#This Row],[Precio de Venta]]*VentasMenudeo[[#This Row],[Cantidad]]-VentasMenudeo[[#This Row],[Descuento]]),0)","v":250},250]
["2022-07-15","Hugo","IPLAY MAX","Bluerazz",1,"$20 Descuento",null,{"$f":"_xlfn.IFNA(VLOOKUP(VentasMenudeo[[#This Row],[Promoción]],PromocionesMenudeo[[Promocion]:[Descuento]],2,0),0)","v":20},{"$f":"_xlfn.IFNA(VLOOKUP(VentasMenudeo[[#This Row],[Producto]],$A$2:$B$5,2,FALSE),0)","v":270},{"$f":"_xlfn.IFNA(_xlfn.IFS(VentasMenudeo[[#This Row],[Producto]]=$A$2,VentasMenudeo[[#This Row],[Precio de Venta]]*VentasMenudeo[[#This Row],[Cantidad]]-VentasMenudeo[[#This Row],[Descuento]],VentasMenudeo[[#This Row],[Producto]]=$A$3,VentasMenudeo[[#This Row],[Precio de Venta]]*VentasMenudeo[[#This Row],[Cantidad]]-VentasMenudeo[[#This Row],[Descuento]],VentasMenudeo[[#This Row],[Producto]]=$A$4,VentasMenudeo[[#This Row],[Precio de Venta]]*VentasMenudeo[[#This Row],[Cantidad]]-VentasMenudeo[[#This Row],[Descuento]],VentasMenudeo[[#This Row],[Producto]]=$A$5,VentasMenudeo[[#This Row],[Precio de Venta]]*VentasMenudeo[[#This Row],[Cantidad]]-VentasMenudeo[[#This Row],[Descuento]]),0)","v":250},250]
["2022-07-15","Hugo","IPLAY MAX","Bluerazz",1,"$20 Descuento",null,{"$f":"_xlfn.IFNA(VLOOKUP(VentasMenudeo[[#This Row],[Promoción]],PromocionesMenudeo[[Promocion]:[Descuento]],2,0),0)","v":20},{"$f":"_xlfn.IFNA(VLOOKUP(VentasMenudeo[[#This Row],[Producto]],$A$2:$B$5,2,FALSE),0)","v":270},{"$f":"_xlfn.IFNA(_xlfn.IFS(VentasMenudeo[[#This Row],[Producto]]=$A$2,VentasMenudeo[[#This Row],[Precio de Venta]]*VentasMenudeo[[#This Row],[Cantidad]]-VentasMenudeo[[#This Row],[Descuento]],VentasMenudeo[[#This Row],[Producto]]=$A$3,VentasMenudeo[[#This Row],[Precio de Venta]]*VentasMenudeo[[#This Row],[Cantidad]]-VentasMenudeo[[#This Row],[Descuento]],VentasMenudeo[[#This Row],[Producto]]=$A$4,VentasMenudeo[[#This Row],[Precio de Venta]]*VentasMenudeo[[#This Row],[Cantidad]]-VentasMenudeo[[#This Row],[Descuento]],VentasMenudeo[[#This Row],[Producto]]=$A$5,VentasMenudeo[[#This Row],[Precio de Venta]]*VentasMenudeo[[#This Row],[Cantidad]]-VentasMenudeo[[#This Row],[Descuento]]),0)","v":250},250]
["2022-07-15","Hugo","IPLAY MAX","Cool mint",1,"$20 Descuento",null,{"$f":"_xlfn.IFNA(VLOOKUP(VentasMenudeo[[#This Row],[Promoción]],PromocionesMenudeo[[Promocion]:[Descuento]],2,0),0)","v":20},{"$f":"_xlfn.IFNA(VLOOKUP(VentasMenudeo[[#This Row],[Producto]],$A$2:$B$5,2,FALSE),0)","v":270},{"$f":"_xlfn.IFNA(_xlfn.IFS(VentasMenudeo[[#This Row],[Producto]]=$A$2,VentasMenudeo[[#This Row],[Precio de Venta]]*VentasMenudeo[[#This Row],[Cantidad]]-VentasMenudeo[[#This Row],[Descuento]],VentasMenudeo[[#This Row],[Producto]]=$A$3,VentasMenudeo[[#This Row],[Precio de Venta]]*VentasMenudeo[[#This Row],[Cantidad]]-VentasMenudeo[[#This Row],[Descuento]],VentasMenudeo[[#This Row],[Producto]]=$A$4,VentasMenudeo[[#This Row],[Precio de Venta]]*VentasMenudeo[[#This Row],[Cantidad]]-VentasMenudeo[[#This Row],[Descuento]],VentasMenudeo[[#This Row],[Producto]]=$A$5,VentasMenudeo[[#This Row],[Precio de Venta]]*VentasMenudeo[[#This Row],[Cantidad]]-VentasMenudeo[[#This Row],[Descuento]]),0)","v":250},250]
["2022-08-15","Hugo","IPLAY MAX","Bluerazz",1,"$20 Descuento",null,{"$f":"_xlfn.IFNA(VLOOKUP(VentasMenudeo[[#This Row],[Promoción]],PromocionesMenudeo[[Promocion]:[Descuento]],2,0),0)","v":20},{"$f":"_xlfn.IFNA(VLOOKUP(VentasMenudeo[[#This Row],[Producto]],$A$2:$B$5,2,FALSE),0)","v":270},{"$f":"_xlfn.IFNA(_xlfn.IFS(VentasMenudeo[[#This Row],[Producto]]=$A$2,VentasMenudeo[[#This Row],[Precio de Venta]]*VentasMenudeo[[#This Row],[Cantidad]]-VentasMenudeo[[#This Row],[Descuento]],VentasMenudeo[[#This Row],[Producto]]=$A$3,VentasMenudeo[[#This Row],[Precio de Venta]]*VentasMenudeo[[#This Row],[Cantidad]]-VentasMenudeo[[#This Row],[Descuento]],VentasMenudeo[[#This Row],[Producto]]=$A$4,VentasMenudeo[[#This Row],[Precio de Venta]]*VentasMenudeo[[#This Row],[Cantidad]]-VentasMenudeo[[#This Row],[Descuento]],VentasMenudeo[[#This Row],[Producto]]=$A$5,VentasMenudeo[[#This Row],[Precio de Venta]]*VentasMenudeo[[#This Row],[Cantidad]]-VentasMenudeo[[#This Row],[Descuento]]),0)","v":250},250]
["2022-08-15","Hugo","IPLAY MAX","Grapestraw",1,"$20 Descuento",null,{"$f":"_xlfn.IFNA(VLOOKUP(VentasMenudeo[[#This Row],[Promoción]],PromocionesMenudeo[[Promocion]:[Descuento]],2,0),0)","v":20},{"$f":"_xlfn.IFNA(VLOOKUP(VentasMenudeo[[#This Row],[Producto]],$A$2:$B$5,2,FALSE),0)","v":270},{"$f":"_xlfn.IFNA(_xlfn.IFS(VentasMenudeo[[#This Row],[Producto]]=$A$2,VentasMenudeo[[#This Row],[Precio de Venta]]*VentasMenudeo[[#This Row],[Cantidad]]-VentasMenudeo[[#This Row],[Descuento]],VentasMenudeo[[#This Row],[Producto]]=$A$3,VentasMenudeo[[#This Row],[Precio de Venta]]*VentasMenudeo[[#This Row],[Cantidad]]-VentasMenudeo[[#This Row],[Descuento]],VentasMenudeo[[#This Row],[Producto]]=$A$4,VentasMenudeo[[#This Row],[Precio de Venta]]*VentasMenudeo[[#This Row],[Cantidad]]-VentasMenudeo[[#This Row],[Descuento]],VentasMenudeo[[#This Row],[Producto]]=$A$5,VentasMenudeo[[#This Row],[Precio de Venta]]*VentasMenudeo[[#This Row],[Cantidad]]-VentasMenudeo[[#This Row],[Descuento]]),0)","v":250},250]
["2022-08-15","Hugo","IPLAY MAX","Grapestraw",1,"$20 Descuento",null,{"$f":"_xlfn.IFNA(VLOOKUP(VentasMenudeo[[#This Row],[Promoción]],PromocionesMenudeo[[Promocion]:[Descuento]],2,0),0)","v":20},{"$f":"_xlfn.IFNA(VLOOKUP(VentasMenudeo[[#This Row],[Producto]],$A$2:$B$5,2,FALSE),0)","v":270},{"$f":"_xlfn.IFNA(_xlfn.IFS(VentasMenudeo[[#This Row],[Producto]]=$A$2,VentasMenudeo[[#This Row],[Precio de Venta]]*VentasMenudeo[[#This Row],[Cantidad]]-VentasMenudeo[[#This Row],[Descuento]],VentasMenudeo[[#This Row],[Producto]]=$A$3,VentasMenudeo[[#This Row],[Precio de Venta]]*VentasMenudeo[[#This Row],[Cantidad]]-VentasMenudeo[[#This Row],[Descuento]],VentasMenudeo[[#This Row],[Producto]]=$A$4,VentasMenudeo[[#This Row],[Precio de Venta]]*VentasMenudeo[[#This Row],[Cantidad]]-VentasMenudeo[[#This Row],[Descuento]],VentasMenudeo[[#This Row],[Producto]]=$A$5,VentasMenudeo[[#This Row],[Precio de Venta]]*VentasMenudeo[[#This Row],[Cantidad]]-VentasMenudeo[[#This Row],[Descuento]]),0)","v":250},250]
["2022-08-15","Hugo","IPLAY MAX","GrapeFruit berry",1,"$20 Descuento",null,{"$f":"_xlfn.IFNA(VLOOKUP(VentasMenudeo[[#This Row],[Promoción]],PromocionesMenudeo[[Promocion]:[Descuento]],2,0),0)","v":20},{"$f":"_xlfn.IFNA(VLOOKUP(VentasMenudeo[[#This Row],[Producto]],$A$2:$B$5,2,FALSE),0)","v":270},{"$f":"_xlfn.IFNA(_xlfn.IFS(VentasMenudeo[[#This Row],[Producto]]=$A$2,VentasMenudeo[[#This Row],[Precio de Venta]]*VentasMenudeo[[#This Row],[Cantidad]]-VentasMenudeo[[#This Row],[Descuento]],VentasMenudeo[[#This Row],[Producto]]=$A$3,VentasMenudeo[[#This Row],[Precio de Venta]]*VentasMenudeo[[#This Row],[Cantidad]]-VentasMenudeo[[#This Row],[Descuento]],VentasMenudeo[[#This Row],[Producto]]=$A$4,VentasMenudeo[[#This Row],[Precio de Venta]]*VentasMenudeo[[#This Row],[Cantidad]]-VentasMenudeo[[#This Row],[Descuento]],VentasMenudeo[[#This Row],[Producto]]=$A$5,VentasMenudeo[[#This Row],[Precio de Venta]]*VentasMenudeo[[#This Row],[Cantidad]]-VentasMenudeo[[#This Row],[Descuento]]),0)","v":250},250]
["2022-08-15","Hugo","IPLAY MAX","Cool mint",1,"$20 Descuento",null,{"$f":"_xlfn.IFNA(VLOOKUP(VentasMenudeo[[#This Row],[Promoción]],PromocionesMenudeo[[Promocion]:[Descuento]],2,0),0)","v":20},{"$f":"_xlfn.IFNA(VLOOKUP(VentasMenudeo[[#This Row],[Producto]],$A$2:$B$5,2,FALSE),0)","v":270},{"$f":"_xlfn.IFNA(_xlfn.IFS(VentasMenudeo[[#This Row],[Producto]]=$A$2,VentasMenudeo[[#This Row],[Precio de Venta]]*VentasMenudeo[[#This Row],[Cantidad]]-VentasMenudeo[[#This Row],[Descuento]],VentasMenudeo[[#This Row],[Producto]]=$A$3,VentasMenudeo[[#This Row],[Precio de Venta]]*VentasMenudeo[[#This Row],[Cantidad]]-VentasMenudeo[[#This Row],[Descuento]],VentasMenudeo[[#This Row],[Producto]]=$A$4,VentasMenudeo[[#This Row],[Precio de Venta]]*VentasMenudeo[[#This Row],[Cantidad]]-VentasMenudeo[[#This Row],[Descuento]],VentasMenudeo[[#This Row],[Producto]]=$A$5,VentasMenudeo[[#This Row],[Precio de Venta]]*VentasMenudeo[[#This Row],[Cantidad]]-VentasMenudeo[[#This Row],[Descuento]]),0)","v":250},250]
["2022-08-15","Hugo","IPLAY MAX","Cocumber Lemonade",1,"$20 Descuento",null,{"$f":"_xlfn.IFNA(VLOOKUP(VentasMenudeo[[#This Row],[Promoción]],PromocionesMenudeo[[Promocion]:[Descuento]],2,0),0)","v":20},{"$f":"_xlfn.IFNA(VLOOKUP(VentasMenudeo[[#This Row],[Producto]],$A$2:$B$5,2,FALSE),0)","v":270},{"$f":"_xlfn.IFNA(_xlfn.IFS(VentasMenudeo[[#This Row],[Producto]]=$A$2,VentasMenudeo[[#This Row],[Precio de Venta]]*VentasMenudeo[[#This Row],[Cantidad]]-VentasMenudeo[[#This Row],[Descuento]],VentasMenudeo[[#This Row],[Producto]]=$A$3,VentasMenudeo[[#This Row],[Precio de Venta]]*VentasMenudeo[[#This Row],[Cantidad]]-VentasMenudeo[[#This Row],[Descuento]],VentasMenudeo[[#This Row],[Producto]]=$A$4,VentasMenudeo[[#This Row],[Precio de Venta]]*VentasMenudeo[[#This Row],[Cantidad]]-VentasMenudeo[[#This Row],[Descuento]],VentasMenudeo[[#This Row],[Producto]]=$A$5,VentasMenudeo[[#This Row],[Precio de Venta]]*VentasMenudeo[[#This Row],[Cantidad]]-VentasMenudeo[[#This Row],[Descuento]]),0)","v":250},250]
["2022-08-16","Hugo","IPLAY MAX","Cool mint",1,"$20 Descuento",null,{"$f":"_xlfn.IFNA(VLOOKUP(VentasMenudeo[[#This Row],[Promoción]],PromocionesMenudeo[[Promocion]:[Descuento]],2,0),0)","v":20},{"$f":"_xlfn.IFNA(VLOOKUP(VentasMenudeo[[#This Row],[Producto]],$A$2:$B$5,2,FALSE),0)","v":270},{"$f":"_xlfn.IFNA(_xlfn.IFS(VentasMenudeo[[#This Row],[Producto]]=$A$2,VentasMenudeo[[#This Row],[Precio de Venta]]*VentasMenudeo[[#This Row],[Cantidad]]-VentasMenudeo[[#This Row],[Descuento]],VentasMenudeo[[#This Row],[Producto]]=$A$3,VentasMenudeo[[#This Row],[Precio de Venta]]*VentasMenudeo[[#This Row],[Cantidad]]-VentasMenudeo[[#This Row],[Descuento]],VentasMenudeo[[#This Row],[Producto]]=$A$4,VentasMenudeo[[#This Row],[Precio de Venta]]*VentasMenudeo[[#This Row],[Cantidad]]-VentasMenudeo[[#This Row],[Descuento]],VentasMenudeo[[#This Row],[Producto]]=$A$5,VentasMenudeo[[#This Row],[Precio de Venta]]*VentasMenudeo[[#This Row],[Cantidad]]-VentasMenudeo[[#This Row],[Descuento]]),0)","v":250},null,250]
["2022-08-16","Hugo","IPLAY MAX","GrapeFruit berry",1,"$20 Descuento",null,{"$f":"_xlfn.IFNA(VLOOKUP(VentasMenudeo[[#This Row],[Promoción]],PromocionesMenudeo[[Promocion]:[Descuento]],2,0),0)","v":20},{"$f":"_xlfn.IFNA(VLOOKUP(VentasMenudeo[[#This Row],[Producto]],$A$2:$B$5,2,FALSE),0)","v":270},{"$f":"_xlfn.IFNA(_xlfn.IFS(VentasMenudeo[[#This Row],[Producto]]=$A$2,VentasMenudeo[[#This Row],[Precio de Venta]]*VentasMenudeo[[#This Row],[Cantidad]]-VentasMenudeo[[#This Row],[Descuento]],VentasMenudeo[[#This Row],[Producto]]=$A$3,VentasMenudeo[[#This Row],[Precio de Venta]]*VentasMenudeo[[#This Row],[Cantidad]]-VentasMenudeo[[#This Row],[Descuento]],VentasMenudeo[[#This Row],[Producto]]=$A$4,VentasMenudeo[[#This Row],[Precio de Venta]]*VentasMenudeo[[#This Row],[Cantidad]]-VentasMenudeo[[#This Row],[Descuento]],VentasMenudeo[[#This Row],[Producto]]=$A$5,VentasMenudeo[[#This Row],[Precio de Venta]]*VentasMenudeo[[#This Row],[Cantidad]]-VentasMenudeo[[#This Row],[Descuento]]),0)","v":250},250]
["2022-08-16","Hugo","IPLAY MAX","Berry Watermelon",1,"$20 Descuento",null,{"$f":"_xlfn.IFNA(VLOOKUP(VentasMenudeo[[#This Row],[Promoción]],PromocionesMenudeo[[Promocion]:[Descuento]],2,0),0)","v":20},{"$f":"_xlfn.IFNA(VLOOKUP(VentasMenudeo[[#This Row],[Producto]],$A$2:$B$5,2,FALSE),0)","v":270},{"$f":"_xlfn.IFNA(_xlfn.IFS(VentasMenudeo[[#This Row],[Producto]]=$A$2,VentasMenudeo[[#This Row],[Precio de Venta]]*VentasMenudeo[[#This Row],[Cantidad]]-VentasMenudeo[[#This Row],[Descuento]],VentasMenudeo[[#This Row],[Producto]]=$A$3,VentasMenudeo[[#This Row],[Precio de Venta]]*VentasMenudeo[[#This Row],[Cantidad]]-VentasMenudeo[[#This Row],[Descuento]],VentasMenudeo[[#This Row],[Producto]]=$A$4,VentasMenudeo[[#This Row],[Precio de Venta]]*VentasMenudeo[[#This Row],[Cantidad]]-VentasMenudeo[[#This Row],[Descuento]],VentasMenudeo[[#This Row],[Producto]]=$A$5,VentasMenudeo[[#This Row],[Precio de Venta]]*VentasMenudeo[[#This Row],[Cantidad]]-VentasMenudeo[[#This Row],[Descuento]]),0)","v":250},250]
["2022-08-16","Hugo","IPLAY MAX","Berry Watermelon",1,"$20 Descuento",null,{"$f":"_xlfn.IFNA(VLOOKUP(VentasMenudeo[[#This Row],[Promoción]],PromocionesMenudeo[[Promocion]:[Descuento]],2,0),0)","v":20},{"$f":"_xlfn.IFNA(VLOOKUP(VentasMenudeo[[#This Row],[Producto]],$A$2:$B$5,2,FALSE),0)","v":270},{"$f":"_xlfn.IFNA(_xlfn.IFS(VentasMenudeo[[#This Row],[Producto]]=$A$2,VentasMenudeo[[#This Row],[Precio de Venta]]*VentasMenudeo[[#This Row],[Cantidad]]-VentasMenudeo[[#This Row],[Descuento]],VentasMenudeo[[#This Row],[Producto]]=$A$3,VentasMenudeo[[#This Row],[Precio de Venta]]*VentasMenudeo[[#This Row],[Cantidad]]-VentasMenudeo[[#This Row],[Descuento]],VentasMenudeo[[#This Row],[Producto]]=$A$4,VentasMenudeo[[#This Row],[Precio de Venta]]*VentasMenudeo[[#This Row],[Cantidad]]-VentasMenudeo[[#This Row],[Descuento]],VentasMenudeo[[#This Row],[Producto]]=$A$5,VentasMenudeo[[#This Row],[Precio de Venta]]*VentasMenudeo[[#This Row],[Cantidad]]-VentasMenudeo[[#This Row],[Descuento]]),0)","v":250},250]
["2022-08-16","Hugo","IPLAY MAX","Bluerazz",1,"$20 Descuento",null,{"$f":"_xlfn.IFNA(VLOOKUP(VentasMenudeo[[#This Row],[Promoción]],PromocionesMenudeo[[Promocion]:[Descuento]],2,0),0)","v":20},{"$f":"_xlfn.IFNA(VLOOKUP(VentasMenudeo[[#This Row],[Producto]],$A$2:$B$5,2,FALSE),0)","v":270},{"$f":"_xlfn.IFNA(_xlfn.IFS(VentasMenudeo[[#This Row],[Producto]]=$A$2,VentasMenudeo[[#This Row],[Precio de Venta]]*VentasMenudeo[[#This Row],[Cantidad]]-VentasMenudeo[[#This Row],[Descuento]],VentasMenudeo[[#This Row],[Producto]]=$A$3,VentasMenudeo[[#This Row],[Precio de Venta]]*VentasMenudeo[[#This Row],[Cantidad]]-VentasMenudeo[[#This Row],[Descuento]],VentasMenudeo[[#This Row],[Producto]]=$A$4,VentasMenudeo[[#This Row],[Precio de Venta]]*VentasMenudeo[[#This Row],[Cantidad]]-VentasMenudeo[[#This Row],[Descuento]],VentasMenudeo[[#This Row],[Producto]]=$A$5,VentasMenudeo[[#This Row],[Precio de Venta]]*VentasMenudeo[[#This Row],[Cantidad]]-VentasMenudeo[[#This Row],[Descuento]]),0)","v":250},250]
["2022-08-17","Hugo","IPLAY MAX","Coconut",1,"$20 Descuento",null,{"$f":"_xlfn.IFNA(VLOOKUP(VentasMenudeo[[#This Row],[Promoción]],PromocionesMenudeo[[Promocion]:[Descuento]],2,0),0)","v":20},{"$f":"_xlfn.IFNA(VLOOKUP(VentasMenudeo[[#This Row],[Producto]],$A$2:$B$5,2,FALSE),0)","v":270},{"$f":"_xlfn.IFNA(_xlfn.IFS(VentasMenudeo[[#This Row],[Producto]]=$A$2,VentasMenudeo[[#This Row],[Precio de Venta]]*VentasMenudeo[[#This Row],[Cantidad]]-VentasMenudeo[[#This Row],[Descuento]],VentasMenudeo[[#This Row],[Producto]]=$A$3,VentasMenudeo[[#This Row],[Precio de Venta]]*VentasMenudeo[[#This Row],[Cantidad]]-VentasMenudeo[[#This Row],[Descuento]],VentasMenudeo[[#This Row],[Producto]]=$A$4,VentasMenudeo[[#This Row],[Precio de Venta]]*VentasMenudeo[[#This Row],[Cantidad]]-VentasMenudeo[[#This Row],[Descuento]],VentasMenudeo[[#This Row],[Producto]]=$A$5,VentasMenudeo[[#This Row],[Precio de Venta]]*VentasMenudeo[[#This Row],[Cantidad]]-VentasMenudeo[[#This Row],[Descuento]]),0)","v":250},250]
["2022-08-17","Hugo","IPLAY MAX","GrapeFruit berry",1,"$20 Descuento",null,{"$f":"_xlfn.IFNA(VLOOKUP(VentasMenudeo[[#This Row],[Promoción]],PromocionesMenudeo[[Promocion]:[Descuento]],2,0),0)","v":20},{"$f":"_xlfn.IFNA(VLOOKUP(VentasMenudeo[[#This Row],[Producto]],$A$2:$B$5,2,FALSE),0)","v":270},{"$f":"_xlfn.IFNA(_xlfn.IFS(VentasMenudeo[[#This Row],[Producto]]=$A$2,VentasMenudeo[[#This Row],[Precio de Venta]]*VentasMenudeo[[#This Row],[Cantidad]]-VentasMenudeo[[#This Row],[Descuento]],VentasMenudeo[[#This Row],[Producto]]=$A$3,VentasMenudeo[[#This Row],[Precio de Venta]]*VentasMenudeo[[#This Row],[Cantidad]]-VentasMenudeo[[#This Row],[Descuento]],VentasMenudeo[[#This Row],[Producto]]=$A$4,VentasMenudeo[[#This Row],[Precio de Venta]]*VentasMenudeo[[#This Row],[Cantidad]]-VentasMenudeo[[#This Row],[Descuento]],VentasMenudeo[[#This Row],[Producto]]=$A$5,VentasMenudeo[[#This Row],[Precio de Venta]]*VentasMenudeo[[#This Row],[Cantidad]]-VentasMenudeo[[#This Row],[Descuento]]),0)","v":250},250]
["2022-08-17","Hugo","IPLAY MAX","Coconut",1,"$20 Descuento",null,{"$f":"_xlfn.IFNA(VLOOKUP(VentasMenudeo[[#This Row],[Promoción]],PromocionesMenudeo[[Promocion]:[Descuento]],2,0),0)","v":20},{"$f":"_xlfn.IFNA(VLOOKUP(VentasMenudeo[[#This Row],[Producto]],$A$2:$B$5,2,FALSE),0)","v":270},{"$f":"_xlfn.IFNA(_xlfn.IFS(VentasMenudeo[[#This Row],[Producto]]=$A$2,VentasMenudeo[[#This Row],[Precio de Venta]]*VentasMenudeo[[#This Row],[Cantidad]]-VentasMenudeo[[#This Row],[Descuento]],VentasMenudeo[[#This Row],[Producto]]=$A$3,VentasMenudeo[[#This Row],[Precio de Venta]]*VentasMenudeo[[#This Row],[Cantidad]]-VentasMenudeo[[#This Row],[Descuento]],VentasMenudeo[[#This Row],[Producto]]=$A$4,VentasMenudeo[[#This Row],[Precio de Venta]]*VentasMenudeo[[#This Row],[Cantidad]]-VentasMenudeo[[#This Row],[Descuento]],VentasMenudeo[[#This Row],[Producto]]=$A$5,VentasMenudeo[[#This Row],[Precio de Venta]]*VentasMenudeo[[#This Row],[Cantidad]]-VentasMenudeo[[#This Row],[Descuento]]),0)","v":250},250]
["2022-08-17","Hugo","IPLAY MAX","GrapeFruit berry",1,"$20 Descuento",null,{"$f":"_xlfn.IFNA(VLOOKUP(VentasMenudeo[[#This Row],[Promoción]],PromocionesMenudeo[[Promocion]:[Descuento]],2,0),0)","v":20},{"$f":"_xlfn.IFNA(VLOOKUP(VentasMenudeo[[#This Row],[Producto]],$A$2:$B$5,2,FALSE),0)","v":270},{"$f":"_xlfn.IFNA(_xlfn.IFS(VentasMenudeo[[#This Row],[Producto]]=$A$2,VentasMenudeo[[#This Row],[Precio de Venta]]*VentasMenudeo[[#This Row],[Cantidad]]-VentasMenudeo[[#This Row],[Descuento]],VentasMenudeo[[#This Row],[Producto]]=$A$3,VentasMenudeo[[#This Row],[Precio de Venta]]*VentasMenudeo[[#This Row],[Cantidad]]-VentasMenudeo[[#This Row],[Descuento]],VentasMenudeo[[#This Row],[Producto]]=$A$4,VentasMenudeo[[#This Row],[Precio de Venta]]*VentasMenudeo[[#This Row],[Cantidad]]-VentasMenudeo[[#This Row],[Descuento]],VentasMenudeo[[#This Row],[Producto]]=$A$5,VentasMenudeo[[#This Row],[Precio de Venta]]*VentasMenudeo[[#This Row],[Cantidad]]-VentasMenudeo[[#This Row],[Descuento]]),0)","v":250},250]
["2022-08-17","Hugo","IPLAY MAX","Cool mint",1,"$20 Descuento",null,{"$f":"_xlfn.IFNA(VLOOKUP(VentasMenudeo[[#This Row],[Promoción]],PromocionesMenudeo[[Promocion]:[Descuento]],2,0),0)","v":20},{"$f":"_xlfn.IFNA(VLOOKUP(VentasMenudeo[[#This Row],[Producto]],$A$2:$B$5,2,FALSE),0)","v":270},{"$f":"_xlfn.IFNA(_xlfn.IFS(VentasMenudeo[[#This Row],[Producto]]=$A$2,VentasMenudeo[[#This Row],[Precio de Venta]]*VentasMenudeo[[#This Row],[Cantidad]]-VentasMenudeo[[#This Row],[Descuento]],VentasMenudeo[[#This Row],[Producto]]=$A$3,VentasMenudeo[[#This Row],[Precio de Venta]]*VentasMenudeo[[#This Row],[Cantidad]]-VentasMenudeo[[#This Row],[Descuento]],VentasMenudeo[[#This Row],[Producto]]=$A$4,VentasMenudeo[[#This Row],[Precio de Venta]]*VentasMenudeo[[#This Row],[Cantidad]]-VentasMenudeo[[#This Row],[Descuento]],VentasMenudeo[[#This Row],[Producto]]=$A$5,VentasMenudeo[[#This Row],[Precio de Venta]]*VentasMenudeo[[#This Row],[Cantidad]]-VentasMenudeo[[#This Row],[Descuento]]),0)","v":250},250]
["2022-08-18","Hugo","IPLAY MAX","Energy ICE",1,"$20 Descuento",null,{"$f":"_xlfn.IFNA(VLOOKUP(VentasMenudeo[[#This Row],[Promoción]],PromocionesMenudeo[[Promocion]:[Descuento]],2,0),0)","v":20},{"$f":"_xlfn.IFNA(VLOOKUP(VentasMenudeo[[#This Row],[Producto]],$A$2:$B$5,2,FALSE),0)","v":270},{"$f":"_xlfn.IFNA(_xlfn.IFS(VentasMenudeo[[#This Row],[Producto]]=$A$2,VentasMenudeo[[#This Row],[Precio de Venta]]*VentasMenudeo[[#This Row],[Cantidad]]-VentasMenudeo[[#This Row],[Descuento]],VentasMenudeo[[#This Row],[Producto]]=$A$3,VentasMenudeo[[#This Row],[Precio de Venta]]*VentasMenudeo[[#This Row],[Cantidad]]-VentasMenudeo[[#This Row],[Descuento]],VentasMenudeo[[#This Row],[Producto]]=$A$4,VentasMenudeo[[#This Row],[Precio de Venta]]*VentasMenudeo[[#This Row],[Cantidad]]-VentasMenudeo[[#This Row],[Descuento]],VentasMenudeo[[#This Row],[Producto]]=$A$5,VentasMenudeo[[#This Row],[Precio de Venta]]*VentasMenudeo[[#This Row],[Cantidad]]-VentasMenudeo[[#This Row],[Descuento]]),0)","v":250},250]
["2022-08-18","Hugo","IPLAY MAX","Energy ICE",1,"$20 Descuento",null,{"$f":"_xlfn.IFNA(VLOOKUP(VentasMenudeo[[#This Row],[Promoción]],PromocionesMenudeo[[Promocion]:[Descuento]],2,0),0)","v":20},{"$f":"_xlfn.IFNA(VLOOKUP(VentasMenudeo[[#This Row],[Producto]],$A$2:$B$5,2,FALSE),0)","v":270},{"$f":"_xlfn.IFNA(_xlfn.IFS(VentasMenudeo[[#This Row],[Producto]]=$A$2,VentasMenudeo[[#This Row],[Precio de Venta]]*VentasMenudeo[[#This Row],[Cantidad]]-VentasMenudeo[[#This Row],[Descuento]],VentasMenudeo[[#This Row],[Producto]]=$A$3,VentasMenudeo[[#This Row],[Precio de Venta]]*VentasMenudeo[[#This Row],[Cantidad]]-VentasMenudeo[[#This Row],[Descuento]],VentasMenudeo[[#This Row],[Producto]]=$A$4,VentasMenudeo[[#This Row],[Precio de Venta]]*VentasMenudeo[[#This Row],[Cantidad]]-VentasMenudeo[[#This Row],[Descuento]],VentasMenudeo[[#This Row],[Producto]]=$A$5,VentasMenudeo[[#This Row],[Precio de Venta]]*VentasMenudeo[[#This Row],[Cantidad]]-VentasMenudeo[[#This Row],[Descuento]]),0)","v":250},250]
["2022-08-19","Hugo","IPLAY MAX","Cool mint",1,"$20 Descuento",null,{"$f":"_xlfn.IFNA(VLOOKUP(VentasMenudeo[[#This Row],[Promoción]],PromocionesMenudeo[[Promocion]:[Descuento]],2,0),0)","v":20},{"$f":"_xlfn.IFNA(VLOOKUP(VentasMenudeo[[#This Row],[Producto]],$A$2:$B$5,2,FALSE),0)","v":270},{"$f":"_xlfn.IFNA(_xlfn.IFS(VentasMenudeo[[#This Row],[Producto]]=$A$2,VentasMenudeo[[#This Row],[Precio de Venta]]*VentasMenudeo[[#This Row],[Cantidad]]-VentasMenudeo[[#This Row],[Descuento]],VentasMenudeo[[#This Row],[Producto]]=$A$3,VentasMenudeo[[#This Row],[Precio de Venta]]*VentasMenudeo[[#This Row],[Cantidad]]-VentasMenudeo[[#This Row],[Descuento]],VentasMenudeo[[#This Row],[Producto]]=$A$4,VentasMenudeo[[#This Row],[Precio de Venta]]*VentasMenudeo[[#This Row],[Cantidad]]-VentasMenudeo[[#This Row],[Descuento]],VentasMenudeo[[#This Row],[Producto]]=$A$5,VentasMenudeo[[#This Row],[Precio de Venta]]*VentasMenudeo[[#This Row],[Cantidad]]-VentasMenudeo[[#This Row],[Descuento]]),0)","v":250},250]
["2022-08-19","Hugo","IPLAY MAX","Cool mint",1,"$20 Descuento",null,{"$f":"_xlfn.IFNA(VLOOKUP(VentasMenudeo[[#This Row],[Promoción]],PromocionesMenudeo[[Promocion]:[Descuento]],2,0),0)","v":20},{"$f":"_xlfn.IFNA(VLOOKUP(VentasMenudeo[[#This Row],[Producto]],$A$2:$B$5,2,FALSE),0)","v":270},{"$f":"_xlfn.IFNA(_xlfn.IFS(VentasMenudeo[[#This Row],[Producto]]=$A$2,VentasMenudeo[[#This Row],[Precio de Venta]]*VentasMenudeo[[#This Row],[Cantidad]]-VentasMenudeo[[#This Row],[Descuento]],VentasMenudeo[[#This Row],[Producto]]=$A$3,VentasMenudeo[[#This Row],[Precio de Venta]]*VentasMenudeo[[#This Row],[Cantidad]]-VentasMenudeo[[#This Row],[Descuento]],VentasMenudeo[[#This Row],[Producto]]=$A$4,VentasMenudeo[[#This Row],[Precio de Venta]]*VentasMenudeo[[#This Row],[Cantidad]]-VentasMenudeo[[#This Row],[Descuento]],VentasMenudeo[[#This Row],[Producto]]=$A$5,VentasMenudeo[[#This Row],[Precio de Venta]]*VentasMenudeo[[#This Row],[Cantidad]]-VentasMenudeo[[#This Row],[Descuento]]),0)","v":250},250]
["2022-08-19","Hugo","IPLAY MAX","Berry Watermelon",1,"$20 Descuento",null,{"$f":"_xlfn.IFNA(VLOOKUP(VentasMenudeo[[#This Row],[Promoción]],PromocionesMenudeo[[Promocion]:[Descuento]],2,0),0)","v":20},{"$f":"_xlfn.IFNA(VLOOKUP(VentasMenudeo[[#This Row],[Producto]],$A$2:$B$5,2,FALSE),0)","v":270},{"$f":"_xlfn.IFNA(_xlfn.IFS(VentasMenudeo[[#This Row],[Producto]]=$A$2,VentasMenudeo[[#This Row],[Precio de Venta]]*VentasMenudeo[[#This Row],[Cantidad]]-VentasMenudeo[[#This Row],[Descuento]],VentasMenudeo[[#This Row],[Producto]]=$A$3,VentasMenudeo[[#This Row],[Precio de Venta]]*VentasMenudeo[[#This Row],[Cantidad]]-VentasMenudeo[[#This Row],[Descuento]],VentasMenudeo[[#This Row],[Producto]]=$A$4,VentasMenudeo[[#This Row],[Precio de Venta]]*VentasMenudeo[[#This Row],[Cantidad]]-VentasMenudeo[[#This Row],[Descuento]],VentasMenudeo[[#This Row],[Producto]]=$A$5,VentasMenudeo[[#This Row],[Precio de Venta]]*VentasMenudeo[[#This Row],[Cantidad]]-VentasMenudeo[[#This Row],[Descuento]]),0)","v":250},250]
["2022-08-19","Hugo","IPLAY MAX","Guava",1,"$20 Descuento",null,{"$f":"_xlfn.IFNA(VLOOKUP(VentasMenudeo[[#This Row],[Promoción]],PromocionesMenudeo[[Promocion]:[Descuento]],2,0),0)","v":20},{"$f":"_xlfn.IFNA(VLOOKUP(VentasMenudeo[[#This Row],[Producto]],$A$2:$B$5,2,FALSE),0)","v":270},{"$f":"_xlfn.IFNA(_xlfn.IFS(VentasMenudeo[[#This Row],[Producto]]=$A$2,VentasMenudeo[[#This Row],[Precio de Venta]]*VentasMenudeo[[#This Row],[Cantidad]]-VentasMenudeo[[#This Row],[Descuento]],VentasMenudeo[[#This Row],[Producto]]=$A$3,VentasMenudeo[[#This Row],[Precio de Venta]]*VentasMenudeo[[#This Row],[Cantidad]]-VentasMenudeo[[#This Row],[Descuento]],VentasMenudeo[[#This Row],[Producto]]=$A$4,VentasMenudeo[[#This Row],[Precio de Venta]]*VentasMenudeo[[#This Row],[Cantidad]]-VentasMenudeo[[#This Row],[Descuento]],VentasMenudeo[[#This Row],[Producto]]=$A$5,VentasMenudeo[[#This Row],[Precio de Venta]]*VentasMenudeo[[#This Row],[Cantidad]]-VentasMenudeo[[#This Row],[Descuento]]),0)","v":250},250]
["2022-08-19","Hugo","IPLAY MAX","Cool mint",1,"$20 Descuento",null,{"$f":"_xlfn.IFNA(VLOOKUP(VentasMenudeo[[#This Row],[Promoción]],PromocionesMenudeo[[Promocion]:[Descuento]],2,0),0)","v":20},{"$f":"_xlfn.IFNA(VLOOKUP(VentasMenudeo[[#This Row],[Producto]],$A$2:$B$5,2,FALSE),0)","v":270},{"$f":"_xlfn.IFNA(_xlfn.IFS(VentasMenudeo[[#This Row],[Producto]]=$A$2,VentasMenudeo[[#This Row],[Precio de Venta]]*VentasMenudeo[[#This Row],[Cantidad]]-VentasMenudeo[[#This Row],[Descuento]],VentasMenudeo[[#This Row],[Producto]]=$A$3,VentasMenudeo[[#This Row],[Precio de Venta]]*VentasMenudeo[[#This Row],[Cantidad]]-VentasMenudeo[[#This Row],[Descuento]],VentasMenudeo[[#This Row],[Producto]]=$A$4,VentasMenudeo[[#This Row],[Precio de Venta]]*VentasMenudeo[[#This Row],[Cantidad]]-VentasMenudeo[[#This Row],[Descuento]],VentasMenudeo[[#This Row],[Producto]]=$A$5,VentasMenudeo[[#This Row],[Precio de Venta]]*VentasMenudeo[[#This Row],[Cantidad]]-VentasMenudeo[[#This Row],[Descuento]]),0)","v":250},250]
["2022-08-22","Hugo","IPLAY MAX","GrapeFruit berry",1,"$20 Descuento",null,{"$f":"_xlfn.IFNA(VLOOKUP(VentasMenudeo[[#This Row],[Promoción]],PromocionesMenudeo[[Promocion]:[Descuento]],2,0),0)","v":20},{"$f":"_xlfn.IFNA(VLOOKUP(VentasMenudeo[[#This Row],[Producto]],$A$2:$B$5,2,FALSE),0)","v":270},{"$f":"_xlfn.IFNA(_xlfn.IFS(VentasMenudeo[[#This Row],[Producto]]=$A$2,VentasMenudeo[[#This Row],[Precio de Venta]]*VentasMenudeo[[#This Row],[Cantidad]]-VentasMenudeo[[#This Row],[Descuento]],VentasMenudeo[[#This Row],[Producto]]=$A$3,VentasMenudeo[[#This Row],[Precio de Venta]]*VentasMenudeo[[#This Row],[Cantidad]]-VentasMenudeo[[#This Row],[Descuento]],VentasMenudeo[[#This Row],[Producto]]=$A$4,VentasMenudeo[[#This Row],[Precio de Venta]]*VentasMenudeo[[#This Row],[Cantidad]]-VentasMenudeo[[#This Row],[Descuento]],VentasMenudeo[[#This Row],[Producto]]=$A$5,VentasMenudeo[[#This Row],[Precio de Venta]]*VentasMenudeo[[#This Row],[Cantidad]]-VentasMenudeo[[#This Row],[Descuento]]),0)","v":250},250]
["2022-08-22","Hugo","IPLAY MAX","Cool mint",1,"$20 Descuento",null,{"$f":"_xlfn.IFNA(VLOOKUP(VentasMenudeo[[#This Row],[Promoción]],PromocionesMenudeo[[Promocion]:[Descuento]],2,0),0)","v":20},{"$f":"_xlfn.IFNA(VLOOKUP(VentasMenudeo[[#This Row],[Producto]],$A$2:$B$5,2,FALSE),0)","v":270},{"$f":"_xlfn.IFNA(_xlfn.IFS(VentasMenudeo[[#This Row],[Producto]]=$A$2,VentasMenudeo[[#This Row],[Precio de Venta]]*VentasMenudeo[[#This Row],[Cantidad]]-VentasMenudeo[[#This Row],[Descuento]],VentasMenudeo[[#This Row],[Producto]]=$A$3,VentasMenudeo[[#This Row],[Precio de Venta]]*VentasMenudeo[[#This Row],[Cantidad]]-VentasMenudeo[[#This Row],[Descuento]],VentasMenudeo[[#This Row],[Producto]]=$A$4,VentasMenudeo[[#This Row],[Precio de Venta]]*VentasMenudeo[[#This Row],[Cantidad]]-VentasMenudeo[[#This Row],[Descuento]],VentasMenudeo[[#This Row],[Producto]]=$A$5,VentasMenudeo[[#This Row],[Precio de Venta]]*VentasMenudeo[[#This Row],[Cantidad]]-VentasMenudeo[[#This Row],[Descuento]]),0)","v":250},250]
["2022-08-22","Hugo","IPLAY MAX","Cool mint",1,"$20 Descuento",null,{"$f":"_xlfn.IFNA(VLOOKUP(VentasMenudeo[[#This Row],[Promoción]],PromocionesMenudeo[[Promocion]:[Descuento]],2,0),0)","v":20},{"$f":"_xlfn.IFNA(VLOOKUP(VentasMenudeo[[#This Row],[Producto]],$A$2:$B$5,2,FALSE),0)","v":270},{"$f":"_xlfn.IFNA(_xlfn.IFS(VentasMenudeo[[#This Row],[Producto]]=$A$2,VentasMenudeo[[#This Row],[Precio de Venta]]*VentasMenudeo[[#This Row],[Cantidad]]-VentasMenudeo[[#This Row],[Descuento]],VentasMenudeo[[#This Row],[Producto]]=$A$3,VentasMenudeo[[#This Row],[Precio de Venta]]*VentasMenudeo[[#This Row],[Cantidad]]-VentasMenudeo[[#This Row],[Descuento]],VentasMenudeo[[#This Row],[Producto]]=$A$4,VentasMenudeo[[#This Row],[Precio de Venta]]*VentasMenudeo[[#This Row],[Cantidad]]-VentasMenudeo[[#This Row],[Descuento]],VentasMenudeo[[#This Row],[Producto]]=$A$5,VentasMenudeo[[#This Row],[Precio de Venta]]*VentasMenudeo[[#This Row],[Cantidad]]-VentasMenudeo[[#This Row],[Descuento]]),0)","v":250},250]
["2022-08-22","Hugo","IPLAY MAX","Cool mint",1,"$20 Descuento",null,{"$f":"_xlfn.IFNA(VLOOKUP(VentasMenudeo[[#This Row],[Promoción]],PromocionesMenudeo[[Promocion]:[Descuento]],2,0),0)","v":20},{"$f":"_xlfn.IFNA(VLOOKUP(VentasMenudeo[[#This Row],[Producto]],$A$2:$B$5,2,FALSE),0)","v":270},{"$f":"_xlfn.IFNA(_xlfn.IFS(VentasMenudeo[[#This Row],[Producto]]=$A$2,VentasMenudeo[[#This Row],[Precio de Venta]]*VentasMenudeo[[#This Row],[Cantidad]]-VentasMenudeo[[#This Row],[Descuento]],VentasMenudeo[[#This Row],[Producto]]=$A$3,VentasMenudeo[[#This Row],[Precio de Venta]]*VentasMenudeo[[#This Row],[Cantidad]]-VentasMenudeo[[#This Row],[Descuento]],VentasMenudeo[[#This Row],[Producto]]=$A$4,VentasMenudeo[[#This Row],[Precio de Venta]]*VentasMenudeo[[#This Row],[Cantidad]]-VentasMenudeo[[#This Row],[Descuento]],VentasMenudeo[[#This Row],[Producto]]=$A$5,VentasMenudeo[[#This Row],[Precio de Venta]]*VentasMenudeo[[#This Row],[Cantidad]]-VentasMenudeo[[#This Row],[Descuento]]),0)","v":250},250]
["2022-08-22","Hugo","IPLAY MAX","Cool mint",1,"$20 Descuento",null,{"$f":"_xlfn.IFNA(VLOOKUP(VentasMenudeo[[#This Row],[Promoción]],PromocionesMenudeo[[Promocion]:[Descuento]],2,0),0)","v":20},{"$f":"_xlfn.IFNA(VLOOKUP(VentasMenudeo[[#This Row],[Producto]],$A$2:$B$5,2,FALSE),0)","v":270},{"$f":"_xlfn.IFNA(_xlfn.IFS(VentasMenudeo[[#This Row],[Producto]]=$A$2,VentasMenudeo[[#This Row],[Precio de Venta]]*VentasMenudeo[[#This Row],[Cantidad]]-VentasMenudeo[[#This Row],[Descuento]],VentasMenudeo[[#This Row],[Producto]]=$A$3,VentasMenudeo[[#This Row],[Precio de Venta]]*VentasMenudeo[[#This Row],[Cantidad]]-VentasMenudeo[[#This Row],[Descuento]],VentasMenudeo[[#This Row],[Producto]]=$A$4,VentasMenudeo[[#This Row],[Precio de Venta]]*VentasMenudeo[[#This Row],[Cantidad]]-VentasMenudeo[[#This Row],[Descuento]],VentasMenudeo[[#This Row],[Producto]]=$A$5,VentasMenudeo[[#This Row],[Precio de Venta]]*VentasMenudeo[[#This Row],[Cantidad]]-VentasMenudeo[[#This Row],[Descuento]]),0)","v":250},250]
["2022-08-22","Hugo","IPLAY MAX","Energy ICE",1,"$20 Descuento",null,{"$f":"_xlfn.IFNA(VLOOKUP(VentasMenudeo[[#This Row],[Promoción]],PromocionesMenudeo[[Promocion]:[Descuento]],2,0),0)","v":20},{"$f":"_xlfn.IFNA(VLOOKUP(VentasMenudeo[[#This Row],[Producto]],$A$2:$B$5,2,FALSE),0)","v":270},{"$f":"_xlfn.IFNA(_xlfn.IFS(VentasMenudeo[[#This Row],[Producto]]=$A$2,VentasMenudeo[[#This Row],[Precio de Venta]]*VentasMenudeo[[#This Row],[Cantidad]]-VentasMenudeo[[#This Row],[Descuento]],VentasMenudeo[[#This Row],[Producto]]=$A$3,VentasMenudeo[[#This Row],[Precio de Venta]]*VentasMenudeo[[#This Row],[Cantidad]]-VentasMenudeo[[#This Row],[Descuento]],VentasMenudeo[[#This Row],[Producto]]=$A$4,VentasMenudeo[[#This Row],[Precio de Venta]]*VentasMenudeo[[#This Row],[Cantidad]]-VentasMenudeo[[#This Row],[Descuento]],VentasMenudeo[[#This Row],[Producto]]=$A$5,VentasMenudeo[[#This Row],[Precio de Venta]]*VentasMenudeo[[#This Row],[Cantidad]]-VentasMenudeo[[#This Row],[Descuento]]),0)","v":250},250]
["2022-08-22","Hugo","IPLAY MAX","Energy ICE",1,"$20 Descuento",null,{"$f":"_xlfn.IFNA(VLOOKUP(VentasMenudeo[[#This Row],[Promoción]],PromocionesMenudeo[[Promocion]:[Descuento]],2,0),0)","v":20},{"$f":"_xlfn.IFNA(VLOOKUP(VentasMenudeo[[#This Row],[Producto]],$A$2:$B$5,2,FALSE),0)","v":270},{"$f":"_xlfn.IFNA(_xlfn.IFS(VentasMenudeo[[#This Row],[Producto]]=$A$2,VentasMenudeo[[#This Row],[Precio de Venta]]*VentasMenudeo[[#This Row],[Cantidad]]-VentasMenudeo[[#This Row],[Descuento]],VentasMenudeo[[#This Row],[Producto]]=$A$3,VentasMenudeo[[#This Row],[Precio de Venta]]*VentasMenudeo[[#This Row],[Cantidad]]-VentasMenudeo[[#This Row],[Descuento]],VentasMenudeo[[#This Row],[Producto]]=$A$4,VentasMenudeo[[#This Row],[Precio de Venta]]*VentasMenudeo[[#This Row],[Cantidad]]-VentasMenudeo[[#This Row],[Descuento]],VentasMenudeo[[#This Row],[Producto]]=$A$5,VentasMenudeo[[#This Row],[Precio de Venta]]*VentasMenudeo[[#This Row],[Cantidad]]-VentasMenudeo[[#This Row],[Descuento]]),0)","v":250},250]
["2022-08-22","Hugo","IPLAY MAX","Guava",1,"$20 Descuento",null,{"$f":"_xlfn.IFNA(VLOOKUP(VentasMenudeo[[#This Row],[Promoción]],PromocionesMenudeo[[Promocion]:[Descuento]],2,0),0)","v":20},{"$f":"_xlfn.IFNA(VLOOKUP(VentasMenudeo[[#This Row],[Producto]],$A$2:$B$5,2,FALSE),0)","v":270},{"$f":"_xlfn.IFNA(_xlfn.IFS(VentasMenudeo[[#This Row],[Producto]]=$A$2,VentasMenudeo[[#This Row],[Precio de Venta]]*VentasMenudeo[[#This Row],[Cantidad]]-VentasMenudeo[[#This Row],[Descuento]],VentasMenudeo[[#This Row],[Producto]]=$A$3,VentasMenudeo[[#This Row],[Precio de Venta]]*VentasMenudeo[[#This Row],[Cantidad]]-VentasMenudeo[[#This Row],[Descuento]],VentasMenudeo[[#This Row],[Producto]]=$A$4,VentasMenudeo[[#This Row],[Precio de Venta]]*VentasMenudeo[[#This Row],[Cantidad]]-VentasMenudeo[[#This Row],[Descuento]],VentasMenudeo[[#This Row],[Producto]]=$A$5,VentasMenudeo[[#This Row],[Precio de Venta]]*VentasMenudeo[[#This Row],[Cantidad]]-VentasMenudeo[[#This Row],[Descuento]]),0)","v":250},250]
["2022-08-22","Hugo","IPLAY MAX","Coconut",1,"$20 Descuento",null,{"$f":"_xlfn.IFNA(VLOOKUP(VentasMenudeo[[#This Row],[Promoción]],PromocionesMenudeo[[Promocion]:[Descuento]],2,0),0)","v":20},{"$f":"_xlfn.IFNA(VLOOKUP(VentasMenudeo[[#This Row],[Producto]],$A$2:$B$5,2,FALSE),0)","v":270},{"$f":"_xlfn.IFNA(_xlfn.IFS(VentasMenudeo[[#This Row],[Producto]]=$A$2,VentasMenudeo[[#This Row],[Precio de Venta]]*VentasMenudeo[[#This Row],[Cantidad]]-VentasMenudeo[[#This Row],[Descuento]],VentasMenudeo[[#This Row],[Producto]]=$A$3,VentasMenudeo[[#This Row],[Precio de Venta]]*VentasMenudeo[[#This Row],[Cantidad]]-VentasMenudeo[[#This Row],[Descuento]],VentasMenudeo[[#This Row],[Producto]]=$A$4,VentasMenudeo[[#This Row],[Precio de Venta]]*VentasMenudeo[[#This Row],[Cantidad]]-VentasMenudeo[[#This Row],[Descuento]],VentasMenudeo[[#This Row],[Producto]]=$A$5,VentasMenudeo[[#This Row],[Precio de Venta]]*VentasMenudeo[[#This Row],[Cantidad]]-VentasMenudeo[[#This Row],[Descuento]]),0)","v":250},250]
["2022-08-23","Hugo","IPLAY MAX","Banana Ice",1,"$20 Descuento",null,{"$f":"_xlfn.IFNA(VLOOKUP(VentasMenudeo[[#This Row],[Promoción]],PromocionesMenudeo[[Promocion]:[Descuento]],2,0),0)","v":20},{"$f":"_xlfn.IFNA(VLOOKUP(VentasMenudeo[[#This Row],[Producto]],$A$2:$B$5,2,FALSE),0)","v":270},{"$f":"_xlfn.IFNA(_xlfn.IFS(VentasMenudeo[[#This Row],[Producto]]=$A$2,VentasMenudeo[[#This Row],[Precio de Venta]]*VentasMenudeo[[#This Row],[Cantidad]]-VentasMenudeo[[#This Row],[Descuento]],VentasMenudeo[[#This Row],[Producto]]=$A$3,VentasMenudeo[[#This Row],[Precio de Venta]]*VentasMenudeo[[#This Row],[Cantidad]]-VentasMenudeo[[#This Row],[Descuento]],VentasMenudeo[[#This Row],[Producto]]=$A$4,VentasMenudeo[[#This Row],[Precio de Venta]]*VentasMenudeo[[#This Row],[Cantidad]]-VentasMenudeo[[#This Row],[Descuento]],VentasMenudeo[[#This Row],[Producto]]=$A$5,VentasMenudeo[[#This Row],[Precio de Venta]]*VentasMenudeo[[#This Row],[Cantidad]]-VentasMenudeo[[#This Row],[Descuento]]),0)","v":250},250]
["2022-08-23","Hugo","IPLAY MAX","Coconut",1,"$20 Descuento",null,{"$f":"_xlfn.IFNA(VLOOKUP(VentasMenudeo[[#This Row],[Promoción]],PromocionesMenudeo[[Promocion]:[Descuento]],2,0),0)","v":20},{"$f":"_xlfn.IFNA(VLOOKUP(VentasMenudeo[[#This Row],[Producto]],$A$2:$B$5,2,FALSE),0)","v":270},{"$f":"_xlfn.IFNA(_xlfn.IFS(VentasMenudeo[[#This Row],[Producto]]=$A$2,VentasMenudeo[[#This Row],[Precio de Venta]]*VentasMenudeo[[#This Row],[Cantidad]]-VentasMenudeo[[#This Row],[Descuento]],VentasMenudeo[[#This Row],[Producto]]=$A$3,VentasMenudeo[[#This Row],[Precio de Venta]]*VentasMenudeo[[#This Row],[Cantidad]]-VentasMenudeo[[#This Row],[Descuento]],VentasMenudeo[[#This Row],[Producto]]=$A$4,VentasMenudeo[[#This Row],[Precio de Venta]]*VentasMenudeo[[#This Row],[Cantidad]]-VentasMenudeo[[#This Row],[Descuento]],VentasMenudeo[[#This Row],[Producto]]=$A$5,VentasMenudeo[[#This Row],[Precio de Venta]]*VentasMenudeo[[#This Row],[Cantidad]]-VentasMenudeo[[#This Row],[Descuento]]),0)","v":250},250]
["2022-08-23","Hugo","IPLAY MAX","Guava",1,"$20 Descuento",null,{"$f":"_xlfn.IFNA(VLOOKUP(VentasMenudeo[[#This Row],[Promoción]],PromocionesMenudeo[[Promocion]:[Descuento]],2,0),0)","v":20},{"$f":"_xlfn.IFNA(VLOOKUP(VentasMenudeo[[#This Row],[Producto]],$A$2:$B$5,2,FALSE),0)","v":270},{"$f":"_xlfn.IFNA(_xlfn.IFS(VentasMenudeo[[#This Row],[Producto]]=$A$2,VentasMenudeo[[#This Row],[Precio de Venta]]*VentasMenudeo[[#This Row],[Cantidad]]-VentasMenudeo[[#This Row],[Descuento]],VentasMenudeo[[#This Row],[Producto]]=$A$3,VentasMenudeo[[#This Row],[Precio de Venta]]*VentasMenudeo[[#This Row],[Cantidad]]-VentasMenudeo[[#This Row],[Descuento]],VentasMenudeo[[#This Row],[Producto]]=$A$4,VentasMenudeo[[#This Row],[Precio de Venta]]*VentasMenudeo[[#This Row],[Cantidad]]-VentasMenudeo[[#This Row],[Descuento]],VentasMenudeo[[#This Row],[Producto]]=$A$5,VentasMenudeo[[#This Row],[Precio de Venta]]*VentasMenudeo[[#This Row],[Cantidad]]-VentasMenudeo[[#This Row],[Descuento]]),0)","v":250},250]
["2022-08-23","Hugo","IPLAY MAX","Banana Ice",1,"$20 Descuento",null,{"$f":"_xlfn.IFNA(VLOOKUP(VentasMenudeo[[#This Row],[Promoción]],PromocionesMenudeo[[Promocion]:[Descuento]],2,0),0)","v":20},{"$f":"_xlfn.IFNA(VLOOKUP(VentasMenudeo[[#This Row],[Producto]],$A$2:$B$5,2,FALSE),0)","v":270},{"$f":"_xlfn.IFNA(_xlfn.IFS(VentasMenudeo[[#This Row],[Producto]]=$A$2,VentasMenudeo[[#This Row],[Precio de Venta]]*VentasMenudeo[[#This Row],[Cantidad]]-VentasMenudeo[[#This Row],[Descuento]],VentasMenudeo[[#This Row],[Producto]]=$A$3,VentasMenudeo[[#This Row],[Precio de Venta]]*VentasMenudeo[[#This Row],[Cantidad]]-VentasMenudeo[[#This Row],[Descuento]],VentasMenudeo[[#This Row],[Producto]]=$A$4,VentasMenudeo[[#This Row],[Precio de Venta]]*VentasMenudeo[[#This Row],[Cantidad]]-VentasMenudeo[[#This Row],[Descuento]],VentasMenudeo[[#This Row],[Producto]]=$A$5,VentasMenudeo[[#This Row],[Precio de Venta]]*VentasMenudeo[[#This Row],[Cantidad]]-VentasMenudeo[[#This Row],[Descuento]]),0)","v":250},250]
["2022-08-23","Hugo","IPLAY MAX","Berry Watermelon",1,"$20 Descuento",null,{"$f":"_xlfn.IFNA(VLOOKUP(VentasMenudeo[[#This Row],[Promoción]],PromocionesMenudeo[[Promocion]:[Descuento]],2,0),0)","v":20},{"$f":"_xlfn.IFNA(VLOOKUP(VentasMenudeo[[#This Row],[Producto]],$A$2:$B$5,2,FALSE),0)","v":270},{"$f":"_xlfn.IFNA(_xlfn.IFS(VentasMenudeo[[#This Row],[Producto]]=$A$2,VentasMenudeo[[#This Row],[Precio de Venta]]*VentasMenudeo[[#This Row],[Cantidad]]-VentasMenudeo[[#This Row],[Descuento]],VentasMenudeo[[#This Row],[Producto]]=$A$3,VentasMenudeo[[#This Row],[Precio de Venta]]*VentasMenudeo[[#This Row],[Cantidad]]-VentasMenudeo[[#This Row],[Descuento]],VentasMenudeo[[#This Row],[Producto]]=$A$4,VentasMenudeo[[#This Row],[Precio de Venta]]*VentasMenudeo[[#This Row],[Cantidad]]-VentasMenudeo[[#This Row],[Descuento]],VentasMenudeo[[#This Row],[Producto]]=$A$5,VentasMenudeo[[#This Row],[Precio de Venta]]*VentasMenudeo[[#This Row],[Cantidad]]-VentasMenudeo[[#This Row],[Descuento]]),0)","v":250},250]
["2022-08-23","Hugo","IPLAY MAX","Berry Watermelon",1,"$20 Descuento",null,{"$f":"_xlfn.IFNA(VLOOKUP(VentasMenudeo[[#This Row],[Promoción]],PromocionesMenudeo[[Promocion]:[Descuento]],2,0),0)","v":20},{"$f":"_xlfn.IFNA(VLOOKUP(VentasMenudeo[[#This Row],[Producto]],$A$2:$B$5,2,FALSE),0)","v":270},{"$f":"_xlfn.IFNA(_xlfn.IFS(VentasMenudeo[[#This Row],[Producto]]=$A$2,VentasMenudeo[[#This Row],[Precio de Venta]]*VentasMenudeo[[#This Row],[Cantidad]]-VentasMenudeo[[#This Row],[Descuento]],VentasMenudeo[[#This Row],[Producto]]=$A$3,VentasMenudeo[[#This Row],[Precio de Venta]]*VentasMenudeo[[#This Row],[Cantidad]]-VentasMenudeo[[#This Row],[Descuento]],VentasMenudeo[[#This Row],[Producto]]=$A$4,VentasMenudeo[[#This Row],[Precio de Venta]]*VentasMenudeo[[#This Row],[Cantidad]]-VentasMenudeo[[#This Row],[Descuento]],VentasMenudeo[[#This Row],[Producto]]=$A$5,VentasMenudeo[[#This Row],[Precio de Venta]]*VentasMenudeo[[#This Row],[Cantidad]]-VentasMenudeo[[#This Row],[Descuento]]),0)","v":250},250]
["2022-08-23","Hugo","IPLAY MAX","Energy ICE",1,"$20 Descuento",null,{"$f":"_xlfn.IFNA(VLOOKUP(VentasMenudeo[[#This Row],[Promoción]],PromocionesMenudeo[[Promocion]:[Descuento]],2,0),0)","v":20},{"$f":"_xlfn.IFNA(VLOOKUP(VentasMenudeo[[#This Row],[Producto]],$A$2:$B$5,2,FALSE),0)","v":270},{"$f":"_xlfn.IFNA(_xlfn.IFS(VentasMenudeo[[#This Row],[Producto]]=$A$2,VentasMenudeo[[#This Row],[Precio de Venta]]*VentasMenudeo[[#This Row],[Cantidad]]-VentasMenudeo[[#This Row],[Descuento]],VentasMenudeo[[#This Row],[Producto]]=$A$3,VentasMenudeo[[#This Row],[Precio de Venta]]*VentasMenudeo[[#This Row],[Cantidad]]-VentasMenudeo[[#This Row],[Descuento]],VentasMenudeo[[#This Row],[Producto]]=$A$4,VentasMenudeo[[#This Row],[Precio de Venta]]*VentasMenudeo[[#This Row],[Cantidad]]-VentasMenudeo[[#This Row],[Descuento]],VentasMenudeo[[#This Row],[Producto]]=$A$5,VentasMenudeo[[#This Row],[Precio de Venta]]*VentasMenudeo[[#This Row],[Cantidad]]-VentasMenudeo[[#This Row],[Descuento]]),0)","v":250},250]
["2022-08-23","Hugo","IPLAY MAX","Coconut",1,"$20 Descuento",null,{"$f":"_xlfn.IFNA(VLOOKUP(VentasMenudeo[[#This Row],[Promoción]],PromocionesMenudeo[[Promocion]:[Descuento]],2,0),0)","v":20},{"$f":"_xlfn.IFNA(VLOOKUP(VentasMenudeo[[#This Row],[Producto]],$A$2:$B$5,2,FALSE),0)","v":270},{"$f":"_xlfn.IFNA(_xlfn.IFS(VentasMenudeo[[#This Row],[Producto]]=$A$2,VentasMenudeo[[#This Row],[Precio de Venta]]*VentasMenudeo[[#This Row],[Cantidad]]-VentasMenudeo[[#This Row],[Descuento]],VentasMenudeo[[#This Row],[Producto]]=$A$3,VentasMenudeo[[#This Row],[Precio de Venta]]*VentasMenudeo[[#This Row],[Cantidad]]-VentasMenudeo[[#This Row],[Descuento]],VentasMenudeo[[#This Row],[Producto]]=$A$4,VentasMenudeo[[#This Row],[Precio de Venta]]*VentasMenudeo[[#This Row],[Cantidad]]-VentasMenudeo[[#This Row],[Descuento]],VentasMenudeo[[#This Row],[Producto]]=$A$5,VentasMenudeo[[#This Row],[Precio de Venta]]*VentasMenudeo[[#This Row],[Cantidad]]-VentasMenudeo[[#This Row],[Descuento]]),0)","v":250},250]
["2022-08-23","Hugo","IPLAY MAX","Guava",1,"$20 Descuento",null,{"$f":"_xlfn.IFNA(VLOOKUP(VentasMenudeo[[#This Row],[Promoción]],PromocionesMenudeo[[Promocion]:[Descuento]],2,0),0)","v":20},{"$f":"_xlfn.IFNA(VLOOKUP(VentasMenudeo[[#This Row],[Producto]],$A$2:$B$5,2,FALSE),0)","v":270},{"$f":"_xlfn.IFNA(_xlfn.IFS(VentasMenudeo[[#This Row],[Producto]]=$A$2,VentasMenudeo[[#This Row],[Precio de Venta]]*VentasMenudeo[[#This Row],[Cantidad]]-VentasMenudeo[[#This Row],[Descuento]],VentasMenudeo[[#This Row],[Producto]]=$A$3,VentasMenudeo[[#This Row],[Precio de Venta]]*VentasMenudeo[[#This Row],[Cantidad]]-VentasMenudeo[[#This Row],[Descuento]],VentasMenudeo[[#This Row],[Producto]]=$A$4,VentasMenudeo[[#This Row],[Precio de Venta]]*VentasMenudeo[[#This Row],[Cantidad]]-VentasMenudeo[[#This Row],[Descuento]],VentasMenudeo[[#This Row],[Producto]]=$A$5,VentasMenudeo[[#This Row],[Precio de Venta]]*VentasMenudeo[[#This Row],[Cantidad]]-VentasMenudeo[[#This Row],[Descuento]]),0)","v":250},250]
["2022-08-23","Hugo","IPLAY MAX","Strawberry Lychee",1,"$20 Descuento",null,{"$f":"_xlfn.IFNA(VLOOKUP(VentasMenudeo[[#This Row],[Promoción]],PromocionesMenudeo[[Promocion]:[Descuento]],2,0),0)","v":20},{"$f":"_xlfn.IFNA(VLOOKUP(VentasMenudeo[[#This Row],[Producto]],$A$2:$B$5,2,FALSE),0)","v":270},{"$f":"_xlfn.IFNA(_xlfn.IFS(VentasMenudeo[[#This Row],[Producto]]=$A$2,VentasMenudeo[[#This Row],[Precio de Venta]]*VentasMenudeo[[#This Row],[Cantidad]]-VentasMenudeo[[#This Row],[Descuento]],VentasMenudeo[[#This Row],[Producto]]=$A$3,VentasMenudeo[[#This Row],[Precio de Venta]]*VentasMenudeo[[#This Row],[Cantidad]]-VentasMenudeo[[#This Row],[Descuento]],VentasMenudeo[[#This Row],[Producto]]=$A$4,VentasMenudeo[[#This Row],[Precio de Venta]]*VentasMenudeo[[#This Row],[Cantidad]]-VentasMenudeo[[#This Row],[Descuento]],VentasMenudeo[[#This Row],[Producto]]=$A$5,VentasMenudeo[[#This Row],[Precio de Venta]]*VentasMenudeo[[#This Row],[Cantidad]]-VentasMenudeo[[#This Row],[Descuento]]),0)","v":250},250]
["2022-08-23","Hugo","IPLAY MAX","Cool mint",1,"$20 Descuento",null,{"$f":"_xlfn.IFNA(VLOOKUP(VentasMenudeo[[#This Row],[Promoción]],PromocionesMenudeo[[Promocion]:[Descuento]],2,0),0)","v":20},{"$f":"_xlfn.IFNA(VLOOKUP(VentasMenudeo[[#This Row],[Producto]],$A$2:$B$5,2,FALSE),0)","v":270},{"$f":"_xlfn.IFNA(_xlfn.IFS(VentasMenudeo[[#This Row],[Producto]]=$A$2,VentasMenudeo[[#This Row],[Precio de Venta]]*VentasMenudeo[[#This Row],[Cantidad]]-VentasMenudeo[[#This Row],[Descuento]],VentasMenudeo[[#This Row],[Producto]]=$A$3,VentasMenudeo[[#This Row],[Precio de Venta]]*VentasMenudeo[[#This Row],[Cantidad]]-VentasMenudeo[[#This Row],[Descuento]],VentasMenudeo[[#This Row],[Producto]]=$A$4,VentasMenudeo[[#This Row],[Precio de Venta]]*VentasMenudeo[[#This Row],[Cantidad]]-VentasMenudeo[[#This Row],[Descuento]],VentasMenudeo[[#This Row],[Producto]]=$A$5,VentasMenudeo[[#This Row],[Precio de Venta]]*VentasMenudeo[[#This Row],[Cantidad]]-VentasMenudeo[[#This Row],[Descuento]]),0)","v":250},250]
["2022-08-23","Hugo","IPLAY MAX","Sour Apple",1,"$20 Descuento",null,{"$f":"_xlfn.IFNA(VLOOKUP(VentasMenudeo[[#This Row],[Promoción]],PromocionesMenudeo[[Promocion]:[Descuento]],2,0),0)","v":20},{"$f":"_xlfn.IFNA(VLOOKUP(VentasMenudeo[[#This Row],[Producto]],$A$2:$B$5,2,FALSE),0)","v":270},{"$f":"_xlfn.IFNA(_xlfn.IFS(VentasMenudeo[[#This Row],[Producto]]=$A$2,VentasMenudeo[[#This Row],[Precio de Venta]]*VentasMenudeo[[#This Row],[Cantidad]]-VentasMenudeo[[#This Row],[Descuento]],VentasMenudeo[[#This Row],[Producto]]=$A$3,VentasMenudeo[[#This Row],[Precio de Venta]]*VentasMenudeo[[#This Row],[Cantidad]]-VentasMenudeo[[#This Row],[Descuento]],VentasMenudeo[[#This Row],[Producto]]=$A$4,VentasMenudeo[[#This Row],[Precio de Venta]]*VentasMenudeo[[#This Row],[Cantidad]]-VentasMenudeo[[#This Row],[Descuento]],VentasMenudeo[[#This Row],[Producto]]=$A$5,VentasMenudeo[[#This Row],[Precio de Venta]]*VentasMenudeo[[#This Row],[Cantidad]]-VentasMenudeo[[#This Row],[Descuento]]),0)","v":250},250]
["2022-08-24","Hugo","IPLAY MAX","Berry Watermelon",1,"$20 Descuento",null,{"$f":"_xlfn.IFNA(VLOOKUP(VentasMenudeo[[#This Row],[Promoción]],PromocionesMenudeo[[Promocion]:[Descuento]],2,0),0)","v":20},{"$f":"_xlfn.IFNA(VLOOKUP(VentasMenudeo[[#This Row],[Producto]],$A$2:$B$5,2,FALSE),0)","v":270},{"$f":"_xlfn.IFNA(_xlfn.IFS(VentasMenudeo[[#This Row],[Producto]]=$A$2,VentasMenudeo[[#This Row],[Precio de Venta]]*VentasMenudeo[[#This Row],[Cantidad]]-VentasMenudeo[[#This Row],[Descuento]],VentasMenudeo[[#This Row],[Producto]]=$A$3,VentasMenudeo[[#This Row],[Precio de Venta]]*VentasMenudeo[[#This Row],[Cantidad]]-VentasMenudeo[[#This Row],[Descuento]],VentasMenudeo[[#This Row],[Producto]]=$A$4,VentasMenudeo[[#This Row],[Precio de Venta]]*VentasMenudeo[[#This Row],[Cantidad]]-VentasMenudeo[[#This Row],[Descuento]],VentasMenudeo[[#This Row],[Producto]]=$A$5,VentasMenudeo[[#This Row],[Precio de Venta]]*VentasMenudeo[[#This Row],[Cantidad]]-VentasMenudeo[[#This Row],[Descuento]]),0)","v":250},250]
["2022-08-24","Hugo","IPLAY MAX","Energy ICE",1,"$20 Descuento",null,{"$f":"_xlfn.IFNA(VLOOKUP(VentasMenudeo[[#This Row],[Promoción]],PromocionesMenudeo[[Promocion]:[Descuento]],2,0),0)","v":20},{"$f":"_xlfn.IFNA(VLOOKUP(VentasMenudeo[[#This Row],[Producto]],$A$2:$B$5,2,FALSE),0)","v":270},{"$f":"_xlfn.IFNA(_xlfn.IFS(VentasMenudeo[[#This Row],[Producto]]=$A$2,VentasMenudeo[[#This Row],[Precio de Venta]]*VentasMenudeo[[#This Row],[Cantidad]]-VentasMenudeo[[#This Row],[Descuento]],VentasMenudeo[[#This Row],[Producto]]=$A$3,VentasMenudeo[[#This Row],[Precio de Venta]]*VentasMenudeo[[#This Row],[Cantidad]]-VentasMenudeo[[#This Row],[Descuento]],VentasMenudeo[[#This Row],[Producto]]=$A$4,VentasMenudeo[[#This Row],[Precio de Venta]]*VentasMenudeo[[#This Row],[Cantidad]]-VentasMenudeo[[#This Row],[Descuento]],VentasMenudeo[[#This Row],[Producto]]=$A$5,VentasMenudeo[[#This Row],[Precio de Venta]]*VentasMenudeo[[#This Row],[Cantidad]]-VentasMenudeo[[#This Row],[Descuento]]),0)","v":250},250]
["2022-08-24","Hugo","IPLAY MAX","Grape Ice",1,"$20 Descuento",null,{"$f":"_xlfn.IFNA(VLOOKUP(VentasMenudeo[[#This Row],[Promoción]],PromocionesMenudeo[[Promocion]:[Descuento]],2,0),0)","v":20},{"$f":"_xlfn.IFNA(VLOOKUP(VentasMenudeo[[#This Row],[Producto]],$A$2:$B$5,2,FALSE),0)","v":270},{"$f":"_xlfn.IFNA(_xlfn.IFS(VentasMenudeo[[#This Row],[Producto]]=$A$2,VentasMenudeo[[#This Row],[Precio de Venta]]*VentasMenudeo[[#This Row],[Cantidad]]-VentasMenudeo[[#This Row],[Descuento]],VentasMenudeo[[#This Row],[Producto]]=$A$3,VentasMenudeo[[#This Row],[Precio de Venta]]*VentasMenudeo[[#This Row],[Cantidad]]-VentasMenudeo[[#This Row],[Descuento]],VentasMenudeo[[#This Row],[Producto]]=$A$4,VentasMenudeo[[#This Row],[Precio de Venta]]*VentasMenudeo[[#This Row],[Cantidad]]-VentasMenudeo[[#This Row],[Descuento]],VentasMenudeo[[#This Row],[Producto]]=$A$5,VentasMenudeo[[#This Row],[Precio de Venta]]*VentasMenudeo[[#This Row],[Cantidad]]-VentasMenudeo[[#This Row],[Descuento]]),0)","v":250},250]
["2022-08-24","Hugo","IPLAY MAX","Guava",1,"$20 Descuento",null,{"$f":"_xlfn.IFNA(VLOOKUP(VentasMenudeo[[#This Row],[Promoción]],PromocionesMenudeo[[Promocion]:[Descuento]],2,0),0)","v":20},{"$f":"_xlfn.IFNA(VLOOKUP(VentasMenudeo[[#This Row],[Producto]],$A$2:$B$5,2,FALSE),0)","v":270},{"$f":"_xlfn.IFNA(_xlfn.IFS(VentasMenudeo[[#This Row],[Producto]]=$A$2,VentasMenudeo[[#This Row],[Precio de Venta]]*VentasMenudeo[[#This Row],[Cantidad]]-VentasMenudeo[[#This Row],[Descuento]],VentasMenudeo[[#This Row],[Producto]]=$A$3,VentasMenudeo[[#This Row],[Precio de Venta]]*VentasMenudeo[[#This Row],[Cantidad]]-VentasMenudeo[[#This Row],[Descuento]],VentasMenudeo[[#This Row],[Producto]]=$A$4,VentasMenudeo[[#This Row],[Precio de Venta]]*VentasMenudeo[[#This Row],[Cantidad]]-VentasMenudeo[[#This Row],[Descuento]],VentasMenudeo[[#This Row],[Producto]]=$A$5,VentasMenudeo[[#This Row],[Precio de Venta]]*VentasMenudeo[[#This Row],[Cantidad]]-VentasMenudeo[[#This Row],[Descuento]]),0)","v":250},250]
["2022-08-25","Hugo","IPLAY MAX","Grape Ice",1,"$20 Descuento",null,{"$f":"_xlfn.IFNA(VLOOKUP(VentasMenudeo[[#This Row],[Promoción]],PromocionesMenudeo[[Promocion]:[Descuento]],2,0),0)","v":20},{"$f":"_xlfn.IFNA(VLOOKUP(VentasMenudeo[[#This Row],[Producto]],$A$2:$B$5,2,FALSE),0)","v":270},{"$f":"_xlfn.IFNA(_xlfn.IFS(VentasMenudeo[[#This Row],[Producto]]=$A$2,VentasMenudeo[[#This Row],[Precio de Venta]]*VentasMenudeo[[#This Row],[Cantidad]]-VentasMenudeo[[#This Row],[Descuento]],VentasMenudeo[[#This Row],[Producto]]=$A$3,VentasMenudeo[[#This Row],[Precio de Venta]]*VentasMenudeo[[#This Row],[Cantidad]]-VentasMenudeo[[#This Row],[Descuento]],VentasMenudeo[[#This Row],[Producto]]=$A$4,VentasMenudeo[[#This Row],[Precio de Venta]]*VentasMenudeo[[#This Row],[Cantidad]]-VentasMenudeo[[#This Row],[Descuento]],VentasMenudeo[[#This Row],[Producto]]=$A$5,VentasMenudeo[[#This Row],[Precio de Venta]]*VentasMenudeo[[#This Row],[Cantidad]]-VentasMenudeo[[#This Row],[Descuento]]),0)","v":250},250]
["2022-08-25","Hugo","IPLAY MAX","Sour Apple",1,"$20 Descuento",null,{"$f":"_xlfn.IFNA(VLOOKUP(VentasMenudeo[[#This Row],[Promoción]],PromocionesMenudeo[[Promocion]:[Descuento]],2,0),0)","v":20},{"$f":"_xlfn.IFNA(VLOOKUP(VentasMenudeo[[#This Row],[Producto]],$A$2:$B$5,2,FALSE),0)","v":270},{"$f":"_xlfn.IFNA(_xlfn.IFS(VentasMenudeo[[#This Row],[Producto]]=$A$2,VentasMenudeo[[#This Row],[Precio de Venta]]*VentasMenudeo[[#This Row],[Cantidad]]-VentasMenudeo[[#This Row],[Descuento]],VentasMenudeo[[#This Row],[Producto]]=$A$3,VentasMenudeo[[#This Row],[Precio de Venta]]*VentasMenudeo[[#This Row],[Cantidad]]-VentasMenudeo[[#This Row],[Descuento]],VentasMenudeo[[#This Row],[Producto]]=$A$4,VentasMenudeo[[#This Row],[Precio de Venta]]*VentasMenudeo[[#This Row],[Cantidad]]-VentasMenudeo[[#This Row],[Descuento]],VentasMenudeo[[#This Row],[Producto]]=$A$5,VentasMenudeo[[#This Row],[Precio de Venta]]*VentasMenudeo[[#This Row],[Cantidad]]-VentasMenudeo[[#This Row],[Descuento]]),0)","v":250},250]
["2022-09-02","Hugo","IPLAY MAX","Berry Watermelon",1,"$20 Descuento",null,{"$f":"_xlfn.IFNA(VLOOKUP(VentasMenudeo[[#This Row],[Promoción]],PromocionesMenudeo[[Promocion]:[Descuento]],2,0),0)","v":20},{"$f":"_xlfn.IFNA(VLOOKUP(VentasMenudeo[[#This Row],[Producto]],$A$2:$B$5,2,FALSE),0)","v":270},{"$f":"_xlfn.IFNA(_xlfn.IFS(VentasMenudeo[[#This Row],[Producto]]=$A$2,VentasMenudeo[[#This Row],[Precio de Venta]]*VentasMenudeo[[#This Row],[Cantidad]]-VentasMenudeo[[#This Row],[Descuento]],VentasMenudeo[[#This Row],[Producto]]=$A$3,VentasMenudeo[[#This Row],[Precio de Venta]]*VentasMenudeo[[#This Row],[Cantidad]]-VentasMenudeo[[#This Row],[Descuento]],VentasMenudeo[[#This Row],[Producto]]=$A$4,VentasMenudeo[[#This Row],[Precio de Venta]]*VentasMenudeo[[#This Row],[Cantidad]]-VentasMenudeo[[#This Row],[Descuento]],VentasMenudeo[[#This Row],[Producto]]=$A$5,VentasMenudeo[[#This Row],[Precio de Venta]]*VentasMenudeo[[#This Row],[Cantidad]]-VentasMenudeo[[#This Row],[Descuento]]),0)","v":250},250]
["2022-09-02","Hugo","IPLAY MAX","Berry Watermelon",1,"$20 Descuento",null,{"$f":"_xlfn.IFNA(VLOOKUP(VentasMenudeo[[#This Row],[Promoción]],PromocionesMenudeo[[Promocion]:[Descuento]],2,0),0)","v":20},{"$f":"_xlfn.IFNA(VLOOKUP(VentasMenudeo[[#This Row],[Producto]],$A$2:$B$5,2,FALSE),0)","v":270},{"$f":"_xlfn.IFNA(_xlfn.IFS(VentasMenudeo[[#This Row],[Producto]]=$A$2,VentasMenudeo[[#This Row],[Precio de Venta]]*VentasMenudeo[[#This Row],[Cantidad]]-VentasMenudeo[[#This Row],[Descuento]],VentasMenudeo[[#This Row],[Producto]]=$A$3,VentasMenudeo[[#This Row],[Precio de Venta]]*VentasMenudeo[[#This Row],[Cantidad]]-VentasMenudeo[[#This Row],[Descuento]],VentasMenudeo[[#This Row],[Producto]]=$A$4,VentasMenudeo[[#This Row],[Precio de Venta]]*VentasMenudeo[[#This Row],[Cantidad]]-VentasMenudeo[[#This Row],[Descuento]],VentasMenudeo[[#This Row],[Producto]]=$A$5,VentasMenudeo[[#This Row],[Precio de Venta]]*VentasMenudeo[[#This Row],[Cantidad]]-VentasMenudeo[[#This Row],[Descuento]]),0)","v":250},250]
["2022-09-02","Hugo","IPLAY MAX","Coconut",1,"$20 Descuento",null,{"$f":"_xlfn.IFNA(VLOOKUP(VentasMenudeo[[#This Row],[Promoción]],PromocionesMenudeo[[Promocion]:[Descuento]],2,0),0)","v":20},{"$f":"_xlfn.IFNA(VLOOKUP(VentasMenudeo[[#This Row],[Producto]],$A$2:$B$5,2,FALSE),0)","v":270},{"$f":"_xlfn.IFNA(_xlfn.IFS(VentasMenudeo[[#This Row],[Producto]]=$A$2,VentasMenudeo[[#This Row],[Precio de Venta]]*VentasMenudeo[[#This Row],[Cantidad]]-VentasMenudeo[[#This Row],[Descuento]],VentasMenudeo[[#This Row],[Producto]]=$A$3,VentasMenudeo[[#This Row],[Precio de Venta]]*VentasMenudeo[[#This Row],[Cantidad]]-VentasMenudeo[[#This Row],[Descuento]],VentasMenudeo[[#This Row],[Producto]]=$A$4,VentasMenudeo[[#This Row],[Precio de Venta]]*VentasMenudeo[[#This Row],[Cantidad]]-VentasMenudeo[[#This Row],[Descuento]],VentasMenudeo[[#This Row],[Producto]]=$A$5,VentasMenudeo[[#This Row],[Precio de Venta]]*VentasMenudeo[[#This Row],[Cantidad]]-VentasMenudeo[[#This Row],[Descuento]]),0)","v":250},250]
["2022-09-02","Hugo","IPLAY MAX","Cool mint",1,"$20 Descuento",null,{"$f":"_xlfn.IFNA(VLOOKUP(VentasMenudeo[[#This Row],[Promoción]],PromocionesMenudeo[[Promocion]:[Descuento]],2,0),0)","v":20},{"$f":"_xlfn.IFNA(VLOOKUP(VentasMenudeo[[#This Row],[Producto]],$A$2:$B$5,2,FALSE),0)","v":270},{"$f":"_xlfn.IFNA(_xlfn.IFS(VentasMenudeo[[#This Row],[Producto]]=$A$2,VentasMenudeo[[#This Row],[Precio de Venta]]*VentasMenudeo[[#This Row],[Cantidad]]-VentasMenudeo[[#This Row],[Descuento]],VentasMenudeo[[#This Row],[Producto]]=$A$3,VentasMenudeo[[#This Row],[Precio de Venta]]*VentasMenudeo[[#This Row],[Cantidad]]-VentasMenudeo[[#This Row],[Descuento]],VentasMenudeo[[#This Row],[Producto]]=$A$4,VentasMenudeo[[#This Row],[Precio de Venta]]*VentasMenudeo[[#This Row],[Cantidad]]-VentasMenudeo[[#This Row],[Descuento]],VentasMenudeo[[#This Row],[Producto]]=$A$5,VentasMenudeo[[#This Row],[Precio de Venta]]*VentasMenudeo[[#This Row],[Cantidad]]-VentasMenudeo[[#This Row],[Descuento]]),0)","v":250},250]
["2022-09-02","Hugo","IPLAY MAX","Guava",1,"$20 Descuento",null,{"$f":"_xlfn.IFNA(VLOOKUP(VentasMenudeo[[#This Row],[Promoción]],PromocionesMenudeo[[Promocion]:[Descuento]],2,0),0)","v":20},{"$f":"_xlfn.IFNA(VLOOKUP(VentasMenudeo[[#This Row],[Producto]],$A$2:$B$5,2,FALSE),0)","v":270},{"$f":"_xlfn.IFNA(_xlfn.IFS(VentasMenudeo[[#This Row],[Producto]]=$A$2,VentasMenudeo[[#This Row],[Precio de Venta]]*VentasMenudeo[[#This Row],[Cantidad]]-VentasMenudeo[[#This Row],[Descuento]],VentasMenudeo[[#This Row],[Producto]]=$A$3,VentasMenudeo[[#This Row],[Precio de Venta]]*VentasMenudeo[[#This Row],[Cantidad]]-VentasMenudeo[[#This Row],[Descuento]],VentasMenudeo[[#This Row],[Producto]]=$A$4,VentasMenudeo[[#This Row],[Precio de Venta]]*VentasMenudeo[[#This Row],[Cantidad]]-VentasMenudeo[[#This Row],[Descuento]],VentasMenudeo[[#This Row],[Producto]]=$A$5,VentasMenudeo[[#This Row],[Precio de Venta]]*VentasMenudeo[[#This Row],[Cantidad]]-VentasMenudeo[[#This Row],[Descuento]]),0)","v":250},250]
["2022-09-02","Hugo","IPLAY MAX","Guava",1,"$20 Descuento",null,{"$f":"_xlfn.IFNA(VLOOKUP(VentasMenudeo[[#This Row],[Promoción]],PromocionesMenudeo[[Promocion]:[Descuento]],2,0),0)","v":20},{"$f":"_xlfn.IFNA(VLOOKUP(VentasMenudeo[[#This Row],[Producto]],$A$2:$B$5,2,FALSE),0)","v":270},{"$f":"_xlfn.IFNA(_xlfn.IFS(VentasMenudeo[[#This Row],[Producto]]=$A$2,VentasMenudeo[[#This Row],[Precio de Venta]]*VentasMenudeo[[#This Row],[Cantidad]]-VentasMenudeo[[#This Row],[Descuento]],VentasMenudeo[[#This Row],[Producto]]=$A$3,VentasMenudeo[[#This Row],[Precio de Venta]]*VentasMenudeo[[#This Row],[Cantidad]]-VentasMenudeo[[#This Row],[Descuento]],VentasMenudeo[[#This Row],[Producto]]=$A$4,VentasMenudeo[[#This Row],[Precio de Venta]]*VentasMenudeo[[#This Row],[Cantidad]]-VentasMenudeo[[#This Row],[Descuento]],VentasMenudeo[[#This Row],[Producto]]=$A$5,VentasMenudeo[[#This Row],[Precio de Venta]]*VentasMenudeo[[#This Row],[Cantidad]]-VentasMenudeo[[#This Row],[Descuento]]),0)","v":250},250]
["2022-09-02","Hugo","IPLAY MAX","Strawberry Lychee",1,"$20 Descuento",null,{"$f":"_xlfn.IFNA(VLOOKUP(VentasMenudeo[[#This Row],[Promoción]],PromocionesMenudeo[[Promocion]:[Descuento]],2,0),0)","v":20},{"$f":"_xlfn.IFNA(VLOOKUP(VentasMenudeo[[#This Row],[Producto]],$A$2:$B$5,2,FALSE),0)","v":270},{"$f":"_xlfn.IFNA(_xlfn.IFS(VentasMenudeo[[#This Row],[Producto]]=$A$2,VentasMenudeo[[#This Row],[Precio de Venta]]*VentasMenudeo[[#This Row],[Cantidad]]-VentasMenudeo[[#This Row],[Descuento]],VentasMenudeo[[#This Row],[Producto]]=$A$3,VentasMenudeo[[#This Row],[Precio de Venta]]*VentasMenudeo[[#This Row],[Cantidad]]-VentasMenudeo[[#This Row],[Descuento]],VentasMenudeo[[#This Row],[Producto]]=$A$4,VentasMenudeo[[#This Row],[Precio de Venta]]*VentasMenudeo[[#This Row],[Cantidad]]-VentasMenudeo[[#This Row],[Descuento]],VentasMenudeo[[#This Row],[Producto]]=$A$5,VentasMenudeo[[#This Row],[Precio de Venta]]*VentasMenudeo[[#This Row],[Cantidad]]-VentasMenudeo[[#This Row],[Descuento]]),0)","v":250},250]
["2022-09-02","Hugo","IPLAY MAX","Grape Ice",1,"$20 Descuento",null,{"$f":"_xlfn.IFNA(VLOOKUP(VentasMenudeo[[#This Row],[Promoción]],PromocionesMenudeo[[Promocion]:[Descuento]],2,0),0)","v":20},{"$f":"_xlfn.IFNA(VLOOKUP(VentasMenudeo[[#This Row],[Producto]],$A$2:$B$5,2,FALSE),0)","v":270},{"$f":"_xlfn.IFNA(_xlfn.IFS(VentasMenudeo[[#This Row],[Producto]]=$A$2,VentasMenudeo[[#This Row],[Precio de Venta]]*VentasMenudeo[[#This Row],[Cantidad]]-VentasMenudeo[[#This Row],[Descuento]],VentasMenudeo[[#This Row],[Producto]]=$A$3,VentasMenudeo[[#This Row],[Precio de Venta]]*VentasMenudeo[[#This Row],[Cantidad]]-VentasMenudeo[[#This Row],[Descuento]],VentasMenudeo[[#This Row],[Producto]]=$A$4,VentasMenudeo[[#This Row],[Precio de Venta]]*VentasMenudeo[[#This Row],[Cantidad]]-VentasMenudeo[[#This Row],[Descuento]],VentasMenudeo[[#This Row],[Producto]]=$A$5,VentasMenudeo[[#This Row],[Precio de Venta]]*VentasMenudeo[[#This Row],[Cantidad]]-VentasMenudeo[[#This Row],[Descuento]]),0)","v":250},250]
["2022-09-02","Hugo","IPLAY MAX","Cool mint",1,"$20 Descuento",null,{"$f":"_xlfn.IFNA(VLOOKUP(VentasMenudeo[[#This Row],[Promoción]],PromocionesMenudeo[[Promocion]:[Descuento]],2,0),0)","v":20},{"$f":"_xlfn.IFNA(VLOOKUP(VentasMenudeo[[#This Row],[Producto]],$A$2:$B$5,2,FALSE),0)","v":270},{"$f":"_xlfn.IFNA(_xlfn.IFS(VentasMenudeo[[#This Row],[Producto]]=$A$2,VentasMenudeo[[#This Row],[Precio de Venta]]*VentasMenudeo[[#This Row],[Cantidad]]-VentasMenudeo[[#This Row],[Descuento]],VentasMenudeo[[#This Row],[Producto]]=$A$3,VentasMenudeo[[#This Row],[Precio de Venta]]*VentasMenudeo[[#This Row],[Cantidad]]-VentasMenudeo[[#This Row],[Descuento]],VentasMenudeo[[#This Row],[Producto]]=$A$4,VentasMenudeo[[#This Row],[Precio de Venta]]*VentasMenudeo[[#This Row],[Cantidad]]-VentasMenudeo[[#This Row],[Descuento]],VentasMenudeo[[#This Row],[Producto]]=$A$5,VentasMenudeo[[#This Row],[Precio de Venta]]*VentasMenudeo[[#This Row],[Cantidad]]-VentasMenudeo[[#This Row],[Descuento]]),0)","v":250},250]
["2022-09-02","Hugo","IPLAY MAX","Sourraspberry",1,"$20 Descuento",null,{"$f":"_xlfn.IFNA(VLOOKUP(VentasMenudeo[[#This Row],[Promoción]],PromocionesMenudeo[[Promocion]:[Descuento]],2,0),0)","v":20},{"$f":"_xlfn.IFNA(VLOOKUP(VentasMenudeo[[#This Row],[Producto]],$A$2:$B$5,2,FALSE),0)","v":270},{"$f":"_xlfn.IFNA(_xlfn.IFS(VentasMenudeo[[#This Row],[Producto]]=$A$2,VentasMenudeo[[#This Row],[Precio de Venta]]*VentasMenudeo[[#This Row],[Cantidad]]-VentasMenudeo[[#This Row],[Descuento]],VentasMenudeo[[#This Row],[Producto]]=$A$3,VentasMenudeo[[#This Row],[Precio de Venta]]*VentasMenudeo[[#This Row],[Cantidad]]-VentasMenudeo[[#This Row],[Descuento]],VentasMenudeo[[#This Row],[Producto]]=$A$4,VentasMenudeo[[#This Row],[Precio de Venta]]*VentasMenudeo[[#This Row],[Cantidad]]-VentasMenudeo[[#This Row],[Descuento]],VentasMenudeo[[#This Row],[Producto]]=$A$5,VentasMenudeo[[#This Row],[Precio de Venta]]*VentasMenudeo[[#This Row],[Cantidad]]-VentasMenudeo[[#This Row],[Descuento]]),0)","v":250},250]
["2022-09-02","Hugo","IPLAY MAX","Sourraspberry",1,"$20 Descuento",null,{"$f":"_xlfn.IFNA(VLOOKUP(VentasMenudeo[[#This Row],[Promoción]],PromocionesMenudeo[[Promocion]:[Descuento]],2,0),0)","v":20},{"$f":"_xlfn.IFNA(VLOOKUP(VentasMenudeo[[#This Row],[Producto]],$A$2:$B$5,2,FALSE),0)","v":270},{"$f":"_xlfn.IFNA(_xlfn.IFS(VentasMenudeo[[#This Row],[Producto]]=$A$2,VentasMenudeo[[#This Row],[Precio de Venta]]*VentasMenudeo[[#This Row],[Cantidad]]-VentasMenudeo[[#This Row],[Descuento]],VentasMenudeo[[#This Row],[Producto]]=$A$3,VentasMenudeo[[#This Row],[Precio de Venta]]*VentasMenudeo[[#This Row],[Cantidad]]-VentasMenudeo[[#This Row],[Descuento]],VentasMenudeo[[#This Row],[Producto]]=$A$4,VentasMenudeo[[#This Row],[Precio de Venta]]*VentasMenudeo[[#This Row],[Cantidad]]-VentasMenudeo[[#This Row],[Descuento]],VentasMenudeo[[#This Row],[Producto]]=$A$5,VentasMenudeo[[#This Row],[Precio de Venta]]*VentasMenudeo[[#This Row],[Cantidad]]-VentasMenudeo[[#This Row],[Descuento]]),0)","v":250},250]
["2022-09-02","Hugo","IPLAY MAX","Banana Ice",1,"$20 Descuento",null,{"$f":"_xlfn.IFNA(VLOOKUP(VentasMenudeo[[#This Row],[Promoción]],PromocionesMenudeo[[Promocion]:[Descuento]],2,0),0)","v":20},{"$f":"_xlfn.IFNA(VLOOKUP(VentasMenudeo[[#This Row],[Producto]],$A$2:$B$5,2,FALSE),0)","v":270},{"$f":"_xlfn.IFNA(_xlfn.IFS(VentasMenudeo[[#This Row],[Producto]]=$A$2,VentasMenudeo[[#This Row],[Precio de Venta]]*VentasMenudeo[[#This Row],[Cantidad]]-VentasMenudeo[[#This Row],[Descuento]],VentasMenudeo[[#This Row],[Producto]]=$A$3,VentasMenudeo[[#This Row],[Precio de Venta]]*VentasMenudeo[[#This Row],[Cantidad]]-VentasMenudeo[[#This Row],[Descuento]],VentasMenudeo[[#This Row],[Producto]]=$A$4,VentasMenudeo[[#This Row],[Precio de Venta]]*VentasMenudeo[[#This Row],[Cantidad]]-VentasMenudeo[[#This Row],[Descuento]],VentasMenudeo[[#This Row],[Producto]]=$A$5,VentasMenudeo[[#This Row],[Precio de Venta]]*VentasMenudeo[[#This Row],[Cantidad]]-VentasMenudeo[[#This Row],[Descuento]]),0)","v":250},250]
["2022-09-02","Hugo","IPLAY MAX","Berry Watermelon",1,"$20 Descuento",null,{"$f":"_xlfn.IFNA(VLOOKUP(VentasMenudeo[[#This Row],[Promoción]],PromocionesMenudeo[[Promocion]:[Descuento]],2,0),0)","v":20},{"$f":"_xlfn.IFNA(VLOOKUP(VentasMenudeo[[#This Row],[Producto]],$A$2:$B$5,2,FALSE),0)","v":270},{"$f":"_xlfn.IFNA(_xlfn.IFS(VentasMenudeo[[#This Row],[Producto]]=$A$2,VentasMenudeo[[#This Row],[Precio de Venta]]*VentasMenudeo[[#This Row],[Cantidad]]-VentasMenudeo[[#This Row],[Descuento]],VentasMenudeo[[#This Row],[Producto]]=$A$3,VentasMenudeo[[#This Row],[Precio de Venta]]*VentasMenudeo[[#This Row],[Cantidad]]-VentasMenudeo[[#This Row],[Descuento]],VentasMenudeo[[#This Row],[Producto]]=$A$4,VentasMenudeo[[#This Row],[Precio de Venta]]*VentasMenudeo[[#This Row],[Cantidad]]-VentasMenudeo[[#This Row],[Descuento]],VentasMenudeo[[#This Row],[Producto]]=$A$5,VentasMenudeo[[#This Row],[Precio de Venta]]*VentasMenudeo[[#This Row],[Cantidad]]-VentasMenudeo[[#This Row],[Descuento]]),0)","v":250},250]
["2022-09-02","Hugo","IPLAY MAX","Guava",1,"$20 Descuento",null,{"$f":"_xlfn.IFNA(VLOOKUP(VentasMenudeo[[#This Row],[Promoción]],PromocionesMenudeo[[Promocion]:[Descuento]],2,0),0)","v":20},{"$f":"_xlfn.IFNA(VLOOKUP(VentasMenudeo[[#This Row],[Producto]],$A$2:$B$5,2,FALSE),0)","v":270},{"$f":"_xlfn.IFNA(_xlfn.IFS(VentasMenudeo[[#This Row],[Producto]]=$A$2,VentasMenudeo[[#This Row],[Precio de Venta]]*VentasMenudeo[[#This Row],[Cantidad]]-VentasMenudeo[[#This Row],[Descuento]],VentasMenudeo[[#This Row],[Producto]]=$A$3,VentasMenudeo[[#This Row],[Precio de Venta]]*VentasMenudeo[[#This Row],[Cantidad]]-VentasMenudeo[[#This Row],[Descuento]],VentasMenudeo[[#This Row],[Producto]]=$A$4,VentasMenudeo[[#This Row],[Precio de Venta]]*VentasMenudeo[[#This Row],[Cantidad]]-VentasMenudeo[[#This Row],[Descuento]],VentasMenudeo[[#This Row],[Producto]]=$A$5,VentasMenudeo[[#This Row],[Precio de Venta]]*VentasMenudeo[[#This Row],[Cantidad]]-VentasMenudeo[[#This Row],[Descuento]]),0)","v":250},250]
["2022-09-02","Hugo","IPLAY MAX","Grape Ice",1,"$20 Descuento",null,{"$f":"_xlfn.IFNA(VLOOKUP(VentasMenudeo[[#This Row],[Promoción]],PromocionesMenudeo[[Promocion]:[Descuento]],2,0),0)","v":20},{"$f":"_xlfn.IFNA(VLOOKUP(VentasMenudeo[[#This Row],[Producto]],$A$2:$B$5,2,FALSE),0)","v":270},{"$f":"_xlfn.IFNA(_xlfn.IFS(VentasMenudeo[[#This Row],[Producto]]=$A$2,VentasMenudeo[[#This Row],[Precio de Venta]]*VentasMenudeo[[#This Row],[Cantidad]]-VentasMenudeo[[#This Row],[Descuento]],VentasMenudeo[[#This Row],[Producto]]=$A$3,VentasMenudeo[[#This Row],[Precio de Venta]]*VentasMenudeo[[#This Row],[Cantidad]]-VentasMenudeo[[#This Row],[Descuento]],VentasMenudeo[[#This Row],[Producto]]=$A$4,VentasMenudeo[[#This Row],[Precio de Venta]]*VentasMenudeo[[#This Row],[Cantidad]]-VentasMenudeo[[#This Row],[Descuento]],VentasMenudeo[[#This Row],[Producto]]=$A$5,VentasMenudeo[[#This Row],[Precio de Venta]]*VentasMenudeo[[#This Row],[Cantidad]]-VentasMenudeo[[#This Row],[Descuento]]),0)","v":250},250]
["2022-09-02","Hugo","IPLAY MAX","Berry Watermelon",1,"$20 Descuento",null,{"$f":"_xlfn.IFNA(VLOOKUP(VentasMenudeo[[#This Row],[Promoción]],PromocionesMenudeo[[Promocion]:[Descuento]],2,0),0)","v":20},{"$f":"_xlfn.IFNA(VLOOKUP(VentasMenudeo[[#This Row],[Producto]],$A$2:$B$5,2,FALSE),0)","v":270},{"$f":"_xlfn.IFNA(_xlfn.IFS(VentasMenudeo[[#This Row],[Producto]]=$A$2,VentasMenudeo[[#This Row],[Precio de Venta]]*VentasMenudeo[[#This Row],[Cantidad]]-VentasMenudeo[[#This Row],[Descuento]],VentasMenudeo[[#This Row],[Producto]]=$A$3,VentasMenudeo[[#This Row],[Precio de Venta]]*VentasMenudeo[[#This Row],[Cantidad]]-VentasMenudeo[[#This Row],[Descuento]],VentasMenudeo[[#This Row],[Producto]]=$A$4,VentasMenudeo[[#This Row],[Precio de Venta]]*VentasMenudeo[[#This Row],[Cantidad]]-VentasMenudeo[[#This Row],[Descuento]],VentasMenudeo[[#This Row],[Producto]]=$A$5,VentasMenudeo[[#This Row],[Precio de Venta]]*VentasMenudeo[[#This Row],[Cantidad]]-VentasMenudeo[[#This Row],[Descuento]]),0)","v":250},250]
["2022-09-02","Hugo","IPLAY MAX","Sourraspberry",1,"$20 Descuento",null,{"$f":"_xlfn.IFNA(VLOOKUP(VentasMenudeo[[#This Row],[Promoción]],PromocionesMenudeo[[Promocion]:[Descuento]],2,0),0)","v":20},{"$f":"_xlfn.IFNA(VLOOKUP(VentasMenudeo[[#This Row],[Producto]],$A$2:$B$5,2,FALSE),0)","v":270},{"$f":"_xlfn.IFNA(_xlfn.IFS(VentasMenudeo[[#This Row],[Producto]]=$A$2,VentasMenudeo[[#This Row],[Precio de Venta]]*VentasMenudeo[[#This Row],[Cantidad]]-VentasMenudeo[[#This Row],[Descuento]],VentasMenudeo[[#This Row],[Producto]]=$A$3,VentasMenudeo[[#This Row],[Precio de Venta]]*VentasMenudeo[[#This Row],[Cantidad]]-VentasMenudeo[[#This Row],[Descuento]],VentasMenudeo[[#This Row],[Producto]]=$A$4,VentasMenudeo[[#This Row],[Precio de Venta]]*VentasMenudeo[[#This Row],[Cantidad]]-VentasMenudeo[[#This Row],[Descuento]],VentasMenudeo[[#This Row],[Producto]]=$A$5,VentasMenudeo[[#This Row],[Precio de Venta]]*VentasMenudeo[[#This Row],[Cantidad]]-VentasMenudeo[[#This Row],[Descuento]]),0)","v":250},250]
["2022-09-02","Hugo","IPLAY MAX","Peach Ice",1,"$20 Descuento",null,{"$f":"_xlfn.IFNA(VLOOKUP(VentasMenudeo[[#This Row],[Promoción]],PromocionesMenudeo[[Promocion]:[Descuento]],2,0),0)","v":20},{"$f":"_xlfn.IFNA(VLOOKUP(VentasMenudeo[[#This Row],[Producto]],$A$2:$B$5,2,FALSE),0)","v":270},{"$f":"_xlfn.IFNA(_xlfn.IFS(VentasMenudeo[[#This Row],[Producto]]=$A$2,VentasMenudeo[[#This Row],[Precio de Venta]]*VentasMenudeo[[#This Row],[Cantidad]]-VentasMenudeo[[#This Row],[Descuento]],VentasMenudeo[[#This Row],[Producto]]=$A$3,VentasMenudeo[[#This Row],[Precio de Venta]]*VentasMenudeo[[#This Row],[Cantidad]]-VentasMenudeo[[#This Row],[Descuento]],VentasMenudeo[[#This Row],[Producto]]=$A$4,VentasMenudeo[[#This Row],[Precio de Venta]]*VentasMenudeo[[#This Row],[Cantidad]]-VentasMenudeo[[#This Row],[Descuento]],VentasMenudeo[[#This Row],[Producto]]=$A$5,VentasMenudeo[[#This Row],[Precio de Venta]]*VentasMenudeo[[#This Row],[Cantidad]]-VentasMenudeo[[#This Row],[Descuento]]),0)","v":250},250]
["2022-09-02","Hugo","IPLAY MAX","Cool mint",1,"$20 Descuento",null,{"$f":"_xlfn.IFNA(VLOOKUP(VentasMenudeo[[#This Row],[Promoción]],PromocionesMenudeo[[Promocion]:[Descuento]],2,0),0)","v":20},{"$f":"_xlfn.IFNA(VLOOKUP(VentasMenudeo[[#This Row],[Producto]],$A$2:$B$5,2,FALSE),0)","v":270},{"$f":"_xlfn.IFNA(_xlfn.IFS(VentasMenudeo[[#This Row],[Producto]]=$A$2,VentasMenudeo[[#This Row],[Precio de Venta]]*VentasMenudeo[[#This Row],[Cantidad]]-VentasMenudeo[[#This Row],[Descuento]],VentasMenudeo[[#This Row],[Producto]]=$A$3,VentasMenudeo[[#This Row],[Precio de Venta]]*VentasMenudeo[[#This Row],[Cantidad]]-VentasMenudeo[[#This Row],[Descuento]],VentasMenudeo[[#This Row],[Producto]]=$A$4,VentasMenudeo[[#This Row],[Precio de Venta]]*VentasMenudeo[[#This Row],[Cantidad]]-VentasMenudeo[[#This Row],[Descuento]],VentasMenudeo[[#This Row],[Producto]]=$A$5,VentasMenudeo[[#This Row],[Precio de Venta]]*VentasMenudeo[[#This Row],[Cantidad]]-VentasMenudeo[[#This Row],[Descuento]]),0)","v":250},250]
["2022-09-02","Hugo","IPLAY MAX","Berry Watermelon",1,"$20 Descuento",null,{"$f":"_xlfn.IFNA(VLOOKUP(VentasMenudeo[[#This Row],[Promoción]],PromocionesMenudeo[[Promocion]:[Descuento]],2,0),0)","v":20},{"$f":"_xlfn.IFNA(VLOOKUP(VentasMenudeo[[#This Row],[Producto]],$A$2:$B$5,2,FALSE),0)","v":270},{"$f":"_xlfn.IFNA(_xlfn.IFS(VentasMenudeo[[#This Row],[Producto]]=$A$2,VentasMenudeo[[#This Row],[Precio de Venta]]*VentasMenudeo[[#This Row],[Cantidad]]-VentasMenudeo[[#This Row],[Descuento]],VentasMenudeo[[#This Row],[Producto]]=$A$3,VentasMenudeo[[#This Row],[Precio de Venta]]*VentasMenudeo[[#This Row],[Cantidad]]-VentasMenudeo[[#This Row],[Descuento]],VentasMenudeo[[#This Row],[Producto]]=$A$4,VentasMenudeo[[#This Row],[Precio de Venta]]*VentasMenudeo[[#This Row],[Cantidad]]-VentasMenudeo[[#This Row],[Descuento]],VentasMenudeo[[#This Row],[Producto]]=$A$5,VentasMenudeo[[#This Row],[Precio de Venta]]*VentasMenudeo[[#This Row],[Cantidad]]-VentasMenudeo[[#This Row],[Descuento]]),0)","v":250},250]
["2022-09-02","Hugo","IPLAY MAX","Berry Watermelon",1,"$20 Descuento",null,{"$f":"_xlfn.IFNA(VLOOKUP(VentasMenudeo[[#This Row],[Promoción]],PromocionesMenudeo[[Promocion]:[Descuento]],2,0),0)","v":20},{"$f":"_xlfn.IFNA(VLOOKUP(VentasMenudeo[[#This Row],[Producto]],$A$2:$B$5,2,FALSE),0)","v":270},{"$f":"_xlfn.IFNA(_xlfn.IFS(VentasMenudeo[[#This Row],[Producto]]=$A$2,VentasMenudeo[[#This Row],[Precio de Venta]]*VentasMenudeo[[#This Row],[Cantidad]]-VentasMenudeo[[#This Row],[Descuento]],VentasMenudeo[[#This Row],[Producto]]=$A$3,VentasMenudeo[[#This Row],[Precio de Venta]]*VentasMenudeo[[#This Row],[Cantidad]]-VentasMenudeo[[#This Row],[Descuento]],VentasMenudeo[[#This Row],[Producto]]=$A$4,VentasMenudeo[[#This Row],[Precio de Venta]]*VentasMenudeo[[#This Row],[Cantidad]]-VentasMenudeo[[#This Row],[Descuento]],VentasMenudeo[[#This Row],[Producto]]=$A$5,VentasMenudeo[[#This Row],[Precio de Venta]]*VentasMenudeo[[#This Row],[Cantidad]]-VentasMenudeo[[#This Row],[Descuento]]),0)","v":250},250]
["2022-09-02","Hugo","IPLAY MAX","Bluerazz",1,"$20 Descuento",null,{"$f":"_xlfn.IFNA(VLOOKUP(VentasMenudeo[[#This Row],[Promoción]],PromocionesMenudeo[[Promocion]:[Descuento]],2,0),0)","v":20},{"$f":"_xlfn.IFNA(VLOOKUP(VentasMenudeo[[#This Row],[Producto]],$A$2:$B$5,2,FALSE),0)","v":270},{"$f":"_xlfn.IFNA(_xlfn.IFS(VentasMenudeo[[#This Row],[Producto]]=$A$2,VentasMenudeo[[#This Row],[Precio de Venta]]*VentasMenudeo[[#This Row],[Cantidad]]-VentasMenudeo[[#This Row],[Descuento]],VentasMenudeo[[#This Row],[Producto]]=$A$3,VentasMenudeo[[#This Row],[Precio de Venta]]*VentasMenudeo[[#This Row],[Cantidad]]-VentasMenudeo[[#This Row],[Descuento]],VentasMenudeo[[#This Row],[Producto]]=$A$4,VentasMenudeo[[#This Row],[Precio de Venta]]*VentasMenudeo[[#This Row],[Cantidad]]-VentasMenudeo[[#This Row],[Descuento]],VentasMenudeo[[#This Row],[Producto]]=$A$5,VentasMenudeo[[#This Row],[Precio de Venta]]*VentasMenudeo[[#This Row],[Cantidad]]-VentasMenudeo[[#This Row],[Descuento]]),0)","v":250},250]
["2022-09-02","Hugo","IPLAY MAX","Bluerazz",1,"$20 Descuento",null,{"$f":"_xlfn.IFNA(VLOOKUP(VentasMenudeo[[#This Row],[Promoción]],PromocionesMenudeo[[Promocion]:[Descuento]],2,0),0)","v":20},{"$f":"_xlfn.IFNA(VLOOKUP(VentasMenudeo[[#This Row],[Producto]],$A$2:$B$5,2,FALSE),0)","v":270},{"$f":"_xlfn.IFNA(_xlfn.IFS(VentasMenudeo[[#This Row],[Producto]]=$A$2,VentasMenudeo[[#This Row],[Precio de Venta]]*VentasMenudeo[[#This Row],[Cantidad]]-VentasMenudeo[[#This Row],[Descuento]],VentasMenudeo[[#This Row],[Producto]]=$A$3,VentasMenudeo[[#This Row],[Precio de Venta]]*VentasMenudeo[[#This Row],[Cantidad]]-VentasMenudeo[[#This Row],[Descuento]],VentasMenudeo[[#This Row],[Producto]]=$A$4,VentasMenudeo[[#This Row],[Precio de Venta]]*VentasMenudeo[[#This Row],[Cantidad]]-VentasMenudeo[[#This Row],[Descuento]],VentasMenudeo[[#This Row],[Producto]]=$A$5,VentasMenudeo[[#This Row],[Precio de Venta]]*VentasMenudeo[[#This Row],[Cantidad]]-VentasMenudeo[[#This Row],[Descuento]]),0)","v":250},250]
["2022-09-02","Hugo","IPLAY MAX","Coconut",1,"$20 Descuento",null,{"$f":"_xlfn.IFNA(VLOOKUP(VentasMenudeo[[#This Row],[Promoción]],PromocionesMenudeo[[Promocion]:[Descuento]],2,0),0)","v":20},{"$f":"_xlfn.IFNA(VLOOKUP(VentasMenudeo[[#This Row],[Producto]],$A$2:$B$5,2,FALSE),0)","v":270},{"$f":"_xlfn.IFNA(_xlfn.IFS(VentasMenudeo[[#This Row],[Producto]]=$A$2,VentasMenudeo[[#This Row],[Precio de Venta]]*VentasMenudeo[[#This Row],[Cantidad]]-VentasMenudeo[[#This Row],[Descuento]],VentasMenudeo[[#This Row],[Producto]]=$A$3,VentasMenudeo[[#This Row],[Precio de Venta]]*VentasMenudeo[[#This Row],[Cantidad]]-VentasMenudeo[[#This Row],[Descuento]],VentasMenudeo[[#This Row],[Producto]]=$A$4,VentasMenudeo[[#This Row],[Precio de Venta]]*VentasMenudeo[[#This Row],[Cantidad]]-VentasMenudeo[[#This Row],[Descuento]],VentasMenudeo[[#This Row],[Producto]]=$A$5,VentasMenudeo[[#This Row],[Precio de Venta]]*VentasMenudeo[[#This Row],[Cantidad]]-VentasMenudeo[[#This Row],[Descuento]]),0)","v":250},250]
["2022-09-02","Hugo","IPLAY MAX","Cool mint",1,"$20 Descuento",null,{"$f":"_xlfn.IFNA(VLOOKUP(VentasMenudeo[[#This Row],[Promoción]],PromocionesMenudeo[[Promocion]:[Descuento]],2,0),0)","v":20},{"$f":"_xlfn.IFNA(VLOOKUP(VentasMenudeo[[#This Row],[Producto]],$A$2:$B$5,2,FALSE),0)","v":270},{"$f":"_xlfn.IFNA(_xlfn.IFS(VentasMenudeo[[#This Row],[Producto]]=$A$2,VentasMenudeo[[#This Row],[Precio de Venta]]*VentasMenudeo[[#This Row],[Cantidad]]-VentasMenudeo[[#This Row],[Descuento]],VentasMenudeo[[#This Row],[Producto]]=$A$3,VentasMenudeo[[#This Row],[Precio de Venta]]*VentasMenudeo[[#This Row],[Cantidad]]-VentasMenudeo[[#This Row],[Descuento]],VentasMenudeo[[#This Row],[Producto]]=$A$4,VentasMenudeo[[#This Row],[Precio de Venta]]*VentasMenudeo[[#This Row],[Cantidad]]-VentasMenudeo[[#This Row],[Descuento]],VentasMenudeo[[#This Row],[Producto]]=$A$5,VentasMenudeo[[#This Row],[Precio de Venta]]*VentasMenudeo[[#This Row],[Cantidad]]-VentasMenudeo[[#This Row],[Descuento]]),0)","v":250},250]
["2022-09-02","Hugo","IPLAY MAX","Cool mint",1,"$20 Descuento",null,{"$f":"_xlfn.IFNA(VLOOKUP(VentasMenudeo[[#This Row],[Promoción]],PromocionesMenudeo[[Promocion]:[Descuento]],2,0),0)","v":20},{"$f":"_xlfn.IFNA(VLOOKUP(VentasMenudeo[[#This Row],[Producto]],$A$2:$B$5,2,FALSE),0)","v":270},{"$f":"_xlfn.IFNA(_xlfn.IFS(VentasMenudeo[[#This Row],[Producto]]=$A$2,VentasMenudeo[[#This Row],[Precio de Venta]]*VentasMenudeo[[#This Row],[Cantidad]]-VentasMenudeo[[#This Row],[Descuento]],VentasMenudeo[[#This Row],[Producto]]=$A$3,VentasMenudeo[[#This Row],[Precio de Venta]]*VentasMenudeo[[#This Row],[Cantidad]]-VentasMenudeo[[#This Row],[Descuento]],VentasMenudeo[[#This Row],[Producto]]=$A$4,VentasMenudeo[[#This Row],[Precio de Venta]]*VentasMenudeo[[#This Row],[Cantidad]]-VentasMenudeo[[#This Row],[Descuento]],VentasMenudeo[[#This Row],[Producto]]=$A$5,VentasMenudeo[[#This Row],[Precio de Venta]]*VentasMenudeo[[#This Row],[Cantidad]]-VentasMenudeo[[#This Row],[Descuento]]),0)","v":250},250]
["2022-09-02","Hugo","IPLAY MAX","GrapeFruit berry",1,"$20 Descuento",null,{"$f":"_xlfn.IFNA(VLOOKUP(VentasMenudeo[[#This Row],[Promoción]],PromocionesMenudeo[[Promocion]:[Descuento]],2,0),0)","v":20},{"$f":"_xlfn.IFNA(VLOOKUP(VentasMenudeo[[#This Row],[Producto]],$A$2:$B$5,2,FALSE),0)","v":270},{"$f":"_xlfn.IFNA(_xlfn.IFS(VentasMenudeo[[#This Row],[Producto]]=$A$2,VentasMenudeo[[#This Row],[Precio de Venta]]*VentasMenudeo[[#This Row],[Cantidad]]-VentasMenudeo[[#This Row],[Descuento]],VentasMenudeo[[#This Row],[Producto]]=$A$3,VentasMenudeo[[#This Row],[Precio de Venta]]*VentasMenudeo[[#This Row],[Cantidad]]-VentasMenudeo[[#This Row],[Descuento]],VentasMenudeo[[#This Row],[Producto]]=$A$4,VentasMenudeo[[#This Row],[Precio de Venta]]*VentasMenudeo[[#This Row],[Cantidad]]-VentasMenudeo[[#This Row],[Descuento]],VentasMenudeo[[#This Row],[Producto]]=$A$5,VentasMenudeo[[#This Row],[Precio de Venta]]*VentasMenudeo[[#This Row],[Cantidad]]-VentasMenudeo[[#This Row],[Descuento]]),0)","v":250},250]
["2022-09-02","Hugo","IPLAY MAX","GrapeFruit berry",1,"$20 Descuento",null,{"$f":"_xlfn.IFNA(VLOOKUP(VentasMenudeo[[#This Row],[Promoción]],PromocionesMenudeo[[Promocion]:[Descuento]],2,0),0)","v":20},{"$f":"_xlfn.IFNA(VLOOKUP(VentasMenudeo[[#This Row],[Producto]],$A$2:$B$5,2,FALSE),0)","v":270},{"$f":"_xlfn.IFNA(_xlfn.IFS(VentasMenudeo[[#This Row],[Producto]]=$A$2,VentasMenudeo[[#This Row],[Precio de Venta]]*VentasMenudeo[[#This Row],[Cantidad]]-VentasMenudeo[[#This Row],[Descuento]],VentasMenudeo[[#This Row],[Producto]]=$A$3,VentasMenudeo[[#This Row],[Precio de Venta]]*VentasMenudeo[[#This Row],[Cantidad]]-VentasMenudeo[[#This Row],[Descuento]],VentasMenudeo[[#This Row],[Producto]]=$A$4,VentasMenudeo[[#This Row],[Precio de Venta]]*VentasMenudeo[[#This Row],[Cantidad]]-VentasMenudeo[[#This Row],[Descuento]],VentasMenudeo[[#This Row],[Producto]]=$A$5,VentasMenudeo[[#This Row],[Precio de Venta]]*VentasMenudeo[[#This Row],[Cantidad]]-VentasMenudeo[[#This Row],[Descuento]]),0)","v":250},250]
["2022-09-02","Hugo","IPLAY MAX","Guava",1,"$20 Descuento",null,{"$f":"_xlfn.IFNA(VLOOKUP(VentasMenudeo[[#This Row],[Promoción]],PromocionesMenudeo[[Promocion]:[Descuento]],2,0),0)","v":20},{"$f":"_xlfn.IFNA(VLOOKUP(VentasMenudeo[[#This Row],[Producto]],$A$2:$B$5,2,FALSE),0)","v":270},{"$f":"_xlfn.IFNA(_xlfn.IFS(VentasMenudeo[[#This Row],[Producto]]=$A$2,VentasMenudeo[[#This Row],[Precio de Venta]]*VentasMenudeo[[#This Row],[Cantidad]]-VentasMenudeo[[#This Row],[Descuento]],VentasMenudeo[[#This Row],[Producto]]=$A$3,VentasMenudeo[[#This Row],[Precio de Venta]]*VentasMenudeo[[#This Row],[Cantidad]]-VentasMenudeo[[#This Row],[Descuento]],VentasMenudeo[[#This Row],[Producto]]=$A$4,VentasMenudeo[[#This Row],[Precio de Venta]]*VentasMenudeo[[#This Row],[Cantidad]]-VentasMenudeo[[#This Row],[Descuento]],VentasMenudeo[[#This Row],[Producto]]=$A$5,VentasMenudeo[[#This Row],[Precio de Venta]]*VentasMenudeo[[#This Row],[Cantidad]]-VentasMenudeo[[#This Row],[Descuento]]),0)","v":250},250]
["2022-09-02","Hugo","IPLAY MAX","Peach Ice",1,"$20 Descuento",null,{"$f":"_xlfn.IFNA(VLOOKUP(VentasMenudeo[[#This Row],[Promoción]],PromocionesMenudeo[[Promocion]:[Descuento]],2,0),0)","v":20},{"$f":"_xlfn.IFNA(VLOOKUP(VentasMenudeo[[#This Row],[Producto]],$A$2:$B$5,2,FALSE),0)","v":270},{"$f":"_xlfn.IFNA(_xlfn.IFS(VentasMenudeo[[#This Row],[Producto]]=$A$2,VentasMenudeo[[#This Row],[Precio de Venta]]*VentasMenudeo[[#This Row],[Cantidad]]-VentasMenudeo[[#This Row],[Descuento]],VentasMenudeo[[#This Row],[Producto]]=$A$3,VentasMenudeo[[#This Row],[Precio de Venta]]*VentasMenudeo[[#This Row],[Cantidad]]-VentasMenudeo[[#This Row],[Descuento]],VentasMenudeo[[#This Row],[Producto]]=$A$4,VentasMenudeo[[#This Row],[Precio de Venta]]*VentasMenudeo[[#This Row],[Cantidad]]-VentasMenudeo[[#This Row],[Descuento]],VentasMenudeo[[#This Row],[Producto]]=$A$5,VentasMenudeo[[#This Row],[Precio de Venta]]*VentasMenudeo[[#This Row],[Cantidad]]-VentasMenudeo[[#This Row],[Descuento]]),0)","v":250},250]
["2022-09-02","Hugo","IPLAY MAX","Peach Ice",1,"$20 Descuento",null,{"$f":"_xlfn.IFNA(VLOOKUP(VentasMenudeo[[#This Row],[Promoción]],PromocionesMenudeo[[Promocion]:[Descuento]],2,0),0)","v":20},{"$f":"_xlfn.IFNA(VLOOKUP(VentasMenudeo[[#This Row],[Producto]],$A$2:$B$5,2,FALSE),0)","v":270},{"$f":"_xlfn.IFNA(_xlfn.IFS(VentasMenudeo[[#This Row],[Producto]]=$A$2,VentasMenudeo[[#This Row],[Precio de Venta]]*VentasMenudeo[[#This Row],[Cantidad]]-VentasMenudeo[[#This Row],[Descuento]],VentasMenudeo[[#This Row],[Producto]]=$A$3,VentasMenudeo[[#This Row],[Precio de Venta]]*VentasMenudeo[[#This Row],[Cantidad]]-VentasMenudeo[[#This Row],[Descuento]],VentasMenudeo[[#This Row],[Producto]]=$A$4,VentasMenudeo[[#This Row],[Precio de Venta]]*VentasMenudeo[[#This Row],[Cantidad]]-VentasMenudeo[[#This Row],[Descuento]],VentasMenudeo[[#This Row],[Producto]]=$A$5,VentasMenudeo[[#This Row],[Precio de Venta]]*VentasMenudeo[[#This Row],[Cantidad]]-VentasMenudeo[[#This Row],[Descuento]]),0)","v":250},250]
["2022-09-02","Hugo","IPLAY MAX","Peach Ice",1,"$20 Descuento",null,{"$f":"_xlfn.IFNA(VLOOKUP(VentasMenudeo[[#This Row],[Promoción]],PromocionesMenudeo[[Promocion]:[Descuento]],2,0),0)","v":20},{"$f":"_xlfn.IFNA(VLOOKUP(VentasMenudeo[[#This Row],[Producto]],$A$2:$B$5,2,FALSE),0)","v":270},{"$f":"_xlfn.IFNA(_xlfn.IFS(VentasMenudeo[[#This Row],[Producto]]=$A$2,VentasMenudeo[[#This Row],[Precio de Venta]]*VentasMenudeo[[#This Row],[Cantidad]]-VentasMenudeo[[#This Row],[Descuento]],VentasMenudeo[[#This Row],[Producto]]=$A$3,VentasMenudeo[[#This Row],[Precio de Venta]]*VentasMenudeo[[#This Row],[Cantidad]]-VentasMenudeo[[#This Row],[Descuento]],VentasMenudeo[[#This Row],[Producto]]=$A$4,VentasMenudeo[[#This Row],[Precio de Venta]]*VentasMenudeo[[#This Row],[Cantidad]]-VentasMenudeo[[#This Row],[Descuento]],VentasMenudeo[[#This Row],[Producto]]=$A$5,VentasMenudeo[[#This Row],[Precio de Venta]]*VentasMenudeo[[#This Row],[Cantidad]]-VentasMenudeo[[#This Row],[Descuento]]),0)","v":250},250]
["2022-09-02","Hugo","IPLAY MAX","Peach Ice",1,"$20 Descuento",null,{"$f":"_xlfn.IFNA(VLOOKUP(VentasMenudeo[[#This Row],[Promoción]],PromocionesMenudeo[[Promocion]:[Descuento]],2,0),0)","v":20},{"$f":"_xlfn.IFNA(VLOOKUP(VentasMenudeo[[#This Row],[Producto]],$A$2:$B$5,2,FALSE),0)","v":270},{"$f":"_xlfn.IFNA(_xlfn.IFS(VentasMenudeo[[#This Row],[Producto]]=$A$2,VentasMenudeo[[#This Row],[Precio de Venta]]*VentasMenudeo[[#This Row],[Cantidad]]-VentasMenudeo[[#This Row],[Descuento]],VentasMenudeo[[#This Row],[Producto]]=$A$3,VentasMenudeo[[#This Row],[Precio de Venta]]*VentasMenudeo[[#This Row],[Cantidad]]-VentasMenudeo[[#This Row],[Descuento]],VentasMenudeo[[#This Row],[Producto]]=$A$4,VentasMenudeo[[#This Row],[Precio de Venta]]*VentasMenudeo[[#This Row],[Cantidad]]-VentasMenudeo[[#This Row],[Descuento]],VentasMenudeo[[#This Row],[Producto]]=$A$5,VentasMenudeo[[#This Row],[Precio de Venta]]*VentasMenudeo[[#This Row],[Cantidad]]-VentasMenudeo[[#This Row],[Descuento]]),0)","v":250},250]
["2022-09-02","Hugo","IPLAY MAX","Peach Ice",1,"$20 Descuento",null,{"$f":"_xlfn.IFNA(VLOOKUP(VentasMenudeo[[#This Row],[Promoción]],PromocionesMenudeo[[Promocion]:[Descuento]],2,0),0)","v":20},{"$f":"_xlfn.IFNA(VLOOKUP(VentasMenudeo[[#This Row],[Producto]],$A$2:$B$5,2,FALSE),0)","v":270},{"$f":"_xlfn.IFNA(_xlfn.IFS(VentasMenudeo[[#This Row],[Producto]]=$A$2,VentasMenudeo[[#This Row],[Precio de Venta]]*VentasMenudeo[[#This Row],[Cantidad]]-VentasMenudeo[[#This Row],[Descuento]],VentasMenudeo[[#This Row],[Producto]]=$A$3,VentasMenudeo[[#This Row],[Precio de Venta]]*VentasMenudeo[[#This Row],[Cantidad]]-VentasMenudeo[[#This Row],[Descuento]],VentasMenudeo[[#This Row],[Producto]]=$A$4,VentasMenudeo[[#This Row],[Precio de Venta]]*VentasMenudeo[[#This Row],[Cantidad]]-VentasMenudeo[[#This Row],[Descuento]],VentasMenudeo[[#This Row],[Producto]]=$A$5,VentasMenudeo[[#This Row],[Precio de Venta]]*VentasMenudeo[[#This Row],[Cantidad]]-VentasMenudeo[[#This Row],[Descuento]]),0)","v":250},250]
["2022-09-02","Hugo","IPLAY MAX","Sourraspberry",1,"$20 Descuento",null,{"$f":"_xlfn.IFNA(VLOOKUP(VentasMenudeo[[#This Row],[Promoción]],PromocionesMenudeo[[Promocion]:[Descuento]],2,0),0)","v":20},{"$f":"_xlfn.IFNA(VLOOKUP(VentasMenudeo[[#This Row],[Producto]],$A$2:$B$5,2,FALSE),0)","v":270},{"$f":"_xlfn.IFNA(_xlfn.IFS(VentasMenudeo[[#This Row],[Producto]]=$A$2,VentasMenudeo[[#This Row],[Precio de Venta]]*VentasMenudeo[[#This Row],[Cantidad]]-VentasMenudeo[[#This Row],[Descuento]],VentasMenudeo[[#This Row],[Producto]]=$A$3,VentasMenudeo[[#This Row],[Precio de Venta]]*VentasMenudeo[[#This Row],[Cantidad]]-VentasMenudeo[[#This Row],[Descuento]],VentasMenudeo[[#This Row],[Producto]]=$A$4,VentasMenudeo[[#This Row],[Precio de Venta]]*VentasMenudeo[[#This Row],[Cantidad]]-VentasMenudeo[[#This Row],[Descuento]],VentasMenudeo[[#This Row],[Producto]]=$A$5,VentasMenudeo[[#This Row],[Precio de Venta]]*VentasMenudeo[[#This Row],[Cantidad]]-VentasMenudeo[[#This Row],[Descuento]]),0)","v":250},250]
["2022-09-02","Hugo","IPLAY MAX","Berry Watermelon",1,"$20 Descuento",null,{"$f":"_xlfn.IFNA(VLOOKUP(VentasMenudeo[[#This Row],[Promoción]],PromocionesMenudeo[[Promocion]:[Descuento]],2,0),0)","v":20},{"$f":"_xlfn.IFNA(VLOOKUP(VentasMenudeo[[#This Row],[Producto]],$A$2:$B$5,2,FALSE),0)","v":270},{"$f":"_xlfn.IFNA(_xlfn.IFS(VentasMenudeo[[#This Row],[Producto]]=$A$2,VentasMenudeo[[#This Row],[Precio de Venta]]*VentasMenudeo[[#This Row],[Cantidad]]-VentasMenudeo[[#This Row],[Descuento]],VentasMenudeo[[#This Row],[Producto]]=$A$3,VentasMenudeo[[#This Row],[Precio de Venta]]*VentasMenudeo[[#This Row],[Cantidad]]-VentasMenudeo[[#This Row],[Descuento]],VentasMenudeo[[#This Row],[Producto]]=$A$4,VentasMenudeo[[#This Row],[Precio de Venta]]*VentasMenudeo[[#This Row],[Cantidad]]-VentasMenudeo[[#This Row],[Descuento]],VentasMenudeo[[#This Row],[Producto]]=$A$5,VentasMenudeo[[#This Row],[Precio de Venta]]*VentasMenudeo[[#This Row],[Cantidad]]-VentasMenudeo[[#This Row],[Descuento]]),0)","v":250},250]
["2022-09-02","Hugo","IPLAY MAX","Coconut",1,"$20 Descuento",null,{"$f":"_xlfn.IFNA(VLOOKUP(VentasMenudeo[[#This Row],[Promoción]],PromocionesMenudeo[[Promocion]:[Descuento]],2,0),0)","v":20},{"$f":"_xlfn.IFNA(VLOOKUP(VentasMenudeo[[#This Row],[Producto]],$A$2:$B$5,2,FALSE),0)","v":270},{"$f":"_xlfn.IFNA(_xlfn.IFS(VentasMenudeo[[#This Row],[Producto]]=$A$2,VentasMenudeo[[#This Row],[Precio de Venta]]*VentasMenudeo[[#This Row],[Cantidad]]-VentasMenudeo[[#This Row],[Descuento]],VentasMenudeo[[#This Row],[Producto]]=$A$3,VentasMenudeo[[#This Row],[Precio de Venta]]*VentasMenudeo[[#This Row],[Cantidad]]-VentasMenudeo[[#This Row],[Descuento]],VentasMenudeo[[#This Row],[Producto]]=$A$4,VentasMenudeo[[#This Row],[Precio de Venta]]*VentasMenudeo[[#This Row],[Cantidad]]-VentasMenudeo[[#This Row],[Descuento]],VentasMenudeo[[#This Row],[Producto]]=$A$5,VentasMenudeo[[#This Row],[Precio de Venta]]*VentasMenudeo[[#This Row],[Cantidad]]-VentasMenudeo[[#This Row],[Descuento]]),0)","v":250},250]
["2022-09-02","Hugo","IPLAY MAX","Bluerazz",1,"$20 Descuento",null,{"$f":"_xlfn.IFNA(VLOOKUP(VentasMenudeo[[#This Row],[Promoción]],PromocionesMenudeo[[Promocion]:[Descuento]],2,0),0)","v":20},{"$f":"_xlfn.IFNA(VLOOKUP(VentasMenudeo[[#This Row],[Producto]],$A$2:$B$5,2,FALSE),0)","v":270},{"$f":"_xlfn.IFNA(_xlfn.IFS(VentasMenudeo[[#This Row],[Producto]]=$A$2,VentasMenudeo[[#This Row],[Precio de Venta]]*VentasMenudeo[[#This Row],[Cantidad]]-VentasMenudeo[[#This Row],[Descuento]],VentasMenudeo[[#This Row],[Producto]]=$A$3,VentasMenudeo[[#This Row],[Precio de Venta]]*VentasMenudeo[[#This Row],[Cantidad]]-VentasMenudeo[[#This Row],[Descuento]],VentasMenudeo[[#This Row],[Producto]]=$A$4,VentasMenudeo[[#This Row],[Precio de Venta]]*VentasMenudeo[[#This Row],[Cantidad]]-VentasMenudeo[[#This Row],[Descuento]],VentasMenudeo[[#This Row],[Producto]]=$A$5,VentasMenudeo[[#This Row],[Precio de Venta]]*VentasMenudeo[[#This Row],[Cantidad]]-VentasMenudeo[[#This Row],[Descuento]]),0)","v":250},250]
["2022-09-02","Hugo","IPLAY MAX","Berry Watermelon",1,"$20 Descuento",null,{"$f":"_xlfn.IFNA(VLOOKUP(VentasMenudeo[[#This Row],[Promoción]],PromocionesMenudeo[[Promocion]:[Descuento]],2,0),0)","v":20},{"$f":"_xlfn.IFNA(VLOOKUP(VentasMenudeo[[#This Row],[Producto]],$A$2:$B$5,2,FALSE),0)","v":270},{"$f":"_xlfn.IFNA(_xlfn.IFS(VentasMenudeo[[#This Row],[Producto]]=$A$2,VentasMenudeo[[#This Row],[Precio de Venta]]*VentasMenudeo[[#This Row],[Cantidad]]-VentasMenudeo[[#This Row],[Descuento]],VentasMenudeo[[#This Row],[Producto]]=$A$3,VentasMenudeo[[#This Row],[Precio de Venta]]*VentasMenudeo[[#This Row],[Cantidad]]-VentasMenudeo[[#This Row],[Descuento]],VentasMenudeo[[#This Row],[Producto]]=$A$4,VentasMenudeo[[#This Row],[Precio de Venta]]*VentasMenudeo[[#This Row],[Cantidad]]-VentasMenudeo[[#This Row],[Descuento]],VentasMenudeo[[#This Row],[Producto]]=$A$5,VentasMenudeo[[#This Row],[Precio de Venta]]*VentasMenudeo[[#This Row],[Cantidad]]-VentasMenudeo[[#This Row],[Descuento]]),0)","v":250},250]
["2022-09-02","Hugo","IPLAY MAX","Berry Watermelon",1,"$20 Descuento",null,{"$f":"_xlfn.IFNA(VLOOKUP(VentasMenudeo[[#This Row],[Promoción]],PromocionesMenudeo[[Promocion]:[Descuento]],2,0),0)","v":20},{"$f":"_xlfn.IFNA(VLOOKUP(VentasMenudeo[[#This Row],[Producto]],$A$2:$B$5,2,FALSE),0)","v":270},{"$f":"_xlfn.IFNA(_xlfn.IFS(VentasMenudeo[[#This Row],[Producto]]=$A$2,VentasMenudeo[[#This Row],[Precio de Venta]]*VentasMenudeo[[#This Row],[Cantidad]]-VentasMenudeo[[#This Row],[Descuento]],VentasMenudeo[[#This Row],[Producto]]=$A$3,VentasMenudeo[[#This Row],[Precio de Venta]]*VentasMenudeo[[#This Row],[Cantidad]]-VentasMenudeo[[#This Row],[Descuento]],VentasMenudeo[[#This Row],[Producto]]=$A$4,VentasMenudeo[[#This Row],[Precio de Venta]]*VentasMenudeo[[#This Row],[Cantidad]]-VentasMenudeo[[#This Row],[Descuento]],VentasMenudeo[[#This Row],[Producto]]=$A$5,VentasMenudeo[[#This Row],[Precio de Venta]]*VentasMenudeo[[#This Row],[Cantidad]]-VentasMenudeo[[#This Row],[Descuento]]),0)","v":250},250]
["2022-09-03","Hugo","IPLAY MAX","Energy ICE",1,"$20 Descuento",null,{"$f":"_xlfn.IFNA(VLOOKUP(VentasMenudeo[[#This Row],[Promoción]],PromocionesMenudeo[[Promocion]:[Descuento]],2,0),0)","v":20},{"$f":"_xlfn.IFNA(VLOOKUP(VentasMenudeo[[#This Row],[Producto]],$A$2:$B$5,2,FALSE),0)","v":270},{"$f":"_xlfn.IFNA(_xlfn.IFS(VentasMenudeo[[#This Row],[Producto]]=$A$2,VentasMenudeo[[#This Row],[Precio de Venta]]*VentasMenudeo[[#This Row],[Cantidad]]-VentasMenudeo[[#This Row],[Descuento]],VentasMenudeo[[#This Row],[Producto]]=$A$3,VentasMenudeo[[#This Row],[Precio de Venta]]*VentasMenudeo[[#This Row],[Cantidad]]-VentasMenudeo[[#This Row],[Descuento]],VentasMenudeo[[#This Row],[Producto]]=$A$4,VentasMenudeo[[#This Row],[Precio de Venta]]*VentasMenudeo[[#This Row],[Cantidad]]-VentasMenudeo[[#This Row],[Descuento]],VentasMenudeo[[#This Row],[Producto]]=$A$5,VentasMenudeo[[#This Row],[Precio de Venta]]*VentasMenudeo[[#This Row],[Cantidad]]-VentasMenudeo[[#This Row],[Descuento]]),0)","v":250},250]
["2022-09-03","Hugo","IPLAY MAX","Peach Ice",1,"$20 Descuento",null,{"$f":"_xlfn.IFNA(VLOOKUP(VentasMenudeo[[#This Row],[Promoción]],PromocionesMenudeo[[Promocion]:[Descuento]],2,0),0)","v":20},{"$f":"_xlfn.IFNA(VLOOKUP(VentasMenudeo[[#This Row],[Producto]],$A$2:$B$5,2,FALSE),0)","v":270},{"$f":"_xlfn.IFNA(_xlfn.IFS(VentasMenudeo[[#This Row],[Producto]]=$A$2,VentasMenudeo[[#This Row],[Precio de Venta]]*VentasMenudeo[[#This Row],[Cantidad]]-VentasMenudeo[[#This Row],[Descuento]],VentasMenudeo[[#This Row],[Producto]]=$A$3,VentasMenudeo[[#This Row],[Precio de Venta]]*VentasMenudeo[[#This Row],[Cantidad]]-VentasMenudeo[[#This Row],[Descuento]],VentasMenudeo[[#This Row],[Producto]]=$A$4,VentasMenudeo[[#This Row],[Precio de Venta]]*VentasMenudeo[[#This Row],[Cantidad]]-VentasMenudeo[[#This Row],[Descuento]],VentasMenudeo[[#This Row],[Producto]]=$A$5,VentasMenudeo[[#This Row],[Precio de Venta]]*VentasMenudeo[[#This Row],[Cantidad]]-VentasMenudeo[[#This Row],[Descuento]]),0)","v":250},250]
["2022-09-05","Hugo","IPLAY MAX","Strawberry Lychee",1,"$20 Descuento",null,{"$f":"_xlfn.IFNA(VLOOKUP(VentasMenudeo[[#This Row],[Promoción]],PromocionesMenudeo[[Promocion]:[Descuento]],2,0),0)","v":20},{"$f":"_xlfn.IFNA(VLOOKUP(VentasMenudeo[[#This Row],[Producto]],$A$2:$B$5,2,FALSE),0)","v":270},{"$f":"_xlfn.IFNA(_xlfn.IFS(VentasMenudeo[[#This Row],[Producto]]=$A$2,VentasMenudeo[[#This Row],[Precio de Venta]]*VentasMenudeo[[#This Row],[Cantidad]]-VentasMenudeo[[#This Row],[Descuento]],VentasMenudeo[[#This Row],[Producto]]=$A$3,VentasMenudeo[[#This Row],[Precio de Venta]]*VentasMenudeo[[#This Row],[Cantidad]]-VentasMenudeo[[#This Row],[Descuento]],VentasMenudeo[[#This Row],[Producto]]=$A$4,VentasMenudeo[[#This Row],[Precio de Venta]]*VentasMenudeo[[#This Row],[Cantidad]]-VentasMenudeo[[#This Row],[Descuento]],VentasMenudeo[[#This Row],[Producto]]=$A$5,VentasMenudeo[[#This Row],[Precio de Venta]]*VentasMenudeo[[#This Row],[Cantidad]]-VentasMenudeo[[#This Row],[Descuento]]),0)","v":250},250]
["2022-09-05","Hugo","IPLAY MAX","Banana Ice",1,"$20 Descuento",null,{"$f":"_xlfn.IFNA(VLOOKUP(VentasMenudeo[[#This Row],[Promoción]],PromocionesMenudeo[[Promocion]:[Descuento]],2,0),0)","v":20},{"$f":"_xlfn.IFNA(VLOOKUP(VentasMenudeo[[#This Row],[Producto]],$A$2:$B$5,2,FALSE),0)","v":270},{"$f":"_xlfn.IFNA(_xlfn.IFS(VentasMenudeo[[#This Row],[Producto]]=$A$2,VentasMenudeo[[#This Row],[Precio de Venta]]*VentasMenudeo[[#This Row],[Cantidad]]-VentasMenudeo[[#This Row],[Descuento]],VentasMenudeo[[#This Row],[Producto]]=$A$3,VentasMenudeo[[#This Row],[Precio de Venta]]*VentasMenudeo[[#This Row],[Cantidad]]-VentasMenudeo[[#This Row],[Descuento]],VentasMenudeo[[#This Row],[Producto]]=$A$4,VentasMenudeo[[#This Row],[Precio de Venta]]*VentasMenudeo[[#This Row],[Cantidad]]-VentasMenudeo[[#This Row],[Descuento]],VentasMenudeo[[#This Row],[Producto]]=$A$5,VentasMenudeo[[#This Row],[Precio de Venta]]*VentasMenudeo[[#This Row],[Cantidad]]-VentasMenudeo[[#This Row],[Descuento]]),0)","v":250},250]
["2022-09-05","Hugo","IPLAY MAX","Cool mint",1,"$20 Descuento",null,{"$f":"_xlfn.IFNA(VLOOKUP(VentasMenudeo[[#This Row],[Promoción]],PromocionesMenudeo[[Promocion]:[Descuento]],2,0),0)","v":20},{"$f":"_xlfn.IFNA(VLOOKUP(VentasMenudeo[[#This Row],[Producto]],$A$2:$B$5,2,FALSE),0)","v":270},{"$f":"_xlfn.IFNA(_xlfn.IFS(VentasMenudeo[[#This Row],[Producto]]=$A$2,VentasMenudeo[[#This Row],[Precio de Venta]]*VentasMenudeo[[#This Row],[Cantidad]]-VentasMenudeo[[#This Row],[Descuento]],VentasMenudeo[[#This Row],[Producto]]=$A$3,VentasMenudeo[[#This Row],[Precio de Venta]]*VentasMenudeo[[#This Row],[Cantidad]]-VentasMenudeo[[#This Row],[Descuento]],VentasMenudeo[[#This Row],[Producto]]=$A$4,VentasMenudeo[[#This Row],[Precio de Venta]]*VentasMenudeo[[#This Row],[Cantidad]]-VentasMenudeo[[#This Row],[Descuento]],VentasMenudeo[[#This Row],[Producto]]=$A$5,VentasMenudeo[[#This Row],[Precio de Venta]]*VentasMenudeo[[#This Row],[Cantidad]]-VentasMenudeo[[#This Row],[Descuento]]),0)","v":250},250]
["2022-09-05","Hugo","IPLAY MAX","Energy ICE",1,"$20 Descuento",null,{"$f":"_xlfn.IFNA(VLOOKUP(VentasMenudeo[[#This Row],[Promoción]],PromocionesMenudeo[[Promocion]:[Descuento]],2,0),0)","v":20},{"$f":"_xlfn.IFNA(VLOOKUP(VentasMenudeo[[#This Row],[Producto]],$A$2:$B$5,2,FALSE),0)","v":270},{"$f":"_xlfn.IFNA(_xlfn.IFS(VentasMenudeo[[#This Row],[Producto]]=$A$2,VentasMenudeo[[#This Row],[Precio de Venta]]*VentasMenudeo[[#This Row],[Cantidad]]-VentasMenudeo[[#This Row],[Descuento]],VentasMenudeo[[#This Row],[Producto]]=$A$3,VentasMenudeo[[#This Row],[Precio de Venta]]*VentasMenudeo[[#This Row],[Cantidad]]-VentasMenudeo[[#This Row],[Descuento]],VentasMenudeo[[#This Row],[Producto]]=$A$4,VentasMenudeo[[#This Row],[Precio de Venta]]*VentasMenudeo[[#This Row],[Cantidad]]-VentasMenudeo[[#This Row],[Descuento]],VentasMenudeo[[#This Row],[Producto]]=$A$5,VentasMenudeo[[#This Row],[Precio de Venta]]*VentasMenudeo[[#This Row],[Cantidad]]-VentasMenudeo[[#This Row],[Descuento]]),0)","v":250},250]
["2022-09-06","Hugo","IPLAY MAX","Bluerazz",1,"$20 Descuento",null,{"$f":"_xlfn.IFNA(VLOOKUP(VentasMenudeo[[#This Row],[Promoción]],PromocionesMenudeo[[Promocion]:[Descuento]],2,0),0)","v":20},{"$f":"_xlfn.IFNA(VLOOKUP(VentasMenudeo[[#This Row],[Producto]],$A$2:$B$5,2,FALSE),0)","v":270},{"$f":"_xlfn.IFNA(_xlfn.IFS(VentasMenudeo[[#This Row],[Producto]]=$A$2,VentasMenudeo[[#This Row],[Precio de Venta]]*VentasMenudeo[[#This Row],[Cantidad]]-VentasMenudeo[[#This Row],[Descuento]],VentasMenudeo[[#This Row],[Producto]]=$A$3,VentasMenudeo[[#This Row],[Precio de Venta]]*VentasMenudeo[[#This Row],[Cantidad]]-VentasMenudeo[[#This Row],[Descuento]],VentasMenudeo[[#This Row],[Producto]]=$A$4,VentasMenudeo[[#This Row],[Precio de Venta]]*VentasMenudeo[[#This Row],[Cantidad]]-VentasMenudeo[[#This Row],[Descuento]],VentasMenudeo[[#This Row],[Producto]]=$A$5,VentasMenudeo[[#This Row],[Precio de Venta]]*VentasMenudeo[[#This Row],[Cantidad]]-VentasMenudeo[[#This Row],[Descuento]]),0)","v":250},250]
["2022-09-06","Hugo","IPLAY MAX","Bluerazz",1,"$20 Descuento",null,{"$f":"_xlfn.IFNA(VLOOKUP(VentasMenudeo[[#This Row],[Promoción]],PromocionesMenudeo[[Promocion]:[Descuento]],2,0),0)","v":20},{"$f":"_xlfn.IFNA(VLOOKUP(VentasMenudeo[[#This Row],[Producto]],$A$2:$B$5,2,FALSE),0)","v":270},{"$f":"_xlfn.IFNA(_xlfn.IFS(VentasMenudeo[[#This Row],[Producto]]=$A$2,VentasMenudeo[[#This Row],[Precio de Venta]]*VentasMenudeo[[#This Row],[Cantidad]]-VentasMenudeo[[#This Row],[Descuento]],VentasMenudeo[[#This Row],[Producto]]=$A$3,VentasMenudeo[[#This Row],[Precio de Venta]]*VentasMenudeo[[#This Row],[Cantidad]]-VentasMenudeo[[#This Row],[Descuento]],VentasMenudeo[[#This Row],[Producto]]=$A$4,VentasMenudeo[[#This Row],[Precio de Venta]]*VentasMenudeo[[#This Row],[Cantidad]]-VentasMenudeo[[#This Row],[Descuento]],VentasMenudeo[[#This Row],[Producto]]=$A$5,VentasMenudeo[[#This Row],[Precio de Venta]]*VentasMenudeo[[#This Row],[Cantidad]]-VentasMenudeo[[#This Row],[Descuento]]),0)","v":250},250]
["2022-09-06","Hugo","IPLAY MAX","Cool mint",1,"$20 Descuento",null,{"$f":"_xlfn.IFNA(VLOOKUP(VentasMenudeo[[#This Row],[Promoción]],PromocionesMenudeo[[Promocion]:[Descuento]],2,0),0)","v":20},{"$f":"_xlfn.IFNA(VLOOKUP(VentasMenudeo[[#This Row],[Producto]],$A$2:$B$5,2,FALSE),0)","v":270},{"$f":"_xlfn.IFNA(_xlfn.IFS(VentasMenudeo[[#This Row],[Producto]]=$A$2,VentasMenudeo[[#This Row],[Precio de Venta]]*VentasMenudeo[[#This Row],[Cantidad]]-VentasMenudeo[[#This Row],[Descuento]],VentasMenudeo[[#This Row],[Producto]]=$A$3,VentasMenudeo[[#This Row],[Precio de Venta]]*VentasMenudeo[[#This Row],[Cantidad]]-VentasMenudeo[[#This Row],[Descuento]],VentasMenudeo[[#This Row],[Producto]]=$A$4,VentasMenudeo[[#This Row],[Precio de Venta]]*VentasMenudeo[[#This Row],[Cantidad]]-VentasMenudeo[[#This Row],[Descuento]],VentasMenudeo[[#This Row],[Producto]]=$A$5,VentasMenudeo[[#This Row],[Precio de Venta]]*VentasMenudeo[[#This Row],[Cantidad]]-VentasMenudeo[[#This Row],[Descuento]]),0)","v":250},250]
["2022-09-07","Hugo","IPLAY MAX","Grape Ice",1,"$20 Descuento",null,{"$f":"_xlfn.IFNA(VLOOKUP(VentasMenudeo[[#This Row],[Promoción]],PromocionesMenudeo[[Promocion]:[Descuento]],2,0),0)","v":20},{"$f":"_xlfn.IFNA(VLOOKUP(VentasMenudeo[[#This Row],[Producto]],$A$2:$B$5,2,FALSE),0)","v":270},{"$f":"_xlfn.IFNA(_xlfn.IFS(VentasMenudeo[[#This Row],[Producto]]=$A$2,VentasMenudeo[[#This Row],[Precio de Venta]]*VentasMenudeo[[#This Row],[Cantidad]]-VentasMenudeo[[#This Row],[Descuento]],VentasMenudeo[[#This Row],[Producto]]=$A$3,VentasMenudeo[[#This Row],[Precio de Venta]]*VentasMenudeo[[#This Row],[Cantidad]]-VentasMenudeo[[#This Row],[Descuento]],VentasMenudeo[[#This Row],[Producto]]=$A$4,VentasMenudeo[[#This Row],[Precio de Venta]]*VentasMenudeo[[#This Row],[Cantidad]]-VentasMenudeo[[#This Row],[Descuento]],VentasMenudeo[[#This Row],[Producto]]=$A$5,VentasMenudeo[[#This Row],[Precio de Venta]]*VentasMenudeo[[#This Row],[Cantidad]]-VentasMenudeo[[#This Row],[Descuento]]),0)","v":250},250]
["2022-09-07","Hugo","IPLAY MAX","GrapeFruit berry",1,"$20 Descuento",null,{"$f":"_xlfn.IFNA(VLOOKUP(VentasMenudeo[[#This Row],[Promoción]],PromocionesMenudeo[[Promocion]:[Descuento]],2,0),0)","v":20},{"$f":"_xlfn.IFNA(VLOOKUP(VentasMenudeo[[#This Row],[Producto]],$A$2:$B$5,2,FALSE),0)","v":270},{"$f":"_xlfn.IFNA(_xlfn.IFS(VentasMenudeo[[#This Row],[Producto]]=$A$2,VentasMenudeo[[#This Row],[Precio de Venta]]*VentasMenudeo[[#This Row],[Cantidad]]-VentasMenudeo[[#This Row],[Descuento]],VentasMenudeo[[#This Row],[Producto]]=$A$3,VentasMenudeo[[#This Row],[Precio de Venta]]*VentasMenudeo[[#This Row],[Cantidad]]-VentasMenudeo[[#This Row],[Descuento]],VentasMenudeo[[#This Row],[Producto]]=$A$4,VentasMenudeo[[#This Row],[Precio de Venta]]*VentasMenudeo[[#This Row],[Cantidad]]-VentasMenudeo[[#This Row],[Descuento]],VentasMenudeo[[#This Row],[Producto]]=$A$5,VentasMenudeo[[#This Row],[Precio de Venta]]*VentasMenudeo[[#This Row],[Cantidad]]-VentasMenudeo[[#This Row],[Descuento]]),0)","v":250},250]
["2022-09-07","Hugo","IPLAY MAX","Cool mint",1,"$20 Descuento",null,{"$f":"_xlfn.IFNA(VLOOKUP(VentasMenudeo[[#This Row],[Promoción]],PromocionesMenudeo[[Promocion]:[Descuento]],2,0),0)","v":20},{"$f":"_xlfn.IFNA(VLOOKUP(VentasMenudeo[[#This Row],[Producto]],$A$2:$B$5,2,FALSE),0)","v":270},{"$f":"_xlfn.IFNA(_xlfn.IFS(VentasMenudeo[[#This Row],[Producto]]=$A$2,VentasMenudeo[[#This Row],[Precio de Venta]]*VentasMenudeo[[#This Row],[Cantidad]]-VentasMenudeo[[#This Row],[Descuento]],VentasMenudeo[[#This Row],[Producto]]=$A$3,VentasMenudeo[[#This Row],[Precio de Venta]]*VentasMenudeo[[#This Row],[Cantidad]]-VentasMenudeo[[#This Row],[Descuento]],VentasMenudeo[[#This Row],[Producto]]=$A$4,VentasMenudeo[[#This Row],[Precio de Venta]]*VentasMenudeo[[#This Row],[Cantidad]]-VentasMenudeo[[#This Row],[Descuento]],VentasMenudeo[[#This Row],[Producto]]=$A$5,VentasMenudeo[[#This Row],[Precio de Venta]]*VentasMenudeo[[#This Row],[Cantidad]]-VentasMenudeo[[#This Row],[Descuento]]),0)","v":250},250]
["2022-09-08","Hugo","IPLAY MAX","Berry Watermelon",1,"$20 Descuento",null,{"$f":"_xlfn.IFNA(VLOOKUP(VentasMenudeo[[#This Row],[Promoción]],PromocionesMenudeo[[Promocion]:[Descuento]],2,0),0)","v":20},{"$f":"_xlfn.IFNA(VLOOKUP(VentasMenudeo[[#This Row],[Producto]],$A$2:$B$5,2,FALSE),0)","v":270},{"$f":"_xlfn.IFNA(_xlfn.IFS(VentasMenudeo[[#This Row],[Producto]]=$A$2,VentasMenudeo[[#This Row],[Precio de Venta]]*VentasMenudeo[[#This Row],[Cantidad]]-VentasMenudeo[[#This Row],[Descuento]],VentasMenudeo[[#This Row],[Producto]]=$A$3,VentasMenudeo[[#This Row],[Precio de Venta]]*VentasMenudeo[[#This Row],[Cantidad]]-VentasMenudeo[[#This Row],[Descuento]],VentasMenudeo[[#This Row],[Producto]]=$A$4,VentasMenudeo[[#This Row],[Precio de Venta]]*VentasMenudeo[[#This Row],[Cantidad]]-VentasMenudeo[[#This Row],[Descuento]],VentasMenudeo[[#This Row],[Producto]]=$A$5,VentasMenudeo[[#This Row],[Precio de Venta]]*VentasMenudeo[[#This Row],[Cantidad]]-VentasMenudeo[[#This Row],[Descuento]]),0)","v":250},250]
["2022-09-08","Hugo","IPLAY MAX","Guava",1,"$20 Descuento",null,{"$f":"_xlfn.IFNA(VLOOKUP(VentasMenudeo[[#This Row],[Promoción]],PromocionesMenudeo[[Promocion]:[Descuento]],2,0),0)","v":20},{"$f":"_xlfn.IFNA(VLOOKUP(VentasMenudeo[[#This Row],[Producto]],$A$2:$B$5,2,FALSE),0)","v":270},{"$f":"_xlfn.IFNA(_xlfn.IFS(VentasMenudeo[[#This Row],[Producto]]=$A$2,VentasMenudeo[[#This Row],[Precio de Venta]]*VentasMenudeo[[#This Row],[Cantidad]]-VentasMenudeo[[#This Row],[Descuento]],VentasMenudeo[[#This Row],[Producto]]=$A$3,VentasMenudeo[[#This Row],[Precio de Venta]]*VentasMenudeo[[#This Row],[Cantidad]]-VentasMenudeo[[#This Row],[Descuento]],VentasMenudeo[[#This Row],[Producto]]=$A$4,VentasMenudeo[[#This Row],[Precio de Venta]]*VentasMenudeo[[#This Row],[Cantidad]]-VentasMenudeo[[#This Row],[Descuento]],VentasMenudeo[[#This Row],[Producto]]=$A$5,VentasMenudeo[[#This Row],[Precio de Venta]]*VentasMenudeo[[#This Row],[Cantidad]]-VentasMenudeo[[#This Row],[Descuento]]),0)","v":250},250]
["2022-09-08","Hugo","IPLAY MAX","Cool mint",1,"$20 Descuento",null,{"$f":"_xlfn.IFNA(VLOOKUP(VentasMenudeo[[#This Row],[Promoción]],PromocionesMenudeo[[Promocion]:[Descuento]],2,0),0)","v":20},{"$f":"_xlfn.IFNA(VLOOKUP(VentasMenudeo[[#This Row],[Producto]],$A$2:$B$5,2,FALSE),0)","v":270},{"$f":"_xlfn.IFNA(_xlfn.IFS(VentasMenudeo[[#This Row],[Producto]]=$A$2,VentasMenudeo[[#This Row],[Precio de Venta]]*VentasMenudeo[[#This Row],[Cantidad]]-VentasMenudeo[[#This Row],[Descuento]],VentasMenudeo[[#This Row],[Producto]]=$A$3,VentasMenudeo[[#This Row],[Precio de Venta]]*VentasMenudeo[[#This Row],[Cantidad]]-VentasMenudeo[[#This Row],[Descuento]],VentasMenudeo[[#This Row],[Producto]]=$A$4,VentasMenudeo[[#This Row],[Precio de Venta]]*VentasMenudeo[[#This Row],[Cantidad]]-VentasMenudeo[[#This Row],[Descuento]],VentasMenudeo[[#This Row],[Producto]]=$A$5,VentasMenudeo[[#This Row],[Precio de Venta]]*VentasMenudeo[[#This Row],[Cantidad]]-VentasMenudeo[[#This Row],[Descuento]]),0)","v":250},250]
["2022-09-08","Hugo","IPLAY MAX","Bluerazz",1,"$20 Descuento",null,{"$f":"_xlfn.IFNA(VLOOKUP(VentasMenudeo[[#This Row],[Promoción]],PromocionesMenudeo[[Promocion]:[Descuento]],2,0),0)","v":20},{"$f":"_xlfn.IFNA(VLOOKUP(VentasMenudeo[[#This Row],[Producto]],$A$2:$B$5,2,FALSE),0)","v":270},{"$f":"_xlfn.IFNA(_xlfn.IFS(VentasMenudeo[[#This Row],[Producto]]=$A$2,VentasMenudeo[[#This Row],[Precio de Venta]]*VentasMenudeo[[#This Row],[Cantidad]]-VentasMenudeo[[#This Row],[Descuento]],VentasMenudeo[[#This Row],[Producto]]=$A$3,VentasMenudeo[[#This Row],[Precio de Venta]]*VentasMenudeo[[#This Row],[Cantidad]]-VentasMenudeo[[#This Row],[Descuento]],VentasMenudeo[[#This Row],[Producto]]=$A$4,VentasMenudeo[[#This Row],[Precio de Venta]]*VentasMenudeo[[#This Row],[Cantidad]]-VentasMenudeo[[#This Row],[Descuento]],VentasMenudeo[[#This Row],[Producto]]=$A$5,VentasMenudeo[[#This Row],[Precio de Venta]]*VentasMenudeo[[#This Row],[Cantidad]]-VentasMenudeo[[#This Row],[Descuento]]),0)","v":250},250]
["2022-09-08","Hugo","IPLAY MAX","Peach Ice",1,"$20 Descuento",null,{"$f":"_xlfn.IFNA(VLOOKUP(VentasMenudeo[[#This Row],[Promoción]],PromocionesMenudeo[[Promocion]:[Descuento]],2,0),0)","v":20},{"$f":"_xlfn.IFNA(VLOOKUP(VentasMenudeo[[#This Row],[Producto]],$A$2:$B$5,2,FALSE),0)","v":270},{"$f":"_xlfn.IFNA(_xlfn.IFS(VentasMenudeo[[#This Row],[Producto]]=$A$2,VentasMenudeo[[#This Row],[Precio de Venta]]*VentasMenudeo[[#This Row],[Cantidad]]-VentasMenudeo[[#This Row],[Descuento]],VentasMenudeo[[#This Row],[Producto]]=$A$3,VentasMenudeo[[#This Row],[Precio de Venta]]*VentasMenudeo[[#This Row],[Cantidad]]-VentasMenudeo[[#This Row],[Descuento]],VentasMenudeo[[#This Row],[Producto]]=$A$4,VentasMenudeo[[#This Row],[Precio de Venta]]*VentasMenudeo[[#This Row],[Cantidad]]-VentasMenudeo[[#This Row],[Descuento]],VentasMenudeo[[#This Row],[Producto]]=$A$5,VentasMenudeo[[#This Row],[Precio de Venta]]*VentasMenudeo[[#This Row],[Cantidad]]-VentasMenudeo[[#This Row],[Descuento]]),0)","v":250},250]
["2022-09-08","Hugo","IPLAY MAX","Bluerazz",1,"$20 Descuento",null,{"$f":"_xlfn.IFNA(VLOOKUP(VentasMenudeo[[#This Row],[Promoción]],PromocionesMenudeo[[Promocion]:[Descuento]],2,0),0)","v":20},{"$f":"_xlfn.IFNA(VLOOKUP(VentasMenudeo[[#This Row],[Producto]],$A$2:$B$5,2,FALSE),0)","v":270},{"$f":"_xlfn.IFNA(_xlfn.IFS(VentasMenudeo[[#This Row],[Producto]]=$A$2,VentasMenudeo[[#This Row],[Precio de Venta]]*VentasMenudeo[[#This Row],[Cantidad]]-VentasMenudeo[[#This Row],[Descuento]],VentasMenudeo[[#This Row],[Producto]]=$A$3,VentasMenudeo[[#This Row],[Precio de Venta]]*VentasMenudeo[[#This Row],[Cantidad]]-VentasMenudeo[[#This Row],[Descuento]],VentasMenudeo[[#This Row],[Producto]]=$A$4,VentasMenudeo[[#This Row],[Precio de Venta]]*VentasMenudeo[[#This Row],[Cantidad]]-VentasMenudeo[[#This Row],[Descuento]],VentasMenudeo[[#This Row],[Producto]]=$A$5,VentasMenudeo[[#This Row],[Precio de Venta]]*VentasMenudeo[[#This Row],[Cantidad]]-VentasMenudeo[[#This Row],[Descuento]]),0)","v":250},250]
["2022-09-09","Hugo","IPLAY MAX","Cool mint",1,"$20 Descuento",null,{"$f":"_xlfn.IFNA(VLOOKUP(VentasMenudeo[[#This Row],[Promoción]],PromocionesMenudeo[[Promocion]:[Descuento]],2,0),0)","v":20},{"$f":"_xlfn.IFNA(VLOOKUP(VentasMenudeo[[#This Row],[Producto]],$A$2:$B$5,2,FALSE),0)","v":270},{"$f":"_xlfn.IFNA(_xlfn.IFS(VentasMenudeo[[#This Row],[Producto]]=$A$2,VentasMenudeo[[#This Row],[Precio de Venta]]*VentasMenudeo[[#This Row],[Cantidad]]-VentasMenudeo[[#This Row],[Descuento]],VentasMenudeo[[#This Row],[Producto]]=$A$3,VentasMenudeo[[#This Row],[Precio de Venta]]*VentasMenudeo[[#This Row],[Cantidad]]-VentasMenudeo[[#This Row],[Descuento]],VentasMenudeo[[#This Row],[Producto]]=$A$4,VentasMenudeo[[#This Row],[Precio de Venta]]*VentasMenudeo[[#This Row],[Cantidad]]-VentasMenudeo[[#This Row],[Descuento]],VentasMenudeo[[#This Row],[Producto]]=$A$5,VentasMenudeo[[#This Row],[Precio de Venta]]*VentasMenudeo[[#This Row],[Cantidad]]-VentasMenudeo[[#This Row],[Descuento]]),0)","v":250},250]
["2022-09-09","Hugo","IPLAY MAX","Cool mint",1,"$20 Descuento",null,{"$f":"_xlfn.IFNA(VLOOKUP(VentasMenudeo[[#This Row],[Promoción]],PromocionesMenudeo[[Promocion]:[Descuento]],2,0),0)","v":20},{"$f":"_xlfn.IFNA(VLOOKUP(VentasMenudeo[[#This Row],[Producto]],$A$2:$B$5,2,FALSE),0)","v":270},{"$f":"_xlfn.IFNA(_xlfn.IFS(VentasMenudeo[[#This Row],[Producto]]=$A$2,VentasMenudeo[[#This Row],[Precio de Venta]]*VentasMenudeo[[#This Row],[Cantidad]]-VentasMenudeo[[#This Row],[Descuento]],VentasMenudeo[[#This Row],[Producto]]=$A$3,VentasMenudeo[[#This Row],[Precio de Venta]]*VentasMenudeo[[#This Row],[Cantidad]]-VentasMenudeo[[#This Row],[Descuento]],VentasMenudeo[[#This Row],[Producto]]=$A$4,VentasMenudeo[[#This Row],[Precio de Venta]]*VentasMenudeo[[#This Row],[Cantidad]]-VentasMenudeo[[#This Row],[Descuento]],VentasMenudeo[[#This Row],[Producto]]=$A$5,VentasMenudeo[[#This Row],[Precio de Venta]]*VentasMenudeo[[#This Row],[Cantidad]]-VentasMenudeo[[#This Row],[Descuento]]),0)","v":250},250]
["2022-09-09","Hugo","IPLAY MAX","Cool mint",1,"$20 Descuento",null,{"$f":"_xlfn.IFNA(VLOOKUP(VentasMenudeo[[#This Row],[Promoción]],PromocionesMenudeo[[Promocion]:[Descuento]],2,0),0)","v":20},{"$f":"_xlfn.IFNA(VLOOKUP(VentasMenudeo[[#This Row],[Producto]],$A$2:$B$5,2,FALSE),0)","v":270},{"$f":"_xlfn.IFNA(_xlfn.IFS(VentasMenudeo[[#This Row],[Producto]]=$A$2,VentasMenudeo[[#This Row],[Precio de Venta]]*VentasMenudeo[[#This Row],[Cantidad]]-VentasMenudeo[[#This Row],[Descuento]],VentasMenudeo[[#This Row],[Producto]]=$A$3,VentasMenudeo[[#This Row],[Precio de Venta]]*VentasMenudeo[[#This Row],[Cantidad]]-VentasMenudeo[[#This Row],[Descuento]],VentasMenudeo[[#This Row],[Producto]]=$A$4,VentasMenudeo[[#This Row],[Precio de Venta]]*VentasMenudeo[[#This Row],[Cantidad]]-VentasMenudeo[[#This Row],[Descuento]],VentasMenudeo[[#This Row],[Producto]]=$A$5,VentasMenudeo[[#This Row],[Precio de Venta]]*VentasMenudeo[[#This Row],[Cantidad]]-VentasMenudeo[[#This Row],[Descuento]]),0)","v":250},250]
["2022-09-09","Hugo","IPLAY MAX","Cool mint",1,"$20 Descuento",null,{"$f":"_xlfn.IFNA(VLOOKUP(VentasMenudeo[[#This Row],[Promoción]],PromocionesMenudeo[[Promocion]:[Descuento]],2,0),0)","v":20},{"$f":"_xlfn.IFNA(VLOOKUP(VentasMenudeo[[#This Row],[Producto]],$A$2:$B$5,2,FALSE),0)","v":270},{"$f":"_xlfn.IFNA(_xlfn.IFS(VentasMenudeo[[#This Row],[Producto]]=$A$2,VentasMenudeo[[#This Row],[Precio de Venta]]*VentasMenudeo[[#This Row],[Cantidad]]-VentasMenudeo[[#This Row],[Descuento]],VentasMenudeo[[#This Row],[Producto]]=$A$3,VentasMenudeo[[#This Row],[Precio de Venta]]*VentasMenudeo[[#This Row],[Cantidad]]-VentasMenudeo[[#This Row],[Descuento]],VentasMenudeo[[#This Row],[Producto]]=$A$4,VentasMenudeo[[#This Row],[Precio de Venta]]*VentasMenudeo[[#This Row],[Cantidad]]-VentasMenudeo[[#This Row],[Descuento]],VentasMenudeo[[#This Row],[Producto]]=$A$5,VentasMenudeo[[#This Row],[Precio de Venta]]*VentasMenudeo[[#This Row],[Cantidad]]-VentasMenudeo[[#This Row],[Descuento]]),0)","v":250},250]
["2022-09-12","Hugo","IPLAY MAX","Coconut",1,"$20 Descuento",null,{"$f":"_xlfn.IFNA(VLOOKUP(VentasMenudeo[[#This Row],[Promoción]],PromocionesMenudeo[[Promocion]:[Descuento]],2,0),0)","v":20},{"$f":"_xlfn.IFNA(VLOOKUP(VentasMenudeo[[#This Row],[Producto]],$A$2:$B$5,2,FALSE),0)","v":270},{"$f":"_xlfn.IFNA(_xlfn.IFS(VentasMenudeo[[#This Row],[Producto]]=$A$2,VentasMenudeo[[#This Row],[Precio de Venta]]*VentasMenudeo[[#This Row],[Cantidad]]-VentasMenudeo[[#This Row],[Descuento]],VentasMenudeo[[#This Row],[Producto]]=$A$3,VentasMenudeo[[#This Row],[Precio de Venta]]*VentasMenudeo[[#This Row],[Cantidad]]-VentasMenudeo[[#This Row],[Descuento]],VentasMenudeo[[#This Row],[Producto]]=$A$4,VentasMenudeo[[#This Row],[Precio de Venta]]*VentasMenudeo[[#This Row],[Cantidad]]-VentasMenudeo[[#This Row],[Descuento]],VentasMenudeo[[#This Row],[Producto]]=$A$5,VentasMenudeo[[#This Row],[Precio de Venta]]*VentasMenudeo[[#This Row],[Cantidad]]-VentasMenudeo[[#This Row],[Descuento]]),0)","v":250},250]
["2022-09-12","Hugo","IPLAY MAX","Energy ICE",1,"$20 Descuento",null,{"$f":"_xlfn.IFNA(VLOOKUP(VentasMenudeo[[#This Row],[Promoción]],PromocionesMenudeo[[Promocion]:[Descuento]],2,0),0)","v":20},{"$f":"_xlfn.IFNA(VLOOKUP(VentasMenudeo[[#This Row],[Producto]],$A$2:$B$5,2,FALSE),0)","v":270},{"$f":"_xlfn.IFNA(_xlfn.IFS(VentasMenudeo[[#This Row],[Producto]]=$A$2,VentasMenudeo[[#This Row],[Precio de Venta]]*VentasMenudeo[[#This Row],[Cantidad]]-VentasMenudeo[[#This Row],[Descuento]],VentasMenudeo[[#This Row],[Producto]]=$A$3,VentasMenudeo[[#This Row],[Precio de Venta]]*VentasMenudeo[[#This Row],[Cantidad]]-VentasMenudeo[[#This Row],[Descuento]],VentasMenudeo[[#This Row],[Producto]]=$A$4,VentasMenudeo[[#This Row],[Precio de Venta]]*VentasMenudeo[[#This Row],[Cantidad]]-VentasMenudeo[[#This Row],[Descuento]],VentasMenudeo[[#This Row],[Producto]]=$A$5,VentasMenudeo[[#This Row],[Precio de Venta]]*VentasMenudeo[[#This Row],[Cantidad]]-VentasMenudeo[[#This Row],[Descuento]]),0)","v":250},250]
["2022-09-12","Hugo","IPLAY MAX","Guava",1,"$20 Descuento",null,{"$f":"_xlfn.IFNA(VLOOKUP(VentasMenudeo[[#This Row],[Promoción]],PromocionesMenudeo[[Promocion]:[Descuento]],2,0),0)","v":20},{"$f":"_xlfn.IFNA(VLOOKUP(VentasMenudeo[[#This Row],[Producto]],$A$2:$B$5,2,FALSE),0)","v":270},{"$f":"_xlfn.IFNA(_xlfn.IFS(VentasMenudeo[[#This Row],[Producto]]=$A$2,VentasMenudeo[[#This Row],[Precio de Venta]]*VentasMenudeo[[#This Row],[Cantidad]]-VentasMenudeo[[#This Row],[Descuento]],VentasMenudeo[[#This Row],[Producto]]=$A$3,VentasMenudeo[[#This Row],[Precio de Venta]]*VentasMenudeo[[#This Row],[Cantidad]]-VentasMenudeo[[#This Row],[Descuento]],VentasMenudeo[[#This Row],[Producto]]=$A$4,VentasMenudeo[[#This Row],[Precio de Venta]]*VentasMenudeo[[#This Row],[Cantidad]]-VentasMenudeo[[#This Row],[Descuento]],VentasMenudeo[[#This Row],[Producto]]=$A$5,VentasMenudeo[[#This Row],[Precio de Venta]]*VentasMenudeo[[#This Row],[Cantidad]]-VentasMenudeo[[#This Row],[Descuento]]),0)","v":250},250]
["2022-09-12","Hugo","IPLAY MAX","Energy ICE",1,"$20 Descuento",null,{"$f":"_xlfn.IFNA(VLOOKUP(VentasMenudeo[[#This Row],[Promoción]],PromocionesMenudeo[[Promocion]:[Descuento]],2,0),0)","v":20},{"$f":"_xlfn.IFNA(VLOOKUP(VentasMenudeo[[#This Row],[Producto]],$A$2:$B$5,2,FALSE),0)","v":270},{"$f":"_xlfn.IFNA(_xlfn.IFS(VentasMenudeo[[#This Row],[Producto]]=$A$2,VentasMenudeo[[#This Row],[Precio de Venta]]*VentasMenudeo[[#This Row],[Cantidad]]-VentasMenudeo[[#This Row],[Descuento]],VentasMenudeo[[#This Row],[Producto]]=$A$3,VentasMenudeo[[#This Row],[Precio de Venta]]*VentasMenudeo[[#This Row],[Cantidad]]-VentasMenudeo[[#This Row],[Descuento]],VentasMenudeo[[#This Row],[Producto]]=$A$4,VentasMenudeo[[#This Row],[Precio de Venta]]*VentasMenudeo[[#This Row],[Cantidad]]-VentasMenudeo[[#This Row],[Descuento]],VentasMenudeo[[#This Row],[Producto]]=$A$5,VentasMenudeo[[#This Row],[Precio de Venta]]*VentasMenudeo[[#This Row],[Cantidad]]-VentasMenudeo[[#This Row],[Descuento]]),0)","v":250},250]
["2022-09-12","Hugo","IPLAY MAX","Cool mint",1,"$20 Descuento",null,{"$f":"_xlfn.IFNA(VLOOKUP(VentasMenudeo[[#This Row],[Promoción]],PromocionesMenudeo[[Promocion]:[Descuento]],2,0),0)","v":20},{"$f":"_xlfn.IFNA(VLOOKUP(VentasMenudeo[[#This Row],[Producto]],$A$2:$B$5,2,FALSE),0)","v":270},{"$f":"_xlfn.IFNA(_xlfn.IFS(VentasMenudeo[[#This Row],[Producto]]=$A$2,VentasMenudeo[[#This Row],[Precio de Venta]]*VentasMenudeo[[#This Row],[Cantidad]]-VentasMenudeo[[#This Row],[Descuento]],VentasMenudeo[[#This Row],[Producto]]=$A$3,VentasMenudeo[[#This Row],[Precio de Venta]]*VentasMenudeo[[#This Row],[Cantidad]]-VentasMenudeo[[#This Row],[Descuento]],VentasMenudeo[[#This Row],[Producto]]=$A$4,VentasMenudeo[[#This Row],[Precio de Venta]]*VentasMenudeo[[#This Row],[Cantidad]]-VentasMenudeo[[#This Row],[Descuento]],VentasMenudeo[[#This Row],[Producto]]=$A$5,VentasMenudeo[[#This Row],[Precio de Venta]]*VentasMenudeo[[#This Row],[Cantidad]]-VentasMenudeo[[#This Row],[Descuento]]),0)","v":250},250]
["2022-09-12","Hugo","IPLAY MAX","GrapeFruit berry",1,"$20 Descuento",null,{"$f":"_xlfn.IFNA(VLOOKUP(VentasMenudeo[[#This Row],[Promoción]],PromocionesMenudeo[[Promocion]:[Descuento]],2,0),0)","v":20},{"$f":"_xlfn.IFNA(VLOOKUP(VentasMenudeo[[#This Row],[Producto]],$A$2:$B$5,2,FALSE),0)","v":270},{"$f":"_xlfn.IFNA(_xlfn.IFS(VentasMenudeo[[#This Row],[Producto]]=$A$2,VentasMenudeo[[#This Row],[Precio de Venta]]*VentasMenudeo[[#This Row],[Cantidad]]-VentasMenudeo[[#This Row],[Descuento]],VentasMenudeo[[#This Row],[Producto]]=$A$3,VentasMenudeo[[#This Row],[Precio de Venta]]*VentasMenudeo[[#This Row],[Cantidad]]-VentasMenudeo[[#This Row],[Descuento]],VentasMenudeo[[#This Row],[Producto]]=$A$4,VentasMenudeo[[#This Row],[Precio de Venta]]*VentasMenudeo[[#This Row],[Cantidad]]-VentasMenudeo[[#This Row],[Descuento]],VentasMenudeo[[#This Row],[Producto]]=$A$5,VentasMenudeo[[#This Row],[Precio de Venta]]*VentasMenudeo[[#This Row],[Cantidad]]-VentasMenudeo[[#This Row],[Descuento]]),0)","v":250},250]
["2022-09-12","Hugo","IPLAY MAX","Banana Ice",1,"$20 Descuento",null,{"$f":"_xlfn.IFNA(VLOOKUP(VentasMenudeo[[#This Row],[Promoción]],PromocionesMenudeo[[Promocion]:[Descuento]],2,0),0)","v":20},{"$f":"_xlfn.IFNA(VLOOKUP(VentasMenudeo[[#This Row],[Producto]],$A$2:$B$5,2,FALSE),0)","v":270},{"$f":"_xlfn.IFNA(_xlfn.IFS(VentasMenudeo[[#This Row],[Producto]]=$A$2,VentasMenudeo[[#This Row],[Precio de Venta]]*VentasMenudeo[[#This Row],[Cantidad]]-VentasMenudeo[[#This Row],[Descuento]],VentasMenudeo[[#This Row],[Producto]]=$A$3,VentasMenudeo[[#This Row],[Precio de Venta]]*VentasMenudeo[[#This Row],[Cantidad]]-VentasMenudeo[[#This Row],[Descuento]],VentasMenudeo[[#This Row],[Producto]]=$A$4,VentasMenudeo[[#This Row],[Precio de Venta]]*VentasMenudeo[[#This Row],[Cantidad]]-VentasMenudeo[[#This Row],[Descuento]],VentasMenudeo[[#This Row],[Producto]]=$A$5,VentasMenudeo[[#This Row],[Precio de Venta]]*VentasMenudeo[[#This Row],[Cantidad]]-VentasMenudeo[[#This Row],[Descuento]]),0)","v":250},250]
["2022-09-13","Hugo","IPLAY MAX","GrapeFruit berry",1,"$20 Descuento",null,{"$f":"_xlfn.IFNA(VLOOKUP(VentasMenudeo[[#This Row],[Promoción]],PromocionesMenudeo[[Promocion]:[Descuento]],2,0),0)","v":20},{"$f":"_xlfn.IFNA(VLOOKUP(VentasMenudeo[[#This Row],[Producto]],$A$2:$B$5,2,FALSE),0)","v":270},{"$f":"_xlfn.IFNA(_xlfn.IFS(VentasMenudeo[[#This Row],[Producto]]=$A$2,VentasMenudeo[[#This Row],[Precio de Venta]]*VentasMenudeo[[#This Row],[Cantidad]]-VentasMenudeo[[#This Row],[Descuento]],VentasMenudeo[[#This Row],[Producto]]=$A$3,VentasMenudeo[[#This Row],[Precio de Venta]]*VentasMenudeo[[#This Row],[Cantidad]]-VentasMenudeo[[#This Row],[Descuento]],VentasMenudeo[[#This Row],[Producto]]=$A$4,VentasMenudeo[[#This Row],[Precio de Venta]]*VentasMenudeo[[#This Row],[Cantidad]]-VentasMenudeo[[#This Row],[Descuento]],VentasMenudeo[[#This Row],[Producto]]=$A$5,VentasMenudeo[[#This Row],[Precio de Venta]]*VentasMenudeo[[#This Row],[Cantidad]]-VentasMenudeo[[#This Row],[Descuento]]),0)","v":250},250]
["2022-09-13","Hugo","IPLAY MAX","Guava",1,"$20 Descuento",null,{"$f":"_xlfn.IFNA(VLOOKUP(VentasMenudeo[[#This Row],[Promoción]],PromocionesMenudeo[[Promocion]:[Descuento]],2,0),0)","v":20},{"$f":"_xlfn.IFNA(VLOOKUP(VentasMenudeo[[#This Row],[Producto]],$A$2:$B$5,2,FALSE),0)","v":270},{"$f":"_xlfn.IFNA(_xlfn.IFS(VentasMenudeo[[#This Row],[Producto]]=$A$2,VentasMenudeo[[#This Row],[Precio de Venta]]*VentasMenudeo[[#This Row],[Cantidad]]-VentasMenudeo[[#This Row],[Descuento]],VentasMenudeo[[#This Row],[Producto]]=$A$3,VentasMenudeo[[#This Row],[Precio de Venta]]*VentasMenudeo[[#This Row],[Cantidad]]-VentasMenudeo[[#This Row],[Descuento]],VentasMenudeo[[#This Row],[Producto]]=$A$4,VentasMenudeo[[#This Row],[Precio de Venta]]*VentasMenudeo[[#This Row],[Cantidad]]-VentasMenudeo[[#This Row],[Descuento]],VentasMenudeo[[#This Row],[Producto]]=$A$5,VentasMenudeo[[#This Row],[Precio de Venta]]*VentasMenudeo[[#This Row],[Cantidad]]-VentasMenudeo[[#This Row],[Descuento]]),0)","v":250},250]
["2022-09-14","Hugo","IPLAY MAX","Grape Ice",1,"$20 Descuento",null,{"$f":"_xlfn.IFNA(VLOOKUP(VentasMenudeo[[#This Row],[Promoción]],PromocionesMenudeo[[Promocion]:[Descuento]],2,0),0)","v":20},{"$f":"_xlfn.IFNA(VLOOKUP(VentasMenudeo[[#This Row],[Producto]],$A$2:$B$5,2,FALSE),0)","v":270},{"$f":"_xlfn.IFNA(_xlfn.IFS(VentasMenudeo[[#This Row],[Producto]]=$A$2,VentasMenudeo[[#This Row],[Precio de Venta]]*VentasMenudeo[[#This Row],[Cantidad]]-VentasMenudeo[[#This Row],[Descuento]],VentasMenudeo[[#This Row],[Producto]]=$A$3,VentasMenudeo[[#This Row],[Precio de Venta]]*VentasMenudeo[[#This Row],[Cantidad]]-VentasMenudeo[[#This Row],[Descuento]],VentasMenudeo[[#This Row],[Producto]]=$A$4,VentasMenudeo[[#This Row],[Precio de Venta]]*VentasMenudeo[[#This Row],[Cantidad]]-VentasMenudeo[[#This Row],[Descuento]],VentasMenudeo[[#This Row],[Producto]]=$A$5,VentasMenudeo[[#This Row],[Precio de Venta]]*VentasMenudeo[[#This Row],[Cantidad]]-VentasMenudeo[[#This Row],[Descuento]]),0)","v":250},250]
["2022-09-14","Hugo","IPLAY MAX","Guava",1,"$20 Descuento",null,{"$f":"_xlfn.IFNA(VLOOKUP(VentasMenudeo[[#This Row],[Promoción]],PromocionesMenudeo[[Promocion]:[Descuento]],2,0),0)","v":20},{"$f":"_xlfn.IFNA(VLOOKUP(VentasMenudeo[[#This Row],[Producto]],$A$2:$B$5,2,FALSE),0)","v":270},{"$f":"_xlfn.IFNA(_xlfn.IFS(VentasMenudeo[[#This Row],[Producto]]=$A$2,VentasMenudeo[[#This Row],[Precio de Venta]]*VentasMenudeo[[#This Row],[Cantidad]]-VentasMenudeo[[#This Row],[Descuento]],VentasMenudeo[[#This Row],[Producto]]=$A$3,VentasMenudeo[[#This Row],[Precio de Venta]]*VentasMenudeo[[#This Row],[Cantidad]]-VentasMenudeo[[#This Row],[Descuento]],VentasMenudeo[[#This Row],[Producto]]=$A$4,VentasMenudeo[[#This Row],[Precio de Venta]]*VentasMenudeo[[#This Row],[Cantidad]]-VentasMenudeo[[#This Row],[Descuento]],VentasMenudeo[[#This Row],[Producto]]=$A$5,VentasMenudeo[[#This Row],[Precio de Venta]]*VentasMenudeo[[#This Row],[Cantidad]]-VentasMenudeo[[#This Row],[Descuento]]),0)","v":250},250]
["2022-09-14","Hugo","IPLAY MAX","GrapeFruit berry",1,"$20 Descuento",null,{"$f":"_xlfn.IFNA(VLOOKUP(VentasMenudeo[[#This Row],[Promoción]],PromocionesMenudeo[[Promocion]:[Descuento]],2,0),0)","v":20},{"$f":"_xlfn.IFNA(VLOOKUP(VentasMenudeo[[#This Row],[Producto]],$A$2:$B$5,2,FALSE),0)","v":270},{"$f":"_xlfn.IFNA(_xlfn.IFS(VentasMenudeo[[#This Row],[Producto]]=$A$2,VentasMenudeo[[#This Row],[Precio de Venta]]*VentasMenudeo[[#This Row],[Cantidad]]-VentasMenudeo[[#This Row],[Descuento]],VentasMenudeo[[#This Row],[Producto]]=$A$3,VentasMenudeo[[#This Row],[Precio de Venta]]*VentasMenudeo[[#This Row],[Cantidad]]-VentasMenudeo[[#This Row],[Descuento]],VentasMenudeo[[#This Row],[Producto]]=$A$4,VentasMenudeo[[#This Row],[Precio de Venta]]*VentasMenudeo[[#This Row],[Cantidad]]-VentasMenudeo[[#This Row],[Descuento]],VentasMenudeo[[#This Row],[Producto]]=$A$5,VentasMenudeo[[#This Row],[Precio de Venta]]*VentasMenudeo[[#This Row],[Cantidad]]-VentasMenudeo[[#This Row],[Descuento]]),0)","v":250},250]
["2022-09-14","Hugo","IPLAY MAX","Berry Watermelon",1,"$20 Descuento",null,{"$f":"_xlfn.IFNA(VLOOKUP(VentasMenudeo[[#This Row],[Promoción]],PromocionesMenudeo[[Promocion]:[Descuento]],2,0),0)","v":20},{"$f":"_xlfn.IFNA(VLOOKUP(VentasMenudeo[[#This Row],[Producto]],$A$2:$B$5,2,FALSE),0)","v":270},{"$f":"_xlfn.IFNA(_xlfn.IFS(VentasMenudeo[[#This Row],[Producto]]=$A$2,VentasMenudeo[[#This Row],[Precio de Venta]]*VentasMenudeo[[#This Row],[Cantidad]]-VentasMenudeo[[#This Row],[Descuento]],VentasMenudeo[[#This Row],[Producto]]=$A$3,VentasMenudeo[[#This Row],[Precio de Venta]]*VentasMenudeo[[#This Row],[Cantidad]]-VentasMenudeo[[#This Row],[Descuento]],VentasMenudeo[[#This Row],[Producto]]=$A$4,VentasMenudeo[[#This Row],[Precio de Venta]]*VentasMenudeo[[#This Row],[Cantidad]]-VentasMenudeo[[#This Row],[Descuento]],VentasMenudeo[[#This Row],[Producto]]=$A$5,VentasMenudeo[[#This Row],[Precio de Venta]]*VentasMenudeo[[#This Row],[Cantidad]]-VentasMenudeo[[#This Row],[Descuento]]),0)","v":250},250]
["2022-09-17","Hugo","IPLAY MAX","Bluerazz",1,"$20 Descuento",null,{"$f":"_xlfn.IFNA(VLOOKUP(VentasMenudeo[[#This Row],[Promoción]],PromocionesMenudeo[[Promocion]:[Descuento]],2,0),0)","v":20},{"$f":"_xlfn.IFNA(VLOOKUP(VentasMenudeo[[#This Row],[Producto]],$A$2:$B$5,2,FALSE),0)","v":270},{"$f":"_xlfn.IFNA(_xlfn.IFS(VentasMenudeo[[#This Row],[Producto]]=$A$2,VentasMenudeo[[#This Row],[Precio de Venta]]*VentasMenudeo[[#This Row],[Cantidad]]-VentasMenudeo[[#This Row],[Descuento]],VentasMenudeo[[#This Row],[Producto]]=$A$3,VentasMenudeo[[#This Row],[Precio de Venta]]*VentasMenudeo[[#This Row],[Cantidad]]-VentasMenudeo[[#This Row],[Descuento]],VentasMenudeo[[#This Row],[Producto]]=$A$4,VentasMenudeo[[#This Row],[Precio de Venta]]*VentasMenudeo[[#This Row],[Cantidad]]-VentasMenudeo[[#This Row],[Descuento]],VentasMenudeo[[#This Row],[Producto]]=$A$5,VentasMenudeo[[#This Row],[Precio de Venta]]*VentasMenudeo[[#This Row],[Cantidad]]-VentasMenudeo[[#This Row],[Descuento]]),0)","v":250},250]
["2022-09-19","Hugo","IPLAY MAX","Cool mint",1,"$20 Descuento",null,{"$f":"_xlfn.IFNA(VLOOKUP(VentasMenudeo[[#This Row],[Promoción]],PromocionesMenudeo[[Promocion]:[Descuento]],2,0),0)","v":20},{"$f":"_xlfn.IFNA(VLOOKUP(VentasMenudeo[[#This Row],[Producto]],$A$2:$B$5,2,FALSE),0)","v":270},{"$f":"_xlfn.IFNA(_xlfn.IFS(VentasMenudeo[[#This Row],[Producto]]=$A$2,VentasMenudeo[[#This Row],[Precio de Venta]]*VentasMenudeo[[#This Row],[Cantidad]]-VentasMenudeo[[#This Row],[Descuento]],VentasMenudeo[[#This Row],[Producto]]=$A$3,VentasMenudeo[[#This Row],[Precio de Venta]]*VentasMenudeo[[#This Row],[Cantidad]]-VentasMenudeo[[#This Row],[Descuento]],VentasMenudeo[[#This Row],[Producto]]=$A$4,VentasMenudeo[[#This Row],[Precio de Venta]]*VentasMenudeo[[#This Row],[Cantidad]]-VentasMenudeo[[#This Row],[Descuento]],VentasMenudeo[[#This Row],[Producto]]=$A$5,VentasMenudeo[[#This Row],[Precio de Venta]]*VentasMenudeo[[#This Row],[Cantidad]]-VentasMenudeo[[#This Row],[Descuento]]),0)","v":250},250]
["2022-09-19","Hugo","IPLAY MAX","Bluerazz",1,"$20 Descuento",null,{"$f":"_xlfn.IFNA(VLOOKUP(VentasMenudeo[[#This Row],[Promoción]],PromocionesMenudeo[[Promocion]:[Descuento]],2,0),0)","v":20},{"$f":"_xlfn.IFNA(VLOOKUP(VentasMenudeo[[#This Row],[Producto]],$A$2:$B$5,2,FALSE),0)","v":270},{"$f":"_xlfn.IFNA(_xlfn.IFS(VentasMenudeo[[#This Row],[Producto]]=$A$2,VentasMenudeo[[#This Row],[Precio de Venta]]*VentasMenudeo[[#This Row],[Cantidad]]-VentasMenudeo[[#This Row],[Descuento]],VentasMenudeo[[#This Row],[Producto]]=$A$3,VentasMenudeo[[#This Row],[Precio de Venta]]*VentasMenudeo[[#This Row],[Cantidad]]-VentasMenudeo[[#This Row],[Descuento]],VentasMenudeo[[#This Row],[Producto]]=$A$4,VentasMenudeo[[#This Row],[Precio de Venta]]*VentasMenudeo[[#This Row],[Cantidad]]-VentasMenudeo[[#This Row],[Descuento]],VentasMenudeo[[#This Row],[Producto]]=$A$5,VentasMenudeo[[#This Row],[Precio de Venta]]*VentasMenudeo[[#This Row],[Cantidad]]-VentasMenudeo[[#This Row],[Descuento]]),0)","v":250},250]
["2022-09-21","Hugo","IPLAY MAX","Berry Watermelon",1,"$20 Descuento",null,{"$f":"_xlfn.IFNA(VLOOKUP(VentasMenudeo[[#This Row],[Promoción]],PromocionesMenudeo[[Promocion]:[Descuento]],2,0),0)","v":20},{"$f":"_xlfn.IFNA(VLOOKUP(VentasMenudeo[[#This Row],[Producto]],$A$2:$B$5,2,FALSE),0)","v":270},{"$f":"_xlfn.IFNA(_xlfn.IFS(VentasMenudeo[[#This Row],[Producto]]=$A$2,VentasMenudeo[[#This Row],[Precio de Venta]]*VentasMenudeo[[#This Row],[Cantidad]]-VentasMenudeo[[#This Row],[Descuento]],VentasMenudeo[[#This Row],[Producto]]=$A$3,VentasMenudeo[[#This Row],[Precio de Venta]]*VentasMenudeo[[#This Row],[Cantidad]]-VentasMenudeo[[#This Row],[Descuento]],VentasMenudeo[[#This Row],[Producto]]=$A$4,VentasMenudeo[[#This Row],[Precio de Venta]]*VentasMenudeo[[#This Row],[Cantidad]]-VentasMenudeo[[#This Row],[Descuento]],VentasMenudeo[[#This Row],[Producto]]=$A$5,VentasMenudeo[[#This Row],[Precio de Venta]]*VentasMenudeo[[#This Row],[Cantidad]]-VentasMenudeo[[#This Row],[Descuento]]),0)","v":250},250]
["2022-09-21","Hugo","IPLAY MAX","Bluerazz",1,"$20 Descuento",null,{"$f":"_xlfn.IFNA(VLOOKUP(VentasMenudeo[[#This Row],[Promoción]],PromocionesMenudeo[[Promocion]:[Descuento]],2,0),0)","v":20},{"$f":"_xlfn.IFNA(VLOOKUP(VentasMenudeo[[#This Row],[Producto]],$A$2:$B$5,2,FALSE),0)","v":270},{"$f":"_xlfn.IFNA(_xlfn.IFS(VentasMenudeo[[#This Row],[Producto]]=$A$2,VentasMenudeo[[#This Row],[Precio de Venta]]*VentasMenudeo[[#This Row],[Cantidad]]-VentasMenudeo[[#This Row],[Descuento]],VentasMenudeo[[#This Row],[Producto]]=$A$3,VentasMenudeo[[#This Row],[Precio de Venta]]*VentasMenudeo[[#This Row],[Cantidad]]-VentasMenudeo[[#This Row],[Descuento]],VentasMenudeo[[#This Row],[Producto]]=$A$4,VentasMenudeo[[#This Row],[Precio de Venta]]*VentasMenudeo[[#This Row],[Cantidad]]-VentasMenudeo[[#This Row],[Descuento]],VentasMenudeo[[#This Row],[Producto]]=$A$5,VentasMenudeo[[#This Row],[Precio de Venta]]*VentasMenudeo[[#This Row],[Cantidad]]-VentasMenudeo[[#This Row],[Descuento]]),0)","v":250},250]
["2022-09-21","Hugo","IPLAY MAX","Guava",1,"$20 Descuento",null,{"$f":"_xlfn.IFNA(VLOOKUP(VentasMenudeo[[#This Row],[Promoción]],PromocionesMenudeo[[Promocion]:[Descuento]],2,0),0)","v":20},{"$f":"_xlfn.IFNA(VLOOKUP(VentasMenudeo[[#This Row],[Producto]],$A$2:$B$5,2,FALSE),0)","v":270},{"$f":"_xlfn.IFNA(_xlfn.IFS(VentasMenudeo[[#This Row],[Producto]]=$A$2,VentasMenudeo[[#This Row],[Precio de Venta]]*VentasMenudeo[[#This Row],[Cantidad]]-VentasMenudeo[[#This Row],[Descuento]],VentasMenudeo[[#This Row],[Producto]]=$A$3,VentasMenudeo[[#This Row],[Precio de Venta]]*VentasMenudeo[[#This Row],[Cantidad]]-VentasMenudeo[[#This Row],[Descuento]],VentasMenudeo[[#This Row],[Producto]]=$A$4,VentasMenudeo[[#This Row],[Precio de Venta]]*VentasMenudeo[[#This Row],[Cantidad]]-VentasMenudeo[[#This Row],[Descuento]],VentasMenudeo[[#This Row],[Producto]]=$A$5,VentasMenudeo[[#This Row],[Precio de Venta]]*VentasMenudeo[[#This Row],[Cantidad]]-VentasMenudeo[[#This Row],[Descuento]]),0)","v":250},250]
["2022-09-21","Hugo","IPLAY MAX","Coconut",1,"$20 Descuento",null,{"$f":"_xlfn.IFNA(VLOOKUP(VentasMenudeo[[#This Row],[Promoción]],PromocionesMenudeo[[Promocion]:[Descuento]],2,0),0)","v":20},{"$f":"_xlfn.IFNA(VLOOKUP(VentasMenudeo[[#This Row],[Producto]],$A$2:$B$5,2,FALSE),0)","v":270},{"$f":"_xlfn.IFNA(_xlfn.IFS(VentasMenudeo[[#This Row],[Producto]]=$A$2,VentasMenudeo[[#This Row],[Precio de Venta]]*VentasMenudeo[[#This Row],[Cantidad]]-VentasMenudeo[[#This Row],[Descuento]],VentasMenudeo[[#This Row],[Producto]]=$A$3,VentasMenudeo[[#This Row],[Precio de Venta]]*VentasMenudeo[[#This Row],[Cantidad]]-VentasMenudeo[[#This Row],[Descuento]],VentasMenudeo[[#This Row],[Producto]]=$A$4,VentasMenudeo[[#This Row],[Precio de Venta]]*VentasMenudeo[[#This Row],[Cantidad]]-VentasMenudeo[[#This Row],[Descuento]],VentasMenudeo[[#This Row],[Producto]]=$A$5,VentasMenudeo[[#This Row],[Precio de Venta]]*VentasMenudeo[[#This Row],[Cantidad]]-VentasMenudeo[[#This Row],[Descuento]]),0)","v":250},250]
["2022-09-22","Hugo","IPLAY MAX","Energy ICE",1,"$20 Descuento",null,{"$f":"_xlfn.IFNA(VLOOKUP(VentasMenudeo[[#This Row],[Promoción]],PromocionesMenudeo[[Promocion]:[Descuento]],2,0),0)","v":20},{"$f":"_xlfn.IFNA(VLOOKUP(VentasMenudeo[[#This Row],[Producto]],$A$2:$B$5,2,FALSE),0)","v":270},{"$f":"_xlfn.IFNA(_xlfn.IFS(VentasMenudeo[[#This Row],[Producto]]=$A$2,VentasMenudeo[[#This Row],[Precio de Venta]]*VentasMenudeo[[#This Row],[Cantidad]]-VentasMenudeo[[#This Row],[Descuento]],VentasMenudeo[[#This Row],[Producto]]=$A$3,VentasMenudeo[[#This Row],[Precio de Venta]]*VentasMenudeo[[#This Row],[Cantidad]]-VentasMenudeo[[#This Row],[Descuento]],VentasMenudeo[[#This Row],[Producto]]=$A$4,VentasMenudeo[[#This Row],[Precio de Venta]]*VentasMenudeo[[#This Row],[Cantidad]]-VentasMenudeo[[#This Row],[Descuento]],VentasMenudeo[[#This Row],[Producto]]=$A$5,VentasMenudeo[[#This Row],[Precio de Venta]]*VentasMenudeo[[#This Row],[Cantidad]]-VentasMenudeo[[#This Row],[Descuento]]),0)","v":250},250]
["2022-09-22","Hugo","IPLAY MAX","Berry Watermelon",1,"$20 Descuento",null,{"$f":"_xlfn.IFNA(VLOOKUP(VentasMenudeo[[#This Row],[Promoción]],PromocionesMenudeo[[Promocion]:[Descuento]],2,0),0)","v":20},{"$f":"_xlfn.IFNA(VLOOKUP(VentasMenudeo[[#This Row],[Producto]],$A$2:$B$5,2,FALSE),0)","v":270},{"$f":"_xlfn.IFNA(_xlfn.IFS(VentasMenudeo[[#This Row],[Producto]]=$A$2,VentasMenudeo[[#This Row],[Precio de Venta]]*VentasMenudeo[[#This Row],[Cantidad]]-VentasMenudeo[[#This Row],[Descuento]],VentasMenudeo[[#This Row],[Producto]]=$A$3,VentasMenudeo[[#This Row],[Precio de Venta]]*VentasMenudeo[[#This Row],[Cantidad]]-VentasMenudeo[[#This Row],[Descuento]],VentasMenudeo[[#This Row],[Producto]]=$A$4,VentasMenudeo[[#This Row],[Precio de Venta]]*VentasMenudeo[[#This Row],[Cantidad]]-VentasMenudeo[[#This Row],[Descuento]],VentasMenudeo[[#This Row],[Producto]]=$A$5,VentasMenudeo[[#This Row],[Precio de Venta]]*VentasMenudeo[[#This Row],[Cantidad]]-VentasMenudeo[[#This Row],[Descuento]]),0)","v":250},250]
["2022-09-22","Hugo","IPLAY MAX","Cool mint",1,"$20 Descuento",null,{"$f":"_xlfn.IFNA(VLOOKUP(VentasMenudeo[[#This Row],[Promoción]],PromocionesMenudeo[[Promocion]:[Descuento]],2,0),0)","v":20},{"$f":"_xlfn.IFNA(VLOOKUP(VentasMenudeo[[#This Row],[Producto]],$A$2:$B$5,2,FALSE),0)","v":270},{"$f":"_xlfn.IFNA(_xlfn.IFS(VentasMenudeo[[#This Row],[Producto]]=$A$2,VentasMenudeo[[#This Row],[Precio de Venta]]*VentasMenudeo[[#This Row],[Cantidad]]-VentasMenudeo[[#This Row],[Descuento]],VentasMenudeo[[#This Row],[Producto]]=$A$3,VentasMenudeo[[#This Row],[Precio de Venta]]*VentasMenudeo[[#This Row],[Cantidad]]-VentasMenudeo[[#This Row],[Descuento]],VentasMenudeo[[#This Row],[Producto]]=$A$4,VentasMenudeo[[#This Row],[Precio de Venta]]*VentasMenudeo[[#This Row],[Cantidad]]-VentasMenudeo[[#This Row],[Descuento]],VentasMenudeo[[#This Row],[Producto]]=$A$5,VentasMenudeo[[#This Row],[Precio de Venta]]*VentasMenudeo[[#This Row],[Cantidad]]-VentasMenudeo[[#This Row],[Descuento]]),0)","v":250},250]
["2022-09-22","Hugo","IPLAY MAX","Energy ICE",1,"$20 Descuento",null,{"$f":"_xlfn.IFNA(VLOOKUP(VentasMenudeo[[#This Row],[Promoción]],PromocionesMenudeo[[Promocion]:[Descuento]],2,0),0)","v":20},{"$f":"_xlfn.IFNA(VLOOKUP(VentasMenudeo[[#This Row],[Producto]],$A$2:$B$5,2,FALSE),0)","v":270},{"$f":"_xlfn.IFNA(_xlfn.IFS(VentasMenudeo[[#This Row],[Producto]]=$A$2,VentasMenudeo[[#This Row],[Precio de Venta]]*VentasMenudeo[[#This Row],[Cantidad]]-VentasMenudeo[[#This Row],[Descuento]],VentasMenudeo[[#This Row],[Producto]]=$A$3,VentasMenudeo[[#This Row],[Precio de Venta]]*VentasMenudeo[[#This Row],[Cantidad]]-VentasMenudeo[[#This Row],[Descuento]],VentasMenudeo[[#This Row],[Producto]]=$A$4,VentasMenudeo[[#This Row],[Precio de Venta]]*VentasMenudeo[[#This Row],[Cantidad]]-VentasMenudeo[[#This Row],[Descuento]],VentasMenudeo[[#This Row],[Producto]]=$A$5,VentasMenudeo[[#This Row],[Precio de Venta]]*VentasMenudeo[[#This Row],[Cantidad]]-VentasMenudeo[[#This Row],[Descuento]]),0)","v":250},250]
["2022-09-22","Hugo","IPLAY MAX","Guava",1,"$20 Descuento",null,{"$f":"_xlfn.IFNA(VLOOKUP(VentasMenudeo[[#This Row],[Promoción]],PromocionesMenudeo[[Promocion]:[Descuento]],2,0),0)","v":20},{"$f":"_xlfn.IFNA(VLOOKUP(VentasMenudeo[[#This Row],[Producto]],$A$2:$B$5,2,FALSE),0)","v":270},{"$f":"_xlfn.IFNA(_xlfn.IFS(VentasMenudeo[[#This Row],[Producto]]=$A$2,VentasMenudeo[[#This Row],[Precio de Venta]]*VentasMenudeo[[#This Row],[Cantidad]]-VentasMenudeo[[#This Row],[Descuento]],VentasMenudeo[[#This Row],[Producto]]=$A$3,VentasMenudeo[[#This Row],[Precio de Venta]]*VentasMenudeo[[#This Row],[Cantidad]]-VentasMenudeo[[#This Row],[Descuento]],VentasMenudeo[[#This Row],[Producto]]=$A$4,VentasMenudeo[[#This Row],[Precio de Venta]]*VentasMenudeo[[#This Row],[Cantidad]]-VentasMenudeo[[#This Row],[Descuento]],VentasMenudeo[[#This Row],[Producto]]=$A$5,VentasMenudeo[[#This Row],[Precio de Venta]]*VentasMenudeo[[#This Row],[Cantidad]]-VentasMenudeo[[#This Row],[Descuento]]),0)","v":250},250]
["2022-09-26","Hugo","IPLAY MAX","Cool mint",1,"$20 Descuento",null,{"$f":"_xlfn.IFNA(VLOOKUP(VentasMenudeo[[#This Row],[Promoción]],PromocionesMenudeo[[Promocion]:[Descuento]],2,0),0)","v":20},{"$f":"_xlfn.IFNA(VLOOKUP(VentasMenudeo[[#This Row],[Producto]],$A$2:$B$5,2,FALSE),0)","v":270},{"$f":"_xlfn.IFNA(_xlfn.IFS(VentasMenudeo[[#This Row],[Producto]]=$A$2,VentasMenudeo[[#This Row],[Precio de Venta]]*VentasMenudeo[[#This Row],[Cantidad]]-VentasMenudeo[[#This Row],[Descuento]],VentasMenudeo[[#This Row],[Producto]]=$A$3,VentasMenudeo[[#This Row],[Precio de Venta]]*VentasMenudeo[[#This Row],[Cantidad]]-VentasMenudeo[[#This Row],[Descuento]],VentasMenudeo[[#This Row],[Producto]]=$A$4,VentasMenudeo[[#This Row],[Precio de Venta]]*VentasMenudeo[[#This Row],[Cantidad]]-VentasMenudeo[[#This Row],[Descuento]],VentasMenudeo[[#This Row],[Producto]]=$A$5,VentasMenudeo[[#This Row],[Precio de Venta]]*VentasMenudeo[[#This Row],[Cantidad]]-VentasMenudeo[[#This Row],[Descuento]]),0)","v":250},250]
["2022-09-26","Hugo","IPLAY MAX","Cool mint",1,"$20 Descuento",null,{"$f":"_xlfn.IFNA(VLOOKUP(VentasMenudeo[[#This Row],[Promoción]],PromocionesMenudeo[[Promocion]:[Descuento]],2,0),0)","v":20},{"$f":"_xlfn.IFNA(VLOOKUP(VentasMenudeo[[#This Row],[Producto]],$A$2:$B$5,2,FALSE),0)","v":270},{"$f":"_xlfn.IFNA(_xlfn.IFS(VentasMenudeo[[#This Row],[Producto]]=$A$2,VentasMenudeo[[#This Row],[Precio de Venta]]*VentasMenudeo[[#This Row],[Cantidad]]-VentasMenudeo[[#This Row],[Descuento]],VentasMenudeo[[#This Row],[Producto]]=$A$3,VentasMenudeo[[#This Row],[Precio de Venta]]*VentasMenudeo[[#This Row],[Cantidad]]-VentasMenudeo[[#This Row],[Descuento]],VentasMenudeo[[#This Row],[Producto]]=$A$4,VentasMenudeo[[#This Row],[Precio de Venta]]*VentasMenudeo[[#This Row],[Cantidad]]-VentasMenudeo[[#This Row],[Descuento]],VentasMenudeo[[#This Row],[Producto]]=$A$5,VentasMenudeo[[#This Row],[Precio de Venta]]*VentasMenudeo[[#This Row],[Cantidad]]-VentasMenudeo[[#This Row],[Descuento]]),0)","v":250},250]
["2022-09-26","Hugo","IPLAY MAX","Energy ICE",1,"$20 Descuento",null,{"$f":"_xlfn.IFNA(VLOOKUP(VentasMenudeo[[#This Row],[Promoción]],PromocionesMenudeo[[Promocion]:[Descuento]],2,0),0)","v":20},{"$f":"_xlfn.IFNA(VLOOKUP(VentasMenudeo[[#This Row],[Producto]],$A$2:$B$5,2,FALSE),0)","v":270},{"$f":"_xlfn.IFNA(_xlfn.IFS(VentasMenudeo[[#This Row],[Producto]]=$A$2,VentasMenudeo[[#This Row],[Precio de Venta]]*VentasMenudeo[[#This Row],[Cantidad]]-VentasMenudeo[[#This Row],[Descuento]],VentasMenudeo[[#This Row],[Producto]]=$A$3,VentasMenudeo[[#This Row],[Precio de Venta]]*VentasMenudeo[[#This Row],[Cantidad]]-VentasMenudeo[[#This Row],[Descuento]],VentasMenudeo[[#This Row],[Producto]]=$A$4,VentasMenudeo[[#This Row],[Precio de Venta]]*VentasMenudeo[[#This Row],[Cantidad]]-VentasMenudeo[[#This Row],[Descuento]],VentasMenudeo[[#This Row],[Producto]]=$A$5,VentasMenudeo[[#This Row],[Precio de Venta]]*VentasMenudeo[[#This Row],[Cantidad]]-VentasMenudeo[[#This Row],[Descuento]]),0)","v":250},250]
["2022-09-26","Hugo","IPLAY MAX","GrapeFruit berry",1,"$20 Descuento",null,{"$f":"_xlfn.IFNA(VLOOKUP(VentasMenudeo[[#This Row],[Promoción]],PromocionesMenudeo[[Promocion]:[Descuento]],2,0),0)","v":20},{"$f":"_xlfn.IFNA(VLOOKUP(VentasMenudeo[[#This Row],[Producto]],$A$2:$B$5,2,FALSE),0)","v":270},{"$f":"_xlfn.IFNA(_xlfn.IFS(VentasMenudeo[[#This Row],[Producto]]=$A$2,VentasMenudeo[[#This Row],[Precio de Venta]]*VentasMenudeo[[#This Row],[Cantidad]]-VentasMenudeo[[#This Row],[Descuento]],VentasMenudeo[[#This Row],[Producto]]=$A$3,VentasMenudeo[[#This Row],[Precio de Venta]]*VentasMenudeo[[#This Row],[Cantidad]]-VentasMenudeo[[#This Row],[Descuento]],VentasMenudeo[[#This Row],[Producto]]=$A$4,VentasMenudeo[[#This Row],[Precio de Venta]]*VentasMenudeo[[#This Row],[Cantidad]]-VentasMenudeo[[#This Row],[Descuento]],VentasMenudeo[[#This Row],[Producto]]=$A$5,VentasMenudeo[[#This Row],[Precio de Venta]]*VentasMenudeo[[#This Row],[Cantidad]]-VentasMenudeo[[#This Row],[Descuento]]),0)","v":250},250]
["2022-09-26","Hugo","IPLAY MAX","Berry Watermelon",1,"$20 Descuento",null,{"$f":"_xlfn.IFNA(VLOOKUP(VentasMenudeo[[#This Row],[Promoción]],PromocionesMenudeo[[Promocion]:[Descuento]],2,0),0)","v":20},{"$f":"_xlfn.IFNA(VLOOKUP(VentasMenudeo[[#This Row],[Producto]],$A$2:$B$5,2,FALSE),0)","v":270},{"$f":"_xlfn.IFNA(_xlfn.IFS(VentasMenudeo[[#This Row],[Producto]]=$A$2,VentasMenudeo[[#This Row],[Precio de Venta]]*VentasMenudeo[[#This Row],[Cantidad]]-VentasMenudeo[[#This Row],[Descuento]],VentasMenudeo[[#This Row],[Producto]]=$A$3,VentasMenudeo[[#This Row],[Precio de Venta]]*VentasMenudeo[[#This Row],[Cantidad]]-VentasMenudeo[[#This Row],[Descuento]],VentasMenudeo[[#This Row],[Producto]]=$A$4,VentasMenudeo[[#This Row],[Precio de Venta]]*VentasMenudeo[[#This Row],[Cantidad]]-VentasMenudeo[[#This Row],[Descuento]],VentasMenudeo[[#This Row],[Producto]]=$A$5,VentasMenudeo[[#This Row],[Precio de Venta]]*VentasMenudeo[[#This Row],[Cantidad]]-VentasMenudeo[[#This Row],[Descuento]]),0)","v":250},250]
["2022-09-26","Hugo","IPLAY MAX","Berry Watermelon",1,"$20 Descuento",null,{"$f":"_xlfn.IFNA(VLOOKUP(VentasMenudeo[[#This Row],[Promoción]],PromocionesMenudeo[[Promocion]:[Descuento]],2,0),0)","v":20},{"$f":"_xlfn.IFNA(VLOOKUP(VentasMenudeo[[#This Row],[Producto]],$A$2:$B$5,2,FALSE),0)","v":270},{"$f":"_xlfn.IFNA(_xlfn.IFS(VentasMenudeo[[#This Row],[Producto]]=$A$2,VentasMenudeo[[#This Row],[Precio de Venta]]*VentasMenudeo[[#This Row],[Cantidad]]-VentasMenudeo[[#This Row],[Descuento]],VentasMenudeo[[#This Row],[Producto]]=$A$3,VentasMenudeo[[#This Row],[Precio de Venta]]*VentasMenudeo[[#This Row],[Cantidad]]-VentasMenudeo[[#This Row],[Descuento]],VentasMenudeo[[#This Row],[Producto]]=$A$4,VentasMenudeo[[#This Row],[Precio de Venta]]*VentasMenudeo[[#This Row],[Cantidad]]-VentasMenudeo[[#This Row],[Descuento]],VentasMenudeo[[#This Row],[Producto]]=$A$5,VentasMenudeo[[#This Row],[Precio de Venta]]*VentasMenudeo[[#This Row],[Cantidad]]-VentasMenudeo[[#This Row],[Descuento]]),0)","v":250},250]
["2022-09-26","Hugo","IPLAY MAX","GrapeFruit berry",1,"$20 Descuento",null,{"$f":"_xlfn.IFNA(VLOOKUP(VentasMenudeo[[#This Row],[Promoción]],PromocionesMenudeo[[Promocion]:[Descuento]],2,0),0)","v":20},{"$f":"_xlfn.IFNA(VLOOKUP(VentasMenudeo[[#This Row],[Producto]],$A$2:$B$5,2,FALSE),0)","v":270},{"$f":"_xlfn.IFNA(_xlfn.IFS(VentasMenudeo[[#This Row],[Producto]]=$A$2,VentasMenudeo[[#This Row],[Precio de Venta]]*VentasMenudeo[[#This Row],[Cantidad]]-VentasMenudeo[[#This Row],[Descuento]],VentasMenudeo[[#This Row],[Producto]]=$A$3,VentasMenudeo[[#This Row],[Precio de Venta]]*VentasMenudeo[[#This Row],[Cantidad]]-VentasMenudeo[[#This Row],[Descuento]],VentasMenudeo[[#This Row],[Producto]]=$A$4,VentasMenudeo[[#This Row],[Precio de Venta]]*VentasMenudeo[[#This Row],[Cantidad]]-VentasMenudeo[[#This Row],[Descuento]],VentasMenudeo[[#This Row],[Producto]]=$A$5,VentasMenudeo[[#This Row],[Precio de Venta]]*VentasMenudeo[[#This Row],[Cantidad]]-VentasMenudeo[[#This Row],[Descuento]]),0)","v":250},250]
["2022-09-27","Hugo","IPLAY MAX","Coconut",1,"$20 Descuento",null,{"$f":"_xlfn.IFNA(VLOOKUP(VentasMenudeo[[#This Row],[Promoción]],PromocionesMenudeo[[Promocion]:[Descuento]],2,0),0)","v":20},{"$f":"_xlfn.IFNA(VLOOKUP(VentasMenudeo[[#This Row],[Producto]],$A$2:$B$5,2,FALSE),0)","v":270},{"$f":"_xlfn.IFNA(_xlfn.IFS(VentasMenudeo[[#This Row],[Producto]]=$A$2,VentasMenudeo[[#This Row],[Precio de Venta]]*VentasMenudeo[[#This Row],[Cantidad]]-VentasMenudeo[[#This Row],[Descuento]],VentasMenudeo[[#This Row],[Producto]]=$A$3,VentasMenudeo[[#This Row],[Precio de Venta]]*VentasMenudeo[[#This Row],[Cantidad]]-VentasMenudeo[[#This Row],[Descuento]],VentasMenudeo[[#This Row],[Producto]]=$A$4,VentasMenudeo[[#This Row],[Precio de Venta]]*VentasMenudeo[[#This Row],[Cantidad]]-VentasMenudeo[[#This Row],[Descuento]],VentasMenudeo[[#This Row],[Producto]]=$A$5,VentasMenudeo[[#This Row],[Precio de Venta]]*VentasMenudeo[[#This Row],[Cantidad]]-VentasMenudeo[[#This Row],[Descuento]]),0)","v":250},250]
["2022-09-29","Hugo","IPLAY MAX","Guava",1,"$20 Descuento",null,{"$f":"_xlfn.IFNA(VLOOKUP(VentasMenudeo[[#This Row],[Promoción]],PromocionesMenudeo[[Promocion]:[Descuento]],2,0),0)","v":20},{"$f":"_xlfn.IFNA(VLOOKUP(VentasMenudeo[[#This Row],[Producto]],$A$2:$B$5,2,FALSE),0)","v":270},{"$f":"_xlfn.IFNA(_xlfn.IFS(VentasMenudeo[[#This Row],[Producto]]=$A$2,VentasMenudeo[[#This Row],[Precio de Venta]]*VentasMenudeo[[#This Row],[Cantidad]]-VentasMenudeo[[#This Row],[Descuento]],VentasMenudeo[[#This Row],[Producto]]=$A$3,VentasMenudeo[[#This Row],[Precio de Venta]]*VentasMenudeo[[#This Row],[Cantidad]]-VentasMenudeo[[#This Row],[Descuento]],VentasMenudeo[[#This Row],[Producto]]=$A$4,VentasMenudeo[[#This Row],[Precio de Venta]]*VentasMenudeo[[#This Row],[Cantidad]]-VentasMenudeo[[#This Row],[Descuento]],VentasMenudeo[[#This Row],[Producto]]=$A$5,VentasMenudeo[[#This Row],[Precio de Venta]]*VentasMenudeo[[#This Row],[Cantidad]]-VentasMenudeo[[#This Row],[Descuento]]),0)","v":250},250]
["2022-09-29","Hugo","IPLAY MAX","Guava",1,"$20 Descuento",null,{"$f":"_xlfn.IFNA(VLOOKUP(VentasMenudeo[[#This Row],[Promoción]],PromocionesMenudeo[[Promocion]:[Descuento]],2,0),0)","v":20},{"$f":"_xlfn.IFNA(VLOOKUP(VentasMenudeo[[#This Row],[Producto]],$A$2:$B$5,2,FALSE),0)","v":270},{"$f":"_xlfn.IFNA(_xlfn.IFS(VentasMenudeo[[#This Row],[Producto]]=$A$2,VentasMenudeo[[#This Row],[Precio de Venta]]*VentasMenudeo[[#This Row],[Cantidad]]-VentasMenudeo[[#This Row],[Descuento]],VentasMenudeo[[#This Row],[Producto]]=$A$3,VentasMenudeo[[#This Row],[Precio de Venta]]*VentasMenudeo[[#This Row],[Cantidad]]-VentasMenudeo[[#This Row],[Descuento]],VentasMenudeo[[#This Row],[Producto]]=$A$4,VentasMenudeo[[#This Row],[Precio de Venta]]*VentasMenudeo[[#This Row],[Cantidad]]-VentasMenudeo[[#This Row],[Descuento]],VentasMenudeo[[#This Row],[Producto]]=$A$5,VentasMenudeo[[#This Row],[Precio de Venta]]*VentasMenudeo[[#This Row],[Cantidad]]-VentasMenudeo[[#This Row],[Descuento]]),0)","v":250},250]
["2022-09-29","Hugo","IPLAY MAX","Coconut",1,"$20 Descuento",null,{"$f":"_xlfn.IFNA(VLOOKUP(VentasMenudeo[[#This Row],[Promoción]],PromocionesMenudeo[[Promocion]:[Descuento]],2,0),0)","v":20},{"$f":"_xlfn.IFNA(VLOOKUP(VentasMenudeo[[#This Row],[Producto]],$A$2:$B$5,2,FALSE),0)","v":270},{"$f":"_xlfn.IFNA(_xlfn.IFS(VentasMenudeo[[#This Row],[Producto]]=$A$2,VentasMenudeo[[#This Row],[Precio de Venta]]*VentasMenudeo[[#This Row],[Cantidad]]-VentasMenudeo[[#This Row],[Descuento]],VentasMenudeo[[#This Row],[Producto]]=$A$3,VentasMenudeo[[#This Row],[Precio de Venta]]*VentasMenudeo[[#This Row],[Cantidad]]-VentasMenudeo[[#This Row],[Descuento]],VentasMenudeo[[#This Row],[Producto]]=$A$4,VentasMenudeo[[#This Row],[Precio de Venta]]*VentasMenudeo[[#This Row],[Cantidad]]-VentasMenudeo[[#This Row],[Descuento]],VentasMenudeo[[#This Row],[Producto]]=$A$5,VentasMenudeo[[#This Row],[Precio de Venta]]*VentasMenudeo[[#This Row],[Cantidad]]-VentasMenudeo[[#This Row],[Descuento]]),0)","v":250},250]
["2022-09-29","Hugo","IPLAY MAX","GrapeFruit berry",1,"$20 Descuento",null,{"$f":"_xlfn.IFNA(VLOOKUP(VentasMenudeo[[#This Row],[Promoción]],PromocionesMenudeo[[Promocion]:[Descuento]],2,0),0)","v":20},{"$f":"_xlfn.IFNA(VLOOKUP(VentasMenudeo[[#This Row],[Producto]],$A$2:$B$5,2,FALSE),0)","v":270},{"$f":"_xlfn.IFNA(_xlfn.IFS(VentasMenudeo[[#This Row],[Producto]]=$A$2,VentasMenudeo[[#This Row],[Precio de Venta]]*VentasMenudeo[[#This Row],[Cantidad]]-VentasMenudeo[[#This Row],[Descuento]],VentasMenudeo[[#This Row],[Producto]]=$A$3,VentasMenudeo[[#This Row],[Precio de Venta]]*VentasMenudeo[[#This Row],[Cantidad]]-VentasMenudeo[[#This Row],[Descuento]],VentasMenudeo[[#This Row],[Producto]]=$A$4,VentasMenudeo[[#This Row],[Precio de Venta]]*VentasMenudeo[[#This Row],[Cantidad]]-VentasMenudeo[[#This Row],[Descuento]],VentasMenudeo[[#This Row],[Producto]]=$A$5,VentasMenudeo[[#This Row],[Precio de Venta]]*VentasMenudeo[[#This Row],[Cantidad]]-VentasMenudeo[[#This Row],[Descuento]]),0)","v":250},250]
["2022-09-30","Hugo","IPLAY MAX","Energy ICE",1,"$20 Descuento",null,{"$f":"_xlfn.IFNA(VLOOKUP(VentasMenudeo[[#This Row],[Promoción]],PromocionesMenudeo[[Promocion]:[Descuento]],2,0),0)","v":20},{"$f":"_xlfn.IFNA(VLOOKUP(VentasMenudeo[[#This Row],[Producto]],$A$2:$B$5,2,FALSE),0)","v":270},{"$f":"_xlfn.IFNA(_xlfn.IFS(VentasMenudeo[[#This Row],[Producto]]=$A$2,VentasMenudeo[[#This Row],[Precio de Venta]]*VentasMenudeo[[#This Row],[Cantidad]]-VentasMenudeo[[#This Row],[Descuento]],VentasMenudeo[[#This Row],[Producto]]=$A$3,VentasMenudeo[[#This Row],[Precio de Venta]]*VentasMenudeo[[#This Row],[Cantidad]]-VentasMenudeo[[#This Row],[Descuento]],VentasMenudeo[[#This Row],[Producto]]=$A$4,VentasMenudeo[[#This Row],[Precio de Venta]]*VentasMenudeo[[#This Row],[Cantidad]]-VentasMenudeo[[#This Row],[Descuento]],VentasMenudeo[[#This Row],[Producto]]=$A$5,VentasMenudeo[[#This Row],[Precio de Venta]]*VentasMenudeo[[#This Row],[Cantidad]]-VentasMenudeo[[#This Row],[Descuento]]),0)","v":250},250]
["2022-09-30","Hugo","IPLAY MAX","GrapeFruit berry",1,"$20 Descuento",null,{"$f":"_xlfn.IFNA(VLOOKUP(VentasMenudeo[[#This Row],[Promoción]],PromocionesMenudeo[[Promocion]:[Descuento]],2,0),0)","v":20},{"$f":"_xlfn.IFNA(VLOOKUP(VentasMenudeo[[#This Row],[Producto]],$A$2:$B$5,2,FALSE),0)","v":270},{"$f":"_xlfn.IFNA(_xlfn.IFS(VentasMenudeo[[#This Row],[Producto]]=$A$2,VentasMenudeo[[#This Row],[Precio de Venta]]*VentasMenudeo[[#This Row],[Cantidad]]-VentasMenudeo[[#This Row],[Descuento]],VentasMenudeo[[#This Row],[Producto]]=$A$3,VentasMenudeo[[#This Row],[Precio de Venta]]*VentasMenudeo[[#This Row],[Cantidad]]-VentasMenudeo[[#This Row],[Descuento]],VentasMenudeo[[#This Row],[Producto]]=$A$4,VentasMenudeo[[#This Row],[Precio de Venta]]*VentasMenudeo[[#This Row],[Cantidad]]-VentasMenudeo[[#This Row],[Descuento]],VentasMenudeo[[#This Row],[Producto]]=$A$5,VentasMenudeo[[#This Row],[Precio de Venta]]*VentasMenudeo[[#This Row],[Cantidad]]-VentasMenudeo[[#This Row],[Descuento]]),0)","v":250},250]
["2022-09-30","Hugo","IPLAY MAX","Coconut",1,"$20 Descuento",null,{"$f":"_xlfn.IFNA(VLOOKUP(VentasMenudeo[[#This Row],[Promoción]],PromocionesMenudeo[[Promocion]:[Descuento]],2,0),0)","v":20},{"$f":"_xlfn.IFNA(VLOOKUP(VentasMenudeo[[#This Row],[Producto]],$A$2:$B$5,2,FALSE),0)","v":270},{"$f":"_xlfn.IFNA(_xlfn.IFS(VentasMenudeo[[#This Row],[Producto]]=$A$2,VentasMenudeo[[#This Row],[Precio de Venta]]*VentasMenudeo[[#This Row],[Cantidad]]-VentasMenudeo[[#This Row],[Descuento]],VentasMenudeo[[#This Row],[Producto]]=$A$3,VentasMenudeo[[#This Row],[Precio de Venta]]*VentasMenudeo[[#This Row],[Cantidad]]-VentasMenudeo[[#This Row],[Descuento]],VentasMenudeo[[#This Row],[Producto]]=$A$4,VentasMenudeo[[#This Row],[Precio de Venta]]*VentasMenudeo[[#This Row],[Cantidad]]-VentasMenudeo[[#This Row],[Descuento]],VentasMenudeo[[#This Row],[Producto]]=$A$5,VentasMenudeo[[#This Row],[Precio de Venta]]*VentasMenudeo[[#This Row],[Cantidad]]-VentasMenudeo[[#This Row],[Descuento]]),0)","v":250},250]
["2022-09-30","Hugo","IPLAY MAX","Berry Watermelon",1,"$20 Descuento",null,{"$f":"_xlfn.IFNA(VLOOKUP(VentasMenudeo[[#This Row],[Promoción]],PromocionesMenudeo[[Promocion]:[Descuento]],2,0),0)","v":20},{"$f":"_xlfn.IFNA(VLOOKUP(VentasMenudeo[[#This Row],[Producto]],$A$2:$B$5,2,FALSE),0)","v":270},{"$f":"_xlfn.IFNA(_xlfn.IFS(VentasMenudeo[[#This Row],[Producto]]=$A$2,VentasMenudeo[[#This Row],[Precio de Venta]]*VentasMenudeo[[#This Row],[Cantidad]]-VentasMenudeo[[#This Row],[Descuento]],VentasMenudeo[[#This Row],[Producto]]=$A$3,VentasMenudeo[[#This Row],[Precio de Venta]]*VentasMenudeo[[#This Row],[Cantidad]]-VentasMenudeo[[#This Row],[Descuento]],VentasMenudeo[[#This Row],[Producto]]=$A$4,VentasMenudeo[[#This Row],[Precio de Venta]]*VentasMenudeo[[#This Row],[Cantidad]]-VentasMenudeo[[#This Row],[Descuento]],VentasMenudeo[[#This Row],[Producto]]=$A$5,VentasMenudeo[[#This Row],[Precio de Venta]]*VentasMenudeo[[#This Row],[Cantidad]]-VentasMenudeo[[#This Row],[Descuento]]),0)","v":250},250]
["2022-09-30","Hugo","IPLAY MAX","Sour Apple",1,"$20 Descuento",null,{"$f":"_xlfn.IFNA(VLOOKUP(VentasMenudeo[[#This Row],[Promoción]],PromocionesMenudeo[[Promocion]:[Descuento]],2,0),0)","v":20},{"$f":"_xlfn.IFNA(VLOOKUP(VentasMenudeo[[#This Row],[Producto]],$A$2:$B$5,2,FALSE),0)","v":270},{"$f":"_xlfn.IFNA(_xlfn.IFS(VentasMenudeo[[#This Row],[Producto]]=$A$2,VentasMenudeo[[#This Row],[Precio de Venta]]*VentasMenudeo[[#This Row],[Cantidad]]-VentasMenudeo[[#This Row],[Descuento]],VentasMenudeo[[#This Row],[Producto]]=$A$3,VentasMenudeo[[#This Row],[Precio de Venta]]*VentasMenudeo[[#This Row],[Cantidad]]-VentasMenudeo[[#This Row],[Descuento]],VentasMenudeo[[#This Row],[Producto]]=$A$4,VentasMenudeo[[#This Row],[Precio de Venta]]*VentasMenudeo[[#This Row],[Cantidad]]-VentasMenudeo[[#This Row],[Descuento]],VentasMenudeo[[#This Row],[Producto]]=$A$5,VentasMenudeo[[#This Row],[Precio de Venta]]*VentasMenudeo[[#This Row],[Cantidad]]-VentasMenudeo[[#This Row],[Descuento]]),0)","v":250},250]
["2022-09-30","Hugo","IPLAY MAX","GrapeFruit berry",1,"$20 Descuento",null,{"$f":"_xlfn.IFNA(VLOOKUP(VentasMenudeo[[#This Row],[Promoción]],PromocionesMenudeo[[Promocion]:[Descuento]],2,0),0)","v":20},{"$f":"_xlfn.IFNA(VLOOKUP(VentasMenudeo[[#This Row],[Producto]],$A$2:$B$5,2,FALSE),0)","v":270},{"$f":"_xlfn.IFNA(_xlfn.IFS(VentasMenudeo[[#This Row],[Producto]]=$A$2,VentasMenudeo[[#This Row],[Precio de Venta]]*VentasMenudeo[[#This Row],[Cantidad]]-VentasMenudeo[[#This Row],[Descuento]],VentasMenudeo[[#This Row],[Producto]]=$A$3,VentasMenudeo[[#This Row],[Precio de Venta]]*VentasMenudeo[[#This Row],[Cantidad]]-VentasMenudeo[[#This Row],[Descuento]],VentasMenudeo[[#This Row],[Producto]]=$A$4,VentasMenudeo[[#This Row],[Precio de Venta]]*VentasMenudeo[[#This Row],[Cantidad]]-VentasMenudeo[[#This Row],[Descuento]],VentasMenudeo[[#This Row],[Producto]]=$A$5,VentasMenudeo[[#This Row],[Precio de Venta]]*VentasMenudeo[[#This Row],[Cantidad]]-VentasMenudeo[[#This Row],[Descuento]]),0)","v":250},250]
["2022-10-01","Hugo","IPLAY MAX","Grape Ice",1,"$20 Descuento",null,{"$f":"_xlfn.IFNA(VLOOKUP(VentasMenudeo[[#This Row],[Promoción]],PromocionesMenudeo[[Promocion]:[Descuento]],2,0),0)","v":20},{"$f":"_xlfn.IFNA(VLOOKUP(VentasMenudeo[[#This Row],[Producto]],$A$2:$B$5,2,FALSE),0)","v":270},{"$f":"_xlfn.IFNA(_xlfn.IFS(VentasMenudeo[[#This Row],[Producto]]=$A$2,VentasMenudeo[[#This Row],[Precio de Venta]]*VentasMenudeo[[#This Row],[Cantidad]]-VentasMenudeo[[#This Row],[Descuento]],VentasMenudeo[[#This Row],[Producto]]=$A$3,VentasMenudeo[[#This Row],[Precio de Venta]]*VentasMenudeo[[#This Row],[Cantidad]]-VentasMenudeo[[#This Row],[Descuento]],VentasMenudeo[[#This Row],[Producto]]=$A$4,VentasMenudeo[[#This Row],[Precio de Venta]]*VentasMenudeo[[#This Row],[Cantidad]]-VentasMenudeo[[#This Row],[Descuento]],VentasMenudeo[[#This Row],[Producto]]=$A$5,VentasMenudeo[[#This Row],[Precio de Venta]]*VentasMenudeo[[#This Row],[Cantidad]]-VentasMenudeo[[#This Row],[Descuento]]),0)","v":250},250]
["2022-10-01","Hugo","IPLAY MAX","Guava",1,"$20 Descuento",null,{"$f":"_xlfn.IFNA(VLOOKUP(VentasMenudeo[[#This Row],[Promoción]],PromocionesMenudeo[[Promocion]:[Descuento]],2,0),0)","v":20},{"$f":"_xlfn.IFNA(VLOOKUP(VentasMenudeo[[#This Row],[Producto]],$A$2:$B$5,2,FALSE),0)","v":270},{"$f":"_xlfn.IFNA(_xlfn.IFS(VentasMenudeo[[#This Row],[Producto]]=$A$2,VentasMenudeo[[#This Row],[Precio de Venta]]*VentasMenudeo[[#This Row],[Cantidad]]-VentasMenudeo[[#This Row],[Descuento]],VentasMenudeo[[#This Row],[Producto]]=$A$3,VentasMenudeo[[#This Row],[Precio de Venta]]*VentasMenudeo[[#This Row],[Cantidad]]-VentasMenudeo[[#This Row],[Descuento]],VentasMenudeo[[#This Row],[Producto]]=$A$4,VentasMenudeo[[#This Row],[Precio de Venta]]*VentasMenudeo[[#This Row],[Cantidad]]-VentasMenudeo[[#This Row],[Descuento]],VentasMenudeo[[#This Row],[Producto]]=$A$5,VentasMenudeo[[#This Row],[Precio de Venta]]*VentasMenudeo[[#This Row],[Cantidad]]-VentasMenudeo[[#This Row],[Descuento]]),0)","v":250},250]
["2022-10-01","Hugo","IPLAY MAX","Guava",1,"$20 Descuento",null,{"$f":"_xlfn.IFNA(VLOOKUP(VentasMenudeo[[#This Row],[Promoción]],PromocionesMenudeo[[Promocion]:[Descuento]],2,0),0)","v":20},{"$f":"_xlfn.IFNA(VLOOKUP(VentasMenudeo[[#This Row],[Producto]],$A$2:$B$5,2,FALSE),0)","v":270},{"$f":"_xlfn.IFNA(_xlfn.IFS(VentasMenudeo[[#This Row],[Producto]]=$A$2,VentasMenudeo[[#This Row],[Precio de Venta]]*VentasMenudeo[[#This Row],[Cantidad]]-VentasMenudeo[[#This Row],[Descuento]],VentasMenudeo[[#This Row],[Producto]]=$A$3,VentasMenudeo[[#This Row],[Precio de Venta]]*VentasMenudeo[[#This Row],[Cantidad]]-VentasMenudeo[[#This Row],[Descuento]],VentasMenudeo[[#This Row],[Producto]]=$A$4,VentasMenudeo[[#This Row],[Precio de Venta]]*VentasMenudeo[[#This Row],[Cantidad]]-VentasMenudeo[[#This Row],[Descuento]],VentasMenudeo[[#This Row],[Producto]]=$A$5,VentasMenudeo[[#This Row],[Precio de Venta]]*VentasMenudeo[[#This Row],[Cantidad]]-VentasMenudeo[[#This Row],[Descuento]]),0)","v":250},250]
["2022-10-03","Hugo","IPLAY MAX","Energy ICE",1,"$20 Descuento",null,{"$f":"_xlfn.IFNA(VLOOKUP(VentasMenudeo[[#This Row],[Promoción]],PromocionesMenudeo[[Promocion]:[Descuento]],2,0),0)","v":20},{"$f":"_xlfn.IFNA(VLOOKUP(VentasMenudeo[[#This Row],[Producto]],$A$2:$B$5,2,FALSE),0)","v":270},{"$f":"_xlfn.IFNA(_xlfn.IFS(VentasMenudeo[[#This Row],[Producto]]=$A$2,VentasMenudeo[[#This Row],[Precio de Venta]]*VentasMenudeo[[#This Row],[Cantidad]]-VentasMenudeo[[#This Row],[Descuento]],VentasMenudeo[[#This Row],[Producto]]=$A$3,VentasMenudeo[[#This Row],[Precio de Venta]]*VentasMenudeo[[#This Row],[Cantidad]]-VentasMenudeo[[#This Row],[Descuento]],VentasMenudeo[[#This Row],[Producto]]=$A$4,VentasMenudeo[[#This Row],[Precio de Venta]]*VentasMenudeo[[#This Row],[Cantidad]]-VentasMenudeo[[#This Row],[Descuento]],VentasMenudeo[[#This Row],[Producto]]=$A$5,VentasMenudeo[[#This Row],[Precio de Venta]]*VentasMenudeo[[#This Row],[Cantidad]]-VentasMenudeo[[#This Row],[Descuento]]),0)","v":250},250]
["2022-10-03","Hugo","IPLAY MAX","GrapeFruit berry",1,"$20 Descuento",null,{"$f":"_xlfn.IFNA(VLOOKUP(VentasMenudeo[[#This Row],[Promoción]],PromocionesMenudeo[[Promocion]:[Descuento]],2,0),0)","v":20},{"$f":"_xlfn.IFNA(VLOOKUP(VentasMenudeo[[#This Row],[Producto]],$A$2:$B$5,2,FALSE),0)","v":270},{"$f":"_xlfn.IFNA(_xlfn.IFS(VentasMenudeo[[#This Row],[Producto]]=$A$2,VentasMenudeo[[#This Row],[Precio de Venta]]*VentasMenudeo[[#This Row],[Cantidad]]-VentasMenudeo[[#This Row],[Descuento]],VentasMenudeo[[#This Row],[Producto]]=$A$3,VentasMenudeo[[#This Row],[Precio de Venta]]*VentasMenudeo[[#This Row],[Cantidad]]-VentasMenudeo[[#This Row],[Descuento]],VentasMenudeo[[#This Row],[Producto]]=$A$4,VentasMenudeo[[#This Row],[Precio de Venta]]*VentasMenudeo[[#This Row],[Cantidad]]-VentasMenudeo[[#This Row],[Descuento]],VentasMenudeo[[#This Row],[Producto]]=$A$5,VentasMenudeo[[#This Row],[Precio de Venta]]*VentasMenudeo[[#This Row],[Cantidad]]-VentasMenudeo[[#This Row],[Descuento]]),0)","v":250},250]
["2022-10-04","Hugo","IPLAY MAX","GrapeFruit berry",1,"$20 Descuento",null,{"$f":"_xlfn.IFNA(VLOOKUP(VentasMenudeo[[#This Row],[Promoción]],PromocionesMenudeo[[Promocion]:[Descuento]],2,0),0)","v":20},{"$f":"_xlfn.IFNA(VLOOKUP(VentasMenudeo[[#This Row],[Producto]],$A$2:$B$5,2,FALSE),0)","v":270},{"$f":"_xlfn.IFNA(_xlfn.IFS(VentasMenudeo[[#This Row],[Producto]]=$A$2,VentasMenudeo[[#This Row],[Precio de Venta]]*VentasMenudeo[[#This Row],[Cantidad]]-VentasMenudeo[[#This Row],[Descuento]],VentasMenudeo[[#This Row],[Producto]]=$A$3,VentasMenudeo[[#This Row],[Precio de Venta]]*VentasMenudeo[[#This Row],[Cantidad]]-VentasMenudeo[[#This Row],[Descuento]],VentasMenudeo[[#This Row],[Producto]]=$A$4,VentasMenudeo[[#This Row],[Precio de Venta]]*VentasMenudeo[[#This Row],[Cantidad]]-VentasMenudeo[[#This Row],[Descuento]],VentasMenudeo[[#This Row],[Producto]]=$A$5,VentasMenudeo[[#This Row],[Precio de Venta]]*VentasMenudeo[[#This Row],[Cantidad]]-VentasMenudeo[[#This Row],[Descuento]]),0)","v":250},250]
["2022-10-04","Hugo","IPLAY MAX","GrapeFruit berry",1,"$20 Descuento",null,{"$f":"_xlfn.IFNA(VLOOKUP(VentasMenudeo[[#This Row],[Promoción]],PromocionesMenudeo[[Promocion]:[Descuento]],2,0),0)","v":20},{"$f":"_xlfn.IFNA(VLOOKUP(VentasMenudeo[[#This Row],[Producto]],$A$2:$B$5,2,FALSE),0)","v":270},{"$f":"_xlfn.IFNA(_xlfn.IFS(VentasMenudeo[[#This Row],[Producto]]=$A$2,VentasMenudeo[[#This Row],[Precio de Venta]]*VentasMenudeo[[#This Row],[Cantidad]]-VentasMenudeo[[#This Row],[Descuento]],VentasMenudeo[[#This Row],[Producto]]=$A$3,VentasMenudeo[[#This Row],[Precio de Venta]]*VentasMenudeo[[#This Row],[Cantidad]]-VentasMenudeo[[#This Row],[Descuento]],VentasMenudeo[[#This Row],[Producto]]=$A$4,VentasMenudeo[[#This Row],[Precio de Venta]]*VentasMenudeo[[#This Row],[Cantidad]]-VentasMenudeo[[#This Row],[Descuento]],VentasMenudeo[[#This Row],[Producto]]=$A$5,VentasMenudeo[[#This Row],[Precio de Venta]]*VentasMenudeo[[#This Row],[Cantidad]]-VentasMenudeo[[#This Row],[Descuento]]),0)","v":250},250]
["2022-10-04","Hugo","IPLAY MAX","Energy ICE",1,"$20 Descuento",null,{"$f":"_xlfn.IFNA(VLOOKUP(VentasMenudeo[[#This Row],[Promoción]],PromocionesMenudeo[[Promocion]:[Descuento]],2,0),0)","v":20},{"$f":"_xlfn.IFNA(VLOOKUP(VentasMenudeo[[#This Row],[Producto]],$A$2:$B$5,2,FALSE),0)","v":270},{"$f":"_xlfn.IFNA(_xlfn.IFS(VentasMenudeo[[#This Row],[Producto]]=$A$2,VentasMenudeo[[#This Row],[Precio de Venta]]*VentasMenudeo[[#This Row],[Cantidad]]-VentasMenudeo[[#This Row],[Descuento]],VentasMenudeo[[#This Row],[Producto]]=$A$3,VentasMenudeo[[#This Row],[Precio de Venta]]*VentasMenudeo[[#This Row],[Cantidad]]-VentasMenudeo[[#This Row],[Descuento]],VentasMenudeo[[#This Row],[Producto]]=$A$4,VentasMenudeo[[#This Row],[Precio de Venta]]*VentasMenudeo[[#This Row],[Cantidad]]-VentasMenudeo[[#This Row],[Descuento]],VentasMenudeo[[#This Row],[Producto]]=$A$5,VentasMenudeo[[#This Row],[Precio de Venta]]*VentasMenudeo[[#This Row],[Cantidad]]-VentasMenudeo[[#This Row],[Descuento]]),0)","v":250},250]
["2022-10-05","Hugo","IPLAY MAX","Grape Ice",1,"$20 Descuento",null,{"$f":"_xlfn.IFNA(VLOOKUP(VentasMenudeo[[#This Row],[Promoción]],PromocionesMenudeo[[Promocion]:[Descuento]],2,0),0)","v":20},{"$f":"_xlfn.IFNA(VLOOKUP(VentasMenudeo[[#This Row],[Producto]],$A$2:$B$5,2,FALSE),0)","v":270},{"$f":"_xlfn.IFNA(_xlfn.IFS(VentasMenudeo[[#This Row],[Producto]]=$A$2,VentasMenudeo[[#This Row],[Precio de Venta]]*VentasMenudeo[[#This Row],[Cantidad]]-VentasMenudeo[[#This Row],[Descuento]],VentasMenudeo[[#This Row],[Producto]]=$A$3,VentasMenudeo[[#This Row],[Precio de Venta]]*VentasMenudeo[[#This Row],[Cantidad]]-VentasMenudeo[[#This Row],[Descuento]],VentasMenudeo[[#This Row],[Producto]]=$A$4,VentasMenudeo[[#This Row],[Precio de Venta]]*VentasMenudeo[[#This Row],[Cantidad]]-VentasMenudeo[[#This Row],[Descuento]],VentasMenudeo[[#This Row],[Producto]]=$A$5,VentasMenudeo[[#This Row],[Precio de Venta]]*VentasMenudeo[[#This Row],[Cantidad]]-VentasMenudeo[[#This Row],[Descuento]]),0)","v":250},250]
["2022-10-06","Hugo","IPLAY MAX","Guava",1,"$20 Descuento",null,{"$f":"_xlfn.IFNA(VLOOKUP(VentasMenudeo[[#This Row],[Promoción]],PromocionesMenudeo[[Promocion]:[Descuento]],2,0),0)","v":20},{"$f":"_xlfn.IFNA(VLOOKUP(VentasMenudeo[[#This Row],[Producto]],$A$2:$B$5,2,FALSE),0)","v":270},{"$f":"_xlfn.IFNA(_xlfn.IFS(VentasMenudeo[[#This Row],[Producto]]=$A$2,VentasMenudeo[[#This Row],[Precio de Venta]]*VentasMenudeo[[#This Row],[Cantidad]]-VentasMenudeo[[#This Row],[Descuento]],VentasMenudeo[[#This Row],[Producto]]=$A$3,VentasMenudeo[[#This Row],[Precio de Venta]]*VentasMenudeo[[#This Row],[Cantidad]]-VentasMenudeo[[#This Row],[Descuento]],VentasMenudeo[[#This Row],[Producto]]=$A$4,VentasMenudeo[[#This Row],[Precio de Venta]]*VentasMenudeo[[#This Row],[Cantidad]]-VentasMenudeo[[#This Row],[Descuento]],VentasMenudeo[[#This Row],[Producto]]=$A$5,VentasMenudeo[[#This Row],[Precio de Venta]]*VentasMenudeo[[#This Row],[Cantidad]]-VentasMenudeo[[#This Row],[Descuento]]),0)","v":250},250]
["2022-10-06","Hugo","IPLAY MAX","Guava",1,"$20 Descuento",null,{"$f":"_xlfn.IFNA(VLOOKUP(VentasMenudeo[[#This Row],[Promoción]],PromocionesMenudeo[[Promocion]:[Descuento]],2,0),0)","v":20},{"$f":"_xlfn.IFNA(VLOOKUP(VentasMenudeo[[#This Row],[Producto]],$A$2:$B$5,2,FALSE),0)","v":270},{"$f":"_xlfn.IFNA(_xlfn.IFS(VentasMenudeo[[#This Row],[Producto]]=$A$2,VentasMenudeo[[#This Row],[Precio de Venta]]*VentasMenudeo[[#This Row],[Cantidad]]-VentasMenudeo[[#This Row],[Descuento]],VentasMenudeo[[#This Row],[Producto]]=$A$3,VentasMenudeo[[#This Row],[Precio de Venta]]*VentasMenudeo[[#This Row],[Cantidad]]-VentasMenudeo[[#This Row],[Descuento]],VentasMenudeo[[#This Row],[Producto]]=$A$4,VentasMenudeo[[#This Row],[Precio de Venta]]*VentasMenudeo[[#This Row],[Cantidad]]-VentasMenudeo[[#This Row],[Descuento]],VentasMenudeo[[#This Row],[Producto]]=$A$5,VentasMenudeo[[#This Row],[Precio de Venta]]*VentasMenudeo[[#This Row],[Cantidad]]-VentasMenudeo[[#This Row],[Descuento]]),0)","v":250},250]
["2022-10-06","Hugo","IPLAY MAX","Sour Apple",1,"$20 Descuento",null,{"$f":"_xlfn.IFNA(VLOOKUP(VentasMenudeo[[#This Row],[Promoción]],PromocionesMenudeo[[Promocion]:[Descuento]],2,0),0)","v":20},{"$f":"_xlfn.IFNA(VLOOKUP(VentasMenudeo[[#This Row],[Producto]],$A$2:$B$5,2,FALSE),0)","v":270},{"$f":"_xlfn.IFNA(_xlfn.IFS(VentasMenudeo[[#This Row],[Producto]]=$A$2,VentasMenudeo[[#This Row],[Precio de Venta]]*VentasMenudeo[[#This Row],[Cantidad]]-VentasMenudeo[[#This Row],[Descuento]],VentasMenudeo[[#This Row],[Producto]]=$A$3,VentasMenudeo[[#This Row],[Precio de Venta]]*VentasMenudeo[[#This Row],[Cantidad]]-VentasMenudeo[[#This Row],[Descuento]],VentasMenudeo[[#This Row],[Producto]]=$A$4,VentasMenudeo[[#This Row],[Precio de Venta]]*VentasMenudeo[[#This Row],[Cantidad]]-VentasMenudeo[[#This Row],[Descuento]],VentasMenudeo[[#This Row],[Producto]]=$A$5,VentasMenudeo[[#This Row],[Precio de Venta]]*VentasMenudeo[[#This Row],[Cantidad]]-VentasMenudeo[[#This Row],[Descuento]]),0)","v":250},250]
["2022-10-06","Hugo","IPLAY MAX","Banana Ice",1,"$20 Descuento",null,{"$f":"_xlfn.IFNA(VLOOKUP(VentasMenudeo[[#This Row],[Promoción]],PromocionesMenudeo[[Promocion]:[Descuento]],2,0),0)","v":20},{"$f":"_xlfn.IFNA(VLOOKUP(VentasMenudeo[[#This Row],[Producto]],$A$2:$B$5,2,FALSE),0)","v":270},{"$f":"_xlfn.IFNA(_xlfn.IFS(VentasMenudeo[[#This Row],[Producto]]=$A$2,VentasMenudeo[[#This Row],[Precio de Venta]]*VentasMenudeo[[#This Row],[Cantidad]]-VentasMenudeo[[#This Row],[Descuento]],VentasMenudeo[[#This Row],[Producto]]=$A$3,VentasMenudeo[[#This Row],[Precio de Venta]]*VentasMenudeo[[#This Row],[Cantidad]]-VentasMenudeo[[#This Row],[Descuento]],VentasMenudeo[[#This Row],[Producto]]=$A$4,VentasMenudeo[[#This Row],[Precio de Venta]]*VentasMenudeo[[#This Row],[Cantidad]]-VentasMenudeo[[#This Row],[Descuento]],VentasMenudeo[[#This Row],[Producto]]=$A$5,VentasMenudeo[[#This Row],[Precio de Venta]]*VentasMenudeo[[#This Row],[Cantidad]]-VentasMenudeo[[#This Row],[Descuento]]),0)","v":250},250]
["2022-10-06","Hugo","IPLAY MAX","Passion Fruit",1,"$20 Descuento",null,{"$f":"_xlfn.IFNA(VLOOKUP(VentasMenudeo[[#This Row],[Promoción]],PromocionesMenudeo[[Promocion]:[Descuento]],2,0),0)","v":20},{"$f":"_xlfn.IFNA(VLOOKUP(VentasMenudeo[[#This Row],[Producto]],$A$2:$B$5,2,FALSE),0)","v":270},{"$f":"_xlfn.IFNA(_xlfn.IFS(VentasMenudeo[[#This Row],[Producto]]=$A$2,VentasMenudeo[[#This Row],[Precio de Venta]]*VentasMenudeo[[#This Row],[Cantidad]]-VentasMenudeo[[#This Row],[Descuento]],VentasMenudeo[[#This Row],[Producto]]=$A$3,VentasMenudeo[[#This Row],[Precio de Venta]]*VentasMenudeo[[#This Row],[Cantidad]]-VentasMenudeo[[#This Row],[Descuento]],VentasMenudeo[[#This Row],[Producto]]=$A$4,VentasMenudeo[[#This Row],[Precio de Venta]]*VentasMenudeo[[#This Row],[Cantidad]]-VentasMenudeo[[#This Row],[Descuento]],VentasMenudeo[[#This Row],[Producto]]=$A$5,VentasMenudeo[[#This Row],[Precio de Venta]]*VentasMenudeo[[#This Row],[Cantidad]]-VentasMenudeo[[#This Row],[Descuento]]),0)","v":250},250]
["2022-10-07","Hugo","IPLAY MAX","Grape Strawberry",1,"$20 Descuento",null,{"$f":"_xlfn.IFNA(VLOOKUP(VentasMenudeo[[#This Row],[Promoción]],PromocionesMenudeo[[Promocion]:[Descuento]],2,0),0)","v":20},{"$f":"_xlfn.IFNA(VLOOKUP(VentasMenudeo[[#This Row],[Producto]],$A$2:$B$5,2,FALSE),0)","v":270},{"$f":"_xlfn.IFNA(_xlfn.IFS(VentasMenudeo[[#This Row],[Producto]]=$A$2,VentasMenudeo[[#This Row],[Precio de Venta]]*VentasMenudeo[[#This Row],[Cantidad]]-VentasMenudeo[[#This Row],[Descuento]],VentasMenudeo[[#This Row],[Producto]]=$A$3,VentasMenudeo[[#This Row],[Precio de Venta]]*VentasMenudeo[[#This Row],[Cantidad]]-VentasMenudeo[[#This Row],[Descuento]],VentasMenudeo[[#This Row],[Producto]]=$A$4,VentasMenudeo[[#This Row],[Precio de Venta]]*VentasMenudeo[[#This Row],[Cantidad]]-VentasMenudeo[[#This Row],[Descuento]],VentasMenudeo[[#This Row],[Producto]]=$A$5,VentasMenudeo[[#This Row],[Precio de Venta]]*VentasMenudeo[[#This Row],[Cantidad]]-VentasMenudeo[[#This Row],[Descuento]]),0)","v":250},250]
["2022-10-07","Hugo","IPLAY MAX","Energy ICE",1,"$20 Descuento",null,{"$f":"_xlfn.IFNA(VLOOKUP(VentasMenudeo[[#This Row],[Promoción]],PromocionesMenudeo[[Promocion]:[Descuento]],2,0),0)","v":20},{"$f":"_xlfn.IFNA(VLOOKUP(VentasMenudeo[[#This Row],[Producto]],$A$2:$B$5,2,FALSE),0)","v":270},{"$f":"_xlfn.IFNA(_xlfn.IFS(VentasMenudeo[[#This Row],[Producto]]=$A$2,VentasMenudeo[[#This Row],[Precio de Venta]]*VentasMenudeo[[#This Row],[Cantidad]]-VentasMenudeo[[#This Row],[Descuento]],VentasMenudeo[[#This Row],[Producto]]=$A$3,VentasMenudeo[[#This Row],[Precio de Venta]]*VentasMenudeo[[#This Row],[Cantidad]]-VentasMenudeo[[#This Row],[Descuento]],VentasMenudeo[[#This Row],[Producto]]=$A$4,VentasMenudeo[[#This Row],[Precio de Venta]]*VentasMenudeo[[#This Row],[Cantidad]]-VentasMenudeo[[#This Row],[Descuento]],VentasMenudeo[[#This Row],[Producto]]=$A$5,VentasMenudeo[[#This Row],[Precio de Venta]]*VentasMenudeo[[#This Row],[Cantidad]]-VentasMenudeo[[#This Row],[Descuento]]),0)","v":250},250]
["2022-10-07","Hugo","IPLAY MAX","Passion Fruit",1,"$20 Descuento",null,{"$f":"_xlfn.IFNA(VLOOKUP(VentasMenudeo[[#This Row],[Promoción]],PromocionesMenudeo[[Promocion]:[Descuento]],2,0),0)","v":20},{"$f":"_xlfn.IFNA(VLOOKUP(VentasMenudeo[[#This Row],[Producto]],$A$2:$B$5,2,FALSE),0)","v":270},{"$f":"_xlfn.IFNA(_xlfn.IFS(VentasMenudeo[[#This Row],[Producto]]=$A$2,VentasMenudeo[[#This Row],[Precio de Venta]]*VentasMenudeo[[#This Row],[Cantidad]]-VentasMenudeo[[#This Row],[Descuento]],VentasMenudeo[[#This Row],[Producto]]=$A$3,VentasMenudeo[[#This Row],[Precio de Venta]]*VentasMenudeo[[#This Row],[Cantidad]]-VentasMenudeo[[#This Row],[Descuento]],VentasMenudeo[[#This Row],[Producto]]=$A$4,VentasMenudeo[[#This Row],[Precio de Venta]]*VentasMenudeo[[#This Row],[Cantidad]]-VentasMenudeo[[#This Row],[Descuento]],VentasMenudeo[[#This Row],[Producto]]=$A$5,VentasMenudeo[[#This Row],[Precio de Venta]]*VentasMenudeo[[#This Row],[Cantidad]]-VentasMenudeo[[#This Row],[Descuento]]),0)","v":250},250]
["2022-10-09","Hugo","IPLAY MAX","Peach Ice",1,"$20 Descuento",null,{"$f":"_xlfn.IFNA(VLOOKUP(VentasMenudeo[[#This Row],[Promoción]],PromocionesMenudeo[[Promocion]:[Descuento]],2,0),0)","v":20},{"$f":"_xlfn.IFNA(VLOOKUP(VentasMenudeo[[#This Row],[Producto]],$A$2:$B$5,2,FALSE),0)","v":270},{"$f":"_xlfn.IFNA(_xlfn.IFS(VentasMenudeo[[#This Row],[Producto]]=$A$2,VentasMenudeo[[#This Row],[Precio de Venta]]*VentasMenudeo[[#This Row],[Cantidad]]-VentasMenudeo[[#This Row],[Descuento]],VentasMenudeo[[#This Row],[Producto]]=$A$3,VentasMenudeo[[#This Row],[Precio de Venta]]*VentasMenudeo[[#This Row],[Cantidad]]-VentasMenudeo[[#This Row],[Descuento]],VentasMenudeo[[#This Row],[Producto]]=$A$4,VentasMenudeo[[#This Row],[Precio de Venta]]*VentasMenudeo[[#This Row],[Cantidad]]-VentasMenudeo[[#This Row],[Descuento]],VentasMenudeo[[#This Row],[Producto]]=$A$5,VentasMenudeo[[#This Row],[Precio de Venta]]*VentasMenudeo[[#This Row],[Cantidad]]-VentasMenudeo[[#This Row],[Descuento]]),0)","v":250},250]
["2022-10-10","Hugo","IPLAY MAX","Grape Ice",1,"$20 Descuento",null,{"$f":"_xlfn.IFNA(VLOOKUP(VentasMenudeo[[#This Row],[Promoción]],PromocionesMenudeo[[Promocion]:[Descuento]],2,0),0)","v":20},{"$f":"_xlfn.IFNA(VLOOKUP(VentasMenudeo[[#This Row],[Producto]],$A$2:$B$5,2,FALSE),0)","v":270},{"$f":"_xlfn.IFNA(_xlfn.IFS(VentasMenudeo[[#This Row],[Producto]]=$A$2,VentasMenudeo[[#This Row],[Precio de Venta]]*VentasMenudeo[[#This Row],[Cantidad]]-VentasMenudeo[[#This Row],[Descuento]],VentasMenudeo[[#This Row],[Producto]]=$A$3,VentasMenudeo[[#This Row],[Precio de Venta]]*VentasMenudeo[[#This Row],[Cantidad]]-VentasMenudeo[[#This Row],[Descuento]],VentasMenudeo[[#This Row],[Producto]]=$A$4,VentasMenudeo[[#This Row],[Precio de Venta]]*VentasMenudeo[[#This Row],[Cantidad]]-VentasMenudeo[[#This Row],[Descuento]],VentasMenudeo[[#This Row],[Producto]]=$A$5,VentasMenudeo[[#This Row],[Precio de Venta]]*VentasMenudeo[[#This Row],[Cantidad]]-VentasMenudeo[[#This Row],[Descuento]]),0)","v":250},250]
["2022-10-10","Hugo","IPLAY MAX","Berry Watermelon",1,"$20 Descuento",null,{"$f":"_xlfn.IFNA(VLOOKUP(VentasMenudeo[[#This Row],[Promoción]],PromocionesMenudeo[[Promocion]:[Descuento]],2,0),0)","v":20},{"$f":"_xlfn.IFNA(VLOOKUP(VentasMenudeo[[#This Row],[Producto]],$A$2:$B$5,2,FALSE),0)","v":270},{"$f":"_xlfn.IFNA(_xlfn.IFS(VentasMenudeo[[#This Row],[Producto]]=$A$2,VentasMenudeo[[#This Row],[Precio de Venta]]*VentasMenudeo[[#This Row],[Cantidad]]-VentasMenudeo[[#This Row],[Descuento]],VentasMenudeo[[#This Row],[Producto]]=$A$3,VentasMenudeo[[#This Row],[Precio de Venta]]*VentasMenudeo[[#This Row],[Cantidad]]-VentasMenudeo[[#This Row],[Descuento]],VentasMenudeo[[#This Row],[Producto]]=$A$4,VentasMenudeo[[#This Row],[Precio de Venta]]*VentasMenudeo[[#This Row],[Cantidad]]-VentasMenudeo[[#This Row],[Descuento]],VentasMenudeo[[#This Row],[Producto]]=$A$5,VentasMenudeo[[#This Row],[Precio de Venta]]*VentasMenudeo[[#This Row],[Cantidad]]-VentasMenudeo[[#This Row],[Descuento]]),0)","v":250},250]
["2022-10-10","Hugo","IPLAY MAX","Peach Ice",1,"$20 Descuento",null,{"$f":"_xlfn.IFNA(VLOOKUP(VentasMenudeo[[#This Row],[Promoción]],PromocionesMenudeo[[Promocion]:[Descuento]],2,0),0)","v":20},{"$f":"_xlfn.IFNA(VLOOKUP(VentasMenudeo[[#This Row],[Producto]],$A$2:$B$5,2,FALSE),0)","v":270},{"$f":"_xlfn.IFNA(_xlfn.IFS(VentasMenudeo[[#This Row],[Producto]]=$A$2,VentasMenudeo[[#This Row],[Precio de Venta]]*VentasMenudeo[[#This Row],[Cantidad]]-VentasMenudeo[[#This Row],[Descuento]],VentasMenudeo[[#This Row],[Producto]]=$A$3,VentasMenudeo[[#This Row],[Precio de Venta]]*VentasMenudeo[[#This Row],[Cantidad]]-VentasMenudeo[[#This Row],[Descuento]],VentasMenudeo[[#This Row],[Producto]]=$A$4,VentasMenudeo[[#This Row],[Precio de Venta]]*VentasMenudeo[[#This Row],[Cantidad]]-VentasMenudeo[[#This Row],[Descuento]],VentasMenudeo[[#This Row],[Producto]]=$A$5,VentasMenudeo[[#This Row],[Precio de Venta]]*VentasMenudeo[[#This Row],[Cantidad]]-VentasMenudeo[[#This Row],[Descuento]]),0)","v":250},250]
["2022-10-11","Hugo","IPLAY MAX","Energy ICE",1,"$20 Descuento",null,{"$f":"_xlfn.IFNA(VLOOKUP(VentasMenudeo[[#This Row],[Promoción]],PromocionesMenudeo[[Promocion]:[Descuento]],2,0),0)","v":20},{"$f":"_xlfn.IFNA(VLOOKUP(VentasMenudeo[[#This Row],[Producto]],$A$2:$B$5,2,FALSE),0)","v":270},{"$f":"_xlfn.IFNA(_xlfn.IFS(VentasMenudeo[[#This Row],[Producto]]=$A$2,VentasMenudeo[[#This Row],[Precio de Venta]]*VentasMenudeo[[#This Row],[Cantidad]]-VentasMenudeo[[#This Row],[Descuento]],VentasMenudeo[[#This Row],[Producto]]=$A$3,VentasMenudeo[[#This Row],[Precio de Venta]]*VentasMenudeo[[#This Row],[Cantidad]]-VentasMenudeo[[#This Row],[Descuento]],VentasMenudeo[[#This Row],[Producto]]=$A$4,VentasMenudeo[[#This Row],[Precio de Venta]]*VentasMenudeo[[#This Row],[Cantidad]]-VentasMenudeo[[#This Row],[Descuento]],VentasMenudeo[[#This Row],[Producto]]=$A$5,VentasMenudeo[[#This Row],[Precio de Venta]]*VentasMenudeo[[#This Row],[Cantidad]]-VentasMenudeo[[#This Row],[Descuento]]),0)","v":250},250]
["2022-10-13","Hugo","IPLAY MAX","Energy ICE",1,"$20 Descuento",null,{"$f":"_xlfn.IFNA(VLOOKUP(VentasMenudeo[[#This Row],[Promoción]],PromocionesMenudeo[[Promocion]:[Descuento]],2,0),0)","v":20},{"$f":"_xlfn.IFNA(VLOOKUP(VentasMenudeo[[#This Row],[Producto]],$A$2:$B$5,2,FALSE),0)","v":270},{"$f":"_xlfn.IFNA(_xlfn.IFS(VentasMenudeo[[#This Row],[Producto]]=$A$2,VentasMenudeo[[#This Row],[Precio de Venta]]*VentasMenudeo[[#This Row],[Cantidad]]-VentasMenudeo[[#This Row],[Descuento]],VentasMenudeo[[#This Row],[Producto]]=$A$3,VentasMenudeo[[#This Row],[Precio de Venta]]*VentasMenudeo[[#This Row],[Cantidad]]-VentasMenudeo[[#This Row],[Descuento]],VentasMenudeo[[#This Row],[Producto]]=$A$4,VentasMenudeo[[#This Row],[Precio de Venta]]*VentasMenudeo[[#This Row],[Cantidad]]-VentasMenudeo[[#This Row],[Descuento]],VentasMenudeo[[#This Row],[Producto]]=$A$5,VentasMenudeo[[#This Row],[Precio de Venta]]*VentasMenudeo[[#This Row],[Cantidad]]-VentasMenudeo[[#This Row],[Descuento]]),0)","v":250},250]
["2022-10-15","Hugo","IPLAY MAX","Cool mint",1,"$20 Descuento",null,{"$f":"_xlfn.IFNA(VLOOKUP(VentasMenudeo[[#This Row],[Promoción]],PromocionesMenudeo[[Promocion]:[Descuento]],2,0),0)","v":20},{"$f":"_xlfn.IFNA(VLOOKUP(VentasMenudeo[[#This Row],[Producto]],$A$2:$B$5,2,FALSE),0)","v":270},{"$f":"_xlfn.IFNA(_xlfn.IFS(VentasMenudeo[[#This Row],[Producto]]=$A$2,VentasMenudeo[[#This Row],[Precio de Venta]]*VentasMenudeo[[#This Row],[Cantidad]]-VentasMenudeo[[#This Row],[Descuento]],VentasMenudeo[[#This Row],[Producto]]=$A$3,VentasMenudeo[[#This Row],[Precio de Venta]]*VentasMenudeo[[#This Row],[Cantidad]]-VentasMenudeo[[#This Row],[Descuento]],VentasMenudeo[[#This Row],[Producto]]=$A$4,VentasMenudeo[[#This Row],[Precio de Venta]]*VentasMenudeo[[#This Row],[Cantidad]]-VentasMenudeo[[#This Row],[Descuento]],VentasMenudeo[[#This Row],[Producto]]=$A$5,VentasMenudeo[[#This Row],[Precio de Venta]]*VentasMenudeo[[#This Row],[Cantidad]]-VentasMenudeo[[#This Row],[Descuento]]),0)","v":250},250]
["2022-10-17","Hugo","IPLAY MAX","Grape Strawberry",1,"$20 Descuento",null,{"$f":"_xlfn.IFNA(VLOOKUP(VentasMenudeo[[#This Row],[Promoción]],PromocionesMenudeo[[Promocion]:[Descuento]],2,0),0)","v":20},{"$f":"_xlfn.IFNA(VLOOKUP(VentasMenudeo[[#This Row],[Producto]],$A$2:$B$5,2,FALSE),0)","v":270},{"$f":"_xlfn.IFNA(_xlfn.IFS(VentasMenudeo[[#This Row],[Producto]]=$A$2,VentasMenudeo[[#This Row],[Precio de Venta]]*VentasMenudeo[[#This Row],[Cantidad]]-VentasMenudeo[[#This Row],[Descuento]],VentasMenudeo[[#This Row],[Producto]]=$A$3,VentasMenudeo[[#This Row],[Precio de Venta]]*VentasMenudeo[[#This Row],[Cantidad]]-VentasMenudeo[[#This Row],[Descuento]],VentasMenudeo[[#This Row],[Producto]]=$A$4,VentasMenudeo[[#This Row],[Precio de Venta]]*VentasMenudeo[[#This Row],[Cantidad]]-VentasMenudeo[[#This Row],[Descuento]],VentasMenudeo[[#This Row],[Producto]]=$A$5,VentasMenudeo[[#This Row],[Precio de Venta]]*VentasMenudeo[[#This Row],[Cantidad]]-VentasMenudeo[[#This Row],[Descuento]]),0)","v":250},250]
["2022-10-18","Hugo","IPLAY MAX","Peach Ice",1,"$20 Descuento",null,{"$f":"_xlfn.IFNA(VLOOKUP(VentasMenudeo[[#This Row],[Promoción]],PromocionesMenudeo[[Promocion]:[Descuento]],2,0),0)","v":20},{"$f":"_xlfn.IFNA(VLOOKUP(VentasMenudeo[[#This Row],[Producto]],$A$2:$B$5,2,FALSE),0)","v":270},{"$f":"_xlfn.IFNA(_xlfn.IFS(VentasMenudeo[[#This Row],[Producto]]=$A$2,VentasMenudeo[[#This Row],[Precio de Venta]]*VentasMenudeo[[#This Row],[Cantidad]]-VentasMenudeo[[#This Row],[Descuento]],VentasMenudeo[[#This Row],[Producto]]=$A$3,VentasMenudeo[[#This Row],[Precio de Venta]]*VentasMenudeo[[#This Row],[Cantidad]]-VentasMenudeo[[#This Row],[Descuento]],VentasMenudeo[[#This Row],[Producto]]=$A$4,VentasMenudeo[[#This Row],[Precio de Venta]]*VentasMenudeo[[#This Row],[Cantidad]]-VentasMenudeo[[#This Row],[Descuento]],VentasMenudeo[[#This Row],[Producto]]=$A$5,VentasMenudeo[[#This Row],[Precio de Venta]]*VentasMenudeo[[#This Row],[Cantidad]]-VentasMenudeo[[#This Row],[Descuento]]),0)","v":250},250]
["2022-10-19","Hugo","IPLAY MAX","Grape Ice",1,"$20 Descuento",null,{"$f":"_xlfn.IFNA(VLOOKUP(VentasMenudeo[[#This Row],[Promoción]],PromocionesMenudeo[[Promocion]:[Descuento]],2,0),0)","v":20},{"$f":"_xlfn.IFNA(VLOOKUP(VentasMenudeo[[#This Row],[Producto]],$A$2:$B$5,2,FALSE),0)","v":270},{"$f":"_xlfn.IFNA(_xlfn.IFS(VentasMenudeo[[#This Row],[Producto]]=$A$2,VentasMenudeo[[#This Row],[Precio de Venta]]*VentasMenudeo[[#This Row],[Cantidad]]-VentasMenudeo[[#This Row],[Descuento]],VentasMenudeo[[#This Row],[Producto]]=$A$3,VentasMenudeo[[#This Row],[Precio de Venta]]*VentasMenudeo[[#This Row],[Cantidad]]-VentasMenudeo[[#This Row],[Descuento]],VentasMenudeo[[#This Row],[Producto]]=$A$4,VentasMenudeo[[#This Row],[Precio de Venta]]*VentasMenudeo[[#This Row],[Cantidad]]-VentasMenudeo[[#This Row],[Descuento]],VentasMenudeo[[#This Row],[Producto]]=$A$5,VentasMenudeo[[#This Row],[Precio de Venta]]*VentasMenudeo[[#This Row],[Cantidad]]-VentasMenudeo[[#This Row],[Descuento]]),0)","v":250},250]
["2022-10-23","Hugo","IPLAY MAX","Peach Ice",1,"$20 Descuento",null,{"$f":"_xlfn.IFNA(VLOOKUP(VentasMenudeo[[#This Row],[Promoción]],PromocionesMenudeo[[Promocion]:[Descuento]],2,0),0)","v":20},{"$f":"_xlfn.IFNA(VLOOKUP(VentasMenudeo[[#This Row],[Producto]],$A$2:$B$5,2,FALSE),0)","v":270},{"$f":"_xlfn.IFNA(_xlfn.IFS(VentasMenudeo[[#This Row],[Producto]]=$A$2,VentasMenudeo[[#This Row],[Precio de Venta]]*VentasMenudeo[[#This Row],[Cantidad]]-VentasMenudeo[[#This Row],[Descuento]],VentasMenudeo[[#This Row],[Producto]]=$A$3,VentasMenudeo[[#This Row],[Precio de Venta]]*VentasMenudeo[[#This Row],[Cantidad]]-VentasMenudeo[[#This Row],[Descuento]],VentasMenudeo[[#This Row],[Producto]]=$A$4,VentasMenudeo[[#This Row],[Precio de Venta]]*VentasMenudeo[[#This Row],[Cantidad]]-VentasMenudeo[[#This Row],[Descuento]],VentasMenudeo[[#This Row],[Producto]]=$A$5,VentasMenudeo[[#This Row],[Precio de Venta]]*VentasMenudeo[[#This Row],[Cantidad]]-VentasMenudeo[[#This Row],[Descuento]]),0)","v":250},250]
["2022-10-23","Hugo","IPLAY MAX","Sourraspberry",1,"$20 Descuento",null,{"$f":"_xlfn.IFNA(VLOOKUP(VentasMenudeo[[#This Row],[Promoción]],PromocionesMenudeo[[Promocion]:[Descuento]],2,0),0)","v":20},{"$f":"_xlfn.IFNA(VLOOKUP(VentasMenudeo[[#This Row],[Producto]],$A$2:$B$5,2,FALSE),0)","v":270},{"$f":"_xlfn.IFNA(_xlfn.IFS(VentasMenudeo[[#This Row],[Producto]]=$A$2,VentasMenudeo[[#This Row],[Precio de Venta]]*VentasMenudeo[[#This Row],[Cantidad]]-VentasMenudeo[[#This Row],[Descuento]],VentasMenudeo[[#This Row],[Producto]]=$A$3,VentasMenudeo[[#This Row],[Precio de Venta]]*VentasMenudeo[[#This Row],[Cantidad]]-VentasMenudeo[[#This Row],[Descuento]],VentasMenudeo[[#This Row],[Producto]]=$A$4,VentasMenudeo[[#This Row],[Precio de Venta]]*VentasMenudeo[[#This Row],[Cantidad]]-VentasMenudeo[[#This Row],[Descuento]],VentasMenudeo[[#This Row],[Producto]]=$A$5,VentasMenudeo[[#This Row],[Precio de Venta]]*VentasMenudeo[[#This Row],[Cantidad]]-VentasMenudeo[[#This Row],[Descuento]]),0)","v":250},250]
["2022-10-23","Hugo","IPLAY MAX","Sour Apple",1,"$20 Descuento",null,{"$f":"_xlfn.IFNA(VLOOKUP(VentasMenudeo[[#This Row],[Promoción]],PromocionesMenudeo[[Promocion]:[Descuento]],2,0),0)","v":20},{"$f":"_xlfn.IFNA(VLOOKUP(VentasMenudeo[[#This Row],[Producto]],$A$2:$B$5,2,FALSE),0)","v":270},{"$f":"_xlfn.IFNA(_xlfn.IFS(VentasMenudeo[[#This Row],[Producto]]=$A$2,VentasMenudeo[[#This Row],[Precio de Venta]]*VentasMenudeo[[#This Row],[Cantidad]]-VentasMenudeo[[#This Row],[Descuento]],VentasMenudeo[[#This Row],[Producto]]=$A$3,VentasMenudeo[[#This Row],[Precio de Venta]]*VentasMenudeo[[#This Row],[Cantidad]]-VentasMenudeo[[#This Row],[Descuento]],VentasMenudeo[[#This Row],[Producto]]=$A$4,VentasMenudeo[[#This Row],[Precio de Venta]]*VentasMenudeo[[#This Row],[Cantidad]]-VentasMenudeo[[#This Row],[Descuento]],VentasMenudeo[[#This Row],[Producto]]=$A$5,VentasMenudeo[[#This Row],[Precio de Venta]]*VentasMenudeo[[#This Row],[Cantidad]]-VentasMenudeo[[#This Row],[Descuento]]),0)","v":250},250]
["2022-10-23","Hugo","IPLAY MAX","Sourraspberry",1,"$20 Descuento",null,{"$f":"_xlfn.IFNA(VLOOKUP(VentasMenudeo[[#This Row],[Promoción]],PromocionesMenudeo[[Promocion]:[Descuento]],2,0),0)","v":20},{"$f":"_xlfn.IFNA(VLOOKUP(VentasMenudeo[[#This Row],[Producto]],$A$2:$B$5,2,FALSE),0)","v":270},{"$f":"_xlfn.IFNA(_xlfn.IFS(VentasMenudeo[[#This Row],[Producto]]=$A$2,VentasMenudeo[[#This Row],[Precio de Venta]]*VentasMenudeo[[#This Row],[Cantidad]]-VentasMenudeo[[#This Row],[Descuento]],VentasMenudeo[[#This Row],[Producto]]=$A$3,VentasMenudeo[[#This Row],[Precio de Venta]]*VentasMenudeo[[#This Row],[Cantidad]]-VentasMenudeo[[#This Row],[Descuento]],VentasMenudeo[[#This Row],[Producto]]=$A$4,VentasMenudeo[[#This Row],[Precio de Venta]]*VentasMenudeo[[#This Row],[Cantidad]]-VentasMenudeo[[#This Row],[Descuento]],VentasMenudeo[[#This Row],[Producto]]=$A$5,VentasMenudeo[[#This Row],[Precio de Venta]]*VentasMenudeo[[#This Row],[Cantidad]]-VentasMenudeo[[#This Row],[Descuento]]),0)","v":250},250]
["2022-10-23","Hugo","IPLAY MAX","Berry Watermelon",1,"$20 Descuento",null,{"$f":"_xlfn.IFNA(VLOOKUP(VentasMenudeo[[#This Row],[Promoción]],PromocionesMenudeo[[Promocion]:[Descuento]],2,0),0)","v":20},{"$f":"_xlfn.IFNA(VLOOKUP(VentasMenudeo[[#This Row],[Producto]],$A$2:$B$5,2,FALSE),0)","v":270},{"$f":"_xlfn.IFNA(_xlfn.IFS(VentasMenudeo[[#This Row],[Producto]]=$A$2,VentasMenudeo[[#This Row],[Precio de Venta]]*VentasMenudeo[[#This Row],[Cantidad]]-VentasMenudeo[[#This Row],[Descuento]],VentasMenudeo[[#This Row],[Producto]]=$A$3,VentasMenudeo[[#This Row],[Precio de Venta]]*VentasMenudeo[[#This Row],[Cantidad]]-VentasMenudeo[[#This Row],[Descuento]],VentasMenudeo[[#This Row],[Producto]]=$A$4,VentasMenudeo[[#This Row],[Precio de Venta]]*VentasMenudeo[[#This Row],[Cantidad]]-VentasMenudeo[[#This Row],[Descuento]],VentasMenudeo[[#This Row],[Producto]]=$A$5,VentasMenudeo[[#This Row],[Precio de Venta]]*VentasMenudeo[[#This Row],[Cantidad]]-VentasMenudeo[[#This Row],[Descuento]]),0)","v":250},250]
["2022-10-25","Hugo","IPLAY MAX","Grape Ice",1,"$20 Descuento",null,{"$f":"_xlfn.IFNA(VLOOKUP(VentasMenudeo[[#This Row],[Promoción]],PromocionesMenudeo[[Promocion]:[Descuento]],2,0),0)","v":20},{"$f":"_xlfn.IFNA(VLOOKUP(VentasMenudeo[[#This Row],[Producto]],$A$2:$B$5,2,FALSE),0)","v":270},{"$f":"_xlfn.IFNA(_xlfn.IFS(VentasMenudeo[[#This Row],[Producto]]=$A$2,VentasMenudeo[[#This Row],[Precio de Venta]]*VentasMenudeo[[#This Row],[Cantidad]]-VentasMenudeo[[#This Row],[Descuento]],VentasMenudeo[[#This Row],[Producto]]=$A$3,VentasMenudeo[[#This Row],[Precio de Venta]]*VentasMenudeo[[#This Row],[Cantidad]]-VentasMenudeo[[#This Row],[Descuento]],VentasMenudeo[[#This Row],[Producto]]=$A$4,VentasMenudeo[[#This Row],[Precio de Venta]]*VentasMenudeo[[#This Row],[Cantidad]]-VentasMenudeo[[#This Row],[Descuento]],VentasMenudeo[[#This Row],[Producto]]=$A$5,VentasMenudeo[[#This Row],[Precio de Venta]]*VentasMenudeo[[#This Row],[Cantidad]]-VentasMenudeo[[#This Row],[Descuento]]),0)","v":250},250]
["2022-10-25","Hugo","IPLAY MAX","Banana Ice",1,"$20 Descuento",null,{"$f":"_xlfn.IFNA(VLOOKUP(VentasMenudeo[[#This Row],[Promoción]],PromocionesMenudeo[[Promocion]:[Descuento]],2,0),0)","v":20},{"$f":"_xlfn.IFNA(VLOOKUP(VentasMenudeo[[#This Row],[Producto]],$A$2:$B$5,2,FALSE),0)","v":270},{"$f":"_xlfn.IFNA(_xlfn.IFS(VentasMenudeo[[#This Row],[Producto]]=$A$2,VentasMenudeo[[#This Row],[Precio de Venta]]*VentasMenudeo[[#This Row],[Cantidad]]-VentasMenudeo[[#This Row],[Descuento]],VentasMenudeo[[#This Row],[Producto]]=$A$3,VentasMenudeo[[#This Row],[Precio de Venta]]*VentasMenudeo[[#This Row],[Cantidad]]-VentasMenudeo[[#This Row],[Descuento]],VentasMenudeo[[#This Row],[Producto]]=$A$4,VentasMenudeo[[#This Row],[Precio de Venta]]*VentasMenudeo[[#This Row],[Cantidad]]-VentasMenudeo[[#This Row],[Descuento]],VentasMenudeo[[#This Row],[Producto]]=$A$5,VentasMenudeo[[#This Row],[Precio de Venta]]*VentasMenudeo[[#This Row],[Cantidad]]-VentasMenudeo[[#This Row],[Descuento]]),0)","v":250},250]
["2022-10-25","Hugo","IPLAY MAX","Sourraspberry",1,"$20 Descuento",null,{"$f":"_xlfn.IFNA(VLOOKUP(VentasMenudeo[[#This Row],[Promoción]],PromocionesMenudeo[[Promocion]:[Descuento]],2,0),0)","v":20},{"$f":"_xlfn.IFNA(VLOOKUP(VentasMenudeo[[#This Row],[Producto]],$A$2:$B$5,2,FALSE),0)","v":270},{"$f":"_xlfn.IFNA(_xlfn.IFS(VentasMenudeo[[#This Row],[Producto]]=$A$2,VentasMenudeo[[#This Row],[Precio de Venta]]*VentasMenudeo[[#This Row],[Cantidad]]-VentasMenudeo[[#This Row],[Descuento]],VentasMenudeo[[#This Row],[Producto]]=$A$3,VentasMenudeo[[#This Row],[Precio de Venta]]*VentasMenudeo[[#This Row],[Cantidad]]-VentasMenudeo[[#This Row],[Descuento]],VentasMenudeo[[#This Row],[Producto]]=$A$4,VentasMenudeo[[#This Row],[Precio de Venta]]*VentasMenudeo[[#This Row],[Cantidad]]-VentasMenudeo[[#This Row],[Descuento]],VentasMenudeo[[#This Row],[Producto]]=$A$5,VentasMenudeo[[#This Row],[Precio de Venta]]*VentasMenudeo[[#This Row],[Cantidad]]-VentasMenudeo[[#This Row],[Descuento]]),0)","v":250},250]
["2022-10-27","Hugo","IPLAY MAX","Strawberry Lychee",1,"$20 Descuento",null,{"$f":"_xlfn.IFNA(VLOOKUP(VentasMenudeo[[#This Row],[Promoción]],PromocionesMenudeo[[Promocion]:[Descuento]],2,0),0)","v":20},{"$f":"_xlfn.IFNA(VLOOKUP(VentasMenudeo[[#This Row],[Producto]],$A$2:$B$5,2,FALSE),0)","v":270},{"$f":"_xlfn.IFNA(_xlfn.IFS(VentasMenudeo[[#This Row],[Producto]]=$A$2,VentasMenudeo[[#This Row],[Precio de Venta]]*VentasMenudeo[[#This Row],[Cantidad]]-VentasMenudeo[[#This Row],[Descuento]],VentasMenudeo[[#This Row],[Producto]]=$A$3,VentasMenudeo[[#This Row],[Precio de Venta]]*VentasMenudeo[[#This Row],[Cantidad]]-VentasMenudeo[[#This Row],[Descuento]],VentasMenudeo[[#This Row],[Producto]]=$A$4,VentasMenudeo[[#This Row],[Precio de Venta]]*VentasMenudeo[[#This Row],[Cantidad]]-VentasMenudeo[[#This Row],[Descuento]],VentasMenudeo[[#This Row],[Producto]]=$A$5,VentasMenudeo[[#This Row],[Precio de Venta]]*VentasMenudeo[[#This Row],[Cantidad]]-VentasMenudeo[[#This Row],[Descuento]]),0)","v":250},250]
["2022-10-27","Hugo","IPLAY MAX","Energy ICE",1,"$20 Descuento",null,{"$f":"_xlfn.IFNA(VLOOKUP(VentasMenudeo[[#This Row],[Promoción]],PromocionesMenudeo[[Promocion]:[Descuento]],2,0),0)","v":20},{"$f":"_xlfn.IFNA(VLOOKUP(VentasMenudeo[[#This Row],[Producto]],$A$2:$B$5,2,FALSE),0)","v":270},{"$f":"_xlfn.IFNA(_xlfn.IFS(VentasMenudeo[[#This Row],[Producto]]=$A$2,VentasMenudeo[[#This Row],[Precio de Venta]]*VentasMenudeo[[#This Row],[Cantidad]]-VentasMenudeo[[#This Row],[Descuento]],VentasMenudeo[[#This Row],[Producto]]=$A$3,VentasMenudeo[[#This Row],[Precio de Venta]]*VentasMenudeo[[#This Row],[Cantidad]]-VentasMenudeo[[#This Row],[Descuento]],VentasMenudeo[[#This Row],[Producto]]=$A$4,VentasMenudeo[[#This Row],[Precio de Venta]]*VentasMenudeo[[#This Row],[Cantidad]]-VentasMenudeo[[#This Row],[Descuento]],VentasMenudeo[[#This Row],[Producto]]=$A$5,VentasMenudeo[[#This Row],[Precio de Venta]]*VentasMenudeo[[#This Row],[Cantidad]]-VentasMenudeo[[#This Row],[Descuento]]),0)","v":250},250]
["2022-10-27","Hugo","IPLAY MAX","Berry Watermelon",1,"$20 Descuento",null,{"$f":"_xlfn.IFNA(VLOOKUP(VentasMenudeo[[#This Row],[Promoción]],PromocionesMenudeo[[Promocion]:[Descuento]],2,0),0)","v":20},{"$f":"_xlfn.IFNA(VLOOKUP(VentasMenudeo[[#This Row],[Producto]],$A$2:$B$5,2,FALSE),0)","v":270},{"$f":"_xlfn.IFNA(_xlfn.IFS(VentasMenudeo[[#This Row],[Producto]]=$A$2,VentasMenudeo[[#This Row],[Precio de Venta]]*VentasMenudeo[[#This Row],[Cantidad]]-VentasMenudeo[[#This Row],[Descuento]],VentasMenudeo[[#This Row],[Producto]]=$A$3,VentasMenudeo[[#This Row],[Precio de Venta]]*VentasMenudeo[[#This Row],[Cantidad]]-VentasMenudeo[[#This Row],[Descuento]],VentasMenudeo[[#This Row],[Producto]]=$A$4,VentasMenudeo[[#This Row],[Precio de Venta]]*VentasMenudeo[[#This Row],[Cantidad]]-VentasMenudeo[[#This Row],[Descuento]],VentasMenudeo[[#This Row],[Producto]]=$A$5,VentasMenudeo[[#This Row],[Precio de Venta]]*VentasMenudeo[[#This Row],[Cantidad]]-VentasMenudeo[[#This Row],[Descuento]]),0)","v":250},250]
["2022-10-30","Hugo","IPLAY MAX","Grape Ice",1,"$20 Descuento",null,{"$f":"_xlfn.IFNA(VLOOKUP(VentasMenudeo[[#This Row],[Promoción]],PromocionesMenudeo[[Promocion]:[Descuento]],2,0),0)","v":20},{"$f":"_xlfn.IFNA(VLOOKUP(VentasMenudeo[[#This Row],[Producto]],$A$2:$B$5,2,FALSE),0)","v":270},{"$f":"_xlfn.IFNA(_xlfn.IFS(VentasMenudeo[[#This Row],[Producto]]=$A$2,VentasMenudeo[[#This Row],[Precio de Venta]]*VentasMenudeo[[#This Row],[Cantidad]]-VentasMenudeo[[#This Row],[Descuento]],VentasMenudeo[[#This Row],[Producto]]=$A$3,VentasMenudeo[[#This Row],[Precio de Venta]]*VentasMenudeo[[#This Row],[Cantidad]]-VentasMenudeo[[#This Row],[Descuento]],VentasMenudeo[[#This Row],[Producto]]=$A$4,VentasMenudeo[[#This Row],[Precio de Venta]]*VentasMenudeo[[#This Row],[Cantidad]]-VentasMenudeo[[#This Row],[Descuento]],VentasMenudeo[[#This Row],[Producto]]=$A$5,VentasMenudeo[[#This Row],[Precio de Venta]]*VentasMenudeo[[#This Row],[Cantidad]]-VentasMenudeo[[#This Row],[Descuento]]),0)","v":250},250]
["2022-10-30","Hugo","IPLAY MAX","Sourraspberry",1,"$20 Descuento",null,{"$f":"_xlfn.IFNA(VLOOKUP(VentasMenudeo[[#This Row],[Promoción]],PromocionesMenudeo[[Promocion]:[Descuento]],2,0),0)","v":20},{"$f":"_xlfn.IFNA(VLOOKUP(VentasMenudeo[[#This Row],[Producto]],$A$2:$B$5,2,FALSE),0)","v":270},{"$f":"_xlfn.IFNA(_xlfn.IFS(VentasMenudeo[[#This Row],[Producto]]=$A$2,VentasMenudeo[[#This Row],[Precio de Venta]]*VentasMenudeo[[#This Row],[Cantidad]]-VentasMenudeo[[#This Row],[Descuento]],VentasMenudeo[[#This Row],[Producto]]=$A$3,VentasMenudeo[[#This Row],[Precio de Venta]]*VentasMenudeo[[#This Row],[Cantidad]]-VentasMenudeo[[#This Row],[Descuento]],VentasMenudeo[[#This Row],[Producto]]=$A$4,VentasMenudeo[[#This Row],[Precio de Venta]]*VentasMenudeo[[#This Row],[Cantidad]]-VentasMenudeo[[#This Row],[Descuento]],VentasMenudeo[[#This Row],[Producto]]=$A$5,VentasMenudeo[[#This Row],[Precio de Venta]]*VentasMenudeo[[#This Row],[Cantidad]]-VentasMenudeo[[#This Row],[Descuento]]),0)","v":250},250]
["2022-10-31","Hugo","IPLAY MAX","Cocumber Lemonade",1,"$20 Descuento",null,{"$f":"_xlfn.IFNA(VLOOKUP(VentasMenudeo[[#This Row],[Promoción]],PromocionesMenudeo[[Promocion]:[Descuento]],2,0),0)","v":20},{"$f":"_xlfn.IFNA(VLOOKUP(VentasMenudeo[[#This Row],[Producto]],$A$2:$B$5,2,FALSE),0)","v":270},{"$f":"_xlfn.IFNA(_xlfn.IFS(VentasMenudeo[[#This Row],[Producto]]=$A$2,VentasMenudeo[[#This Row],[Precio de Venta]]*VentasMenudeo[[#This Row],[Cantidad]]-VentasMenudeo[[#This Row],[Descuento]],VentasMenudeo[[#This Row],[Producto]]=$A$3,VentasMenudeo[[#This Row],[Precio de Venta]]*VentasMenudeo[[#This Row],[Cantidad]]-VentasMenudeo[[#This Row],[Descuento]],VentasMenudeo[[#This Row],[Producto]]=$A$4,VentasMenudeo[[#This Row],[Precio de Venta]]*VentasMenudeo[[#This Row],[Cantidad]]-VentasMenudeo[[#This Row],[Descuento]],VentasMenudeo[[#This Row],[Producto]]=$A$5,VentasMenudeo[[#This Row],[Precio de Venta]]*VentasMenudeo[[#This Row],[Cantidad]]-VentasMenudeo[[#This Row],[Descuento]]),0)","v":250},250]
["2022-10-31","Hugo","IPLAY MAX","Banana Ice",1,"$20 Descuento",null,{"$f":"_xlfn.IFNA(VLOOKUP(VentasMenudeo[[#This Row],[Promoción]],PromocionesMenudeo[[Promocion]:[Descuento]],2,0),0)","v":20},{"$f":"_xlfn.IFNA(VLOOKUP(VentasMenudeo[[#This Row],[Producto]],$A$2:$B$5,2,FALSE),0)","v":270},{"$f":"_xlfn.IFNA(_xlfn.IFS(VentasMenudeo[[#This Row],[Producto]]=$A$2,VentasMenudeo[[#This Row],[Precio de Venta]]*VentasMenudeo[[#This Row],[Cantidad]]-VentasMenudeo[[#This Row],[Descuento]],VentasMenudeo[[#This Row],[Producto]]=$A$3,VentasMenudeo[[#This Row],[Precio de Venta]]*VentasMenudeo[[#This Row],[Cantidad]]-VentasMenudeo[[#This Row],[Descuento]],VentasMenudeo[[#This Row],[Producto]]=$A$4,VentasMenudeo[[#This Row],[Precio de Venta]]*VentasMenudeo[[#This Row],[Cantidad]]-VentasMenudeo[[#This Row],[Descuento]],VentasMenudeo[[#This Row],[Producto]]=$A$5,VentasMenudeo[[#This Row],[Precio de Venta]]*VentasMenudeo[[#This Row],[Cantidad]]-VentasMenudeo[[#This Row],[Descuento]]),0)","v":250},250]
["2022-10-31","Hugo","IPLAY MAX","Berry Watermelon",1,"$20 Descuento",null,{"$f":"_xlfn.IFNA(VLOOKUP(VentasMenudeo[[#This Row],[Promoción]],PromocionesMenudeo[[Promocion]:[Descuento]],2,0),0)","v":20},{"$f":"_xlfn.IFNA(VLOOKUP(VentasMenudeo[[#This Row],[Producto]],$A$2:$B$5,2,FALSE),0)","v":270},{"$f":"_xlfn.IFNA(_xlfn.IFS(VentasMenudeo[[#This Row],[Producto]]=$A$2,VentasMenudeo[[#This Row],[Precio de Venta]]*VentasMenudeo[[#This Row],[Cantidad]]-VentasMenudeo[[#This Row],[Descuento]],VentasMenudeo[[#This Row],[Producto]]=$A$3,VentasMenudeo[[#This Row],[Precio de Venta]]*VentasMenudeo[[#This Row],[Cantidad]]-VentasMenudeo[[#This Row],[Descuento]],VentasMenudeo[[#This Row],[Producto]]=$A$4,VentasMenudeo[[#This Row],[Precio de Venta]]*VentasMenudeo[[#This Row],[Cantidad]]-VentasMenudeo[[#This Row],[Descuento]],VentasMenudeo[[#This Row],[Producto]]=$A$5,VentasMenudeo[[#This Row],[Precio de Venta]]*VentasMenudeo[[#This Row],[Cantidad]]-VentasMenudeo[[#This Row],[Descuento]]),0)","v":250},250]
["2022-11-02","Hugo","IPLAY MAX","Grapestraw",1,"$20 Descuento",null,{"$f":"_xlfn.IFNA(VLOOKUP(VentasMenudeo[[#This Row],[Promoción]],PromocionesMenudeo[[Promocion]:[Descuento]],2,0),0)","v":20},{"$f":"_xlfn.IFNA(VLOOKUP(VentasMenudeo[[#This Row],[Producto]],$A$2:$B$5,2,FALSE),0)","v":270},{"$f":"_xlfn.IFNA(_xlfn.IFS(VentasMenudeo[[#This Row],[Producto]]=$A$2,VentasMenudeo[[#This Row],[Precio de Venta]]*VentasMenudeo[[#This Row],[Cantidad]]-VentasMenudeo[[#This Row],[Descuento]],VentasMenudeo[[#This Row],[Producto]]=$A$3,VentasMenudeo[[#This Row],[Precio de Venta]]*VentasMenudeo[[#This Row],[Cantidad]]-VentasMenudeo[[#This Row],[Descuento]],VentasMenudeo[[#This Row],[Producto]]=$A$4,VentasMenudeo[[#This Row],[Precio de Venta]]*VentasMenudeo[[#This Row],[Cantidad]]-VentasMenudeo[[#This Row],[Descuento]],VentasMenudeo[[#This Row],[Producto]]=$A$5,VentasMenudeo[[#This Row],[Precio de Venta]]*VentasMenudeo[[#This Row],[Cantidad]]-VentasMenudeo[[#This Row],[Descuento]]),0)","v":250},250]
["2022-11-08","Hugo","IPLAY MAX","Berry Watermelon",1,"$20 Descuento",null,{"$f":"_xlfn.IFNA(VLOOKUP(VentasMenudeo[[#This Row],[Promoción]],PromocionesMenudeo[[Promocion]:[Descuento]],2,0),0)","v":20},{"$f":"_xlfn.IFNA(VLOOKUP(VentasMenudeo[[#This Row],[Producto]],$A$2:$B$5,2,FALSE),0)","v":270},{"$f":"_xlfn.IFNA(_xlfn.IFS(VentasMenudeo[[#This Row],[Producto]]=$A$2,VentasMenudeo[[#This Row],[Precio de Venta]]*VentasMenudeo[[#This Row],[Cantidad]]-VentasMenudeo[[#This Row],[Descuento]],VentasMenudeo[[#This Row],[Producto]]=$A$3,VentasMenudeo[[#This Row],[Precio de Venta]]*VentasMenudeo[[#This Row],[Cantidad]]-VentasMenudeo[[#This Row],[Descuento]],VentasMenudeo[[#This Row],[Producto]]=$A$4,VentasMenudeo[[#This Row],[Precio de Venta]]*VentasMenudeo[[#This Row],[Cantidad]]-VentasMenudeo[[#This Row],[Descuento]],VentasMenudeo[[#This Row],[Producto]]=$A$5,VentasMenudeo[[#This Row],[Precio de Venta]]*VentasMenudeo[[#This Row],[Cantidad]]-VentasMenudeo[[#This Row],[Descuento]]),0)","v":250},250]
["2022-11-08","Hugo","IPLAY MAX","Sour Apple",1,"$20 Descuento",null,{"$f":"_xlfn.IFNA(VLOOKUP(VentasMenudeo[[#This Row],[Promoción]],PromocionesMenudeo[[Promocion]:[Descuento]],2,0),0)","v":20},{"$f":"_xlfn.IFNA(VLOOKUP(VentasMenudeo[[#This Row],[Producto]],$A$2:$B$5,2,FALSE),0)","v":270},{"$f":"_xlfn.IFNA(_xlfn.IFS(VentasMenudeo[[#This Row],[Producto]]=$A$2,VentasMenudeo[[#This Row],[Precio de Venta]]*VentasMenudeo[[#This Row],[Cantidad]]-VentasMenudeo[[#This Row],[Descuento]],VentasMenudeo[[#This Row],[Producto]]=$A$3,VentasMenudeo[[#This Row],[Precio de Venta]]*VentasMenudeo[[#This Row],[Cantidad]]-VentasMenudeo[[#This Row],[Descuento]],VentasMenudeo[[#This Row],[Producto]]=$A$4,VentasMenudeo[[#This Row],[Precio de Venta]]*VentasMenudeo[[#This Row],[Cantidad]]-VentasMenudeo[[#This Row],[Descuento]],VentasMenudeo[[#This Row],[Producto]]=$A$5,VentasMenudeo[[#This Row],[Precio de Venta]]*VentasMenudeo[[#This Row],[Cantidad]]-VentasMenudeo[[#This Row],[Descuento]]),0)","v":250},250]
["2022-11-10","Hugo","IPLAY MAX","Sourraspberry",1,"$20 Descuento",null,{"$f":"_xlfn.IFNA(VLOOKUP(VentasMenudeo[[#This Row],[Promoción]],PromocionesMenudeo[[Promocion]:[Descuento]],2,0),0)","v":20},{"$f":"_xlfn.IFNA(VLOOKUP(VentasMenudeo[[#This Row],[Producto]],$A$2:$B$5,2,FALSE),0)","v":270},{"$f":"_xlfn.IFNA(_xlfn.IFS(VentasMenudeo[[#This Row],[Producto]]=$A$2,VentasMenudeo[[#This Row],[Precio de Venta]]*VentasMenudeo[[#This Row],[Cantidad]]-VentasMenudeo[[#This Row],[Descuento]],VentasMenudeo[[#This Row],[Producto]]=$A$3,VentasMenudeo[[#This Row],[Precio de Venta]]*VentasMenudeo[[#This Row],[Cantidad]]-VentasMenudeo[[#This Row],[Descuento]],VentasMenudeo[[#This Row],[Producto]]=$A$4,VentasMenudeo[[#This Row],[Precio de Venta]]*VentasMenudeo[[#This Row],[Cantidad]]-VentasMenudeo[[#This Row],[Descuento]],VentasMenudeo[[#This Row],[Producto]]=$A$5,VentasMenudeo[[#This Row],[Precio de Venta]]*VentasMenudeo[[#This Row],[Cantidad]]-VentasMenudeo[[#This Row],[Descuento]]),0)","v":250},250]
["2022-11-10","Hugo","IPLAY MAX","Grape Strawberry",1,"$20 Descuento",null,{"$f":"_xlfn.IFNA(VLOOKUP(VentasMenudeo[[#This Row],[Promoción]],PromocionesMenudeo[[Promocion]:[Descuento]],2,0),0)","v":20},{"$f":"_xlfn.IFNA(VLOOKUP(VentasMenudeo[[#This Row],[Producto]],$A$2:$B$5,2,FALSE),0)","v":270},{"$f":"_xlfn.IFNA(_xlfn.IFS(VentasMenudeo[[#This Row],[Producto]]=$A$2,VentasMenudeo[[#This Row],[Precio de Venta]]*VentasMenudeo[[#This Row],[Cantidad]]-VentasMenudeo[[#This Row],[Descuento]],VentasMenudeo[[#This Row],[Producto]]=$A$3,VentasMenudeo[[#This Row],[Precio de Venta]]*VentasMenudeo[[#This Row],[Cantidad]]-VentasMenudeo[[#This Row],[Descuento]],VentasMenudeo[[#This Row],[Producto]]=$A$4,VentasMenudeo[[#This Row],[Precio de Venta]]*VentasMenudeo[[#This Row],[Cantidad]]-VentasMenudeo[[#This Row],[Descuento]],VentasMenudeo[[#This Row],[Producto]]=$A$5,VentasMenudeo[[#This Row],[Precio de Venta]]*VentasMenudeo[[#This Row],[Cantidad]]-VentasMenudeo[[#This Row],[Descuento]]),0)","v":250},250]
["2022-11-10","Hugo","IPLAY MAX","Grape Strawberry",1,"$20 Descuento",null,{"$f":"_xlfn.IFNA(VLOOKUP(VentasMenudeo[[#This Row],[Promoción]],PromocionesMenudeo[[Promocion]:[Descuento]],2,0),0)","v":20},{"$f":"_xlfn.IFNA(VLOOKUP(VentasMenudeo[[#This Row],[Producto]],$A$2:$B$5,2,FALSE),0)","v":270},{"$f":"_xlfn.IFNA(_xlfn.IFS(VentasMenudeo[[#This Row],[Producto]]=$A$2,VentasMenudeo[[#This Row],[Precio de Venta]]*VentasMenudeo[[#This Row],[Cantidad]]-VentasMenudeo[[#This Row],[Descuento]],VentasMenudeo[[#This Row],[Producto]]=$A$3,VentasMenudeo[[#This Row],[Precio de Venta]]*VentasMenudeo[[#This Row],[Cantidad]]-VentasMenudeo[[#This Row],[Descuento]],VentasMenudeo[[#This Row],[Producto]]=$A$4,VentasMenudeo[[#This Row],[Precio de Venta]]*VentasMenudeo[[#This Row],[Cantidad]]-VentasMenudeo[[#This Row],[Descuento]],VentasMenudeo[[#This Row],[Producto]]=$A$5,VentasMenudeo[[#This Row],[Precio de Venta]]*VentasMenudeo[[#This Row],[Cantidad]]-VentasMenudeo[[#This Row],[Descuento]]),0)","v":250},250]
["2022-11-10","Hugo","IPLAY MAX","Berry Watermelon",1,"$20 Descuento",null,{"$f":"_xlfn.IFNA(VLOOKUP(VentasMenudeo[[#This Row],[Promoción]],PromocionesMenudeo[[Promocion]:[Descuento]],2,0),0)","v":20},{"$f":"_xlfn.IFNA(VLOOKUP(VentasMenudeo[[#This Row],[Producto]],$A$2:$B$5,2,FALSE),0)","v":270},{"$f":"_xlfn.IFNA(_xlfn.IFS(VentasMenudeo[[#This Row],[Producto]]=$A$2,VentasMenudeo[[#This Row],[Precio de Venta]]*VentasMenudeo[[#This Row],[Cantidad]]-VentasMenudeo[[#This Row],[Descuento]],VentasMenudeo[[#This Row],[Producto]]=$A$3,VentasMenudeo[[#This Row],[Precio de Venta]]*VentasMenudeo[[#This Row],[Cantidad]]-VentasMenudeo[[#This Row],[Descuento]],VentasMenudeo[[#This Row],[Producto]]=$A$4,VentasMenudeo[[#This Row],[Precio de Venta]]*VentasMenudeo[[#This Row],[Cantidad]]-VentasMenudeo[[#This Row],[Descuento]],VentasMenudeo[[#This Row],[Producto]]=$A$5,VentasMenudeo[[#This Row],[Precio de Venta]]*VentasMenudeo[[#This Row],[Cantidad]]-VentasMenudeo[[#This Row],[Descuento]]),0)","v":250},250]
["2022-11-23","Hugo","IPLAY MAX","Guava",1,"$20 Descuento",null,{"$f":"_xlfn.IFNA(VLOOKUP(VentasMenudeo[[#This Row],[Promoción]],PromocionesMenudeo[[Promocion]:[Descuento]],2,0),0)","v":20},{"$f":"_xlfn.IFNA(VLOOKUP(VentasMenudeo[[#This Row],[Producto]],$A$2:$B$5,2,FALSE),0)","v":270},{"$f":"_xlfn.IFNA(_xlfn.IFS(VentasMenudeo[[#This Row],[Producto]]=$A$2,VentasMenudeo[[#This Row],[Precio de Venta]]*VentasMenudeo[[#This Row],[Cantidad]]-VentasMenudeo[[#This Row],[Descuento]],VentasMenudeo[[#This Row],[Producto]]=$A$3,VentasMenudeo[[#This Row],[Precio de Venta]]*VentasMenudeo[[#This Row],[Cantidad]]-VentasMenudeo[[#This Row],[Descuento]],VentasMenudeo[[#This Row],[Producto]]=$A$4,VentasMenudeo[[#This Row],[Precio de Venta]]*VentasMenudeo[[#This Row],[Cantidad]]-VentasMenudeo[[#This Row],[Descuento]],VentasMenudeo[[#This Row],[Producto]]=$A$5,VentasMenudeo[[#This Row],[Precio de Venta]]*VentasMenudeo[[#This Row],[Cantidad]]-VentasMenudeo[[#This Row],[Descuento]]),0)","v":250},250]
["2022-11-23","Hugo","IPLAY MAX","Sourraspberry",1,"$20 Descuento",null,{"$f":"_xlfn.IFNA(VLOOKUP(VentasMenudeo[[#This Row],[Promoción]],PromocionesMenudeo[[Promocion]:[Descuento]],2,0),0)","v":20},{"$f":"_xlfn.IFNA(VLOOKUP(VentasMenudeo[[#This Row],[Producto]],$A$2:$B$5,2,FALSE),0)","v":270},{"$f":"_xlfn.IFNA(_xlfn.IFS(VentasMenudeo[[#This Row],[Producto]]=$A$2,VentasMenudeo[[#This Row],[Precio de Venta]]*VentasMenudeo[[#This Row],[Cantidad]]-VentasMenudeo[[#This Row],[Descuento]],VentasMenudeo[[#This Row],[Producto]]=$A$3,VentasMenudeo[[#This Row],[Precio de Venta]]*VentasMenudeo[[#This Row],[Cantidad]]-VentasMenudeo[[#This Row],[Descuento]],VentasMenudeo[[#This Row],[Producto]]=$A$4,VentasMenudeo[[#This Row],[Precio de Venta]]*VentasMenudeo[[#This Row],[Cantidad]]-VentasMenudeo[[#This Row],[Descuento]],VentasMenudeo[[#This Row],[Producto]]=$A$5,VentasMenudeo[[#This Row],[Precio de Venta]]*VentasMenudeo[[#This Row],[Cantidad]]-VentasMenudeo[[#This Row],[Descuento]]),0)","v":250},250]
["2022-11-24","Hugo","IPLAY MAX","Energy ICE",1,"$20 Descuento",null,{"$f":"_xlfn.IFNA(VLOOKUP(VentasMenudeo[[#This Row],[Promoción]],PromocionesMenudeo[[Promocion]:[Descuento]],2,0),0)","v":20},{"$f":"_xlfn.IFNA(VLOOKUP(VentasMenudeo[[#This Row],[Producto]],$A$2:$B$5,2,FALSE),0)","v":270},{"$f":"_xlfn.IFNA(_xlfn.IFS(VentasMenudeo[[#This Row],[Producto]]=$A$2,VentasMenudeo[[#This Row],[Precio de Venta]]*VentasMenudeo[[#This Row],[Cantidad]]-VentasMenudeo[[#This Row],[Descuento]],VentasMenudeo[[#This Row],[Producto]]=$A$3,VentasMenudeo[[#This Row],[Precio de Venta]]*VentasMenudeo[[#This Row],[Cantidad]]-VentasMenudeo[[#This Row],[Descuento]],VentasMenudeo[[#This Row],[Producto]]=$A$4,VentasMenudeo[[#This Row],[Precio de Venta]]*VentasMenudeo[[#This Row],[Cantidad]]-VentasMenudeo[[#This Row],[Descuento]],VentasMenudeo[[#This Row],[Producto]]=$A$5,VentasMenudeo[[#This Row],[Precio de Venta]]*VentasMenudeo[[#This Row],[Cantidad]]-VentasMenudeo[[#This Row],[Descuento]]),0)","v":250},250]
["2022-11-24","Hugo","IPLAY MAX","Sourraspberry",1,"$20 Descuento",null,{"$f":"_xlfn.IFNA(VLOOKUP(VentasMenudeo[[#This Row],[Promoción]],PromocionesMenudeo[[Promocion]:[Descuento]],2,0),0)","v":20},{"$f":"_xlfn.IFNA(VLOOKUP(VentasMenudeo[[#This Row],[Producto]],$A$2:$B$5,2,FALSE),0)","v":270},{"$f":"_xlfn.IFNA(_xlfn.IFS(VentasMenudeo[[#This Row],[Producto]]=$A$2,VentasMenudeo[[#This Row],[Precio de Venta]]*VentasMenudeo[[#This Row],[Cantidad]]-VentasMenudeo[[#This Row],[Descuento]],VentasMenudeo[[#This Row],[Producto]]=$A$3,VentasMenudeo[[#This Row],[Precio de Venta]]*VentasMenudeo[[#This Row],[Cantidad]]-VentasMenudeo[[#This Row],[Descuento]],VentasMenudeo[[#This Row],[Producto]]=$A$4,VentasMenudeo[[#This Row],[Precio de Venta]]*VentasMenudeo[[#This Row],[Cantidad]]-VentasMenudeo[[#This Row],[Descuento]],VentasMenudeo[[#This Row],[Producto]]=$A$5,VentasMenudeo[[#This Row],[Precio de Venta]]*VentasMenudeo[[#This Row],[Cantidad]]-VentasMenudeo[[#This Row],[Descuento]]),0)","v":250},250]
["2022-11-25","Hugo","IPLAY MAX","Banana Ice",1,"$20 Descuento",null,{"$f":"_xlfn.IFNA(VLOOKUP(VentasMenudeo[[#This Row],[Promoción]],PromocionesMenudeo[[Promocion]:[Descuento]],2,0),0)","v":20},{"$f":"_xlfn.IFNA(VLOOKUP(VentasMenudeo[[#This Row],[Producto]],$A$2:$B$5,2,FALSE),0)","v":270},{"$f":"_xlfn.IFNA(_xlfn.IFS(VentasMenudeo[[#This Row],[Producto]]=$A$2,VentasMenudeo[[#This Row],[Precio de Venta]]*VentasMenudeo[[#This Row],[Cantidad]]-VentasMenudeo[[#This Row],[Descuento]],VentasMenudeo[[#This Row],[Producto]]=$A$3,VentasMenudeo[[#This Row],[Precio de Venta]]*VentasMenudeo[[#This Row],[Cantidad]]-VentasMenudeo[[#This Row],[Descuento]],VentasMenudeo[[#This Row],[Producto]]=$A$4,VentasMenudeo[[#This Row],[Precio de Venta]]*VentasMenudeo[[#This Row],[Cantidad]]-VentasMenudeo[[#This Row],[Descuento]],VentasMenudeo[[#This Row],[Producto]]=$A$5,VentasMenudeo[[#This Row],[Precio de Venta]]*VentasMenudeo[[#This Row],[Cantidad]]-VentasMenudeo[[#This Row],[Descuento]]),0)","v":250},250]
["2022-11-30","Hugo","IPLAY MAX","Energy ICE",1,"$20 Descuento",null,{"$f":"_xlfn.IFNA(VLOOKUP(VentasMenudeo[[#This Row],[Promoción]],PromocionesMenudeo[[Promocion]:[Descuento]],2,0),0)","v":20},{"$f":"_xlfn.IFNA(VLOOKUP(VentasMenudeo[[#This Row],[Producto]],$A$2:$B$5,2,FALSE),0)","v":270},{"$f":"_xlfn.IFNA(_xlfn.IFS(VentasMenudeo[[#This Row],[Producto]]=$A$2,VentasMenudeo[[#This Row],[Precio de Venta]]*VentasMenudeo[[#This Row],[Cantidad]]-VentasMenudeo[[#This Row],[Descuento]],VentasMenudeo[[#This Row],[Producto]]=$A$3,VentasMenudeo[[#This Row],[Precio de Venta]]*VentasMenudeo[[#This Row],[Cantidad]]-VentasMenudeo[[#This Row],[Descuento]],VentasMenudeo[[#This Row],[Producto]]=$A$4,VentasMenudeo[[#This Row],[Precio de Venta]]*VentasMenudeo[[#This Row],[Cantidad]]-VentasMenudeo[[#This Row],[Descuento]],VentasMenudeo[[#This Row],[Producto]]=$A$5,VentasMenudeo[[#This Row],[Precio de Venta]]*VentasMenudeo[[#This Row],[Cantidad]]-VentasMenudeo[[#This Row],[Descuento]]),0)","v":250},250]
["2022-11-30","Hugo","IPLAY MAX","GrapeFruit berry",1,"$20 Descuento",null,{"$f":"_xlfn.IFNA(VLOOKUP(VentasMenudeo[[#This Row],[Promoción]],PromocionesMenudeo[[Promocion]:[Descuento]],2,0),0)","v":20},{"$f":"_xlfn.IFNA(VLOOKUP(VentasMenudeo[[#This Row],[Producto]],$A$2:$B$5,2,FALSE),0)","v":270},{"$f":"_xlfn.IFNA(_xlfn.IFS(VentasMenudeo[[#This Row],[Producto]]=$A$2,VentasMenudeo[[#This Row],[Precio de Venta]]*VentasMenudeo[[#This Row],[Cantidad]]-VentasMenudeo[[#This Row],[Descuento]],VentasMenudeo[[#This Row],[Producto]]=$A$3,VentasMenudeo[[#This Row],[Precio de Venta]]*VentasMenudeo[[#This Row],[Cantidad]]-VentasMenudeo[[#This Row],[Descuento]],VentasMenudeo[[#This Row],[Producto]]=$A$4,VentasMenudeo[[#This Row],[Precio de Venta]]*VentasMenudeo[[#This Row],[Cantidad]]-VentasMenudeo[[#This Row],[Descuento]],VentasMenudeo[[#This Row],[Producto]]=$A$5,VentasMenudeo[[#This Row],[Precio de Venta]]*VentasMenudeo[[#This Row],[Cantidad]]-VentasMenudeo[[#This Row],[Descuento]]),0)","v":250},250]
["2022-12-05","Hugo","IPLAY MAX","GrapeFruit berry",1,"$20 Descuento",null,{"$f":"_xlfn.IFNA(VLOOKUP(VentasMenudeo[[#This Row],[Promoción]],PromocionesMenudeo[[Promocion]:[Descuento]],2,0),0)","v":20},{"$f":"_xlfn.IFNA(VLOOKUP(VentasMenudeo[[#This Row],[Producto]],$A$2:$B$5,2,FALSE),0)","v":270},{"$f":"_xlfn.IFNA(_xlfn.IFS(VentasMenudeo[[#This Row],[Producto]]=$A$2,VentasMenudeo[[#This Row],[Precio de Venta]]*VentasMenudeo[[#This Row],[Cantidad]]-VentasMenudeo[[#This Row],[Descuento]],VentasMenudeo[[#This Row],[Producto]]=$A$3,VentasMenudeo[[#This Row],[Precio de Venta]]*VentasMenudeo[[#This Row],[Cantidad]]-VentasMenudeo[[#This Row],[Descuento]],VentasMenudeo[[#This Row],[Producto]]=$A$4,VentasMenudeo[[#This Row],[Precio de Venta]]*VentasMenudeo[[#This Row],[Cantidad]]-VentasMenudeo[[#This Row],[Descuento]],VentasMenudeo[[#This Row],[Producto]]=$A$5,VentasMenudeo[[#This Row],[Precio de Venta]]*VentasMenudeo[[#This Row],[Cantidad]]-VentasMenudeo[[#This Row],[Descuento]]),0)","v":250},250]
["2022-12-18","Hugo","IPLAY MAX","Strawberry Lychee",1,"$20 Descuento",null,{"$f":"_xlfn.IFNA(VLOOKUP(VentasMenudeo[[#This Row],[Promoción]],PromocionesMenudeo[[Promocion]:[Descuento]],2,0),0)","v":20},{"$f":"_xlfn.IFNA(VLOOKUP(VentasMenudeo[[#This Row],[Producto]],$A$2:$B$5,2,FALSE),0)","v":270},{"$f":"_xlfn.IFNA(_xlfn.IFS(VentasMenudeo[[#This Row],[Producto]]=$A$2,VentasMenudeo[[#This Row],[Precio de Venta]]*VentasMenudeo[[#This Row],[Cantidad]]-VentasMenudeo[[#This Row],[Descuento]],VentasMenudeo[[#This Row],[Producto]]=$A$3,VentasMenudeo[[#This Row],[Precio de Venta]]*VentasMenudeo[[#This Row],[Cantidad]]-VentasMenudeo[[#This Row],[Descuento]],VentasMenudeo[[#This Row],[Producto]]=$A$4,VentasMenudeo[[#This Row],[Precio de Venta]]*VentasMenudeo[[#This Row],[Cantidad]]-VentasMenudeo[[#This Row],[Descuento]],VentasMenudeo[[#This Row],[Producto]]=$A$5,VentasMenudeo[[#This Row],[Precio de Venta]]*VentasMenudeo[[#This Row],[Cantidad]]-VentasMenudeo[[#This Row],[Descuento]]),0)","v":250},250]
["2023-01-24","Hugo","IPLAY MAX","Strawberry Lychee",1,"Liquidacion $200",null,{"$f":"_xlfn.IFNA(VLOOKUP(VentasMenudeo[[#This Row],[Promoción]],PromocionesMenudeo[[Promocion]:[Descuento]],2,0),0)","v":0},{"$f":"_xlfn.IFNA(VLOOKUP(VentasMenudeo[[#This Row],[Producto]],$A$2:$B$5,2,FALSE),0)","v":270},{"$f":"_xlfn.IFNA(_xlfn.IFS(VentasMenudeo[[#This Row],[Producto]]=$A$2,VentasMenudeo[[#This Row],[Precio de Venta]]*VentasMenudeo[[#This Row],[Cantidad]]-VentasMenudeo[[#This Row],[Descuento]],VentasMenudeo[[#This Row],[Producto]]=$A$3,VentasMenudeo[[#This Row],[Precio de Venta]]*VentasMenudeo[[#This Row],[Cantidad]]-VentasMenudeo[[#This Row],[Descuento]],VentasMenudeo[[#This Row],[Producto]]=$A$4,VentasMenudeo[[#This Row],[Precio de Venta]]*VentasMenudeo[[#This Row],[Cantidad]]-VentasMenudeo[[#This Row],[Descuento]],VentasMenudeo[[#This Row],[Producto]]=$A$5,VentasMenudeo[[#This Row],[Precio de Venta]]*VentasMenudeo[[#This Row],[Cantidad]]-VentasMenudeo[[#This Row],[Descuento]]),0)","v":270},200]
["2023-01-26","Hugo","IPLAY MAX","Cocumber Lemonade",1,"Liquidacion de $165",null,{"$f":"_xlfn.IFNA(VLOOKUP(VentasMenudeo[[#This Row],[Promoción]],PromocionesMenudeo[[Promocion]:[Descuento]],2,0),0)","v":105},{"$f":"_xlfn.IFNA(VLOOKUP(VentasMenudeo[[#This Row],[Producto]],$A$2:$B$5,2,FALSE),0)","v":270},{"$f":"_xlfn.IFNA(_xlfn.IFS(VentasMenudeo[[#This Row],[Producto]]=$A$2,VentasMenudeo[[#This Row],[Precio de Venta]]*VentasMenudeo[[#This Row],[Cantidad]]-VentasMenudeo[[#This Row],[Descuento]],VentasMenudeo[[#This Row],[Producto]]=$A$3,VentasMenudeo[[#This Row],[Precio de Venta]]*VentasMenudeo[[#This Row],[Cantidad]]-VentasMenudeo[[#This Row],[Descuento]],VentasMenudeo[[#This Row],[Producto]]=$A$4,VentasMenudeo[[#This Row],[Precio de Venta]]*VentasMenudeo[[#This Row],[Cantidad]]-VentasMenudeo[[#This Row],[Descuento]],VentasMenudeo[[#This Row],[Producto]]=$A$5,VentasMenudeo[[#This Row],[Precio de Venta]]*VentasMenudeo[[#This Row],[Cantidad]]-VentasMenudeo[[#This Row],[Descuento]]),0)","v":165},165]
["2023-01-26","Hugo","IPLAY MAX","Strawberry Lychee",1,"Liquidacion de $165",null,{"$f":"_xlfn.IFNA(VLOOKUP(VentasMenudeo[[#This Row],[Promoción]],PromocionesMenudeo[[Promocion]:[Descuento]],2,0),0)","v":105},{"$f":"_xlfn.IFNA(VLOOKUP(VentasMenudeo[[#This Row],[Producto]],$A$2:$B$5,2,FALSE),0)","v":270},{"$f":"_xlfn.IFNA(_xlfn.IFS(VentasMenudeo[[#This Row],[Producto]]=$A$2,VentasMenudeo[[#This Row],[Precio de Venta]]*VentasMenudeo[[#This Row],[Cantidad]]-VentasMenudeo[[#This Row],[Descuento]],VentasMenudeo[[#This Row],[Producto]]=$A$3,VentasMenudeo[[#This Row],[Precio de Venta]]*VentasMenudeo[[#This Row],[Cantidad]]-VentasMenudeo[[#This Row],[Descuento]],VentasMenudeo[[#This Row],[Producto]]=$A$4,VentasMenudeo[[#This Row],[Precio de Venta]]*VentasMenudeo[[#This Row],[Cantidad]]-VentasMenudeo[[#This Row],[Descuento]],VentasMenudeo[[#This Row],[Producto]]=$A$5,VentasMenudeo[[#This Row],[Precio de Venta]]*VentasMenudeo[[#This Row],[Cantidad]]-VentasMenudeo[[#This Row],[Descuento]]),0)","v":165},165]
["2023-01-26","Hugo","IPLAY MAX","Sour Apple",1,"Liquidacion de $165",null,{"$f":"_xlfn.IFNA(VLOOKUP(VentasMenudeo[[#This Row],[Promoción]],PromocionesMenudeo[[Promocion]:[Descuento]],2,0),0)","v":105},{"$f":"_xlfn.IFNA(VLOOKUP(VentasMenudeo[[#This Row],[Producto]],$A$2:$B$5,2,FALSE),0)","v":270},{"$f":"_xlfn.IFNA(_xlfn.IFS(VentasMenudeo[[#This Row],[Producto]]=$A$2,VentasMenudeo[[#This Row],[Precio de Venta]]*VentasMenudeo[[#This Row],[Cantidad]]-VentasMenudeo[[#This Row],[Descuento]],VentasMenudeo[[#This Row],[Producto]]=$A$3,VentasMenudeo[[#This Row],[Precio de Venta]]*VentasMenudeo[[#This Row],[Cantidad]]-VentasMenudeo[[#This Row],[Descuento]],VentasMenudeo[[#This Row],[Producto]]=$A$4,VentasMenudeo[[#This Row],[Precio de Venta]]*VentasMenudeo[[#This Row],[Cantidad]]-VentasMenudeo[[#This Row],[Descuento]],VentasMenudeo[[#This Row],[Producto]]=$A$5,VentasMenudeo[[#This Row],[Precio de Venta]]*VentasMenudeo[[#This Row],[Cantidad]]-VentasMenudeo[[#This Row],[Descuento]]),0)","v":165},165]
["2023-01-27","Hugo","IPLAY MAX","Banana Ice",1,"Liquidacion de $165",null,{"$f":"_xlfn.IFNA(VLOOKUP(VentasMenudeo[[#This Row],[Promoción]],PromocionesMenudeo[[Promocion]:[Descuento]],2,0),0)","v":105},{"$f":"_xlfn.IFNA(VLOOKUP(VentasMenudeo[[#This Row],[Producto]],$A$2:$B$5,2,FALSE),0)","v":270},{"$f":"_xlfn.IFNA(_xlfn.IFS(VentasMenudeo[[#This Row],[Producto]]=$A$2,VentasMenudeo[[#This Row],[Precio de Venta]]*VentasMenudeo[[#This Row],[Cantidad]]-VentasMenudeo[[#This Row],[Descuento]],VentasMenudeo[[#This Row],[Producto]]=$A$3,VentasMenudeo[[#This Row],[Precio de Venta]]*VentasMenudeo[[#This Row],[Cantidad]]-VentasMenudeo[[#This Row],[Descuento]],VentasMenudeo[[#This Row],[Producto]]=$A$4,VentasMenudeo[[#This Row],[Precio de Venta]]*VentasMenudeo[[#This Row],[Cantidad]]-VentasMenudeo[[#This Row],[Descuento]],VentasMenudeo[[#This Row],[Producto]]=$A$5,VentasMenudeo[[#This Row],[Precio de Venta]]*VentasMenudeo[[#This Row],[Cantidad]]-VentasMenudeo[[#This Row],[Descuento]]),0)","v":165},165]
["2023-01-27","Hugo","IPLAY MAX","Banana Ice",1,"Liquidacion de $165",null,{"$f":"_xlfn.IFNA(VLOOKUP(VentasMenudeo[[#This Row],[Promoción]],PromocionesMenudeo[[Promocion]:[Descuento]],2,0),0)","v":105},{"$f":"_xlfn.IFNA(VLOOKUP(VentasMenudeo[[#This Row],[Producto]],$A$2:$B$5,2,FALSE),0)","v":270},{"$f":"_xlfn.IFNA(_xlfn.IFS(VentasMenudeo[[#This Row],[Producto]]=$A$2,VentasMenudeo[[#This Row],[Precio de Venta]]*VentasMenudeo[[#This Row],[Cantidad]]-VentasMenudeo[[#This Row],[Descuento]],VentasMenudeo[[#This Row],[Producto]]=$A$3,VentasMenudeo[[#This Row],[Precio de Venta]]*VentasMenudeo[[#This Row],[Cantidad]]-VentasMenudeo[[#This Row],[Descuento]],VentasMenudeo[[#This Row],[Producto]]=$A$4,VentasMenudeo[[#This Row],[Precio de Venta]]*VentasMenudeo[[#This Row],[Cantidad]]-VentasMenudeo[[#This Row],[Descuento]],VentasMenudeo[[#This Row],[Producto]]=$A$5,VentasMenudeo[[#This Row],[Precio de Venta]]*VentasMenudeo[[#This Row],[Cantidad]]-VentasMenudeo[[#This Row],[Descuento]]),0)","v":165},165]
["2023-01-27","Hugo","IPLAY MAX","Berry Watermelon",1,"Liquidacion de $165",null,{"$f":"_xlfn.IFNA(VLOOKUP(VentasMenudeo[[#This Row],[Promoción]],PromocionesMenudeo[[Promocion]:[Descuento]],2,0),0)","v":105},{"$f":"_xlfn.IFNA(VLOOKUP(VentasMenudeo[[#This Row],[Producto]],$A$2:$B$5,2,FALSE),0)","v":270},{"$f":"_xlfn.IFNA(_xlfn.IFS(VentasMenudeo[[#This Row],[Producto]]=$A$2,VentasMenudeo[[#This Row],[Precio de Venta]]*VentasMenudeo[[#This Row],[Cantidad]]-VentasMenudeo[[#This Row],[Descuento]],VentasMenudeo[[#This Row],[Producto]]=$A$3,VentasMenudeo[[#This Row],[Precio de Venta]]*VentasMenudeo[[#This Row],[Cantidad]]-VentasMenudeo[[#This Row],[Descuento]],VentasMenudeo[[#This Row],[Producto]]=$A$4,VentasMenudeo[[#This Row],[Precio de Venta]]*VentasMenudeo[[#This Row],[Cantidad]]-VentasMenudeo[[#This Row],[Descuento]],VentasMenudeo[[#This Row],[Producto]]=$A$5,VentasMenudeo[[#This Row],[Precio de Venta]]*VentasMenudeo[[#This Row],[Cantidad]]-VentasMenudeo[[#This Row],[Descuento]]),0)","v":165},165]
["2023-01-27","Hugo","IPLAY MAX","Berry Watermelon",1,"Liquidacion de $165",null,{"$f":"_xlfn.IFNA(VLOOKUP(VentasMenudeo[[#This Row],[Promoción]],PromocionesMenudeo[[Promocion]:[Descuento]],2,0),0)","v":105},{"$f":"_xlfn.IFNA(VLOOKUP(VentasMenudeo[[#This Row],[Producto]],$A$2:$B$5,2,FALSE),0)","v":270},{"$f":"_xlfn.IFNA(_xlfn.IFS(VentasMenudeo[[#This Row],[Producto]]=$A$2,VentasMenudeo[[#This Row],[Precio de Venta]]*VentasMenudeo[[#This Row],[Cantidad]]-VentasMenudeo[[#This Row],[Descuento]],VentasMenudeo[[#This Row],[Producto]]=$A$3,VentasMenudeo[[#This Row],[Precio de Venta]]*VentasMenudeo[[#This Row],[Cantidad]]-VentasMenudeo[[#This Row],[Descuento]],VentasMenudeo[[#This Row],[Producto]]=$A$4,VentasMenudeo[[#This Row],[Precio de Venta]]*VentasMenudeo[[#This Row],[Cantidad]]-VentasMenudeo[[#This Row],[Descuento]],VentasMenudeo[[#This Row],[Producto]]=$A$5,VentasMenudeo[[#This Row],[Precio de Venta]]*VentasMenudeo[[#This Row],[Cantidad]]-VentasMenudeo[[#This Row],[Descuento]]),0)","v":165},165]
["2023-01-27","Hugo","IPLAY MAX","Coconut",1,"Liquidacion de $165",null,{"$f":"_xlfn.IFNA(VLOOKUP(VentasMenudeo[[#This Row],[Promoción]],PromocionesMenudeo[[Promocion]:[Descuento]],2,0),0)","v":105},{"$f":"_xlfn.IFNA(VLOOKUP(VentasMenudeo[[#This Row],[Producto]],$A$2:$B$5,2,FALSE),0)","v":270},{"$f":"_xlfn.IFNA(_xlfn.IFS(VentasMenudeo[[#This Row],[Producto]]=$A$2,VentasMenudeo[[#This Row],[Precio de Venta]]*VentasMenudeo[[#This Row],[Cantidad]]-VentasMenudeo[[#This Row],[Descuento]],VentasMenudeo[[#This Row],[Producto]]=$A$3,VentasMenudeo[[#This Row],[Precio de Venta]]*VentasMenudeo[[#This Row],[Cantidad]]-VentasMenudeo[[#This Row],[Descuento]],VentasMenudeo[[#This Row],[Producto]]=$A$4,VentasMenudeo[[#This Row],[Precio de Venta]]*VentasMenudeo[[#This Row],[Cantidad]]-VentasMenudeo[[#This Row],[Descuento]],VentasMenudeo[[#This Row],[Producto]]=$A$5,VentasMenudeo[[#This Row],[Precio de Venta]]*VentasMenudeo[[#This Row],[Cantidad]]-VentasMenudeo[[#This Row],[Descuento]]),0)","v":165},165]
["2023-01-27","Hugo","IPLAY MAX","Coconut",1,"Liquidacion de $165",null,{"$f":"_xlfn.IFNA(VLOOKUP(VentasMenudeo[[#This Row],[Promoción]],PromocionesMenudeo[[Promocion]:[Descuento]],2,0),0)","v":105},{"$f":"_xlfn.IFNA(VLOOKUP(VentasMenudeo[[#This Row],[Producto]],$A$2:$B$5,2,FALSE),0)","v":270},{"$f":"_xlfn.IFNA(_xlfn.IFS(VentasMenudeo[[#This Row],[Producto]]=$A$2,VentasMenudeo[[#This Row],[Precio de Venta]]*VentasMenudeo[[#This Row],[Cantidad]]-VentasMenudeo[[#This Row],[Descuento]],VentasMenudeo[[#This Row],[Producto]]=$A$3,VentasMenudeo[[#This Row],[Precio de Venta]]*VentasMenudeo[[#This Row],[Cantidad]]-VentasMenudeo[[#This Row],[Descuento]],VentasMenudeo[[#This Row],[Producto]]=$A$4,VentasMenudeo[[#This Row],[Precio de Venta]]*VentasMenudeo[[#This Row],[Cantidad]]-VentasMenudeo[[#This Row],[Descuento]],VentasMenudeo[[#This Row],[Producto]]=$A$5,VentasMenudeo[[#This Row],[Precio de Venta]]*VentasMenudeo[[#This Row],[Cantidad]]-VentasMenudeo[[#This Row],[Descuento]]),0)","v":165},165]
["2023-01-27","Hugo","IPLAY MAX","Coconut",1,"Liquidacion de $165",null,{"$f":"_xlfn.IFNA(VLOOKUP(VentasMenudeo[[#This Row],[Promoción]],PromocionesMenudeo[[Promocion]:[Descuento]],2,0),0)","v":105},{"$f":"_xlfn.IFNA(VLOOKUP(VentasMenudeo[[#This Row],[Producto]],$A$2:$B$5,2,FALSE),0)","v":270},{"$f":"_xlfn.IFNA(_xlfn.IFS(VentasMenudeo[[#This Row],[Producto]]=$A$2,VentasMenudeo[[#This Row],[Precio de Venta]]*VentasMenudeo[[#This Row],[Cantidad]]-VentasMenudeo[[#This Row],[Descuento]],VentasMenudeo[[#This Row],[Producto]]=$A$3,VentasMenudeo[[#This Row],[Precio de Venta]]*VentasMenudeo[[#This Row],[Cantidad]]-VentasMenudeo[[#This Row],[Descuento]],VentasMenudeo[[#This Row],[Producto]]=$A$4,VentasMenudeo[[#This Row],[Precio de Venta]]*VentasMenudeo[[#This Row],[Cantidad]]-VentasMenudeo[[#This Row],[Descuento]],VentasMenudeo[[#This Row],[Producto]]=$A$5,VentasMenudeo[[#This Row],[Precio de Venta]]*VentasMenudeo[[#This Row],[Cantidad]]-VentasMenudeo[[#This Row],[Descuento]]),0)","v":165},165]
["2023-01-27","Hugo","IPLAY MAX","Coconut",1,"Liquidacion de $165",null,{"$f":"_xlfn.IFNA(VLOOKUP(VentasMenudeo[[#This Row],[Promoción]],PromocionesMenudeo[[Promocion]:[Descuento]],2,0),0)","v":105},{"$f":"_xlfn.IFNA(VLOOKUP(VentasMenudeo[[#This Row],[Producto]],$A$2:$B$5,2,FALSE),0)","v":270},{"$f":"_xlfn.IFNA(_xlfn.IFS(VentasMenudeo[[#This Row],[Producto]]=$A$2,VentasMenudeo[[#This Row],[Precio de Venta]]*VentasMenudeo[[#This Row],[Cantidad]]-VentasMenudeo[[#This Row],[Descuento]],VentasMenudeo[[#This Row],[Producto]]=$A$3,VentasMenudeo[[#This Row],[Precio de Venta]]*VentasMenudeo[[#This Row],[Cantidad]]-VentasMenudeo[[#This Row],[Descuento]],VentasMenudeo[[#This Row],[Producto]]=$A$4,VentasMenudeo[[#This Row],[Precio de Venta]]*VentasMenudeo[[#This Row],[Cantidad]]-VentasMenudeo[[#This Row],[Descuento]],VentasMenudeo[[#This Row],[Producto]]=$A$5,VentasMenudeo[[#This Row],[Precio de Venta]]*VentasMenudeo[[#This Row],[Cantidad]]-VentasMenudeo[[#This Row],[Descuento]]),0)","v":165},165]
["2023-01-27","Hugo","IPLAY MAX","Coconut",1,"Liquidacion de $165",null,{"$f":"_xlfn.IFNA(VLOOKUP(VentasMenudeo[[#This Row],[Promoción]],PromocionesMenudeo[[Promocion]:[Descuento]],2,0),0)","v":105},{"$f":"_xlfn.IFNA(VLOOKUP(VentasMenudeo[[#This Row],[Producto]],$A$2:$B$5,2,FALSE),0)","v":270},{"$f":"_xlfn.IFNA(_xlfn.IFS(VentasMenudeo[[#This Row],[Producto]]=$A$2,VentasMenudeo[[#This Row],[Precio de Venta]]*VentasMenudeo[[#This Row],[Cantidad]]-VentasMenudeo[[#This Row],[Descuento]],VentasMenudeo[[#This Row],[Producto]]=$A$3,VentasMenudeo[[#This Row],[Precio de Venta]]*VentasMenudeo[[#This Row],[Cantidad]]-VentasMenudeo[[#This Row],[Descuento]],VentasMenudeo[[#This Row],[Producto]]=$A$4,VentasMenudeo[[#This Row],[Precio de Venta]]*VentasMenudeo[[#This Row],[Cantidad]]-VentasMenudeo[[#This Row],[Descuento]],VentasMenudeo[[#This Row],[Producto]]=$A$5,VentasMenudeo[[#This Row],[Precio de Venta]]*VentasMenudeo[[#This Row],[Cantidad]]-VentasMenudeo[[#This Row],[Descuento]]),0)","v":165},165]
["2023-01-27","Hugo","IPLAY MAX","Cocumber Lemonade",1,"Liquidacion de $165",null,{"$f":"_xlfn.IFNA(VLOOKUP(VentasMenudeo[[#This Row],[Promoción]],PromocionesMenudeo[[Promocion]:[Descuento]],2,0),0)","v":105},{"$f":"_xlfn.IFNA(VLOOKUP(VentasMenudeo[[#This Row],[Producto]],$A$2:$B$5,2,FALSE),0)","v":270},{"$f":"_xlfn.IFNA(_xlfn.IFS(VentasMenudeo[[#This Row],[Producto]]=$A$2,VentasMenudeo[[#This Row],[Precio de Venta]]*VentasMenudeo[[#This Row],[Cantidad]]-VentasMenudeo[[#This Row],[Descuento]],VentasMenudeo[[#This Row],[Producto]]=$A$3,VentasMenudeo[[#This Row],[Precio de Venta]]*VentasMenudeo[[#This Row],[Cantidad]]-VentasMenudeo[[#This Row],[Descuento]],VentasMenudeo[[#This Row],[Producto]]=$A$4,VentasMenudeo[[#This Row],[Precio de Venta]]*VentasMenudeo[[#This Row],[Cantidad]]-VentasMenudeo[[#This Row],[Descuento]],VentasMenudeo[[#This Row],[Producto]]=$A$5,VentasMenudeo[[#This Row],[Precio de Venta]]*VentasMenudeo[[#This Row],[Cantidad]]-VentasMenudeo[[#This Row],[Descuento]]),0)","v":165},165]
["2023-01-27","Hugo","IPLAY MAX","Cocumber Lemonade",1,"Liquidacion de $165",null,{"$f":"_xlfn.IFNA(VLOOKUP(VentasMenudeo[[#This Row],[Promoción]],PromocionesMenudeo[[Promocion]:[Descuento]],2,0),0)","v":105},{"$f":"_xlfn.IFNA(VLOOKUP(VentasMenudeo[[#This Row],[Producto]],$A$2:$B$5,2,FALSE),0)","v":270},{"$f":"_xlfn.IFNA(_xlfn.IFS(VentasMenudeo[[#This Row],[Producto]]=$A$2,VentasMenudeo[[#This Row],[Precio de Venta]]*VentasMenudeo[[#This Row],[Cantidad]]-VentasMenudeo[[#This Row],[Descuento]],VentasMenudeo[[#This Row],[Producto]]=$A$3,VentasMenudeo[[#This Row],[Precio de Venta]]*VentasMenudeo[[#This Row],[Cantidad]]-VentasMenudeo[[#This Row],[Descuento]],VentasMenudeo[[#This Row],[Producto]]=$A$4,VentasMenudeo[[#This Row],[Precio de Venta]]*VentasMenudeo[[#This Row],[Cantidad]]-VentasMenudeo[[#This Row],[Descuento]],VentasMenudeo[[#This Row],[Producto]]=$A$5,VentasMenudeo[[#This Row],[Precio de Venta]]*VentasMenudeo[[#This Row],[Cantidad]]-VentasMenudeo[[#This Row],[Descuento]]),0)","v":165},165]
["2023-01-27","Hugo","IPLAY MAX","Cocumber Lemonade",1,"Liquidacion de $165",null,{"$f":"_xlfn.IFNA(VLOOKUP(VentasMenudeo[[#This Row],[Promoción]],PromocionesMenudeo[[Promocion]:[Descuento]],2,0),0)","v":105},{"$f":"_xlfn.IFNA(VLOOKUP(VentasMenudeo[[#This Row],[Producto]],$A$2:$B$5,2,FALSE),0)","v":270},{"$f":"_xlfn.IFNA(_xlfn.IFS(VentasMenudeo[[#This Row],[Producto]]=$A$2,VentasMenudeo[[#This Row],[Precio de Venta]]*VentasMenudeo[[#This Row],[Cantidad]]-VentasMenudeo[[#This Row],[Descuento]],VentasMenudeo[[#This Row],[Producto]]=$A$3,VentasMenudeo[[#This Row],[Precio de Venta]]*VentasMenudeo[[#This Row],[Cantidad]]-VentasMenudeo[[#This Row],[Descuento]],VentasMenudeo[[#This Row],[Producto]]=$A$4,VentasMenudeo[[#This Row],[Precio de Venta]]*VentasMenudeo[[#This Row],[Cantidad]]-VentasMenudeo[[#This Row],[Descuento]],VentasMenudeo[[#This Row],[Producto]]=$A$5,VentasMenudeo[[#This Row],[Precio de Venta]]*VentasMenudeo[[#This Row],[Cantidad]]-VentasMenudeo[[#This Row],[Descuento]]),0)","v":165},165]
["2023-01-27","Hugo","IPLAY MAX","Cocumber Lemonade",1,"Liquidacion de $165",null,{"$f":"_xlfn.IFNA(VLOOKUP(VentasMenudeo[[#This Row],[Promoción]],PromocionesMenudeo[[Promocion]:[Descuento]],2,0),0)","v":105},{"$f":"_xlfn.IFNA(VLOOKUP(VentasMenudeo[[#This Row],[Producto]],$A$2:$B$5,2,FALSE),0)","v":270},{"$f":"_xlfn.IFNA(_xlfn.IFS(VentasMenudeo[[#This Row],[Producto]]=$A$2,VentasMenudeo[[#This Row],[Precio de Venta]]*VentasMenudeo[[#This Row],[Cantidad]]-VentasMenudeo[[#This Row],[Descuento]],VentasMenudeo[[#This Row],[Producto]]=$A$3,VentasMenudeo[[#This Row],[Precio de Venta]]*VentasMenudeo[[#This Row],[Cantidad]]-VentasMenudeo[[#This Row],[Descuento]],VentasMenudeo[[#This Row],[Producto]]=$A$4,VentasMenudeo[[#This Row],[Precio de Venta]]*VentasMenudeo[[#This Row],[Cantidad]]-VentasMenudeo[[#This Row],[Descuento]],VentasMenudeo[[#This Row],[Producto]]=$A$5,VentasMenudeo[[#This Row],[Precio de Venta]]*VentasMenudeo[[#This Row],[Cantidad]]-VentasMenudeo[[#This Row],[Descuento]]),0)","v":165},165]
["2023-01-27","Hugo","IPLAY MAX","Energy ICE",1,"Liquidacion de $165",null,{"$f":"_xlfn.IFNA(VLOOKUP(VentasMenudeo[[#This Row],[Promoción]],PromocionesMenudeo[[Promocion]:[Descuento]],2,0),0)","v":105},{"$f":"_xlfn.IFNA(VLOOKUP(VentasMenudeo[[#This Row],[Producto]],$A$2:$B$5,2,FALSE),0)","v":270},{"$f":"_xlfn.IFNA(_xlfn.IFS(VentasMenudeo[[#This Row],[Producto]]=$A$2,VentasMenudeo[[#This Row],[Precio de Venta]]*VentasMenudeo[[#This Row],[Cantidad]]-VentasMenudeo[[#This Row],[Descuento]],VentasMenudeo[[#This Row],[Producto]]=$A$3,VentasMenudeo[[#This Row],[Precio de Venta]]*VentasMenudeo[[#This Row],[Cantidad]]-VentasMenudeo[[#This Row],[Descuento]],VentasMenudeo[[#This Row],[Producto]]=$A$4,VentasMenudeo[[#This Row],[Precio de Venta]]*VentasMenudeo[[#This Row],[Cantidad]]-VentasMenudeo[[#This Row],[Descuento]],VentasMenudeo[[#This Row],[Producto]]=$A$5,VentasMenudeo[[#This Row],[Precio de Venta]]*VentasMenudeo[[#This Row],[Cantidad]]-VentasMenudeo[[#This Row],[Descuento]]),0)","v":165},165]
["2023-01-27","Hugo","IPLAY MAX","Energy ICE",1,"Liquidacion de $165",null,{"$f":"_xlfn.IFNA(VLOOKUP(VentasMenudeo[[#This Row],[Promoción]],PromocionesMenudeo[[Promocion]:[Descuento]],2,0),0)","v":105},{"$f":"_xlfn.IFNA(VLOOKUP(VentasMenudeo[[#This Row],[Producto]],$A$2:$B$5,2,FALSE),0)","v":270},{"$f":"_xlfn.IFNA(_xlfn.IFS(VentasMenudeo[[#This Row],[Producto]]=$A$2,VentasMenudeo[[#This Row],[Precio de Venta]]*VentasMenudeo[[#This Row],[Cantidad]]-VentasMenudeo[[#This Row],[Descuento]],VentasMenudeo[[#This Row],[Producto]]=$A$3,VentasMenudeo[[#This Row],[Precio de Venta]]*VentasMenudeo[[#This Row],[Cantidad]]-VentasMenudeo[[#This Row],[Descuento]],VentasMenudeo[[#This Row],[Producto]]=$A$4,VentasMenudeo[[#This Row],[Precio de Venta]]*VentasMenudeo[[#This Row],[Cantidad]]-VentasMenudeo[[#This Row],[Descuento]],VentasMenudeo[[#This Row],[Producto]]=$A$5,VentasMenudeo[[#This Row],[Precio de Venta]]*VentasMenudeo[[#This Row],[Cantidad]]-VentasMenudeo[[#This Row],[Descuento]]),0)","v":165},165]
["2023-01-27","Hugo","IPLAY MAX","Energy ICE",1,"Liquidacion de $165",null,{"$f":"_xlfn.IFNA(VLOOKUP(VentasMenudeo[[#This Row],[Promoción]],PromocionesMenudeo[[Promocion]:[Descuento]],2,0),0)","v":105},{"$f":"_xlfn.IFNA(VLOOKUP(VentasMenudeo[[#This Row],[Producto]],$A$2:$B$5,2,FALSE),0)","v":270},{"$f":"_xlfn.IFNA(_xlfn.IFS(VentasMenudeo[[#This Row],[Producto]]=$A$2,VentasMenudeo[[#This Row],[Precio de Venta]]*VentasMenudeo[[#This Row],[Cantidad]]-VentasMenudeo[[#This Row],[Descuento]],VentasMenudeo[[#This Row],[Producto]]=$A$3,VentasMenudeo[[#This Row],[Precio de Venta]]*VentasMenudeo[[#This Row],[Cantidad]]-VentasMenudeo[[#This Row],[Descuento]],VentasMenudeo[[#This Row],[Producto]]=$A$4,VentasMenudeo[[#This Row],[Precio de Venta]]*VentasMenudeo[[#This Row],[Cantidad]]-VentasMenudeo[[#This Row],[Descuento]],VentasMenudeo[[#This Row],[Producto]]=$A$5,VentasMenudeo[[#This Row],[Precio de Venta]]*VentasMenudeo[[#This Row],[Cantidad]]-VentasMenudeo[[#This Row],[Descuento]]),0)","v":165},165]
["2023-01-27","Hugo","IPLAY MAX","GrapeFruit berry",1,"Liquidacion de $165",null,{"$f":"_xlfn.IFNA(VLOOKUP(VentasMenudeo[[#This Row],[Promoción]],PromocionesMenudeo[[Promocion]:[Descuento]],2,0),0)","v":105},{"$f":"_xlfn.IFNA(VLOOKUP(VentasMenudeo[[#This Row],[Producto]],$A$2:$B$5,2,FALSE),0)","v":270},{"$f":"_xlfn.IFNA(_xlfn.IFS(VentasMenudeo[[#This Row],[Producto]]=$A$2,VentasMenudeo[[#This Row],[Precio de Venta]]*VentasMenudeo[[#This Row],[Cantidad]]-VentasMenudeo[[#This Row],[Descuento]],VentasMenudeo[[#This Row],[Producto]]=$A$3,VentasMenudeo[[#This Row],[Precio de Venta]]*VentasMenudeo[[#This Row],[Cantidad]]-VentasMenudeo[[#This Row],[Descuento]],VentasMenudeo[[#This Row],[Producto]]=$A$4,VentasMenudeo[[#This Row],[Precio de Venta]]*VentasMenudeo[[#This Row],[Cantidad]]-VentasMenudeo[[#This Row],[Descuento]],VentasMenudeo[[#This Row],[Producto]]=$A$5,VentasMenudeo[[#This Row],[Precio de Venta]]*VentasMenudeo[[#This Row],[Cantidad]]-VentasMenudeo[[#This Row],[Descuento]]),0)","v":165},165]
["2023-01-27","Hugo","IPLAY MAX","GrapeFruit berry",1,"Liquidacion de $165",null,{"$f":"_xlfn.IFNA(VLOOKUP(VentasMenudeo[[#This Row],[Promoción]],PromocionesMenudeo[[Promocion]:[Descuento]],2,0),0)","v":105},{"$f":"_xlfn.IFNA(VLOOKUP(VentasMenudeo[[#This Row],[Producto]],$A$2:$B$5,2,FALSE),0)","v":270},{"$f":"_xlfn.IFNA(_xlfn.IFS(VentasMenudeo[[#This Row],[Producto]]=$A$2,VentasMenudeo[[#This Row],[Precio de Venta]]*VentasMenudeo[[#This Row],[Cantidad]]-VentasMenudeo[[#This Row],[Descuento]],VentasMenudeo[[#This Row],[Producto]]=$A$3,VentasMenudeo[[#This Row],[Precio de Venta]]*VentasMenudeo[[#This Row],[Cantidad]]-VentasMenudeo[[#This Row],[Descuento]],VentasMenudeo[[#This Row],[Producto]]=$A$4,VentasMenudeo[[#This Row],[Precio de Venta]]*VentasMenudeo[[#This Row],[Cantidad]]-VentasMenudeo[[#This Row],[Descuento]],VentasMenudeo[[#This Row],[Producto]]=$A$5,VentasMenudeo[[#This Row],[Precio de Venta]]*VentasMenudeo[[#This Row],[Cantidad]]-VentasMenudeo[[#This Row],[Descuento]]),0)","v":165},165]
["2023-01-27","Hugo","IPLAY MAX","GrapeFruit berry",1,"Liquidacion de $165",null,{"$f":"_xlfn.IFNA(VLOOKUP(VentasMenudeo[[#This Row],[Promoción]],PromocionesMenudeo[[Promocion]:[Descuento]],2,0),0)","v":105},{"$f":"_xlfn.IFNA(VLOOKUP(VentasMenudeo[[#This Row],[Producto]],$A$2:$B$5,2,FALSE),0)","v":270},{"$f":"_xlfn.IFNA(_xlfn.IFS(VentasMenudeo[[#This Row],[Producto]]=$A$2,VentasMenudeo[[#This Row],[Precio de Venta]]*VentasMenudeo[[#This Row],[Cantidad]]-VentasMenudeo[[#This Row],[Descuento]],VentasMenudeo[[#This Row],[Producto]]=$A$3,VentasMenudeo[[#This Row],[Precio de Venta]]*VentasMenudeo[[#This Row],[Cantidad]]-VentasMenudeo[[#This Row],[Descuento]],VentasMenudeo[[#This Row],[Producto]]=$A$4,VentasMenudeo[[#This Row],[Precio de Venta]]*VentasMenudeo[[#This Row],[Cantidad]]-VentasMenudeo[[#This Row],[Descuento]],VentasMenudeo[[#This Row],[Producto]]=$A$5,VentasMenudeo[[#This Row],[Precio de Venta]]*VentasMenudeo[[#This Row],[Cantidad]]-VentasMenudeo[[#This Row],[Descuento]]),0)","v":165},165]
["2023-01-27","Hugo","IPLAY MAX","Guava",1,"Liquidacion de $165",null,{"$f":"_xlfn.IFNA(VLOOKUP(VentasMenudeo[[#This Row],[Promoción]],PromocionesMenudeo[[Promocion]:[Descuento]],2,0),0)","v":105},{"$f":"_xlfn.IFNA(VLOOKUP(VentasMenudeo[[#This Row],[Producto]],$A$2:$B$5,2,FALSE),0)","v":270},{"$f":"_xlfn.IFNA(_xlfn.IFS(VentasMenudeo[[#This Row],[Producto]]=$A$2,VentasMenudeo[[#This Row],[Precio de Venta]]*VentasMenudeo[[#This Row],[Cantidad]]-VentasMenudeo[[#This Row],[Descuento]],VentasMenudeo[[#This Row],[Producto]]=$A$3,VentasMenudeo[[#This Row],[Precio de Venta]]*VentasMenudeo[[#This Row],[Cantidad]]-VentasMenudeo[[#This Row],[Descuento]],VentasMenudeo[[#This Row],[Producto]]=$A$4,VentasMenudeo[[#This Row],[Precio de Venta]]*VentasMenudeo[[#This Row],[Cantidad]]-VentasMenudeo[[#This Row],[Descuento]],VentasMenudeo[[#This Row],[Producto]]=$A$5,VentasMenudeo[[#This Row],[Precio de Venta]]*VentasMenudeo[[#This Row],[Cantidad]]-VentasMenudeo[[#This Row],[Descuento]]),0)","v":165},165]
["2023-01-27","Hugo","IPLAY MAX","Guava",1,"Liquidacion de $165",null,{"$f":"_xlfn.IFNA(VLOOKUP(VentasMenudeo[[#This Row],[Promoción]],PromocionesMenudeo[[Promocion]:[Descuento]],2,0),0)","v":105},{"$f":"_xlfn.IFNA(VLOOKUP(VentasMenudeo[[#This Row],[Producto]],$A$2:$B$5,2,FALSE),0)","v":270},{"$f":"_xlfn.IFNA(_xlfn.IFS(VentasMenudeo[[#This Row],[Producto]]=$A$2,VentasMenudeo[[#This Row],[Precio de Venta]]*VentasMenudeo[[#This Row],[Cantidad]]-VentasMenudeo[[#This Row],[Descuento]],VentasMenudeo[[#This Row],[Producto]]=$A$3,VentasMenudeo[[#This Row],[Precio de Venta]]*VentasMenudeo[[#This Row],[Cantidad]]-VentasMenudeo[[#This Row],[Descuento]],VentasMenudeo[[#This Row],[Producto]]=$A$4,VentasMenudeo[[#This Row],[Precio de Venta]]*VentasMenudeo[[#This Row],[Cantidad]]-VentasMenudeo[[#This Row],[Descuento]],VentasMenudeo[[#This Row],[Producto]]=$A$5,VentasMenudeo[[#This Row],[Precio de Venta]]*VentasMenudeo[[#This Row],[Cantidad]]-VentasMenudeo[[#This Row],[Descuento]]),0)","v":165},165]
["2023-01-27","Hugo","IPLAY MAX","Guava",1,"Liquidacion de $165",null,{"$f":"_xlfn.IFNA(VLOOKUP(VentasMenudeo[[#This Row],[Promoción]],PromocionesMenudeo[[Promocion]:[Descuento]],2,0),0)","v":105},{"$f":"_xlfn.IFNA(VLOOKUP(VentasMenudeo[[#This Row],[Producto]],$A$2:$B$5,2,FALSE),0)","v":270},{"$f":"_xlfn.IFNA(_xlfn.IFS(VentasMenudeo[[#This Row],[Producto]]=$A$2,VentasMenudeo[[#This Row],[Precio de Venta]]*VentasMenudeo[[#This Row],[Cantidad]]-VentasMenudeo[[#This Row],[Descuento]],VentasMenudeo[[#This Row],[Producto]]=$A$3,VentasMenudeo[[#This Row],[Precio de Venta]]*VentasMenudeo[[#This Row],[Cantidad]]-VentasMenudeo[[#This Row],[Descuento]],VentasMenudeo[[#This Row],[Producto]]=$A$4,VentasMenudeo[[#This Row],[Precio de Venta]]*VentasMenudeo[[#This Row],[Cantidad]]-VentasMenudeo[[#This Row],[Descuento]],VentasMenudeo[[#This Row],[Producto]]=$A$5,VentasMenudeo[[#This Row],[Precio de Venta]]*VentasMenudeo[[#This Row],[Cantidad]]-VentasMenudeo[[#This Row],[Descuento]]),0)","v":165},165]
["2023-01-27","Hugo","IPLAY MAX","Guava",1,"Liquidacion de $165",null,{"$f":"_xlfn.IFNA(VLOOKUP(VentasMenudeo[[#This Row],[Promoción]],PromocionesMenudeo[[Promocion]:[Descuento]],2,0),0)","v":105},{"$f":"_xlfn.IFNA(VLOOKUP(VentasMenudeo[[#This Row],[Producto]],$A$2:$B$5,2,FALSE),0)","v":270},{"$f":"_xlfn.IFNA(_xlfn.IFS(VentasMenudeo[[#This Row],[Producto]]=$A$2,VentasMenudeo[[#This Row],[Precio de Venta]]*VentasMenudeo[[#This Row],[Cantidad]]-VentasMenudeo[[#This Row],[Descuento]],VentasMenudeo[[#This Row],[Producto]]=$A$3,VentasMenudeo[[#This Row],[Precio de Venta]]*VentasMenudeo[[#This Row],[Cantidad]]-VentasMenudeo[[#This Row],[Descuento]],VentasMenudeo[[#This Row],[Producto]]=$A$4,VentasMenudeo[[#This Row],[Precio de Venta]]*VentasMenudeo[[#This Row],[Cantidad]]-VentasMenudeo[[#This Row],[Descuento]],VentasMenudeo[[#This Row],[Producto]]=$A$5,VentasMenudeo[[#This Row],[Precio de Venta]]*VentasMenudeo[[#This Row],[Cantidad]]-VentasMenudeo[[#This Row],[Descuento]]),0)","v":165},165]
["2023-01-27","Hugo","IPLAY MAX","Lemon cookies",1,"Liquidacion de $165",null,{"$f":"_xlfn.IFNA(VLOOKUP(VentasMenudeo[[#This Row],[Promoción]],PromocionesMenudeo[[Promocion]:[Descuento]],2,0),0)","v":105},{"$f":"_xlfn.IFNA(VLOOKUP(VentasMenudeo[[#This Row],[Producto]],$A$2:$B$5,2,FALSE),0)","v":270},{"$f":"_xlfn.IFNA(_xlfn.IFS(VentasMenudeo[[#This Row],[Producto]]=$A$2,VentasMenudeo[[#This Row],[Precio de Venta]]*VentasMenudeo[[#This Row],[Cantidad]]-VentasMenudeo[[#This Row],[Descuento]],VentasMenudeo[[#This Row],[Producto]]=$A$3,VentasMenudeo[[#This Row],[Precio de Venta]]*VentasMenudeo[[#This Row],[Cantidad]]-VentasMenudeo[[#This Row],[Descuento]],VentasMenudeo[[#This Row],[Producto]]=$A$4,VentasMenudeo[[#This Row],[Precio de Venta]]*VentasMenudeo[[#This Row],[Cantidad]]-VentasMenudeo[[#This Row],[Descuento]],VentasMenudeo[[#This Row],[Producto]]=$A$5,VentasMenudeo[[#This Row],[Precio de Venta]]*VentasMenudeo[[#This Row],[Cantidad]]-VentasMenudeo[[#This Row],[Descuento]]),0)","v":165},165]
["2023-01-27","Hugo","IPLAY MAX","Sour Apple",1,"Liquidacion de $165",null,{"$f":"_xlfn.IFNA(VLOOKUP(VentasMenudeo[[#This Row],[Promoción]],PromocionesMenudeo[[Promocion]:[Descuento]],2,0),0)","v":105},{"$f":"_xlfn.IFNA(VLOOKUP(VentasMenudeo[[#This Row],[Producto]],$A$2:$B$5,2,FALSE),0)","v":270},{"$f":"_xlfn.IFNA(_xlfn.IFS(VentasMenudeo[[#This Row],[Producto]]=$A$2,VentasMenudeo[[#This Row],[Precio de Venta]]*VentasMenudeo[[#This Row],[Cantidad]]-VentasMenudeo[[#This Row],[Descuento]],VentasMenudeo[[#This Row],[Producto]]=$A$3,VentasMenudeo[[#This Row],[Precio de Venta]]*VentasMenudeo[[#This Row],[Cantidad]]-VentasMenudeo[[#This Row],[Descuento]],VentasMenudeo[[#This Row],[Producto]]=$A$4,VentasMenudeo[[#This Row],[Precio de Venta]]*VentasMenudeo[[#This Row],[Cantidad]]-VentasMenudeo[[#This Row],[Descuento]],VentasMenudeo[[#This Row],[Producto]]=$A$5,VentasMenudeo[[#This Row],[Precio de Venta]]*VentasMenudeo[[#This Row],[Cantidad]]-VentasMenudeo[[#This Row],[Descuento]]),0)","v":165},165]
["2023-01-27","Hugo","IPLAY MAX","Strawberry Lychee",1,"Liquidacion de $165",null,{"$f":"_xlfn.IFNA(VLOOKUP(VentasMenudeo[[#This Row],[Promoción]],PromocionesMenudeo[[Promocion]:[Descuento]],2,0),0)","v":105},{"$f":"_xlfn.IFNA(VLOOKUP(VentasMenudeo[[#This Row],[Producto]],$A$2:$B$5,2,FALSE),0)","v":270},{"$f":"_xlfn.IFNA(_xlfn.IFS(VentasMenudeo[[#This Row],[Producto]]=$A$2,VentasMenudeo[[#This Row],[Precio de Venta]]*VentasMenudeo[[#This Row],[Cantidad]]-VentasMenudeo[[#This Row],[Descuento]],VentasMenudeo[[#This Row],[Producto]]=$A$3,VentasMenudeo[[#This Row],[Precio de Venta]]*VentasMenudeo[[#This Row],[Cantidad]]-VentasMenudeo[[#This Row],[Descuento]],VentasMenudeo[[#This Row],[Producto]]=$A$4,VentasMenudeo[[#This Row],[Precio de Venta]]*VentasMenudeo[[#This Row],[Cantidad]]-VentasMenudeo[[#This Row],[Descuento]],VentasMenudeo[[#This Row],[Producto]]=$A$5,VentasMenudeo[[#This Row],[Precio de Venta]]*VentasMenudeo[[#This Row],[Cantidad]]-VentasMenudeo[[#This Row],[Descuento]]),0)","v":165},165]
["2023-01-30","Hugo","IPLAY MAX","Guava",1,"Liquidacion de $165",null,{"$f":"_xlfn.IFNA(VLOOKUP(VentasMenudeo[[#This Row],[Promoción]],PromocionesMenudeo[[Promocion]:[Descuento]],2,0),0)","v":105},{"$f":"_xlfn.IFNA(VLOOKUP(VentasMenudeo[[#This Row],[Producto]],$A$2:$B$5,2,FALSE),0)","v":270},{"$f":"_xlfn.IFNA(_xlfn.IFS(VentasMenudeo[[#This Row],[Producto]]=$A$2,VentasMenudeo[[#This Row],[Precio de Venta]]*VentasMenudeo[[#This Row],[Cantidad]]-VentasMenudeo[[#This Row],[Descuento]],VentasMenudeo[[#This Row],[Producto]]=$A$3,VentasMenudeo[[#This Row],[Precio de Venta]]*VentasMenudeo[[#This Row],[Cantidad]]-VentasMenudeo[[#This Row],[Descuento]],VentasMenudeo[[#This Row],[Producto]]=$A$4,VentasMenudeo[[#This Row],[Precio de Venta]]*VentasMenudeo[[#This Row],[Cantidad]]-VentasMenudeo[[#This Row],[Descuento]],VentasMenudeo[[#This Row],[Producto]]=$A$5,VentasMenudeo[[#This Row],[Precio de Venta]]*VentasMenudeo[[#This Row],[Cantidad]]-VentasMenudeo[[#This Row],[Descuento]]),0)","v":165},165]
["2023-02-01","Hugo","IPLAY MAX","Berry Watermelon",1,"Liquidacion de $165",null,{"$f":"_xlfn.IFNA(VLOOKUP(VentasMenudeo[[#This Row],[Promoción]],PromocionesMenudeo[[Promocion]:[Descuento]],2,0),0)","v":105},{"$f":"_xlfn.IFNA(VLOOKUP(VentasMenudeo[[#This Row],[Producto]],$A$2:$B$5,2,FALSE),0)","v":270},{"$f":"_xlfn.IFNA(_xlfn.IFS(VentasMenudeo[[#This Row],[Producto]]=$A$2,VentasMenudeo[[#This Row],[Precio de Venta]]*VentasMenudeo[[#This Row],[Cantidad]]-VentasMenudeo[[#This Row],[Descuento]],VentasMenudeo[[#This Row],[Producto]]=$A$3,VentasMenudeo[[#This Row],[Precio de Venta]]*VentasMenudeo[[#This Row],[Cantidad]]-VentasMenudeo[[#This Row],[Descuento]],VentasMenudeo[[#This Row],[Producto]]=$A$4,VentasMenudeo[[#This Row],[Precio de Venta]]*VentasMenudeo[[#This Row],[Cantidad]]-VentasMenudeo[[#This Row],[Descuento]],VentasMenudeo[[#This Row],[Producto]]=$A$5,VentasMenudeo[[#This Row],[Precio de Venta]]*VentasMenudeo[[#This Row],[Cantidad]]-VentasMenudeo[[#This Row],[Descuento]]),0)","v":165},165]
["2023-02-01","Hugo","IPLAY MAX","Coconut",1,"Liquidacion de $165",null,{"$f":"_xlfn.IFNA(VLOOKUP(VentasMenudeo[[#This Row],[Promoción]],PromocionesMenudeo[[Promocion]:[Descuento]],2,0),0)","v":105},{"$f":"_xlfn.IFNA(VLOOKUP(VentasMenudeo[[#This Row],[Producto]],$A$2:$B$5,2,FALSE),0)","v":270},{"$f":"_xlfn.IFNA(_xlfn.IFS(VentasMenudeo[[#This Row],[Producto]]=$A$2,VentasMenudeo[[#This Row],[Precio de Venta]]*VentasMenudeo[[#This Row],[Cantidad]]-VentasMenudeo[[#This Row],[Descuento]],VentasMenudeo[[#This Row],[Producto]]=$A$3,VentasMenudeo[[#This Row],[Precio de Venta]]*VentasMenudeo[[#This Row],[Cantidad]]-VentasMenudeo[[#This Row],[Descuento]],VentasMenudeo[[#This Row],[Producto]]=$A$4,VentasMenudeo[[#This Row],[Precio de Venta]]*VentasMenudeo[[#This Row],[Cantidad]]-VentasMenudeo[[#This Row],[Descuento]],VentasMenudeo[[#This Row],[Producto]]=$A$5,VentasMenudeo[[#This Row],[Precio de Venta]]*VentasMenudeo[[#This Row],[Cantidad]]-VentasMenudeo[[#This Row],[Descuento]]),0)","v":165},165]
["2023-02-18","Hugo","IPLAY MAX","Berry Watermelon",1,"Liquidacion de $165",null,{"$f":"_xlfn.IFNA(VLOOKUP(VentasMenudeo[[#This Row],[Promoción]],PromocionesMenudeo[[Promocion]:[Descuento]],2,0),0)","v":105},{"$f":"_xlfn.IFNA(VLOOKUP(VentasMenudeo[[#This Row],[Producto]],$A$2:$B$5,2,FALSE),0)","v":270},{"$f":"_xlfn.IFNA(_xlfn.IFS(VentasMenudeo[[#This Row],[Producto]]=$A$2,VentasMenudeo[[#This Row],[Precio de Venta]]*VentasMenudeo[[#This Row],[Cantidad]]-VentasMenudeo[[#This Row],[Descuento]],VentasMenudeo[[#This Row],[Producto]]=$A$3,VentasMenudeo[[#This Row],[Precio de Venta]]*VentasMenudeo[[#This Row],[Cantidad]]-VentasMenudeo[[#This Row],[Descuento]],VentasMenudeo[[#This Row],[Producto]]=$A$4,VentasMenudeo[[#This Row],[Precio de Venta]]*VentasMenudeo[[#This Row],[Cantidad]]-VentasMenudeo[[#This Row],[Descuento]],VentasMenudeo[[#This Row],[Producto]]=$A$5,VentasMenudeo[[#This Row],[Precio de Venta]]*VentasMenudeo[[#This Row],[Cantidad]]-VentasMenudeo[[#This Row],[Descuento]]),0)","v":165},165]
["2023-02-18","Hugo","IPLAY MAX","Berry Watermelon",1,"Liquidacion de $165",null,{"$f":"_xlfn.IFNA(VLOOKUP(VentasMenudeo[[#This Row],[Promoción]],PromocionesMenudeo[[Promocion]:[Descuento]],2,0),0)","v":105},{"$f":"_xlfn.IFNA(VLOOKUP(VentasMenudeo[[#This Row],[Producto]],$A$2:$B$5,2,FALSE),0)","v":270},{"$f":"_xlfn.IFNA(_xlfn.IFS(VentasMenudeo[[#This Row],[Producto]]=$A$2,VentasMenudeo[[#This Row],[Precio de Venta]]*VentasMenudeo[[#This Row],[Cantidad]]-VentasMenudeo[[#This Row],[Descuento]],VentasMenudeo[[#This Row],[Producto]]=$A$3,VentasMenudeo[[#This Row],[Precio de Venta]]*VentasMenudeo[[#This Row],[Cantidad]]-VentasMenudeo[[#This Row],[Descuento]],VentasMenudeo[[#This Row],[Producto]]=$A$4,VentasMenudeo[[#This Row],[Precio de Venta]]*VentasMenudeo[[#This Row],[Cantidad]]-VentasMenudeo[[#This Row],[Descuento]],VentasMenudeo[[#This Row],[Producto]]=$A$5,VentasMenudeo[[#This Row],[Precio de Venta]]*VentasMenudeo[[#This Row],[Cantidad]]-VentasMenudeo[[#This Row],[Descuento]]),0)","v":165},165]
["2023-02-18","Hugo","IPLAY MAX","Coconut",1,"Liquidacion de $165",null,{"$f":"_xlfn.IFNA(VLOOKUP(VentasMenudeo[[#This Row],[Promoción]],PromocionesMenudeo[[Promocion]:[Descuento]],2,0),0)","v":105},{"$f":"_xlfn.IFNA(VLOOKUP(VentasMenudeo[[#This Row],[Producto]],$A$2:$B$5,2,FALSE),0)","v":270},{"$f":"_xlfn.IFNA(_xlfn.IFS(VentasMenudeo[[#This Row],[Producto]]=$A$2,VentasMenudeo[[#This Row],[Precio de Venta]]*VentasMenudeo[[#This Row],[Cantidad]]-VentasMenudeo[[#This Row],[Descuento]],VentasMenudeo[[#This Row],[Producto]]=$A$3,VentasMenudeo[[#This Row],[Precio de Venta]]*VentasMenudeo[[#This Row],[Cantidad]]-VentasMenudeo[[#This Row],[Descuento]],VentasMenudeo[[#This Row],[Producto]]=$A$4,VentasMenudeo[[#This Row],[Precio de Venta]]*VentasMenudeo[[#This Row],[Cantidad]]-VentasMenudeo[[#This Row],[Descuento]],VentasMenudeo[[#This Row],[Producto]]=$A$5,VentasMenudeo[[#This Row],[Precio de Venta]]*VentasMenudeo[[#This Row],[Cantidad]]-VentasMenudeo[[#This Row],[Descuento]]),0)","v":165},165]
["2023-02-18","Hugo","IPLAY MAX","Coconut",1,"Liquidacion de $165",null,{"$f":"_xlfn.IFNA(VLOOKUP(VentasMenudeo[[#This Row],[Promoción]],PromocionesMenudeo[[Promocion]:[Descuento]],2,0),0)","v":105},{"$f":"_xlfn.IFNA(VLOOKUP(VentasMenudeo[[#This Row],[Producto]],$A$2:$B$5,2,FALSE),0)","v":270},{"$f":"_xlfn.IFNA(_xlfn.IFS(VentasMenudeo[[#This Row],[Producto]]=$A$2,VentasMenudeo[[#This Row],[Precio de Venta]]*VentasMenudeo[[#This Row],[Cantidad]]-VentasMenudeo[[#This Row],[Descuento]],VentasMenudeo[[#This Row],[Producto]]=$A$3,VentasMenudeo[[#This Row],[Precio de Venta]]*VentasMenudeo[[#This Row],[Cantidad]]-VentasMenudeo[[#This Row],[Descuento]],VentasMenudeo[[#This Row],[Producto]]=$A$4,VentasMenudeo[[#This Row],[Precio de Venta]]*VentasMenudeo[[#This Row],[Cantidad]]-VentasMenudeo[[#This Row],[Descuento]],VentasMenudeo[[#This Row],[Producto]]=$A$5,VentasMenudeo[[#This Row],[Precio de Venta]]*VentasMenudeo[[#This Row],[Cantidad]]-VentasMenudeo[[#This Row],[Descuento]]),0)","v":165},165]
["2023-02-18","Hugo","IPLAY MAX","Cocumber Lemonade",1,"Liquidacion de $165",null,{"$f":"_xlfn.IFNA(VLOOKUP(VentasMenudeo[[#This Row],[Promoción]],PromocionesMenudeo[[Promocion]:[Descuento]],2,0),0)","v":105},{"$f":"_xlfn.IFNA(VLOOKUP(VentasMenudeo[[#This Row],[Producto]],$A$2:$B$5,2,FALSE),0)","v":270},{"$f":"_xlfn.IFNA(_xlfn.IFS(VentasMenudeo[[#This Row],[Producto]]=$A$2,VentasMenudeo[[#This Row],[Precio de Venta]]*VentasMenudeo[[#This Row],[Cantidad]]-VentasMenudeo[[#This Row],[Descuento]],VentasMenudeo[[#This Row],[Producto]]=$A$3,VentasMenudeo[[#This Row],[Precio de Venta]]*VentasMenudeo[[#This Row],[Cantidad]]-VentasMenudeo[[#This Row],[Descuento]],VentasMenudeo[[#This Row],[Producto]]=$A$4,VentasMenudeo[[#This Row],[Precio de Venta]]*VentasMenudeo[[#This Row],[Cantidad]]-VentasMenudeo[[#This Row],[Descuento]],VentasMenudeo[[#This Row],[Producto]]=$A$5,VentasMenudeo[[#This Row],[Precio de Venta]]*VentasMenudeo[[#This Row],[Cantidad]]-VentasMenudeo[[#This Row],[Descuento]]),0)","v":165},165]
["2023-02-18","Hugo","IPLAY MAX","GrapeFruit berry",1,"Liquidacion de $165",null,{"$f":"_xlfn.IFNA(VLOOKUP(VentasMenudeo[[#This Row],[Promoción]],PromocionesMenudeo[[Promocion]:[Descuento]],2,0),0)","v":105},{"$f":"_xlfn.IFNA(VLOOKUP(VentasMenudeo[[#This Row],[Producto]],$A$2:$B$5,2,FALSE),0)","v":270},{"$f":"_xlfn.IFNA(_xlfn.IFS(VentasMenudeo[[#This Row],[Producto]]=$A$2,VentasMenudeo[[#This Row],[Precio de Venta]]*VentasMenudeo[[#This Row],[Cantidad]]-VentasMenudeo[[#This Row],[Descuento]],VentasMenudeo[[#This Row],[Producto]]=$A$3,VentasMenudeo[[#This Row],[Precio de Venta]]*VentasMenudeo[[#This Row],[Cantidad]]-VentasMenudeo[[#This Row],[Descuento]],VentasMenudeo[[#This Row],[Producto]]=$A$4,VentasMenudeo[[#This Row],[Precio de Venta]]*VentasMenudeo[[#This Row],[Cantidad]]-VentasMenudeo[[#This Row],[Descuento]],VentasMenudeo[[#This Row],[Producto]]=$A$5,VentasMenudeo[[#This Row],[Precio de Venta]]*VentasMenudeo[[#This Row],[Cantidad]]-VentasMenudeo[[#This Row],[Descuento]]),0)","v":165},165]
["2023-02-18","Hugo","IPLAY MAX","Guava",1,"Liquidacion de $165",null,{"$f":"_xlfn.IFNA(VLOOKUP(VentasMenudeo[[#This Row],[Promoción]],PromocionesMenudeo[[Promocion]:[Descuento]],2,0),0)","v":105},{"$f":"_xlfn.IFNA(VLOOKUP(VentasMenudeo[[#This Row],[Producto]],$A$2:$B$5,2,FALSE),0)","v":270},{"$f":"_xlfn.IFNA(_xlfn.IFS(VentasMenudeo[[#This Row],[Producto]]=$A$2,VentasMenudeo[[#This Row],[Precio de Venta]]*VentasMenudeo[[#This Row],[Cantidad]]-VentasMenudeo[[#This Row],[Descuento]],VentasMenudeo[[#This Row],[Producto]]=$A$3,VentasMenudeo[[#This Row],[Precio de Venta]]*VentasMenudeo[[#This Row],[Cantidad]]-VentasMenudeo[[#This Row],[Descuento]],VentasMenudeo[[#This Row],[Producto]]=$A$4,VentasMenudeo[[#This Row],[Precio de Venta]]*VentasMenudeo[[#This Row],[Cantidad]]-VentasMenudeo[[#This Row],[Descuento]],VentasMenudeo[[#This Row],[Producto]]=$A$5,VentasMenudeo[[#This Row],[Precio de Venta]]*VentasMenudeo[[#This Row],[Cantidad]]-VentasMenudeo[[#This Row],[Descuento]]),0)","v":165},165]
["2023-02-18","Hugo","IPLAY MAX","Lemon cookies",1,"Liquidacion de $165",null,{"$f":"_xlfn.IFNA(VLOOKUP(VentasMenudeo[[#This Row],[Promoción]],PromocionesMenudeo[[Promocion]:[Descuento]],2,0),0)","v":105},{"$f":"_xlfn.IFNA(VLOOKUP(VentasMenudeo[[#This Row],[Producto]],$A$2:$B$5,2,FALSE),0)","v":270},{"$f":"_xlfn.IFNA(_xlfn.IFS(VentasMenudeo[[#This Row],[Producto]]=$A$2,VentasMenudeo[[#This Row],[Precio de Venta]]*VentasMenudeo[[#This Row],[Cantidad]]-VentasMenudeo[[#This Row],[Descuento]],VentasMenudeo[[#This Row],[Producto]]=$A$3,VentasMenudeo[[#This Row],[Precio de Venta]]*VentasMenudeo[[#This Row],[Cantidad]]-VentasMenudeo[[#This Row],[Descuento]],VentasMenudeo[[#This Row],[Producto]]=$A$4,VentasMenudeo[[#This Row],[Precio de Venta]]*VentasMenudeo[[#This Row],[Cantidad]]-VentasMenudeo[[#This Row],[Descuento]],VentasMenudeo[[#This Row],[Producto]]=$A$5,VentasMenudeo[[#This Row],[Precio de Venta]]*VentasMenudeo[[#This Row],[Cantidad]]-VentasMenudeo[[#This Row],[Descuento]]),0)","v":165},165]
["2023-02-18","Hugo","IPLAY MAX","Strawberry Lychee",1,"Liquidacion de $165",null,{"$f":"_xlfn.IFNA(VLOOKUP(VentasMenudeo[[#This Row],[Promoción]],PromocionesMenudeo[[Promocion]:[Descuento]],2,0),0)","v":105},{"$f":"_xlfn.IFNA(VLOOKUP(VentasMenudeo[[#This Row],[Producto]],$A$2:$B$5,2,FALSE),0)","v":270},{"$f":"_xlfn.IFNA(_xlfn.IFS(VentasMenudeo[[#This Row],[Producto]]=$A$2,VentasMenudeo[[#This Row],[Precio de Venta]]*VentasMenudeo[[#This Row],[Cantidad]]-VentasMenudeo[[#This Row],[Descuento]],VentasMenudeo[[#This Row],[Producto]]=$A$3,VentasMenudeo[[#This Row],[Precio de Venta]]*VentasMenudeo[[#This Row],[Cantidad]]-VentasMenudeo[[#This Row],[Descuento]],VentasMenudeo[[#This Row],[Producto]]=$A$4,VentasMenudeo[[#This Row],[Precio de Venta]]*VentasMenudeo[[#This Row],[Cantidad]]-VentasMenudeo[[#This Row],[Descuento]],VentasMenudeo[[#This Row],[Producto]]=$A$5,VentasMenudeo[[#This Row],[Precio de Venta]]*VentasMenudeo[[#This Row],[Cantidad]]-VentasMenudeo[[#This Row],[Descuento]]),0)","v":165},165]
["2023-02-18","Hugo","IPLAY MAX","Strawberry Lychee",1,"Liquidacion de $165",null,{"$f":"_xlfn.IFNA(VLOOKUP(VentasMenudeo[[#This Row],[Promoción]],PromocionesMenudeo[[Promocion]:[Descuento]],2,0),0)","v":105},{"$f":"_xlfn.IFNA(VLOOKUP(VentasMenudeo[[#This Row],[Producto]],$A$2:$B$5,2,FALSE),0)","v":270},{"$f":"_xlfn.IFNA(_xlfn.IFS(VentasMenudeo[[#This Row],[Producto]]=$A$2,VentasMenudeo[[#This Row],[Precio de Venta]]*VentasMenudeo[[#This Row],[Cantidad]]-VentasMenudeo[[#This Row],[Descuento]],VentasMenudeo[[#This Row],[Producto]]=$A$3,VentasMenudeo[[#This Row],[Precio de Venta]]*VentasMenudeo[[#This Row],[Cantidad]]-VentasMenudeo[[#This Row],[Descuento]],VentasMenudeo[[#This Row],[Producto]]=$A$4,VentasMenudeo[[#This Row],[Precio de Venta]]*VentasMenudeo[[#This Row],[Cantidad]]-VentasMenudeo[[#This Row],[Descuento]],VentasMenudeo[[#This Row],[Producto]]=$A$5,VentasMenudeo[[#This Row],[Precio de Venta]]*VentasMenudeo[[#This Row],[Cantidad]]-VentasMenudeo[[#This Row],[Descuento]]),0)","v":165},165]
["2023-02-18","Hugo","IPLAY MAX","Strawberry Lychee",1,"Liquidacion de $165",null,{"$f":"_xlfn.IFNA(VLOOKUP(VentasMenudeo[[#This Row],[Promoción]],PromocionesMenudeo[[Promocion]:[Descuento]],2,0),0)","v":105},{"$f":"_xlfn.IFNA(VLOOKUP(VentasMenudeo[[#This Row],[Producto]],$A$2:$B$5,2,FALSE),0)","v":270},{"$f":"_xlfn.IFNA(_xlfn.IFS(VentasMenudeo[[#This Row],[Producto]]=$A$2,VentasMenudeo[[#This Row],[Precio de Venta]]*VentasMenudeo[[#This Row],[Cantidad]]-VentasMenudeo[[#This Row],[Descuento]],VentasMenudeo[[#This Row],[Producto]]=$A$3,VentasMenudeo[[#This Row],[Precio de Venta]]*VentasMenudeo[[#This Row],[Cantidad]]-VentasMenudeo[[#This Row],[Descuento]],VentasMenudeo[[#This Row],[Producto]]=$A$4,VentasMenudeo[[#This Row],[Precio de Venta]]*VentasMenudeo[[#This Row],[Cantidad]]-VentasMenudeo[[#This Row],[Descuento]],VentasMenudeo[[#This Row],[Producto]]=$A$5,VentasMenudeo[[#This Row],[Precio de Venta]]*VentasMenudeo[[#This Row],[Cantidad]]-VentasMenudeo[[#This Row],[Descuento]]),0)","v":165},165]
["2023-02-22","Hugo","IPLAY MAX","GrapeFruit berry",1,"Liquidacion de $165",null,{"$f":"_xlfn.IFNA(VLOOKUP(VentasMenudeo[[#This Row],[Promoción]],PromocionesMenudeo[[Promocion]:[Descuento]],2,0),0)","v":105},{"$f":"_xlfn.IFNA(VLOOKUP(VentasMenudeo[[#This Row],[Producto]],$A$2:$B$5,2,FALSE),0)","v":270},{"$f":"_xlfn.IFNA(_xlfn.IFS(VentasMenudeo[[#This Row],[Producto]]=$A$2,VentasMenudeo[[#This Row],[Precio de Venta]]*VentasMenudeo[[#This Row],[Cantidad]]-VentasMenudeo[[#This Row],[Descuento]],VentasMenudeo[[#This Row],[Producto]]=$A$3,VentasMenudeo[[#This Row],[Precio de Venta]]*VentasMenudeo[[#This Row],[Cantidad]]-VentasMenudeo[[#This Row],[Descuento]],VentasMenudeo[[#This Row],[Producto]]=$A$4,VentasMenudeo[[#This Row],[Precio de Venta]]*VentasMenudeo[[#This Row],[Cantidad]]-VentasMenudeo[[#This Row],[Descuento]],VentasMenudeo[[#This Row],[Producto]]=$A$5,VentasMenudeo[[#This Row],[Precio de Venta]]*VentasMenudeo[[#This Row],[Cantidad]]-VentasMenudeo[[#This Row],[Descuento]]),0)","v":165},165]
["2023-02-22","Hugo","IPLAY MAX","Berry Watermelon",1,"Liquidacion de $165",null,{"$f":"_xlfn.IFNA(VLOOKUP(VentasMenudeo[[#This Row],[Promoción]],PromocionesMenudeo[[Promocion]:[Descuento]],2,0),0)","v":105},{"$f":"_xlfn.IFNA(VLOOKUP(VentasMenudeo[[#This Row],[Producto]],$A$2:$B$5,2,FALSE),0)","v":270},{"$f":"_xlfn.IFNA(_xlfn.IFS(VentasMenudeo[[#This Row],[Producto]]=$A$2,VentasMenudeo[[#This Row],[Precio de Venta]]*VentasMenudeo[[#This Row],[Cantidad]]-VentasMenudeo[[#This Row],[Descuento]],VentasMenudeo[[#This Row],[Producto]]=$A$3,VentasMenudeo[[#This Row],[Precio de Venta]]*VentasMenudeo[[#This Row],[Cantidad]]-VentasMenudeo[[#This Row],[Descuento]],VentasMenudeo[[#This Row],[Producto]]=$A$4,VentasMenudeo[[#This Row],[Precio de Venta]]*VentasMenudeo[[#This Row],[Cantidad]]-VentasMenudeo[[#This Row],[Descuento]],VentasMenudeo[[#This Row],[Producto]]=$A$5,VentasMenudeo[[#This Row],[Precio de Venta]]*VentasMenudeo[[#This Row],[Cantidad]]-VentasMenudeo[[#This Row],[Descuento]]),0)","v":165},165]
["2023-02-22","Hugo","IPLAY MAX","Coconut",1,"Liquidacion de $165",null,{"$f":"_xlfn.IFNA(VLOOKUP(VentasMenudeo[[#This Row],[Promoción]],PromocionesMenudeo[[Promocion]:[Descuento]],2,0),0)","v":105},{"$f":"_xlfn.IFNA(VLOOKUP(VentasMenudeo[[#This Row],[Producto]],$A$2:$B$5,2,FALSE),0)","v":270},{"$f":"_xlfn.IFNA(_xlfn.IFS(VentasMenudeo[[#This Row],[Producto]]=$A$2,VentasMenudeo[[#This Row],[Precio de Venta]]*VentasMenudeo[[#This Row],[Cantidad]]-VentasMenudeo[[#This Row],[Descuento]],VentasMenudeo[[#This Row],[Producto]]=$A$3,VentasMenudeo[[#This Row],[Precio de Venta]]*VentasMenudeo[[#This Row],[Cantidad]]-VentasMenudeo[[#This Row],[Descuento]],VentasMenudeo[[#This Row],[Producto]]=$A$4,VentasMenudeo[[#This Row],[Precio de Venta]]*VentasMenudeo[[#This Row],[Cantidad]]-VentasMenudeo[[#This Row],[Descuento]],VentasMenudeo[[#This Row],[Producto]]=$A$5,VentasMenudeo[[#This Row],[Precio de Venta]]*VentasMenudeo[[#This Row],[Cantidad]]-VentasMenudeo[[#This Row],[Descuento]]),0)","v":165},165]
["2023-02-24","Hugo","IPLAY MAX","GrapeFruit berry",1,"Liquidacion de $165",null,{"$f":"_xlfn.IFNA(VLOOKUP(VentasMenudeo[[#This Row],[Promoción]],PromocionesMenudeo[[Promocion]:[Descuento]],2,0),0)","v":105},{"$f":"_xlfn.IFNA(VLOOKUP(VentasMenudeo[[#This Row],[Producto]],$A$2:$B$5,2,FALSE),0)","v":270},{"$f":"_xlfn.IFNA(_xlfn.IFS(VentasMenudeo[[#This Row],[Producto]]=$A$2,VentasMenudeo[[#This Row],[Precio de Venta]]*VentasMenudeo[[#This Row],[Cantidad]]-VentasMenudeo[[#This Row],[Descuento]],VentasMenudeo[[#This Row],[Producto]]=$A$3,VentasMenudeo[[#This Row],[Precio de Venta]]*VentasMenudeo[[#This Row],[Cantidad]]-VentasMenudeo[[#This Row],[Descuento]],VentasMenudeo[[#This Row],[Producto]]=$A$4,VentasMenudeo[[#This Row],[Precio de Venta]]*VentasMenudeo[[#This Row],[Cantidad]]-VentasMenudeo[[#This Row],[Descuento]],VentasMenudeo[[#This Row],[Producto]]=$A$5,VentasMenudeo[[#This Row],[Precio de Venta]]*VentasMenudeo[[#This Row],[Cantidad]]-VentasMenudeo[[#This Row],[Descuento]]),0)","v":165},165]
["2023-02-24","Hugo","IPLAY MAX","Strawberry Lychee",1,"Liquidacion de $165",null,{"$f":"_xlfn.IFNA(VLOOKUP(VentasMenudeo[[#This Row],[Promoción]],PromocionesMenudeo[[Promocion]:[Descuento]],2,0),0)","v":105},{"$f":"_xlfn.IFNA(VLOOKUP(VentasMenudeo[[#This Row],[Producto]],$A$2:$B$5,2,FALSE),0)","v":270},{"$f":"_xlfn.IFNA(_xlfn.IFS(VentasMenudeo[[#This Row],[Producto]]=$A$2,VentasMenudeo[[#This Row],[Precio de Venta]]*VentasMenudeo[[#This Row],[Cantidad]]-VentasMenudeo[[#This Row],[Descuento]],VentasMenudeo[[#This Row],[Producto]]=$A$3,VentasMenudeo[[#This Row],[Precio de Venta]]*VentasMenudeo[[#This Row],[Cantidad]]-VentasMenudeo[[#This Row],[Descuento]],VentasMenudeo[[#This Row],[Producto]]=$A$4,VentasMenudeo[[#This Row],[Precio de Venta]]*VentasMenudeo[[#This Row],[Cantidad]]-VentasMenudeo[[#This Row],[Descuento]],VentasMenudeo[[#This Row],[Producto]]=$A$5,VentasMenudeo[[#This Row],[Precio de Venta]]*VentasMenudeo[[#This Row],[Cantidad]]-VentasMenudeo[[#This Row],[Descuento]]),0)","v":165},165]
["2023-02-28","Hugo","IPLAY MAX","Sour Apple",1,"Liquidacion de $165",null,{"$f":"_xlfn.IFNA(VLOOKUP(VentasMenudeo[[#This Row],[Promoción]],PromocionesMenudeo[[Promocion]:[Descuento]],2,0),0)","v":105},{"$f":"_xlfn.IFNA(VLOOKUP(VentasMenudeo[[#This Row],[Producto]],$A$2:$B$5,2,FALSE),0)","v":270},{"$f":"_xlfn.IFNA(_xlfn.IFS(VentasMenudeo[[#This Row],[Producto]]=$A$2,VentasMenudeo[[#This Row],[Precio de Venta]]*VentasMenudeo[[#This Row],[Cantidad]]-VentasMenudeo[[#This Row],[Descuento]],VentasMenudeo[[#This Row],[Producto]]=$A$3,VentasMenudeo[[#This Row],[Precio de Venta]]*VentasMenudeo[[#This Row],[Cantidad]]-VentasMenudeo[[#This Row],[Descuento]],VentasMenudeo[[#This Row],[Producto]]=$A$4,VentasMenudeo[[#This Row],[Precio de Venta]]*VentasMenudeo[[#This Row],[Cantidad]]-VentasMenudeo[[#This Row],[Descuento]],VentasMenudeo[[#This Row],[Producto]]=$A$5,VentasMenudeo[[#This Row],[Precio de Venta]]*VentasMenudeo[[#This Row],[Cantidad]]-VentasMenudeo[[#This Row],[Descuento]]),0)","v":165},165]
["2023-02-28","Hugo","IPLAY MAX","Sour Apple",1,"Liquidacion de $165",null,{"$f":"_xlfn.IFNA(VLOOKUP(VentasMenudeo[[#This Row],[Promoción]],PromocionesMenudeo[[Promocion]:[Descuento]],2,0),0)","v":105},{"$f":"_xlfn.IFNA(VLOOKUP(VentasMenudeo[[#This Row],[Producto]],$A$2:$B$5,2,FALSE),0)","v":270},{"$f":"_xlfn.IFNA(_xlfn.IFS(VentasMenudeo[[#This Row],[Producto]]=$A$2,VentasMenudeo[[#This Row],[Precio de Venta]]*VentasMenudeo[[#This Row],[Cantidad]]-VentasMenudeo[[#This Row],[Descuento]],VentasMenudeo[[#This Row],[Producto]]=$A$3,VentasMenudeo[[#This Row],[Precio de Venta]]*VentasMenudeo[[#This Row],[Cantidad]]-VentasMenudeo[[#This Row],[Descuento]],VentasMenudeo[[#This Row],[Producto]]=$A$4,VentasMenudeo[[#This Row],[Precio de Venta]]*VentasMenudeo[[#This Row],[Cantidad]]-VentasMenudeo[[#This Row],[Descuento]],VentasMenudeo[[#This Row],[Producto]]=$A$5,VentasMenudeo[[#This Row],[Precio de Venta]]*VentasMenudeo[[#This Row],[Cantidad]]-VentasMenudeo[[#This Row],[Descuento]]),0)","v":165},165]
["2023-03-01","Hugo","IPLAY MAX","Cool mint",1,"Navidad",null,{"$f":"_xlfn.IFNA(VLOOKUP(VentasMenudeo[[#This Row],[Promoción]],PromocionesMenudeo[[Promocion]:[Descuento]],2,0),0)","v":80},{"$f":"_xlfn.IFNA(VLOOKUP(VentasMenudeo[[#This Row],[Producto]],$A$2:$B$5,2,FALSE),0)","v":270},{"$f":"_xlfn.IFNA(_xlfn.IFS(VentasMenudeo[[#This Row],[Producto]]=$A$2,VentasMenudeo[[#This Row],[Precio de Venta]]*VentasMenudeo[[#This Row],[Cantidad]]-VentasMenudeo[[#This Row],[Descuento]],VentasMenudeo[[#This Row],[Producto]]=$A$3,VentasMenudeo[[#This Row],[Precio de Venta]]*VentasMenudeo[[#This Row],[Cantidad]]-VentasMenudeo[[#This Row],[Descuento]],VentasMenudeo[[#This Row],[Producto]]=$A$4,VentasMenudeo[[#This Row],[Precio de Venta]]*VentasMenudeo[[#This Row],[Cantidad]]-VentasMenudeo[[#This Row],[Descuento]],VentasMenudeo[[#This Row],[Producto]]=$A$5,VentasMenudeo[[#This Row],[Precio de Venta]]*VentasMenudeo[[#This Row],[Cantidad]]-VentasMenudeo[[#This Row],[Descuento]]),0)","v":190},190]
["2023-03-01","Hugo","IPLAY MAX","Bluerazz",1,"Navidad",null,{"$f":"_xlfn.IFNA(VLOOKUP(VentasMenudeo[[#This Row],[Promoción]],PromocionesMenudeo[[Promocion]:[Descuento]],2,0),0)","v":80},{"$f":"_xlfn.IFNA(VLOOKUP(VentasMenudeo[[#This Row],[Producto]],$A$2:$B$5,2,FALSE),0)","v":270},{"$f":"_xlfn.IFNA(_xlfn.IFS(VentasMenudeo[[#This Row],[Producto]]=$A$2,VentasMenudeo[[#This Row],[Precio de Venta]]*VentasMenudeo[[#This Row],[Cantidad]]-VentasMenudeo[[#This Row],[Descuento]],VentasMenudeo[[#This Row],[Producto]]=$A$3,VentasMenudeo[[#This Row],[Precio de Venta]]*VentasMenudeo[[#This Row],[Cantidad]]-VentasMenudeo[[#This Row],[Descuento]],VentasMenudeo[[#This Row],[Producto]]=$A$4,VentasMenudeo[[#This Row],[Precio de Venta]]*VentasMenudeo[[#This Row],[Cantidad]]-VentasMenudeo[[#This Row],[Descuento]],VentasMenudeo[[#This Row],[Producto]]=$A$5,VentasMenudeo[[#This Row],[Precio de Venta]]*VentasMenudeo[[#This Row],[Cantidad]]-VentasMenudeo[[#This Row],[Descuento]]),0)","v":190},190]
["2023-03-01","Hugo","IPLAY MAX","Kiwi Guava Passion Fruit",1,"Navidad",null,{"$f":"_xlfn.IFNA(VLOOKUP(VentasMenudeo[[#This Row],[Promoción]],PromocionesMenudeo[[Promocion]:[Descuento]],2,0),0)","v":80},{"$f":"_xlfn.IFNA(VLOOKUP(VentasMenudeo[[#This Row],[Producto]],$A$2:$B$5,2,FALSE),0)","v":270},{"$f":"_xlfn.IFNA(_xlfn.IFS(VentasMenudeo[[#This Row],[Producto]]=$A$2,VentasMenudeo[[#This Row],[Precio de Venta]]*VentasMenudeo[[#This Row],[Cantidad]]-VentasMenudeo[[#This Row],[Descuento]],VentasMenudeo[[#This Row],[Producto]]=$A$3,VentasMenudeo[[#This Row],[Precio de Venta]]*VentasMenudeo[[#This Row],[Cantidad]]-VentasMenudeo[[#This Row],[Descuento]],VentasMenudeo[[#This Row],[Producto]]=$A$4,VentasMenudeo[[#This Row],[Precio de Venta]]*VentasMenudeo[[#This Row],[Cantidad]]-VentasMenudeo[[#This Row],[Descuento]],VentasMenudeo[[#This Row],[Producto]]=$A$5,VentasMenudeo[[#This Row],[Precio de Venta]]*VentasMenudeo[[#This Row],[Cantidad]]-VentasMenudeo[[#This Row],[Descuento]]),0)","v":190},190]
["2023-03-01","Hugo","IPLAY MAX","Blueberry Rainbow",1,"Navidad",null,{"$f":"_xlfn.IFNA(VLOOKUP(VentasMenudeo[[#This Row],[Promoción]],PromocionesMenudeo[[Promocion]:[Descuento]],2,0),0)","v":80},{"$f":"_xlfn.IFNA(VLOOKUP(VentasMenudeo[[#This Row],[Producto]],$A$2:$B$5,2,FALSE),0)","v":270},{"$f":"_xlfn.IFNA(_xlfn.IFS(VentasMenudeo[[#This Row],[Producto]]=$A$2,VentasMenudeo[[#This Row],[Precio de Venta]]*VentasMenudeo[[#This Row],[Cantidad]]-VentasMenudeo[[#This Row],[Descuento]],VentasMenudeo[[#This Row],[Producto]]=$A$3,VentasMenudeo[[#This Row],[Precio de Venta]]*VentasMenudeo[[#This Row],[Cantidad]]-VentasMenudeo[[#This Row],[Descuento]],VentasMenudeo[[#This Row],[Producto]]=$A$4,VentasMenudeo[[#This Row],[Precio de Venta]]*VentasMenudeo[[#This Row],[Cantidad]]-VentasMenudeo[[#This Row],[Descuento]],VentasMenudeo[[#This Row],[Producto]]=$A$5,VentasMenudeo[[#This Row],[Precio de Venta]]*VentasMenudeo[[#This Row],[Cantidad]]-VentasMenudeo[[#This Row],[Descuento]]),0)","v":190},190]
["2023-03-01","Hugo","IPLAY MAX","Pineapple Orange Guava",1,"Navidad",null,{"$f":"_xlfn.IFNA(VLOOKUP(VentasMenudeo[[#This Row],[Promoción]],PromocionesMenudeo[[Promocion]:[Descuento]],2,0),0)","v":80},{"$f":"_xlfn.IFNA(VLOOKUP(VentasMenudeo[[#This Row],[Producto]],$A$2:$B$5,2,FALSE),0)","v":270},{"$f":"_xlfn.IFNA(_xlfn.IFS(VentasMenudeo[[#This Row],[Producto]]=$A$2,VentasMenudeo[[#This Row],[Precio de Venta]]*VentasMenudeo[[#This Row],[Cantidad]]-VentasMenudeo[[#This Row],[Descuento]],VentasMenudeo[[#This Row],[Producto]]=$A$3,VentasMenudeo[[#This Row],[Precio de Venta]]*VentasMenudeo[[#This Row],[Cantidad]]-VentasMenudeo[[#This Row],[Descuento]],VentasMenudeo[[#This Row],[Producto]]=$A$4,VentasMenudeo[[#This Row],[Precio de Venta]]*VentasMenudeo[[#This Row],[Cantidad]]-VentasMenudeo[[#This Row],[Descuento]],VentasMenudeo[[#This Row],[Producto]]=$A$5,VentasMenudeo[[#This Row],[Precio de Venta]]*VentasMenudeo[[#This Row],[Cantidad]]-VentasMenudeo[[#This Row],[Descuento]]),0)","v":190},190]
["2023-03-01","Hugo","IPLAY MAX","Pineapple Orange Guava",1,"Navidad",null,{"$f":"_xlfn.IFNA(VLOOKUP(VentasMenudeo[[#This Row],[Promoción]],PromocionesMenudeo[[Promocion]:[Descuento]],2,0),0)","v":80},{"$f":"_xlfn.IFNA(VLOOKUP(VentasMenudeo[[#This Row],[Producto]],$A$2:$B$5,2,FALSE),0)","v":270},{"$f":"_xlfn.IFNA(_xlfn.IFS(VentasMenudeo[[#This Row],[Producto]]=$A$2,VentasMenudeo[[#This Row],[Precio de Venta]]*VentasMenudeo[[#This Row],[Cantidad]]-VentasMenudeo[[#This Row],[Descuento]],VentasMenudeo[[#This Row],[Producto]]=$A$3,VentasMenudeo[[#This Row],[Precio de Venta]]*VentasMenudeo[[#This Row],[Cantidad]]-VentasMenudeo[[#This Row],[Descuento]],VentasMenudeo[[#This Row],[Producto]]=$A$4,VentasMenudeo[[#This Row],[Precio de Venta]]*VentasMenudeo[[#This Row],[Cantidad]]-VentasMenudeo[[#This Row],[Descuento]],VentasMenudeo[[#This Row],[Producto]]=$A$5,VentasMenudeo[[#This Row],[Precio de Venta]]*VentasMenudeo[[#This Row],[Cantidad]]-VentasMenudeo[[#This Row],[Descuento]]),0)","v":190},190]
["2023-03-01","Hugo","IPLAY MAX","Coconut",1,"Navidad",null,{"$f":"_xlfn.IFNA(VLOOKUP(VentasMenudeo[[#This Row],[Promoción]],PromocionesMenudeo[[Promocion]:[Descuento]],2,0),0)","v":80},{"$f":"_xlfn.IFNA(VLOOKUP(VentasMenudeo[[#This Row],[Producto]],$A$2:$B$5,2,FALSE),0)","v":270},{"$f":"_xlfn.IFNA(_xlfn.IFS(VentasMenudeo[[#This Row],[Producto]]=$A$2,VentasMenudeo[[#This Row],[Precio de Venta]]*VentasMenudeo[[#This Row],[Cantidad]]-VentasMenudeo[[#This Row],[Descuento]],VentasMenudeo[[#This Row],[Producto]]=$A$3,VentasMenudeo[[#This Row],[Precio de Venta]]*VentasMenudeo[[#This Row],[Cantidad]]-VentasMenudeo[[#This Row],[Descuento]],VentasMenudeo[[#This Row],[Producto]]=$A$4,VentasMenudeo[[#This Row],[Precio de Venta]]*VentasMenudeo[[#This Row],[Cantidad]]-VentasMenudeo[[#This Row],[Descuento]],VentasMenudeo[[#This Row],[Producto]]=$A$5,VentasMenudeo[[#This Row],[Precio de Venta]]*VentasMenudeo[[#This Row],[Cantidad]]-VentasMenudeo[[#This Row],[Descuento]]),0)","v":190},190]
["2023-03-01","Hugo","IPLAY MAX","Blueberry Rainbow",1,"Navidad",null,{"$f":"_xlfn.IFNA(VLOOKUP(VentasMenudeo[[#This Row],[Promoción]],PromocionesMenudeo[[Promocion]:[Descuento]],2,0),0)","v":80},{"$f":"_xlfn.IFNA(VLOOKUP(VentasMenudeo[[#This Row],[Producto]],$A$2:$B$5,2,FALSE),0)","v":270},{"$f":"_xlfn.IFNA(_xlfn.IFS(VentasMenudeo[[#This Row],[Producto]]=$A$2,VentasMenudeo[[#This Row],[Precio de Venta]]*VentasMenudeo[[#This Row],[Cantidad]]-VentasMenudeo[[#This Row],[Descuento]],VentasMenudeo[[#This Row],[Producto]]=$A$3,VentasMenudeo[[#This Row],[Precio de Venta]]*VentasMenudeo[[#This Row],[Cantidad]]-VentasMenudeo[[#This Row],[Descuento]],VentasMenudeo[[#This Row],[Producto]]=$A$4,VentasMenudeo[[#This Row],[Precio de Venta]]*VentasMenudeo[[#This Row],[Cantidad]]-VentasMenudeo[[#This Row],[Descuento]],VentasMenudeo[[#This Row],[Producto]]=$A$5,VentasMenudeo[[#This Row],[Precio de Venta]]*VentasMenudeo[[#This Row],[Cantidad]]-VentasMenudeo[[#This Row],[Descuento]]),0)","v":190},190]
["2023-03-01","Hugo","IPLAY MAX","Berry Watermelon",1,"Navidad",null,{"$f":"_xlfn.IFNA(VLOOKUP(VentasMenudeo[[#This Row],[Promoción]],PromocionesMenudeo[[Promocion]:[Descuento]],2,0),0)","v":80},{"$f":"_xlfn.IFNA(VLOOKUP(VentasMenudeo[[#This Row],[Producto]],$A$2:$B$5,2,FALSE),0)","v":270},{"$f":"_xlfn.IFNA(_xlfn.IFS(VentasMenudeo[[#This Row],[Producto]]=$A$2,VentasMenudeo[[#This Row],[Precio de Venta]]*VentasMenudeo[[#This Row],[Cantidad]]-VentasMenudeo[[#This Row],[Descuento]],VentasMenudeo[[#This Row],[Producto]]=$A$3,VentasMenudeo[[#This Row],[Precio de Venta]]*VentasMenudeo[[#This Row],[Cantidad]]-VentasMenudeo[[#This Row],[Descuento]],VentasMenudeo[[#This Row],[Producto]]=$A$4,VentasMenudeo[[#This Row],[Precio de Venta]]*VentasMenudeo[[#This Row],[Cantidad]]-VentasMenudeo[[#This Row],[Descuento]],VentasMenudeo[[#This Row],[Producto]]=$A$5,VentasMenudeo[[#This Row],[Precio de Venta]]*VentasMenudeo[[#This Row],[Cantidad]]-VentasMenudeo[[#This Row],[Descuento]]),0)","v":190},190]
["2023-03-01","Hugo","IPLAY MAX","Bluerazz",1,"Navidad",null,{"$f":"_xlfn.IFNA(VLOOKUP(VentasMenudeo[[#This Row],[Promoción]],PromocionesMenudeo[[Promocion]:[Descuento]],2,0),0)","v":80},{"$f":"_xlfn.IFNA(VLOOKUP(VentasMenudeo[[#This Row],[Producto]],$A$2:$B$5,2,FALSE),0)","v":270},{"$f":"_xlfn.IFNA(_xlfn.IFS(VentasMenudeo[[#This Row],[Producto]]=$A$2,VentasMenudeo[[#This Row],[Precio de Venta]]*VentasMenudeo[[#This Row],[Cantidad]]-VentasMenudeo[[#This Row],[Descuento]],VentasMenudeo[[#This Row],[Producto]]=$A$3,VentasMenudeo[[#This Row],[Precio de Venta]]*VentasMenudeo[[#This Row],[Cantidad]]-VentasMenudeo[[#This Row],[Descuento]],VentasMenudeo[[#This Row],[Producto]]=$A$4,VentasMenudeo[[#This Row],[Precio de Venta]]*VentasMenudeo[[#This Row],[Cantidad]]-VentasMenudeo[[#This Row],[Descuento]],VentasMenudeo[[#This Row],[Producto]]=$A$5,VentasMenudeo[[#This Row],[Precio de Venta]]*VentasMenudeo[[#This Row],[Cantidad]]-VentasMenudeo[[#This Row],[Descuento]]),0)","v":190},190]
["2023-03-01","Hugo","IPLAY MAX","Cool mint",1,"Navidad",null,{"$f":"_xlfn.IFNA(VLOOKUP(VentasMenudeo[[#This Row],[Promoción]],PromocionesMenudeo[[Promocion]:[Descuento]],2,0),0)","v":80},{"$f":"_xlfn.IFNA(VLOOKUP(VentasMenudeo[[#This Row],[Producto]],$A$2:$B$5,2,FALSE),0)","v":270},{"$f":"_xlfn.IFNA(_xlfn.IFS(VentasMenudeo[[#This Row],[Producto]]=$A$2,VentasMenudeo[[#This Row],[Precio de Venta]]*VentasMenudeo[[#This Row],[Cantidad]]-VentasMenudeo[[#This Row],[Descuento]],VentasMenudeo[[#This Row],[Producto]]=$A$3,VentasMenudeo[[#This Row],[Precio de Venta]]*VentasMenudeo[[#This Row],[Cantidad]]-VentasMenudeo[[#This Row],[Descuento]],VentasMenudeo[[#This Row],[Producto]]=$A$4,VentasMenudeo[[#This Row],[Precio de Venta]]*VentasMenudeo[[#This Row],[Cantidad]]-VentasMenudeo[[#This Row],[Descuento]],VentasMenudeo[[#This Row],[Producto]]=$A$5,VentasMenudeo[[#This Row],[Precio de Venta]]*VentasMenudeo[[#This Row],[Cantidad]]-VentasMenudeo[[#This Row],[Descuento]]),0)","v":190},190]
["2023-03-02","Hugo","IPLAY MAX","Strawberry Lychee",1,"Navidad",null,{"$f":"_xlfn.IFNA(VLOOKUP(VentasMenudeo[[#This Row],[Promoción]],PromocionesMenudeo[[Promocion]:[Descuento]],2,0),0)","v":80},{"$f":"_xlfn.IFNA(VLOOKUP(VentasMenudeo[[#This Row],[Producto]],$A$2:$B$5,2,FALSE),0)","v":270},{"$f":"_xlfn.IFNA(_xlfn.IFS(VentasMenudeo[[#This Row],[Producto]]=$A$2,VentasMenudeo[[#This Row],[Precio de Venta]]*VentasMenudeo[[#This Row],[Cantidad]]-VentasMenudeo[[#This Row],[Descuento]],VentasMenudeo[[#This Row],[Producto]]=$A$3,VentasMenudeo[[#This Row],[Precio de Venta]]*VentasMenudeo[[#This Row],[Cantidad]]-VentasMenudeo[[#This Row],[Descuento]],VentasMenudeo[[#This Row],[Producto]]=$A$4,VentasMenudeo[[#This Row],[Precio de Venta]]*VentasMenudeo[[#This Row],[Cantidad]]-VentasMenudeo[[#This Row],[Descuento]],VentasMenudeo[[#This Row],[Producto]]=$A$5,VentasMenudeo[[#This Row],[Precio de Venta]]*VentasMenudeo[[#This Row],[Cantidad]]-VentasMenudeo[[#This Row],[Descuento]]),0)","v":190},190]
["2023-03-02","Hugo","IPLAY MAX","Cool mint",1,"Navidad",null,{"$f":"_xlfn.IFNA(VLOOKUP(VentasMenudeo[[#This Row],[Promoción]],PromocionesMenudeo[[Promocion]:[Descuento]],2,0),0)","v":80},{"$f":"_xlfn.IFNA(VLOOKUP(VentasMenudeo[[#This Row],[Producto]],$A$2:$B$5,2,FALSE),0)","v":270},{"$f":"_xlfn.IFNA(_xlfn.IFS(VentasMenudeo[[#This Row],[Producto]]=$A$2,VentasMenudeo[[#This Row],[Precio de Venta]]*VentasMenudeo[[#This Row],[Cantidad]]-VentasMenudeo[[#This Row],[Descuento]],VentasMenudeo[[#This Row],[Producto]]=$A$3,VentasMenudeo[[#This Row],[Precio de Venta]]*VentasMenudeo[[#This Row],[Cantidad]]-VentasMenudeo[[#This Row],[Descuento]],VentasMenudeo[[#This Row],[Producto]]=$A$4,VentasMenudeo[[#This Row],[Precio de Venta]]*VentasMenudeo[[#This Row],[Cantidad]]-VentasMenudeo[[#This Row],[Descuento]],VentasMenudeo[[#This Row],[Producto]]=$A$5,VentasMenudeo[[#This Row],[Precio de Venta]]*VentasMenudeo[[#This Row],[Cantidad]]-VentasMenudeo[[#This Row],[Descuento]]),0)","v":190},190]
["2023-03-02","Hugo","IPLAY MAX","Sourraspberry",1,"Navidad",null,{"$f":"_xlfn.IFNA(VLOOKUP(VentasMenudeo[[#This Row],[Promoción]],PromocionesMenudeo[[Promocion]:[Descuento]],2,0),0)","v":80},{"$f":"_xlfn.IFNA(VLOOKUP(VentasMenudeo[[#This Row],[Producto]],$A$2:$B$5,2,FALSE),0)","v":270},{"$f":"_xlfn.IFNA(_xlfn.IFS(VentasMenudeo[[#This Row],[Producto]]=$A$2,VentasMenudeo[[#This Row],[Precio de Venta]]*VentasMenudeo[[#This Row],[Cantidad]]-VentasMenudeo[[#This Row],[Descuento]],VentasMenudeo[[#This Row],[Producto]]=$A$3,VentasMenudeo[[#This Row],[Precio de Venta]]*VentasMenudeo[[#This Row],[Cantidad]]-VentasMenudeo[[#This Row],[Descuento]],VentasMenudeo[[#This Row],[Producto]]=$A$4,VentasMenudeo[[#This Row],[Precio de Venta]]*VentasMenudeo[[#This Row],[Cantidad]]-VentasMenudeo[[#This Row],[Descuento]],VentasMenudeo[[#This Row],[Producto]]=$A$5,VentasMenudeo[[#This Row],[Precio de Venta]]*VentasMenudeo[[#This Row],[Cantidad]]-VentasMenudeo[[#This Row],[Descuento]]),0)","v":190},190]
["2023-03-02","Hugo","IPLAY MAX","Peach Ice",1,"Navidad",null,{"$f":"_xlfn.IFNA(VLOOKUP(VentasMenudeo[[#This Row],[Promoción]],PromocionesMenudeo[[Promocion]:[Descuento]],2,0),0)","v":80},{"$f":"_xlfn.IFNA(VLOOKUP(VentasMenudeo[[#This Row],[Producto]],$A$2:$B$5,2,FALSE),0)","v":270},{"$f":"_xlfn.IFNA(_xlfn.IFS(VentasMenudeo[[#This Row],[Producto]]=$A$2,VentasMenudeo[[#This Row],[Precio de Venta]]*VentasMenudeo[[#This Row],[Cantidad]]-VentasMenudeo[[#This Row],[Descuento]],VentasMenudeo[[#This Row],[Producto]]=$A$3,VentasMenudeo[[#This Row],[Precio de Venta]]*VentasMenudeo[[#This Row],[Cantidad]]-VentasMenudeo[[#This Row],[Descuento]],VentasMenudeo[[#This Row],[Producto]]=$A$4,VentasMenudeo[[#This Row],[Precio de Venta]]*VentasMenudeo[[#This Row],[Cantidad]]-VentasMenudeo[[#This Row],[Descuento]],VentasMenudeo[[#This Row],[Producto]]=$A$5,VentasMenudeo[[#This Row],[Precio de Venta]]*VentasMenudeo[[#This Row],[Cantidad]]-VentasMenudeo[[#This Row],[Descuento]]),0)","v":190},190]
["2023-03-02","Hugo","IPLAY MAX","Berry Watermelon",1,"Navidad",null,{"$f":"_xlfn.IFNA(VLOOKUP(VentasMenudeo[[#This Row],[Promoción]],PromocionesMenudeo[[Promocion]:[Descuento]],2,0),0)","v":80},{"$f":"_xlfn.IFNA(VLOOKUP(VentasMenudeo[[#This Row],[Producto]],$A$2:$B$5,2,FALSE),0)","v":270},{"$f":"_xlfn.IFNA(_xlfn.IFS(VentasMenudeo[[#This Row],[Producto]]=$A$2,VentasMenudeo[[#This Row],[Precio de Venta]]*VentasMenudeo[[#This Row],[Cantidad]]-VentasMenudeo[[#This Row],[Descuento]],VentasMenudeo[[#This Row],[Producto]]=$A$3,VentasMenudeo[[#This Row],[Precio de Venta]]*VentasMenudeo[[#This Row],[Cantidad]]-VentasMenudeo[[#This Row],[Descuento]],VentasMenudeo[[#This Row],[Producto]]=$A$4,VentasMenudeo[[#This Row],[Precio de Venta]]*VentasMenudeo[[#This Row],[Cantidad]]-VentasMenudeo[[#This Row],[Descuento]],VentasMenudeo[[#This Row],[Producto]]=$A$5,VentasMenudeo[[#This Row],[Precio de Venta]]*VentasMenudeo[[#This Row],[Cantidad]]-VentasMenudeo[[#This Row],[Descuento]]),0)","v":190},190]
["2023-03-02","Hugo","IPLAY MAX","Peach Ice",1,"Navidad",null,{"$f":"_xlfn.IFNA(VLOOKUP(VentasMenudeo[[#This Row],[Promoción]],PromocionesMenudeo[[Promocion]:[Descuento]],2,0),0)","v":80},{"$f":"_xlfn.IFNA(VLOOKUP(VentasMenudeo[[#This Row],[Producto]],$A$2:$B$5,2,FALSE),0)","v":270},{"$f":"_xlfn.IFNA(_xlfn.IFS(VentasMenudeo[[#This Row],[Producto]]=$A$2,VentasMenudeo[[#This Row],[Precio de Venta]]*VentasMenudeo[[#This Row],[Cantidad]]-VentasMenudeo[[#This Row],[Descuento]],VentasMenudeo[[#This Row],[Producto]]=$A$3,VentasMenudeo[[#This Row],[Precio de Venta]]*VentasMenudeo[[#This Row],[Cantidad]]-VentasMenudeo[[#This Row],[Descuento]],VentasMenudeo[[#This Row],[Producto]]=$A$4,VentasMenudeo[[#This Row],[Precio de Venta]]*VentasMenudeo[[#This Row],[Cantidad]]-VentasMenudeo[[#This Row],[Descuento]],VentasMenudeo[[#This Row],[Producto]]=$A$5,VentasMenudeo[[#This Row],[Precio de Venta]]*VentasMenudeo[[#This Row],[Cantidad]]-VentasMenudeo[[#This Row],[Descuento]]),0)","v":190},190]
["2023-03-02","Hugo","IPLAY MAX","Kiwi Guava Passion Fruit",1,"Navidad",null,{"$f":"_xlfn.IFNA(VLOOKUP(VentasMenudeo[[#This Row],[Promoción]],PromocionesMenudeo[[Promocion]:[Descuento]],2,0),0)","v":80},{"$f":"_xlfn.IFNA(VLOOKUP(VentasMenudeo[[#This Row],[Producto]],$A$2:$B$5,2,FALSE),0)","v":270},{"$f":"_xlfn.IFNA(_xlfn.IFS(VentasMenudeo[[#This Row],[Producto]]=$A$2,VentasMenudeo[[#This Row],[Precio de Venta]]*VentasMenudeo[[#This Row],[Cantidad]]-VentasMenudeo[[#This Row],[Descuento]],VentasMenudeo[[#This Row],[Producto]]=$A$3,VentasMenudeo[[#This Row],[Precio de Venta]]*VentasMenudeo[[#This Row],[Cantidad]]-VentasMenudeo[[#This Row],[Descuento]],VentasMenudeo[[#This Row],[Producto]]=$A$4,VentasMenudeo[[#This Row],[Precio de Venta]]*VentasMenudeo[[#This Row],[Cantidad]]-VentasMenudeo[[#This Row],[Descuento]],VentasMenudeo[[#This Row],[Producto]]=$A$5,VentasMenudeo[[#This Row],[Precio de Venta]]*VentasMenudeo[[#This Row],[Cantidad]]-VentasMenudeo[[#This Row],[Descuento]]),0)","v":190},190]
["2023-03-02","Hugo","IPLAY MAX","Bluerazz",1,"Navidad",null,{"$f":"_xlfn.IFNA(VLOOKUP(VentasMenudeo[[#This Row],[Promoción]],PromocionesMenudeo[[Promocion]:[Descuento]],2,0),0)","v":80},{"$f":"_xlfn.IFNA(VLOOKUP(VentasMenudeo[[#This Row],[Producto]],$A$2:$B$5,2,FALSE),0)","v":270},{"$f":"_xlfn.IFNA(_xlfn.IFS(VentasMenudeo[[#This Row],[Producto]]=$A$2,VentasMenudeo[[#This Row],[Precio de Venta]]*VentasMenudeo[[#This Row],[Cantidad]]-VentasMenudeo[[#This Row],[Descuento]],VentasMenudeo[[#This Row],[Producto]]=$A$3,VentasMenudeo[[#This Row],[Precio de Venta]]*VentasMenudeo[[#This Row],[Cantidad]]-VentasMenudeo[[#This Row],[Descuento]],VentasMenudeo[[#This Row],[Producto]]=$A$4,VentasMenudeo[[#This Row],[Precio de Venta]]*VentasMenudeo[[#This Row],[Cantidad]]-VentasMenudeo[[#This Row],[Descuento]],VentasMenudeo[[#This Row],[Producto]]=$A$5,VentasMenudeo[[#This Row],[Precio de Venta]]*VentasMenudeo[[#This Row],[Cantidad]]-VentasMenudeo[[#This Row],[Descuento]]),0)","v":190},190]
["2023-03-02","Hugo","IPLAY MAX","Pineapple Coconut",1,"Navidad",null,{"$f":"_xlfn.IFNA(VLOOKUP(VentasMenudeo[[#This Row],[Promoción]],PromocionesMenudeo[[Promocion]:[Descuento]],2,0),0)","v":80},{"$f":"_xlfn.IFNA(VLOOKUP(VentasMenudeo[[#This Row],[Producto]],$A$2:$B$5,2,FALSE),0)","v":270},{"$f":"_xlfn.IFNA(_xlfn.IFS(VentasMenudeo[[#This Row],[Producto]]=$A$2,VentasMenudeo[[#This Row],[Precio de Venta]]*VentasMenudeo[[#This Row],[Cantidad]]-VentasMenudeo[[#This Row],[Descuento]],VentasMenudeo[[#This Row],[Producto]]=$A$3,VentasMenudeo[[#This Row],[Precio de Venta]]*VentasMenudeo[[#This Row],[Cantidad]]-VentasMenudeo[[#This Row],[Descuento]],VentasMenudeo[[#This Row],[Producto]]=$A$4,VentasMenudeo[[#This Row],[Precio de Venta]]*VentasMenudeo[[#This Row],[Cantidad]]-VentasMenudeo[[#This Row],[Descuento]],VentasMenudeo[[#This Row],[Producto]]=$A$5,VentasMenudeo[[#This Row],[Precio de Venta]]*VentasMenudeo[[#This Row],[Cantidad]]-VentasMenudeo[[#This Row],[Descuento]]),0)","v":190},190]
["2023-03-02","Hugo","IPLAY MAX","Banana Cherry DragonFruit",1,"Navidad",null,{"$f":"_xlfn.IFNA(VLOOKUP(VentasMenudeo[[#This Row],[Promoción]],PromocionesMenudeo[[Promocion]:[Descuento]],2,0),0)","v":80},{"$f":"_xlfn.IFNA(VLOOKUP(VentasMenudeo[[#This Row],[Producto]],$A$2:$B$5,2,FALSE),0)","v":270},{"$f":"_xlfn.IFNA(_xlfn.IFS(VentasMenudeo[[#This Row],[Producto]]=$A$2,VentasMenudeo[[#This Row],[Precio de Venta]]*VentasMenudeo[[#This Row],[Cantidad]]-VentasMenudeo[[#This Row],[Descuento]],VentasMenudeo[[#This Row],[Producto]]=$A$3,VentasMenudeo[[#This Row],[Precio de Venta]]*VentasMenudeo[[#This Row],[Cantidad]]-VentasMenudeo[[#This Row],[Descuento]],VentasMenudeo[[#This Row],[Producto]]=$A$4,VentasMenudeo[[#This Row],[Precio de Venta]]*VentasMenudeo[[#This Row],[Cantidad]]-VentasMenudeo[[#This Row],[Descuento]],VentasMenudeo[[#This Row],[Producto]]=$A$5,VentasMenudeo[[#This Row],[Precio de Venta]]*VentasMenudeo[[#This Row],[Cantidad]]-VentasMenudeo[[#This Row],[Descuento]]),0)","v":190},190]
["2023-03-02","Hugo","IPLAY MAX","Cool mint",1,"Navidad",null,{"$f":"_xlfn.IFNA(VLOOKUP(VentasMenudeo[[#This Row],[Promoción]],PromocionesMenudeo[[Promocion]:[Descuento]],2,0),0)","v":80},{"$f":"_xlfn.IFNA(VLOOKUP(VentasMenudeo[[#This Row],[Producto]],$A$2:$B$5,2,FALSE),0)","v":270},{"$f":"_xlfn.IFNA(_xlfn.IFS(VentasMenudeo[[#This Row],[Producto]]=$A$2,VentasMenudeo[[#This Row],[Precio de Venta]]*VentasMenudeo[[#This Row],[Cantidad]]-VentasMenudeo[[#This Row],[Descuento]],VentasMenudeo[[#This Row],[Producto]]=$A$3,VentasMenudeo[[#This Row],[Precio de Venta]]*VentasMenudeo[[#This Row],[Cantidad]]-VentasMenudeo[[#This Row],[Descuento]],VentasMenudeo[[#This Row],[Producto]]=$A$4,VentasMenudeo[[#This Row],[Precio de Venta]]*VentasMenudeo[[#This Row],[Cantidad]]-VentasMenudeo[[#This Row],[Descuento]],VentasMenudeo[[#This Row],[Producto]]=$A$5,VentasMenudeo[[#This Row],[Precio de Venta]]*VentasMenudeo[[#This Row],[Cantidad]]-VentasMenudeo[[#This Row],[Descuento]]),0)","v":190},190]
["2023-03-05","Hugo","IPLAY MAX","Berry Watermelon",1,"Navidad",null,{"$f":"_xlfn.IFNA(VLOOKUP(VentasMenudeo[[#This Row],[Promoción]],PromocionesMenudeo[[Promocion]:[Descuento]],2,0),0)","v":80},{"$f":"_xlfn.IFNA(VLOOKUP(VentasMenudeo[[#This Row],[Producto]],$A$2:$B$5,2,FALSE),0)","v":270},{"$f":"_xlfn.IFNA(_xlfn.IFS(VentasMenudeo[[#This Row],[Producto]]=$A$2,VentasMenudeo[[#This Row],[Precio de Venta]]*VentasMenudeo[[#This Row],[Cantidad]]-VentasMenudeo[[#This Row],[Descuento]],VentasMenudeo[[#This Row],[Producto]]=$A$3,VentasMenudeo[[#This Row],[Precio de Venta]]*VentasMenudeo[[#This Row],[Cantidad]]-VentasMenudeo[[#This Row],[Descuento]],VentasMenudeo[[#This Row],[Producto]]=$A$4,VentasMenudeo[[#This Row],[Precio de Venta]]*VentasMenudeo[[#This Row],[Cantidad]]-VentasMenudeo[[#This Row],[Descuento]],VentasMenudeo[[#This Row],[Producto]]=$A$5,VentasMenudeo[[#This Row],[Precio de Venta]]*VentasMenudeo[[#This Row],[Cantidad]]-VentasMenudeo[[#This Row],[Descuento]]),0)","v":190},190]
["2023-03-05","Hugo","IPLAY MAX","Bluerazz",1,"Navidad",null,{"$f":"_xlfn.IFNA(VLOOKUP(VentasMenudeo[[#This Row],[Promoción]],PromocionesMenudeo[[Promocion]:[Descuento]],2,0),0)","v":80},{"$f":"_xlfn.IFNA(VLOOKUP(VentasMenudeo[[#This Row],[Producto]],$A$2:$B$5,2,FALSE),0)","v":270},{"$f":"_xlfn.IFNA(_xlfn.IFS(VentasMenudeo[[#This Row],[Producto]]=$A$2,VentasMenudeo[[#This Row],[Precio de Venta]]*VentasMenudeo[[#This Row],[Cantidad]]-VentasMenudeo[[#This Row],[Descuento]],VentasMenudeo[[#This Row],[Producto]]=$A$3,VentasMenudeo[[#This Row],[Precio de Venta]]*VentasMenudeo[[#This Row],[Cantidad]]-VentasMenudeo[[#This Row],[Descuento]],VentasMenudeo[[#This Row],[Producto]]=$A$4,VentasMenudeo[[#This Row],[Precio de Venta]]*VentasMenudeo[[#This Row],[Cantidad]]-VentasMenudeo[[#This Row],[Descuento]],VentasMenudeo[[#This Row],[Producto]]=$A$5,VentasMenudeo[[#This Row],[Precio de Venta]]*VentasMenudeo[[#This Row],[Cantidad]]-VentasMenudeo[[#This Row],[Descuento]]),0)","v":190},190]
["2023-03-05","Hugo","IPLAY MAX","Cool mint",1,"Navidad",null,{"$f":"_xlfn.IFNA(VLOOKUP(VentasMenudeo[[#This Row],[Promoción]],PromocionesMenudeo[[Promocion]:[Descuento]],2,0),0)","v":80},{"$f":"_xlfn.IFNA(VLOOKUP(VentasMenudeo[[#This Row],[Producto]],$A$2:$B$5,2,FALSE),0)","v":270},{"$f":"_xlfn.IFNA(_xlfn.IFS(VentasMenudeo[[#This Row],[Producto]]=$A$2,VentasMenudeo[[#This Row],[Precio de Venta]]*VentasMenudeo[[#This Row],[Cantidad]]-VentasMenudeo[[#This Row],[Descuento]],VentasMenudeo[[#This Row],[Producto]]=$A$3,VentasMenudeo[[#This Row],[Precio de Venta]]*VentasMenudeo[[#This Row],[Cantidad]]-VentasMenudeo[[#This Row],[Descuento]],VentasMenudeo[[#This Row],[Producto]]=$A$4,VentasMenudeo[[#This Row],[Precio de Venta]]*VentasMenudeo[[#This Row],[Cantidad]]-VentasMenudeo[[#This Row],[Descuento]],VentasMenudeo[[#This Row],[Producto]]=$A$5,VentasMenudeo[[#This Row],[Precio de Venta]]*VentasMenudeo[[#This Row],[Cantidad]]-VentasMenudeo[[#This Row],[Descuento]]),0)","v":190},190]
["2023-03-05","Hugo","IPLAY MAX","Guava",1,"Navidad",null,{"$f":"_xlfn.IFNA(VLOOKUP(VentasMenudeo[[#This Row],[Promoción]],PromocionesMenudeo[[Promocion]:[Descuento]],2,0),0)","v":80},{"$f":"_xlfn.IFNA(VLOOKUP(VentasMenudeo[[#This Row],[Producto]],$A$2:$B$5,2,FALSE),0)","v":270},{"$f":"_xlfn.IFNA(_xlfn.IFS(VentasMenudeo[[#This Row],[Producto]]=$A$2,VentasMenudeo[[#This Row],[Precio de Venta]]*VentasMenudeo[[#This Row],[Cantidad]]-VentasMenudeo[[#This Row],[Descuento]],VentasMenudeo[[#This Row],[Producto]]=$A$3,VentasMenudeo[[#This Row],[Precio de Venta]]*VentasMenudeo[[#This Row],[Cantidad]]-VentasMenudeo[[#This Row],[Descuento]],VentasMenudeo[[#This Row],[Producto]]=$A$4,VentasMenudeo[[#This Row],[Precio de Venta]]*VentasMenudeo[[#This Row],[Cantidad]]-VentasMenudeo[[#This Row],[Descuento]],VentasMenudeo[[#This Row],[Producto]]=$A$5,VentasMenudeo[[#This Row],[Precio de Venta]]*VentasMenudeo[[#This Row],[Cantidad]]-VentasMenudeo[[#This Row],[Descuento]]),0)","v":190},190]
["2023-03-05","Hugo","IPLAY MAX","Peach Ice",1,"Navidad",null,{"$f":"_xlfn.IFNA(VLOOKUP(VentasMenudeo[[#This Row],[Promoción]],PromocionesMenudeo[[Promocion]:[Descuento]],2,0),0)","v":80},{"$f":"_xlfn.IFNA(VLOOKUP(VentasMenudeo[[#This Row],[Producto]],$A$2:$B$5,2,FALSE),0)","v":270},{"$f":"_xlfn.IFNA(_xlfn.IFS(VentasMenudeo[[#This Row],[Producto]]=$A$2,VentasMenudeo[[#This Row],[Precio de Venta]]*VentasMenudeo[[#This Row],[Cantidad]]-VentasMenudeo[[#This Row],[Descuento]],VentasMenudeo[[#This Row],[Producto]]=$A$3,VentasMenudeo[[#This Row],[Precio de Venta]]*VentasMenudeo[[#This Row],[Cantidad]]-VentasMenudeo[[#This Row],[Descuento]],VentasMenudeo[[#This Row],[Producto]]=$A$4,VentasMenudeo[[#This Row],[Precio de Venta]]*VentasMenudeo[[#This Row],[Cantidad]]-VentasMenudeo[[#This Row],[Descuento]],VentasMenudeo[[#This Row],[Producto]]=$A$5,VentasMenudeo[[#This Row],[Precio de Venta]]*VentasMenudeo[[#This Row],[Cantidad]]-VentasMenudeo[[#This Row],[Descuento]]),0)","v":190},190]
["2023-03-05","Hugo","IPLAY MAX","Grape Ice",1,"Navidad",null,{"$f":"_xlfn.IFNA(VLOOKUP(VentasMenudeo[[#This Row],[Promoción]],PromocionesMenudeo[[Promocion]:[Descuento]],2,0),0)","v":80},{"$f":"_xlfn.IFNA(VLOOKUP(VentasMenudeo[[#This Row],[Producto]],$A$2:$B$5,2,FALSE),0)","v":270},{"$f":"_xlfn.IFNA(_xlfn.IFS(VentasMenudeo[[#This Row],[Producto]]=$A$2,VentasMenudeo[[#This Row],[Precio de Venta]]*VentasMenudeo[[#This Row],[Cantidad]]-VentasMenudeo[[#This Row],[Descuento]],VentasMenudeo[[#This Row],[Producto]]=$A$3,VentasMenudeo[[#This Row],[Precio de Venta]]*VentasMenudeo[[#This Row],[Cantidad]]-VentasMenudeo[[#This Row],[Descuento]],VentasMenudeo[[#This Row],[Producto]]=$A$4,VentasMenudeo[[#This Row],[Precio de Venta]]*VentasMenudeo[[#This Row],[Cantidad]]-VentasMenudeo[[#This Row],[Descuento]],VentasMenudeo[[#This Row],[Producto]]=$A$5,VentasMenudeo[[#This Row],[Precio de Venta]]*VentasMenudeo[[#This Row],[Cantidad]]-VentasMenudeo[[#This Row],[Descuento]]),0)","v":190},190]
["2023-03-05","Hugo","IPLAY MAX","Grape Ice",1,"Navidad",null,{"$f":"_xlfn.IFNA(VLOOKUP(VentasMenudeo[[#This Row],[Promoción]],PromocionesMenudeo[[Promocion]:[Descuento]],2,0),0)","v":80},{"$f":"_xlfn.IFNA(VLOOKUP(VentasMenudeo[[#This Row],[Producto]],$A$2:$B$5,2,FALSE),0)","v":270},{"$f":"_xlfn.IFNA(_xlfn.IFS(VentasMenudeo[[#This Row],[Producto]]=$A$2,VentasMenudeo[[#This Row],[Precio de Venta]]*VentasMenudeo[[#This Row],[Cantidad]]-VentasMenudeo[[#This Row],[Descuento]],VentasMenudeo[[#This Row],[Producto]]=$A$3,VentasMenudeo[[#This Row],[Precio de Venta]]*VentasMenudeo[[#This Row],[Cantidad]]-VentasMenudeo[[#This Row],[Descuento]],VentasMenudeo[[#This Row],[Producto]]=$A$4,VentasMenudeo[[#This Row],[Precio de Venta]]*VentasMenudeo[[#This Row],[Cantidad]]-VentasMenudeo[[#This Row],[Descuento]],VentasMenudeo[[#This Row],[Producto]]=$A$5,VentasMenudeo[[#This Row],[Precio de Venta]]*VentasMenudeo[[#This Row],[Cantidad]]-VentasMenudeo[[#This Row],[Descuento]]),0)","v":190},190]
["2023-03-05","Hugo","IPLAY MAX","Sourraspberry",1,"Navidad",null,{"$f":"_xlfn.IFNA(VLOOKUP(VentasMenudeo[[#This Row],[Promoción]],PromocionesMenudeo[[Promocion]:[Descuento]],2,0),0)","v":80},{"$f":"_xlfn.IFNA(VLOOKUP(VentasMenudeo[[#This Row],[Producto]],$A$2:$B$5,2,FALSE),0)","v":270},{"$f":"_xlfn.IFNA(_xlfn.IFS(VentasMenudeo[[#This Row],[Producto]]=$A$2,VentasMenudeo[[#This Row],[Precio de Venta]]*VentasMenudeo[[#This Row],[Cantidad]]-VentasMenudeo[[#This Row],[Descuento]],VentasMenudeo[[#This Row],[Producto]]=$A$3,VentasMenudeo[[#This Row],[Precio de Venta]]*VentasMenudeo[[#This Row],[Cantidad]]-VentasMenudeo[[#This Row],[Descuento]],VentasMenudeo[[#This Row],[Producto]]=$A$4,VentasMenudeo[[#This Row],[Precio de Venta]]*VentasMenudeo[[#This Row],[Cantidad]]-VentasMenudeo[[#This Row],[Descuento]],VentasMenudeo[[#This Row],[Producto]]=$A$5,VentasMenudeo[[#This Row],[Precio de Venta]]*VentasMenudeo[[#This Row],[Cantidad]]-VentasMenudeo[[#This Row],[Descuento]]),0)","v":190},190]
["2023-03-05","Hugo","IPLAY MAX","Low Mint",1,"Navidad",null,{"$f":"_xlfn.IFNA(VLOOKUP(VentasMenudeo[[#This Row],[Promoción]],PromocionesMenudeo[[Promocion]:[Descuento]],2,0),0)","v":80},{"$f":"_xlfn.IFNA(VLOOKUP(VentasMenudeo[[#This Row],[Producto]],$A$2:$B$5,2,FALSE),0)","v":270},{"$f":"_xlfn.IFNA(_xlfn.IFS(VentasMenudeo[[#This Row],[Producto]]=$A$2,VentasMenudeo[[#This Row],[Precio de Venta]]*VentasMenudeo[[#This Row],[Cantidad]]-VentasMenudeo[[#This Row],[Descuento]],VentasMenudeo[[#This Row],[Producto]]=$A$3,VentasMenudeo[[#This Row],[Precio de Venta]]*VentasMenudeo[[#This Row],[Cantidad]]-VentasMenudeo[[#This Row],[Descuento]],VentasMenudeo[[#This Row],[Producto]]=$A$4,VentasMenudeo[[#This Row],[Precio de Venta]]*VentasMenudeo[[#This Row],[Cantidad]]-VentasMenudeo[[#This Row],[Descuento]],VentasMenudeo[[#This Row],[Producto]]=$A$5,VentasMenudeo[[#This Row],[Precio de Venta]]*VentasMenudeo[[#This Row],[Cantidad]]-VentasMenudeo[[#This Row],[Descuento]]),0)","v":190},190]
["2023-03-05","Hugo","IPLAY MAX","Pineapple Orange Guava",1,"Navidad",null,{"$f":"_xlfn.IFNA(VLOOKUP(VentasMenudeo[[#This Row],[Promoción]],PromocionesMenudeo[[Promocion]:[Descuento]],2,0),0)","v":80},{"$f":"_xlfn.IFNA(VLOOKUP(VentasMenudeo[[#This Row],[Producto]],$A$2:$B$5,2,FALSE),0)","v":270},{"$f":"_xlfn.IFNA(_xlfn.IFS(VentasMenudeo[[#This Row],[Producto]]=$A$2,VentasMenudeo[[#This Row],[Precio de Venta]]*VentasMenudeo[[#This Row],[Cantidad]]-VentasMenudeo[[#This Row],[Descuento]],VentasMenudeo[[#This Row],[Producto]]=$A$3,VentasMenudeo[[#This Row],[Precio de Venta]]*VentasMenudeo[[#This Row],[Cantidad]]-VentasMenudeo[[#This Row],[Descuento]],VentasMenudeo[[#This Row],[Producto]]=$A$4,VentasMenudeo[[#This Row],[Precio de Venta]]*VentasMenudeo[[#This Row],[Cantidad]]-VentasMenudeo[[#This Row],[Descuento]],VentasMenudeo[[#This Row],[Producto]]=$A$5,VentasMenudeo[[#This Row],[Precio de Venta]]*VentasMenudeo[[#This Row],[Cantidad]]-VentasMenudeo[[#This Row],[Descuento]]),0)","v":190},190]
["2023-03-05","Hugo","IPLAY MAX","Blueberry Rainbow",1,"Navidad",null,{"$f":"_xlfn.IFNA(VLOOKUP(VentasMenudeo[[#This Row],[Promoción]],PromocionesMenudeo[[Promocion]:[Descuento]],2,0),0)","v":80},{"$f":"_xlfn.IFNA(VLOOKUP(VentasMenudeo[[#This Row],[Producto]],$A$2:$B$5,2,FALSE),0)","v":270},{"$f":"_xlfn.IFNA(_xlfn.IFS(VentasMenudeo[[#This Row],[Producto]]=$A$2,VentasMenudeo[[#This Row],[Precio de Venta]]*VentasMenudeo[[#This Row],[Cantidad]]-VentasMenudeo[[#This Row],[Descuento]],VentasMenudeo[[#This Row],[Producto]]=$A$3,VentasMenudeo[[#This Row],[Precio de Venta]]*VentasMenudeo[[#This Row],[Cantidad]]-VentasMenudeo[[#This Row],[Descuento]],VentasMenudeo[[#This Row],[Producto]]=$A$4,VentasMenudeo[[#This Row],[Precio de Venta]]*VentasMenudeo[[#This Row],[Cantidad]]-VentasMenudeo[[#This Row],[Descuento]],VentasMenudeo[[#This Row],[Producto]]=$A$5,VentasMenudeo[[#This Row],[Precio de Venta]]*VentasMenudeo[[#This Row],[Cantidad]]-VentasMenudeo[[#This Row],[Descuento]]),0)","v":190},190]
["2023-03-07","Hugo","IPLAY MAX","Banana Ice",1,"Navidad",null,{"$f":"_xlfn.IFNA(VLOOKUP(VentasMenudeo[[#This Row],[Promoción]],PromocionesMenudeo[[Promocion]:[Descuento]],2,0),0)","v":80},{"$f":"_xlfn.IFNA(VLOOKUP(VentasMenudeo[[#This Row],[Producto]],$A$2:$B$5,2,FALSE),0)","v":270},{"$f":"_xlfn.IFNA(_xlfn.IFS(VentasMenudeo[[#This Row],[Producto]]=$A$2,VentasMenudeo[[#This Row],[Precio de Venta]]*VentasMenudeo[[#This Row],[Cantidad]]-VentasMenudeo[[#This Row],[Descuento]],VentasMenudeo[[#This Row],[Producto]]=$A$3,VentasMenudeo[[#This Row],[Precio de Venta]]*VentasMenudeo[[#This Row],[Cantidad]]-VentasMenudeo[[#This Row],[Descuento]],VentasMenudeo[[#This Row],[Producto]]=$A$4,VentasMenudeo[[#This Row],[Precio de Venta]]*VentasMenudeo[[#This Row],[Cantidad]]-VentasMenudeo[[#This Row],[Descuento]],VentasMenudeo[[#This Row],[Producto]]=$A$5,VentasMenudeo[[#This Row],[Precio de Venta]]*VentasMenudeo[[#This Row],[Cantidad]]-VentasMenudeo[[#This Row],[Descuento]]),0)","v":190},190]
["2023-03-07","Hugo","IPLAY MAX","Pineapple Coconut",1,"Navidad",null,{"$f":"_xlfn.IFNA(VLOOKUP(VentasMenudeo[[#This Row],[Promoción]],PromocionesMenudeo[[Promocion]:[Descuento]],2,0),0)","v":80},{"$f":"_xlfn.IFNA(VLOOKUP(VentasMenudeo[[#This Row],[Producto]],$A$2:$B$5,2,FALSE),0)","v":270},{"$f":"_xlfn.IFNA(_xlfn.IFS(VentasMenudeo[[#This Row],[Producto]]=$A$2,VentasMenudeo[[#This Row],[Precio de Venta]]*VentasMenudeo[[#This Row],[Cantidad]]-VentasMenudeo[[#This Row],[Descuento]],VentasMenudeo[[#This Row],[Producto]]=$A$3,VentasMenudeo[[#This Row],[Precio de Venta]]*VentasMenudeo[[#This Row],[Cantidad]]-VentasMenudeo[[#This Row],[Descuento]],VentasMenudeo[[#This Row],[Producto]]=$A$4,VentasMenudeo[[#This Row],[Precio de Venta]]*VentasMenudeo[[#This Row],[Cantidad]]-VentasMenudeo[[#This Row],[Descuento]],VentasMenudeo[[#This Row],[Producto]]=$A$5,VentasMenudeo[[#This Row],[Precio de Venta]]*VentasMenudeo[[#This Row],[Cantidad]]-VentasMenudeo[[#This Row],[Descuento]]),0)","v":190},190]
["2023-03-07","Hugo","IPLAY MAX","Strawberry Lychee",1,"Navidad",null,{"$f":"_xlfn.IFNA(VLOOKUP(VentasMenudeo[[#This Row],[Promoción]],PromocionesMenudeo[[Promocion]:[Descuento]],2,0),0)","v":80},{"$f":"_xlfn.IFNA(VLOOKUP(VentasMenudeo[[#This Row],[Producto]],$A$2:$B$5,2,FALSE),0)","v":270},{"$f":"_xlfn.IFNA(_xlfn.IFS(VentasMenudeo[[#This Row],[Producto]]=$A$2,VentasMenudeo[[#This Row],[Precio de Venta]]*VentasMenudeo[[#This Row],[Cantidad]]-VentasMenudeo[[#This Row],[Descuento]],VentasMenudeo[[#This Row],[Producto]]=$A$3,VentasMenudeo[[#This Row],[Precio de Venta]]*VentasMenudeo[[#This Row],[Cantidad]]-VentasMenudeo[[#This Row],[Descuento]],VentasMenudeo[[#This Row],[Producto]]=$A$4,VentasMenudeo[[#This Row],[Precio de Venta]]*VentasMenudeo[[#This Row],[Cantidad]]-VentasMenudeo[[#This Row],[Descuento]],VentasMenudeo[[#This Row],[Producto]]=$A$5,VentasMenudeo[[#This Row],[Precio de Venta]]*VentasMenudeo[[#This Row],[Cantidad]]-VentasMenudeo[[#This Row],[Descuento]]),0)","v":190},190]
["2023-03-07","Hugo","IPLAY MAX","Sourraspberry",1,"Navidad",null,{"$f":"_xlfn.IFNA(VLOOKUP(VentasMenudeo[[#This Row],[Promoción]],PromocionesMenudeo[[Promocion]:[Descuento]],2,0),0)","v":80},{"$f":"_xlfn.IFNA(VLOOKUP(VentasMenudeo[[#This Row],[Producto]],$A$2:$B$5,2,FALSE),0)","v":270},{"$f":"_xlfn.IFNA(_xlfn.IFS(VentasMenudeo[[#This Row],[Producto]]=$A$2,VentasMenudeo[[#This Row],[Precio de Venta]]*VentasMenudeo[[#This Row],[Cantidad]]-VentasMenudeo[[#This Row],[Descuento]],VentasMenudeo[[#This Row],[Producto]]=$A$3,VentasMenudeo[[#This Row],[Precio de Venta]]*VentasMenudeo[[#This Row],[Cantidad]]-VentasMenudeo[[#This Row],[Descuento]],VentasMenudeo[[#This Row],[Producto]]=$A$4,VentasMenudeo[[#This Row],[Precio de Venta]]*VentasMenudeo[[#This Row],[Cantidad]]-VentasMenudeo[[#This Row],[Descuento]],VentasMenudeo[[#This Row],[Producto]]=$A$5,VentasMenudeo[[#This Row],[Precio de Venta]]*VentasMenudeo[[#This Row],[Cantidad]]-VentasMenudeo[[#This Row],[Descuento]]),0)","v":190},190]
["2023-03-07","Hugo","IPLAY MAX","Berry Watermelon",1,"Navidad",null,{"$f":"_xlfn.IFNA(VLOOKUP(VentasMenudeo[[#This Row],[Promoción]],PromocionesMenudeo[[Promocion]:[Descuento]],2,0),0)","v":80},{"$f":"_xlfn.IFNA(VLOOKUP(VentasMenudeo[[#This Row],[Producto]],$A$2:$B$5,2,FALSE),0)","v":270},{"$f":"_xlfn.IFNA(_xlfn.IFS(VentasMenudeo[[#This Row],[Producto]]=$A$2,VentasMenudeo[[#This Row],[Precio de Venta]]*VentasMenudeo[[#This Row],[Cantidad]]-VentasMenudeo[[#This Row],[Descuento]],VentasMenudeo[[#This Row],[Producto]]=$A$3,VentasMenudeo[[#This Row],[Precio de Venta]]*VentasMenudeo[[#This Row],[Cantidad]]-VentasMenudeo[[#This Row],[Descuento]],VentasMenudeo[[#This Row],[Producto]]=$A$4,VentasMenudeo[[#This Row],[Precio de Venta]]*VentasMenudeo[[#This Row],[Cantidad]]-VentasMenudeo[[#This Row],[Descuento]],VentasMenudeo[[#This Row],[Producto]]=$A$5,VentasMenudeo[[#This Row],[Precio de Venta]]*VentasMenudeo[[#This Row],[Cantidad]]-VentasMenudeo[[#This Row],[Descuento]]),0)","v":190},190]
["2023-03-07","Hugo","IPLAY MAX","Kiwi Guava Passion Fruit",1,"Navidad",null,{"$f":"_xlfn.IFNA(VLOOKUP(VentasMenudeo[[#This Row],[Promoción]],PromocionesMenudeo[[Promocion]:[Descuento]],2,0),0)","v":80},{"$f":"_xlfn.IFNA(VLOOKUP(VentasMenudeo[[#This Row],[Producto]],$A$2:$B$5,2,FALSE),0)","v":270},{"$f":"_xlfn.IFNA(_xlfn.IFS(VentasMenudeo[[#This Row],[Producto]]=$A$2,VentasMenudeo[[#This Row],[Precio de Venta]]*VentasMenudeo[[#This Row],[Cantidad]]-VentasMenudeo[[#This Row],[Descuento]],VentasMenudeo[[#This Row],[Producto]]=$A$3,VentasMenudeo[[#This Row],[Precio de Venta]]*VentasMenudeo[[#This Row],[Cantidad]]-VentasMenudeo[[#This Row],[Descuento]],VentasMenudeo[[#This Row],[Producto]]=$A$4,VentasMenudeo[[#This Row],[Precio de Venta]]*VentasMenudeo[[#This Row],[Cantidad]]-VentasMenudeo[[#This Row],[Descuento]],VentasMenudeo[[#This Row],[Producto]]=$A$5,VentasMenudeo[[#This Row],[Precio de Venta]]*VentasMenudeo[[#This Row],[Cantidad]]-VentasMenudeo[[#This Row],[Descuento]]),0)","v":190},190]
["2023-03-07","Hugo","IPLAY MAX","Pineapple Coconut",1,"Navidad",null,{"$f":"_xlfn.IFNA(VLOOKUP(VentasMenudeo[[#This Row],[Promoción]],PromocionesMenudeo[[Promocion]:[Descuento]],2,0),0)","v":80},{"$f":"_xlfn.IFNA(VLOOKUP(VentasMenudeo[[#This Row],[Producto]],$A$2:$B$5,2,FALSE),0)","v":270},{"$f":"_xlfn.IFNA(_xlfn.IFS(VentasMenudeo[[#This Row],[Producto]]=$A$2,VentasMenudeo[[#This Row],[Precio de Venta]]*VentasMenudeo[[#This Row],[Cantidad]]-VentasMenudeo[[#This Row],[Descuento]],VentasMenudeo[[#This Row],[Producto]]=$A$3,VentasMenudeo[[#This Row],[Precio de Venta]]*VentasMenudeo[[#This Row],[Cantidad]]-VentasMenudeo[[#This Row],[Descuento]],VentasMenudeo[[#This Row],[Producto]]=$A$4,VentasMenudeo[[#This Row],[Precio de Venta]]*VentasMenudeo[[#This Row],[Cantidad]]-VentasMenudeo[[#This Row],[Descuento]],VentasMenudeo[[#This Row],[Producto]]=$A$5,VentasMenudeo[[#This Row],[Precio de Venta]]*VentasMenudeo[[#This Row],[Cantidad]]-VentasMenudeo[[#This Row],[Descuento]]),0)","v":190},190]
["2023-03-08","Hugo","IPLAY MAX","Coconut",1,"Navidad",null,{"$f":"_xlfn.IFNA(VLOOKUP(VentasMenudeo[[#This Row],[Promoción]],PromocionesMenudeo[[Promocion]:[Descuento]],2,0),0)","v":80},{"$f":"_xlfn.IFNA(VLOOKUP(VentasMenudeo[[#This Row],[Producto]],$A$2:$B$5,2,FALSE),0)","v":270},{"$f":"_xlfn.IFNA(_xlfn.IFS(VentasMenudeo[[#This Row],[Producto]]=$A$2,VentasMenudeo[[#This Row],[Precio de Venta]]*VentasMenudeo[[#This Row],[Cantidad]]-VentasMenudeo[[#This Row],[Descuento]],VentasMenudeo[[#This Row],[Producto]]=$A$3,VentasMenudeo[[#This Row],[Precio de Venta]]*VentasMenudeo[[#This Row],[Cantidad]]-VentasMenudeo[[#This Row],[Descuento]],VentasMenudeo[[#This Row],[Producto]]=$A$4,VentasMenudeo[[#This Row],[Precio de Venta]]*VentasMenudeo[[#This Row],[Cantidad]]-VentasMenudeo[[#This Row],[Descuento]],VentasMenudeo[[#This Row],[Producto]]=$A$5,VentasMenudeo[[#This Row],[Precio de Venta]]*VentasMenudeo[[#This Row],[Cantidad]]-VentasMenudeo[[#This Row],[Descuento]]),0)","v":190},190]
["2023-03-08","Hugo","IPLAY MAX","Guava",1,"Navidad",null,{"$f":"_xlfn.IFNA(VLOOKUP(VentasMenudeo[[#This Row],[Promoción]],PromocionesMenudeo[[Promocion]:[Descuento]],2,0),0)","v":80},{"$f":"_xlfn.IFNA(VLOOKUP(VentasMenudeo[[#This Row],[Producto]],$A$2:$B$5,2,FALSE),0)","v":270},{"$f":"_xlfn.IFNA(_xlfn.IFS(VentasMenudeo[[#This Row],[Producto]]=$A$2,VentasMenudeo[[#This Row],[Precio de Venta]]*VentasMenudeo[[#This Row],[Cantidad]]-VentasMenudeo[[#This Row],[Descuento]],VentasMenudeo[[#This Row],[Producto]]=$A$3,VentasMenudeo[[#This Row],[Precio de Venta]]*VentasMenudeo[[#This Row],[Cantidad]]-VentasMenudeo[[#This Row],[Descuento]],VentasMenudeo[[#This Row],[Producto]]=$A$4,VentasMenudeo[[#This Row],[Precio de Venta]]*VentasMenudeo[[#This Row],[Cantidad]]-VentasMenudeo[[#This Row],[Descuento]],VentasMenudeo[[#This Row],[Producto]]=$A$5,VentasMenudeo[[#This Row],[Precio de Venta]]*VentasMenudeo[[#This Row],[Cantidad]]-VentasMenudeo[[#This Row],[Descuento]]),0)","v":190},190]
["2023-03-08","Hugo","IPLAY MAX","Strawberry Lychee",1,"Navidad",null,{"$f":"_xlfn.IFNA(VLOOKUP(VentasMenudeo[[#This Row],[Promoción]],PromocionesMenudeo[[Promocion]:[Descuento]],2,0),0)","v":80},{"$f":"_xlfn.IFNA(VLOOKUP(VentasMenudeo[[#This Row],[Producto]],$A$2:$B$5,2,FALSE),0)","v":270},{"$f":"_xlfn.IFNA(_xlfn.IFS(VentasMenudeo[[#This Row],[Producto]]=$A$2,VentasMenudeo[[#This Row],[Precio de Venta]]*VentasMenudeo[[#This Row],[Cantidad]]-VentasMenudeo[[#This Row],[Descuento]],VentasMenudeo[[#This Row],[Producto]]=$A$3,VentasMenudeo[[#This Row],[Precio de Venta]]*VentasMenudeo[[#This Row],[Cantidad]]-VentasMenudeo[[#This Row],[Descuento]],VentasMenudeo[[#This Row],[Producto]]=$A$4,VentasMenudeo[[#This Row],[Precio de Venta]]*VentasMenudeo[[#This Row],[Cantidad]]-VentasMenudeo[[#This Row],[Descuento]],VentasMenudeo[[#This Row],[Producto]]=$A$5,VentasMenudeo[[#This Row],[Precio de Venta]]*VentasMenudeo[[#This Row],[Cantidad]]-VentasMenudeo[[#This Row],[Descuento]]),0)","v":190},190]
["2023-03-08","Hugo","IPLAY MAX","Peach Ice",1,"Navidad",null,{"$f":"_xlfn.IFNA(VLOOKUP(VentasMenudeo[[#This Row],[Promoción]],PromocionesMenudeo[[Promocion]:[Descuento]],2,0),0)","v":80},{"$f":"_xlfn.IFNA(VLOOKUP(VentasMenudeo[[#This Row],[Producto]],$A$2:$B$5,2,FALSE),0)","v":270},{"$f":"_xlfn.IFNA(_xlfn.IFS(VentasMenudeo[[#This Row],[Producto]]=$A$2,VentasMenudeo[[#This Row],[Precio de Venta]]*VentasMenudeo[[#This Row],[Cantidad]]-VentasMenudeo[[#This Row],[Descuento]],VentasMenudeo[[#This Row],[Producto]]=$A$3,VentasMenudeo[[#This Row],[Precio de Venta]]*VentasMenudeo[[#This Row],[Cantidad]]-VentasMenudeo[[#This Row],[Descuento]],VentasMenudeo[[#This Row],[Producto]]=$A$4,VentasMenudeo[[#This Row],[Precio de Venta]]*VentasMenudeo[[#This Row],[Cantidad]]-VentasMenudeo[[#This Row],[Descuento]],VentasMenudeo[[#This Row],[Producto]]=$A$5,VentasMenudeo[[#This Row],[Precio de Venta]]*VentasMenudeo[[#This Row],[Cantidad]]-VentasMenudeo[[#This Row],[Descuento]]),0)","v":190},190]
["2023-03-08","Hugo","IPLAY MAX","Grape Ice",1,"Navidad",null,{"$f":"_xlfn.IFNA(VLOOKUP(VentasMenudeo[[#This Row],[Promoción]],PromocionesMenudeo[[Promocion]:[Descuento]],2,0),0)","v":80},{"$f":"_xlfn.IFNA(VLOOKUP(VentasMenudeo[[#This Row],[Producto]],$A$2:$B$5,2,FALSE),0)","v":270},{"$f":"_xlfn.IFNA(_xlfn.IFS(VentasMenudeo[[#This Row],[Producto]]=$A$2,VentasMenudeo[[#This Row],[Precio de Venta]]*VentasMenudeo[[#This Row],[Cantidad]]-VentasMenudeo[[#This Row],[Descuento]],VentasMenudeo[[#This Row],[Producto]]=$A$3,VentasMenudeo[[#This Row],[Precio de Venta]]*VentasMenudeo[[#This Row],[Cantidad]]-VentasMenudeo[[#This Row],[Descuento]],VentasMenudeo[[#This Row],[Producto]]=$A$4,VentasMenudeo[[#This Row],[Precio de Venta]]*VentasMenudeo[[#This Row],[Cantidad]]-VentasMenudeo[[#This Row],[Descuento]],VentasMenudeo[[#This Row],[Producto]]=$A$5,VentasMenudeo[[#This Row],[Precio de Venta]]*VentasMenudeo[[#This Row],[Cantidad]]-VentasMenudeo[[#This Row],[Descuento]]),0)","v":190},190]
["2023-03-08","Hugo","IPLAY MAX","Sourraspberry",1,"Navidad",null,{"$f":"_xlfn.IFNA(VLOOKUP(VentasMenudeo[[#This Row],[Promoción]],PromocionesMenudeo[[Promocion]:[Descuento]],2,0),0)","v":80},{"$f":"_xlfn.IFNA(VLOOKUP(VentasMenudeo[[#This Row],[Producto]],$A$2:$B$5,2,FALSE),0)","v":270},{"$f":"_xlfn.IFNA(_xlfn.IFS(VentasMenudeo[[#This Row],[Producto]]=$A$2,VentasMenudeo[[#This Row],[Precio de Venta]]*VentasMenudeo[[#This Row],[Cantidad]]-VentasMenudeo[[#This Row],[Descuento]],VentasMenudeo[[#This Row],[Producto]]=$A$3,VentasMenudeo[[#This Row],[Precio de Venta]]*VentasMenudeo[[#This Row],[Cantidad]]-VentasMenudeo[[#This Row],[Descuento]],VentasMenudeo[[#This Row],[Producto]]=$A$4,VentasMenudeo[[#This Row],[Precio de Venta]]*VentasMenudeo[[#This Row],[Cantidad]]-VentasMenudeo[[#This Row],[Descuento]],VentasMenudeo[[#This Row],[Producto]]=$A$5,VentasMenudeo[[#This Row],[Precio de Venta]]*VentasMenudeo[[#This Row],[Cantidad]]-VentasMenudeo[[#This Row],[Descuento]]),0)","v":190},190]
["2023-03-08","Hugo","IPLAY MAX","Low Mint",1,"Navidad",null,{"$f":"_xlfn.IFNA(VLOOKUP(VentasMenudeo[[#This Row],[Promoción]],PromocionesMenudeo[[Promocion]:[Descuento]],2,0),0)","v":80},{"$f":"_xlfn.IFNA(VLOOKUP(VentasMenudeo[[#This Row],[Producto]],$A$2:$B$5,2,FALSE),0)","v":270},{"$f":"_xlfn.IFNA(_xlfn.IFS(VentasMenudeo[[#This Row],[Producto]]=$A$2,VentasMenudeo[[#This Row],[Precio de Venta]]*VentasMenudeo[[#This Row],[Cantidad]]-VentasMenudeo[[#This Row],[Descuento]],VentasMenudeo[[#This Row],[Producto]]=$A$3,VentasMenudeo[[#This Row],[Precio de Venta]]*VentasMenudeo[[#This Row],[Cantidad]]-VentasMenudeo[[#This Row],[Descuento]],VentasMenudeo[[#This Row],[Producto]]=$A$4,VentasMenudeo[[#This Row],[Precio de Venta]]*VentasMenudeo[[#This Row],[Cantidad]]-VentasMenudeo[[#This Row],[Descuento]],VentasMenudeo[[#This Row],[Producto]]=$A$5,VentasMenudeo[[#This Row],[Precio de Venta]]*VentasMenudeo[[#This Row],[Cantidad]]-VentasMenudeo[[#This Row],[Descuento]]),0)","v":190},190]
["2023-03-08","Hugo","IPLAY MAX","Low Mint",1,"Navidad",null,{"$f":"_xlfn.IFNA(VLOOKUP(VentasMenudeo[[#This Row],[Promoción]],PromocionesMenudeo[[Promocion]:[Descuento]],2,0),0)","v":80},{"$f":"_xlfn.IFNA(VLOOKUP(VentasMenudeo[[#This Row],[Producto]],$A$2:$B$5,2,FALSE),0)","v":270},{"$f":"_xlfn.IFNA(_xlfn.IFS(VentasMenudeo[[#This Row],[Producto]]=$A$2,VentasMenudeo[[#This Row],[Precio de Venta]]*VentasMenudeo[[#This Row],[Cantidad]]-VentasMenudeo[[#This Row],[Descuento]],VentasMenudeo[[#This Row],[Producto]]=$A$3,VentasMenudeo[[#This Row],[Precio de Venta]]*VentasMenudeo[[#This Row],[Cantidad]]-VentasMenudeo[[#This Row],[Descuento]],VentasMenudeo[[#This Row],[Producto]]=$A$4,VentasMenudeo[[#This Row],[Precio de Venta]]*VentasMenudeo[[#This Row],[Cantidad]]-VentasMenudeo[[#This Row],[Descuento]],VentasMenudeo[[#This Row],[Producto]]=$A$5,VentasMenudeo[[#This Row],[Precio de Venta]]*VentasMenudeo[[#This Row],[Cantidad]]-VentasMenudeo[[#This Row],[Descuento]]),0)","v":190},190]
["2023-03-08","Hugo","IPLAY MAX","Low Mint",1,"Navidad",null,{"$f":"_xlfn.IFNA(VLOOKUP(VentasMenudeo[[#This Row],[Promoción]],PromocionesMenudeo[[Promocion]:[Descuento]],2,0),0)","v":80},{"$f":"_xlfn.IFNA(VLOOKUP(VentasMenudeo[[#This Row],[Producto]],$A$2:$B$5,2,FALSE),0)","v":270},{"$f":"_xlfn.IFNA(_xlfn.IFS(VentasMenudeo[[#This Row],[Producto]]=$A$2,VentasMenudeo[[#This Row],[Precio de Venta]]*VentasMenudeo[[#This Row],[Cantidad]]-VentasMenudeo[[#This Row],[Descuento]],VentasMenudeo[[#This Row],[Producto]]=$A$3,VentasMenudeo[[#This Row],[Precio de Venta]]*VentasMenudeo[[#This Row],[Cantidad]]-VentasMenudeo[[#This Row],[Descuento]],VentasMenudeo[[#This Row],[Producto]]=$A$4,VentasMenudeo[[#This Row],[Precio de Venta]]*VentasMenudeo[[#This Row],[Cantidad]]-VentasMenudeo[[#This Row],[Descuento]],VentasMenudeo[[#This Row],[Producto]]=$A$5,VentasMenudeo[[#This Row],[Precio de Venta]]*VentasMenudeo[[#This Row],[Cantidad]]-VentasMenudeo[[#This Row],[Descuento]]),0)","v":190},190]
["2023-03-08","Hugo","IPLAY MAX","Banana Cherry DragonFruit",1,"Navidad",null,{"$f":"_xlfn.IFNA(VLOOKUP(VentasMenudeo[[#This Row],[Promoción]],PromocionesMenudeo[[Promocion]:[Descuento]],2,0),0)","v":80},{"$f":"_xlfn.IFNA(VLOOKUP(VentasMenudeo[[#This Row],[Producto]],$A$2:$B$5,2,FALSE),0)","v":270},{"$f":"_xlfn.IFNA(_xlfn.IFS(VentasMenudeo[[#This Row],[Producto]]=$A$2,VentasMenudeo[[#This Row],[Precio de Venta]]*VentasMenudeo[[#This Row],[Cantidad]]-VentasMenudeo[[#This Row],[Descuento]],VentasMenudeo[[#This Row],[Producto]]=$A$3,VentasMenudeo[[#This Row],[Precio de Venta]]*VentasMenudeo[[#This Row],[Cantidad]]-VentasMenudeo[[#This Row],[Descuento]],VentasMenudeo[[#This Row],[Producto]]=$A$4,VentasMenudeo[[#This Row],[Precio de Venta]]*VentasMenudeo[[#This Row],[Cantidad]]-VentasMenudeo[[#This Row],[Descuento]],VentasMenudeo[[#This Row],[Producto]]=$A$5,VentasMenudeo[[#This Row],[Precio de Venta]]*VentasMenudeo[[#This Row],[Cantidad]]-VentasMenudeo[[#This Row],[Descuento]]),0)","v":190},190]
["2023-03-08","Hugo","IPLAY MAX","Banana Cherry DragonFruit",1,"Navidad",null,{"$f":"_xlfn.IFNA(VLOOKUP(VentasMenudeo[[#This Row],[Promoción]],PromocionesMenudeo[[Promocion]:[Descuento]],2,0),0)","v":80},{"$f":"_xlfn.IFNA(VLOOKUP(VentasMenudeo[[#This Row],[Producto]],$A$2:$B$5,2,FALSE),0)","v":270},{"$f":"_xlfn.IFNA(_xlfn.IFS(VentasMenudeo[[#This Row],[Producto]]=$A$2,VentasMenudeo[[#This Row],[Precio de Venta]]*VentasMenudeo[[#This Row],[Cantidad]]-VentasMenudeo[[#This Row],[Descuento]],VentasMenudeo[[#This Row],[Producto]]=$A$3,VentasMenudeo[[#This Row],[Precio de Venta]]*VentasMenudeo[[#This Row],[Cantidad]]-VentasMenudeo[[#This Row],[Descuento]],VentasMenudeo[[#This Row],[Producto]]=$A$4,VentasMenudeo[[#This Row],[Precio de Venta]]*VentasMenudeo[[#This Row],[Cantidad]]-VentasMenudeo[[#This Row],[Descuento]],VentasMenudeo[[#This Row],[Producto]]=$A$5,VentasMenudeo[[#This Row],[Precio de Venta]]*VentasMenudeo[[#This Row],[Cantidad]]-VentasMenudeo[[#This Row],[Descuento]]),0)","v":190},190]
["2023-03-08","Hugo","IPLAY MAX","Pineapple Orange Guava",1,"Navidad",null,{"$f":"_xlfn.IFNA(VLOOKUP(VentasMenudeo[[#This Row],[Promoción]],PromocionesMenudeo[[Promocion]:[Descuento]],2,0),0)","v":80},{"$f":"_xlfn.IFNA(VLOOKUP(VentasMenudeo[[#This Row],[Producto]],$A$2:$B$5,2,FALSE),0)","v":270},{"$f":"_xlfn.IFNA(_xlfn.IFS(VentasMenudeo[[#This Row],[Producto]]=$A$2,VentasMenudeo[[#This Row],[Precio de Venta]]*VentasMenudeo[[#This Row],[Cantidad]]-VentasMenudeo[[#This Row],[Descuento]],VentasMenudeo[[#This Row],[Producto]]=$A$3,VentasMenudeo[[#This Row],[Precio de Venta]]*VentasMenudeo[[#This Row],[Cantidad]]-VentasMenudeo[[#This Row],[Descuento]],VentasMenudeo[[#This Row],[Producto]]=$A$4,VentasMenudeo[[#This Row],[Precio de Venta]]*VentasMenudeo[[#This Row],[Cantidad]]-VentasMenudeo[[#This Row],[Descuento]],VentasMenudeo[[#This Row],[Producto]]=$A$5,VentasMenudeo[[#This Row],[Precio de Venta]]*VentasMenudeo[[#This Row],[Cantidad]]-VentasMenudeo[[#This Row],[Descuento]]),0)","v":190},190]
["2023-03-08","Hugo","IPLAY MAX","Peach Ice",1,"Navidad",null,{"$f":"_xlfn.IFNA(VLOOKUP(VentasMenudeo[[#This Row],[Promoción]],PromocionesMenudeo[[Promocion]:[Descuento]],2,0),0)","v":80},{"$f":"_xlfn.IFNA(VLOOKUP(VentasMenudeo[[#This Row],[Producto]],$A$2:$B$5,2,FALSE),0)","v":270},{"$f":"_xlfn.IFNA(_xlfn.IFS(VentasMenudeo[[#This Row],[Producto]]=$A$2,VentasMenudeo[[#This Row],[Precio de Venta]]*VentasMenudeo[[#This Row],[Cantidad]]-VentasMenudeo[[#This Row],[Descuento]],VentasMenudeo[[#This Row],[Producto]]=$A$3,VentasMenudeo[[#This Row],[Precio de Venta]]*VentasMenudeo[[#This Row],[Cantidad]]-VentasMenudeo[[#This Row],[Descuento]],VentasMenudeo[[#This Row],[Producto]]=$A$4,VentasMenudeo[[#This Row],[Precio de Venta]]*VentasMenudeo[[#This Row],[Cantidad]]-VentasMenudeo[[#This Row],[Descuento]],VentasMenudeo[[#This Row],[Producto]]=$A$5,VentasMenudeo[[#This Row],[Precio de Venta]]*VentasMenudeo[[#This Row],[Cantidad]]-VentasMenudeo[[#This Row],[Descuento]]),0)","v":190},190]
["2023-03-08","Hugo","IPLAY MAX","Banana Ice",1,"Navidad",null,{"$f":"_xlfn.IFNA(VLOOKUP(VentasMenudeo[[#This Row],[Promoción]],PromocionesMenudeo[[Promocion]:[Descuento]],2,0),0)","v":80},{"$f":"_xlfn.IFNA(VLOOKUP(VentasMenudeo[[#This Row],[Producto]],$A$2:$B$5,2,FALSE),0)","v":270},{"$f":"_xlfn.IFNA(_xlfn.IFS(VentasMenudeo[[#This Row],[Producto]]=$A$2,VentasMenudeo[[#This Row],[Precio de Venta]]*VentasMenudeo[[#This Row],[Cantidad]]-VentasMenudeo[[#This Row],[Descuento]],VentasMenudeo[[#This Row],[Producto]]=$A$3,VentasMenudeo[[#This Row],[Precio de Venta]]*VentasMenudeo[[#This Row],[Cantidad]]-VentasMenudeo[[#This Row],[Descuento]],VentasMenudeo[[#This Row],[Producto]]=$A$4,VentasMenudeo[[#This Row],[Precio de Venta]]*VentasMenudeo[[#This Row],[Cantidad]]-VentasMenudeo[[#This Row],[Descuento]],VentasMenudeo[[#This Row],[Producto]]=$A$5,VentasMenudeo[[#This Row],[Precio de Venta]]*VentasMenudeo[[#This Row],[Cantidad]]-VentasMenudeo[[#This Row],[Descuento]]),0)","v":190},190]
["2023-03-13","Hugo","IPLAY MAX","Banana Ice",1,"Navidad",null,{"$f":"_xlfn.IFNA(VLOOKUP(VentasMenudeo[[#This Row],[Promoción]],PromocionesMenudeo[[Promocion]:[Descuento]],2,0),0)","v":80},{"$f":"_xlfn.IFNA(VLOOKUP(VentasMenudeo[[#This Row],[Producto]],$A$2:$B$5,2,FALSE),0)","v":270},{"$f":"_xlfn.IFNA(_xlfn.IFS(VentasMenudeo[[#This Row],[Producto]]=$A$2,VentasMenudeo[[#This Row],[Precio de Venta]]*VentasMenudeo[[#This Row],[Cantidad]]-VentasMenudeo[[#This Row],[Descuento]],VentasMenudeo[[#This Row],[Producto]]=$A$3,VentasMenudeo[[#This Row],[Precio de Venta]]*VentasMenudeo[[#This Row],[Cantidad]]-VentasMenudeo[[#This Row],[Descuento]],VentasMenudeo[[#This Row],[Producto]]=$A$4,VentasMenudeo[[#This Row],[Precio de Venta]]*VentasMenudeo[[#This Row],[Cantidad]]-VentasMenudeo[[#This Row],[Descuento]],VentasMenudeo[[#This Row],[Producto]]=$A$5,VentasMenudeo[[#This Row],[Precio de Venta]]*VentasMenudeo[[#This Row],[Cantidad]]-VentasMenudeo[[#This Row],[Descuento]]),0)","v":190},190]
["2023-03-13","Hugo","IPLAY MAX","Banana Ice",1,"Navidad",null,{"$f":"_xlfn.IFNA(VLOOKUP(VentasMenudeo[[#This Row],[Promoción]],PromocionesMenudeo[[Promocion]:[Descuento]],2,0),0)","v":80},{"$f":"_xlfn.IFNA(VLOOKUP(VentasMenudeo[[#This Row],[Producto]],$A$2:$B$5,2,FALSE),0)","v":270},{"$f":"_xlfn.IFNA(_xlfn.IFS(VentasMenudeo[[#This Row],[Producto]]=$A$2,VentasMenudeo[[#This Row],[Precio de Venta]]*VentasMenudeo[[#This Row],[Cantidad]]-VentasMenudeo[[#This Row],[Descuento]],VentasMenudeo[[#This Row],[Producto]]=$A$3,VentasMenudeo[[#This Row],[Precio de Venta]]*VentasMenudeo[[#This Row],[Cantidad]]-VentasMenudeo[[#This Row],[Descuento]],VentasMenudeo[[#This Row],[Producto]]=$A$4,VentasMenudeo[[#This Row],[Precio de Venta]]*VentasMenudeo[[#This Row],[Cantidad]]-VentasMenudeo[[#This Row],[Descuento]],VentasMenudeo[[#This Row],[Producto]]=$A$5,VentasMenudeo[[#This Row],[Precio de Venta]]*VentasMenudeo[[#This Row],[Cantidad]]-VentasMenudeo[[#This Row],[Descuento]]),0)","v":190},190]
["2023-03-13","Hugo","IPLAY MAX","Banana Ice",1,"Navidad",null,{"$f":"_xlfn.IFNA(VLOOKUP(VentasMenudeo[[#This Row],[Promoción]],PromocionesMenudeo[[Promocion]:[Descuento]],2,0),0)","v":80},{"$f":"_xlfn.IFNA(VLOOKUP(VentasMenudeo[[#This Row],[Producto]],$A$2:$B$5,2,FALSE),0)","v":270},{"$f":"_xlfn.IFNA(_xlfn.IFS(VentasMenudeo[[#This Row],[Producto]]=$A$2,VentasMenudeo[[#This Row],[Precio de Venta]]*VentasMenudeo[[#This Row],[Cantidad]]-VentasMenudeo[[#This Row],[Descuento]],VentasMenudeo[[#This Row],[Producto]]=$A$3,VentasMenudeo[[#This Row],[Precio de Venta]]*VentasMenudeo[[#This Row],[Cantidad]]-VentasMenudeo[[#This Row],[Descuento]],VentasMenudeo[[#This Row],[Producto]]=$A$4,VentasMenudeo[[#This Row],[Precio de Venta]]*VentasMenudeo[[#This Row],[Cantidad]]-VentasMenudeo[[#This Row],[Descuento]],VentasMenudeo[[#This Row],[Producto]]=$A$5,VentasMenudeo[[#This Row],[Precio de Venta]]*VentasMenudeo[[#This Row],[Cantidad]]-VentasMenudeo[[#This Row],[Descuento]]),0)","v":190},190]
["2023-03-13","Hugo","IPLAY MAX","Coconut",1,"Navidad",null,{"$f":"_xlfn.IFNA(VLOOKUP(VentasMenudeo[[#This Row],[Promoción]],PromocionesMenudeo[[Promocion]:[Descuento]],2,0),0)","v":80},{"$f":"_xlfn.IFNA(VLOOKUP(VentasMenudeo[[#This Row],[Producto]],$A$2:$B$5,2,FALSE),0)","v":270},{"$f":"_xlfn.IFNA(_xlfn.IFS(VentasMenudeo[[#This Row],[Producto]]=$A$2,VentasMenudeo[[#This Row],[Precio de Venta]]*VentasMenudeo[[#This Row],[Cantidad]]-VentasMenudeo[[#This Row],[Descuento]],VentasMenudeo[[#This Row],[Producto]]=$A$3,VentasMenudeo[[#This Row],[Precio de Venta]]*VentasMenudeo[[#This Row],[Cantidad]]-VentasMenudeo[[#This Row],[Descuento]],VentasMenudeo[[#This Row],[Producto]]=$A$4,VentasMenudeo[[#This Row],[Precio de Venta]]*VentasMenudeo[[#This Row],[Cantidad]]-VentasMenudeo[[#This Row],[Descuento]],VentasMenudeo[[#This Row],[Producto]]=$A$5,VentasMenudeo[[#This Row],[Precio de Venta]]*VentasMenudeo[[#This Row],[Cantidad]]-VentasMenudeo[[#This Row],[Descuento]]),0)","v":190},190]
["2023-03-13","Hugo","IPLAY MAX","Coconut",1,"Navidad",null,{"$f":"_xlfn.IFNA(VLOOKUP(VentasMenudeo[[#This Row],[Promoción]],PromocionesMenudeo[[Promocion]:[Descuento]],2,0),0)","v":80},{"$f":"_xlfn.IFNA(VLOOKUP(VentasMenudeo[[#This Row],[Producto]],$A$2:$B$5,2,FALSE),0)","v":270},{"$f":"_xlfn.IFNA(_xlfn.IFS(VentasMenudeo[[#This Row],[Producto]]=$A$2,VentasMenudeo[[#This Row],[Precio de Venta]]*VentasMenudeo[[#This Row],[Cantidad]]-VentasMenudeo[[#This Row],[Descuento]],VentasMenudeo[[#This Row],[Producto]]=$A$3,VentasMenudeo[[#This Row],[Precio de Venta]]*VentasMenudeo[[#This Row],[Cantidad]]-VentasMenudeo[[#This Row],[Descuento]],VentasMenudeo[[#This Row],[Producto]]=$A$4,VentasMenudeo[[#This Row],[Precio de Venta]]*VentasMenudeo[[#This Row],[Cantidad]]-VentasMenudeo[[#This Row],[Descuento]],VentasMenudeo[[#This Row],[Producto]]=$A$5,VentasMenudeo[[#This Row],[Precio de Venta]]*VentasMenudeo[[#This Row],[Cantidad]]-VentasMenudeo[[#This Row],[Descuento]]),0)","v":190},190]
["2023-03-13","Hugo","IPLAY MAX","Guava",1,"Navidad",null,{"$f":"_xlfn.IFNA(VLOOKUP(VentasMenudeo[[#This Row],[Promoción]],PromocionesMenudeo[[Promocion]:[Descuento]],2,0),0)","v":80},{"$f":"_xlfn.IFNA(VLOOKUP(VentasMenudeo[[#This Row],[Producto]],$A$2:$B$5,2,FALSE),0)","v":270},{"$f":"_xlfn.IFNA(_xlfn.IFS(VentasMenudeo[[#This Row],[Producto]]=$A$2,VentasMenudeo[[#This Row],[Precio de Venta]]*VentasMenudeo[[#This Row],[Cantidad]]-VentasMenudeo[[#This Row],[Descuento]],VentasMenudeo[[#This Row],[Producto]]=$A$3,VentasMenudeo[[#This Row],[Precio de Venta]]*VentasMenudeo[[#This Row],[Cantidad]]-VentasMenudeo[[#This Row],[Descuento]],VentasMenudeo[[#This Row],[Producto]]=$A$4,VentasMenudeo[[#This Row],[Precio de Venta]]*VentasMenudeo[[#This Row],[Cantidad]]-VentasMenudeo[[#This Row],[Descuento]],VentasMenudeo[[#This Row],[Producto]]=$A$5,VentasMenudeo[[#This Row],[Precio de Venta]]*VentasMenudeo[[#This Row],[Cantidad]]-VentasMenudeo[[#This Row],[Descuento]]),0)","v":190},190]
["2023-03-13","Hugo","IPLAY MAX","Strawberry Lychee",1,"Navidad",null,{"$f":"_xlfn.IFNA(VLOOKUP(VentasMenudeo[[#This Row],[Promoción]],PromocionesMenudeo[[Promocion]:[Descuento]],2,0),0)","v":80},{"$f":"_xlfn.IFNA(VLOOKUP(VentasMenudeo[[#This Row],[Producto]],$A$2:$B$5,2,FALSE),0)","v":270},{"$f":"_xlfn.IFNA(_xlfn.IFS(VentasMenudeo[[#This Row],[Producto]]=$A$2,VentasMenudeo[[#This Row],[Precio de Venta]]*VentasMenudeo[[#This Row],[Cantidad]]-VentasMenudeo[[#This Row],[Descuento]],VentasMenudeo[[#This Row],[Producto]]=$A$3,VentasMenudeo[[#This Row],[Precio de Venta]]*VentasMenudeo[[#This Row],[Cantidad]]-VentasMenudeo[[#This Row],[Descuento]],VentasMenudeo[[#This Row],[Producto]]=$A$4,VentasMenudeo[[#This Row],[Precio de Venta]]*VentasMenudeo[[#This Row],[Cantidad]]-VentasMenudeo[[#This Row],[Descuento]],VentasMenudeo[[#This Row],[Producto]]=$A$5,VentasMenudeo[[#This Row],[Precio de Venta]]*VentasMenudeo[[#This Row],[Cantidad]]-VentasMenudeo[[#This Row],[Descuento]]),0)","v":190},190]
["2023-03-13","Hugo","IPLAY MAX","Grape Ice",1,"Navidad",null,{"$f":"_xlfn.IFNA(VLOOKUP(VentasMenudeo[[#This Row],[Promoción]],PromocionesMenudeo[[Promocion]:[Descuento]],2,0),0)","v":80},{"$f":"_xlfn.IFNA(VLOOKUP(VentasMenudeo[[#This Row],[Producto]],$A$2:$B$5,2,FALSE),0)","v":270},{"$f":"_xlfn.IFNA(_xlfn.IFS(VentasMenudeo[[#This Row],[Producto]]=$A$2,VentasMenudeo[[#This Row],[Precio de Venta]]*VentasMenudeo[[#This Row],[Cantidad]]-VentasMenudeo[[#This Row],[Descuento]],VentasMenudeo[[#This Row],[Producto]]=$A$3,VentasMenudeo[[#This Row],[Precio de Venta]]*VentasMenudeo[[#This Row],[Cantidad]]-VentasMenudeo[[#This Row],[Descuento]],VentasMenudeo[[#This Row],[Producto]]=$A$4,VentasMenudeo[[#This Row],[Precio de Venta]]*VentasMenudeo[[#This Row],[Cantidad]]-VentasMenudeo[[#This Row],[Descuento]],VentasMenudeo[[#This Row],[Producto]]=$A$5,VentasMenudeo[[#This Row],[Precio de Venta]]*VentasMenudeo[[#This Row],[Cantidad]]-VentasMenudeo[[#This Row],[Descuento]]),0)","v":190},190]
["2023-03-13","Hugo","IPLAY MAX","Grape Ice",1,"Navidad",null,{"$f":"_xlfn.IFNA(VLOOKUP(VentasMenudeo[[#This Row],[Promoción]],PromocionesMenudeo[[Promocion]:[Descuento]],2,0),0)","v":80},{"$f":"_xlfn.IFNA(VLOOKUP(VentasMenudeo[[#This Row],[Producto]],$A$2:$B$5,2,FALSE),0)","v":270},{"$f":"_xlfn.IFNA(_xlfn.IFS(VentasMenudeo[[#This Row],[Producto]]=$A$2,VentasMenudeo[[#This Row],[Precio de Venta]]*VentasMenudeo[[#This Row],[Cantidad]]-VentasMenudeo[[#This Row],[Descuento]],VentasMenudeo[[#This Row],[Producto]]=$A$3,VentasMenudeo[[#This Row],[Precio de Venta]]*VentasMenudeo[[#This Row],[Cantidad]]-VentasMenudeo[[#This Row],[Descuento]],VentasMenudeo[[#This Row],[Producto]]=$A$4,VentasMenudeo[[#This Row],[Precio de Venta]]*VentasMenudeo[[#This Row],[Cantidad]]-VentasMenudeo[[#This Row],[Descuento]],VentasMenudeo[[#This Row],[Producto]]=$A$5,VentasMenudeo[[#This Row],[Precio de Venta]]*VentasMenudeo[[#This Row],[Cantidad]]-VentasMenudeo[[#This Row],[Descuento]]),0)","v":190},190]
["2023-03-13","Hugo","IPLAY MAX","Pineapple Orange Guava",1,"Navidad",null,{"$f":"_xlfn.IFNA(VLOOKUP(VentasMenudeo[[#This Row],[Promoción]],PromocionesMenudeo[[Promocion]:[Descuento]],2,0),0)","v":80},{"$f":"_xlfn.IFNA(VLOOKUP(VentasMenudeo[[#This Row],[Producto]],$A$2:$B$5,2,FALSE),0)","v":270},{"$f":"_xlfn.IFNA(_xlfn.IFS(VentasMenudeo[[#This Row],[Producto]]=$A$2,VentasMenudeo[[#This Row],[Precio de Venta]]*VentasMenudeo[[#This Row],[Cantidad]]-VentasMenudeo[[#This Row],[Descuento]],VentasMenudeo[[#This Row],[Producto]]=$A$3,VentasMenudeo[[#This Row],[Precio de Venta]]*VentasMenudeo[[#This Row],[Cantidad]]-VentasMenudeo[[#This Row],[Descuento]],VentasMenudeo[[#This Row],[Producto]]=$A$4,VentasMenudeo[[#This Row],[Precio de Venta]]*VentasMenudeo[[#This Row],[Cantidad]]-VentasMenudeo[[#This Row],[Descuento]],VentasMenudeo[[#This Row],[Producto]]=$A$5,VentasMenudeo[[#This Row],[Precio de Venta]]*VentasMenudeo[[#This Row],[Cantidad]]-VentasMenudeo[[#This Row],[Descuento]]),0)","v":190},190]
["2023-03-14","Hugo","IPLAY MAX","Guava",1,"Navidad",null,{"$f":"_xlfn.IFNA(VLOOKUP(VentasMenudeo[[#This Row],[Promoción]],PromocionesMenudeo[[Promocion]:[Descuento]],2,0),0)","v":80},{"$f":"_xlfn.IFNA(VLOOKUP(VentasMenudeo[[#This Row],[Producto]],$A$2:$B$5,2,FALSE),0)","v":270},{"$f":"_xlfn.IFNA(_xlfn.IFS(VentasMenudeo[[#This Row],[Producto]]=$A$2,VentasMenudeo[[#This Row],[Precio de Venta]]*VentasMenudeo[[#This Row],[Cantidad]]-VentasMenudeo[[#This Row],[Descuento]],VentasMenudeo[[#This Row],[Producto]]=$A$3,VentasMenudeo[[#This Row],[Precio de Venta]]*VentasMenudeo[[#This Row],[Cantidad]]-VentasMenudeo[[#This Row],[Descuento]],VentasMenudeo[[#This Row],[Producto]]=$A$4,VentasMenudeo[[#This Row],[Precio de Venta]]*VentasMenudeo[[#This Row],[Cantidad]]-VentasMenudeo[[#This Row],[Descuento]],VentasMenudeo[[#This Row],[Producto]]=$A$5,VentasMenudeo[[#This Row],[Precio de Venta]]*VentasMenudeo[[#This Row],[Cantidad]]-VentasMenudeo[[#This Row],[Descuento]]),0)","v":190},190]
["2023-03-18","Hugo","IPLAY MAX","Watermelon Banana",1,"Navidad",null,{"$f":"_xlfn.IFNA(VLOOKUP(VentasMenudeo[[#This Row],[Promoción]],PromocionesMenudeo[[Promocion]:[Descuento]],2,0),0)","v":80},{"$f":"_xlfn.IFNA(VLOOKUP(VentasMenudeo[[#This Row],[Producto]],$A$2:$B$5,2,FALSE),0)","v":270},{"$f":"_xlfn.IFNA(_xlfn.IFS(VentasMenudeo[[#This Row],[Producto]]=$A$2,VentasMenudeo[[#This Row],[Precio de Venta]]*VentasMenudeo[[#This Row],[Cantidad]]-VentasMenudeo[[#This Row],[Descuento]],VentasMenudeo[[#This Row],[Producto]]=$A$3,VentasMenudeo[[#This Row],[Precio de Venta]]*VentasMenudeo[[#This Row],[Cantidad]]-VentasMenudeo[[#This Row],[Descuento]],VentasMenudeo[[#This Row],[Producto]]=$A$4,VentasMenudeo[[#This Row],[Precio de Venta]]*VentasMenudeo[[#This Row],[Cantidad]]-VentasMenudeo[[#This Row],[Descuento]],VentasMenudeo[[#This Row],[Producto]]=$A$5,VentasMenudeo[[#This Row],[Precio de Venta]]*VentasMenudeo[[#This Row],[Cantidad]]-VentasMenudeo[[#This Row],[Descuento]]),0)","v":190},190]
["2023-03-18","Hugo","IPLAY MAX","Watermelon Banana",1,"Navidad",null,{"$f":"_xlfn.IFNA(VLOOKUP(VentasMenudeo[[#This Row],[Promoción]],PromocionesMenudeo[[Promocion]:[Descuento]],2,0),0)","v":80},{"$f":"_xlfn.IFNA(VLOOKUP(VentasMenudeo[[#This Row],[Producto]],$A$2:$B$5,2,FALSE),0)","v":270},{"$f":"_xlfn.IFNA(_xlfn.IFS(VentasMenudeo[[#This Row],[Producto]]=$A$2,VentasMenudeo[[#This Row],[Precio de Venta]]*VentasMenudeo[[#This Row],[Cantidad]]-VentasMenudeo[[#This Row],[Descuento]],VentasMenudeo[[#This Row],[Producto]]=$A$3,VentasMenudeo[[#This Row],[Precio de Venta]]*VentasMenudeo[[#This Row],[Cantidad]]-VentasMenudeo[[#This Row],[Descuento]],VentasMenudeo[[#This Row],[Producto]]=$A$4,VentasMenudeo[[#This Row],[Precio de Venta]]*VentasMenudeo[[#This Row],[Cantidad]]-VentasMenudeo[[#This Row],[Descuento]],VentasMenudeo[[#This Row],[Producto]]=$A$5,VentasMenudeo[[#This Row],[Precio de Venta]]*VentasMenudeo[[#This Row],[Cantidad]]-VentasMenudeo[[#This Row],[Descuento]]),0)","v":190},190]
["2023-03-18","Hugo","IPLAY MAX","Watermelon Banana",1,"Navidad",null,{"$f":"_xlfn.IFNA(VLOOKUP(VentasMenudeo[[#This Row],[Promoción]],PromocionesMenudeo[[Promocion]:[Descuento]],2,0),0)","v":80},{"$f":"_xlfn.IFNA(VLOOKUP(VentasMenudeo[[#This Row],[Producto]],$A$2:$B$5,2,FALSE),0)","v":270},{"$f":"_xlfn.IFNA(_xlfn.IFS(VentasMenudeo[[#This Row],[Producto]]=$A$2,VentasMenudeo[[#This Row],[Precio de Venta]]*VentasMenudeo[[#This Row],[Cantidad]]-VentasMenudeo[[#This Row],[Descuento]],VentasMenudeo[[#This Row],[Producto]]=$A$3,VentasMenudeo[[#This Row],[Precio de Venta]]*VentasMenudeo[[#This Row],[Cantidad]]-VentasMenudeo[[#This Row],[Descuento]],VentasMenudeo[[#This Row],[Producto]]=$A$4,VentasMenudeo[[#This Row],[Precio de Venta]]*VentasMenudeo[[#This Row],[Cantidad]]-VentasMenudeo[[#This Row],[Descuento]],VentasMenudeo[[#This Row],[Producto]]=$A$5,VentasMenudeo[[#This Row],[Precio de Venta]]*VentasMenudeo[[#This Row],[Cantidad]]-VentasMenudeo[[#This Row],[Descuento]]),0)","v":190},190]
["2023-03-18","Hugo","IPLAY MAX","Sour Apple",1,"Navidad",null,{"$f":"_xlfn.IFNA(VLOOKUP(VentasMenudeo[[#This Row],[Promoción]],PromocionesMenudeo[[Promocion]:[Descuento]],2,0),0)","v":80},{"$f":"_xlfn.IFNA(VLOOKUP(VentasMenudeo[[#This Row],[Producto]],$A$2:$B$5,2,FALSE),0)","v":270},{"$f":"_xlfn.IFNA(_xlfn.IFS(VentasMenudeo[[#This Row],[Producto]]=$A$2,VentasMenudeo[[#This Row],[Precio de Venta]]*VentasMenudeo[[#This Row],[Cantidad]]-VentasMenudeo[[#This Row],[Descuento]],VentasMenudeo[[#This Row],[Producto]]=$A$3,VentasMenudeo[[#This Row],[Precio de Venta]]*VentasMenudeo[[#This Row],[Cantidad]]-VentasMenudeo[[#This Row],[Descuento]],VentasMenudeo[[#This Row],[Producto]]=$A$4,VentasMenudeo[[#This Row],[Precio de Venta]]*VentasMenudeo[[#This Row],[Cantidad]]-VentasMenudeo[[#This Row],[Descuento]],VentasMenudeo[[#This Row],[Producto]]=$A$5,VentasMenudeo[[#This Row],[Precio de Venta]]*VentasMenudeo[[#This Row],[Cantidad]]-VentasMenudeo[[#This Row],[Descuento]]),0)","v":190},190]
["2023-03-18","Hugo","IPLAY MAX","Sour Apple",1,"Navidad",null,{"$f":"_xlfn.IFNA(VLOOKUP(VentasMenudeo[[#This Row],[Promoción]],PromocionesMenudeo[[Promocion]:[Descuento]],2,0),0)","v":80},{"$f":"_xlfn.IFNA(VLOOKUP(VentasMenudeo[[#This Row],[Producto]],$A$2:$B$5,2,FALSE),0)","v":270},{"$f":"_xlfn.IFNA(_xlfn.IFS(VentasMenudeo[[#This Row],[Producto]]=$A$2,VentasMenudeo[[#This Row],[Precio de Venta]]*VentasMenudeo[[#This Row],[Cantidad]]-VentasMenudeo[[#This Row],[Descuento]],VentasMenudeo[[#This Row],[Producto]]=$A$3,VentasMenudeo[[#This Row],[Precio de Venta]]*VentasMenudeo[[#This Row],[Cantidad]]-VentasMenudeo[[#This Row],[Descuento]],VentasMenudeo[[#This Row],[Producto]]=$A$4,VentasMenudeo[[#This Row],[Precio de Venta]]*VentasMenudeo[[#This Row],[Cantidad]]-VentasMenudeo[[#This Row],[Descuento]],VentasMenudeo[[#This Row],[Producto]]=$A$5,VentasMenudeo[[#This Row],[Precio de Venta]]*VentasMenudeo[[#This Row],[Cantidad]]-VentasMenudeo[[#This Row],[Descuento]]),0)","v":190},190]
["2023-03-18","Hugo","IPLAY MAX","Sour Apple",1,"Navidad",null,{"$f":"_xlfn.IFNA(VLOOKUP(VentasMenudeo[[#This Row],[Promoción]],PromocionesMenudeo[[Promocion]:[Descuento]],2,0),0)","v":80},{"$f":"_xlfn.IFNA(VLOOKUP(VentasMenudeo[[#This Row],[Producto]],$A$2:$B$5,2,FALSE),0)","v":270},{"$f":"_xlfn.IFNA(_xlfn.IFS(VentasMenudeo[[#This Row],[Producto]]=$A$2,VentasMenudeo[[#This Row],[Precio de Venta]]*VentasMenudeo[[#This Row],[Cantidad]]-VentasMenudeo[[#This Row],[Descuento]],VentasMenudeo[[#This Row],[Producto]]=$A$3,VentasMenudeo[[#This Row],[Precio de Venta]]*VentasMenudeo[[#This Row],[Cantidad]]-VentasMenudeo[[#This Row],[Descuento]],VentasMenudeo[[#This Row],[Producto]]=$A$4,VentasMenudeo[[#This Row],[Precio de Venta]]*VentasMenudeo[[#This Row],[Cantidad]]-VentasMenudeo[[#This Row],[Descuento]],VentasMenudeo[[#This Row],[Producto]]=$A$5,VentasMenudeo[[#This Row],[Precio de Venta]]*VentasMenudeo[[#This Row],[Cantidad]]-VentasMenudeo[[#This Row],[Descuento]]),0)","v":190},190]
["2023-03-18","Hugo","IPLAY MAX","Sour Apple",1,"Navidad",null,{"$f":"_xlfn.IFNA(VLOOKUP(VentasMenudeo[[#This Row],[Promoción]],PromocionesMenudeo[[Promocion]:[Descuento]],2,0),0)","v":80},{"$f":"_xlfn.IFNA(VLOOKUP(VentasMenudeo[[#This Row],[Producto]],$A$2:$B$5,2,FALSE),0)","v":270},{"$f":"_xlfn.IFNA(_xlfn.IFS(VentasMenudeo[[#This Row],[Producto]]=$A$2,VentasMenudeo[[#This Row],[Precio de Venta]]*VentasMenudeo[[#This Row],[Cantidad]]-VentasMenudeo[[#This Row],[Descuento]],VentasMenudeo[[#This Row],[Producto]]=$A$3,VentasMenudeo[[#This Row],[Precio de Venta]]*VentasMenudeo[[#This Row],[Cantidad]]-VentasMenudeo[[#This Row],[Descuento]],VentasMenudeo[[#This Row],[Producto]]=$A$4,VentasMenudeo[[#This Row],[Precio de Venta]]*VentasMenudeo[[#This Row],[Cantidad]]-VentasMenudeo[[#This Row],[Descuento]],VentasMenudeo[[#This Row],[Producto]]=$A$5,VentasMenudeo[[#This Row],[Precio de Venta]]*VentasMenudeo[[#This Row],[Cantidad]]-VentasMenudeo[[#This Row],[Descuento]]),0)","v":190},190]
["2023-03-18","Hugo","IPLAY MAX","Sour Apple",1,"Navidad",null,{"$f":"_xlfn.IFNA(VLOOKUP(VentasMenudeo[[#This Row],[Promoción]],PromocionesMenudeo[[Promocion]:[Descuento]],2,0),0)","v":80},{"$f":"_xlfn.IFNA(VLOOKUP(VentasMenudeo[[#This Row],[Producto]],$A$2:$B$5,2,FALSE),0)","v":270},{"$f":"_xlfn.IFNA(_xlfn.IFS(VentasMenudeo[[#This Row],[Producto]]=$A$2,VentasMenudeo[[#This Row],[Precio de Venta]]*VentasMenudeo[[#This Row],[Cantidad]]-VentasMenudeo[[#This Row],[Descuento]],VentasMenudeo[[#This Row],[Producto]]=$A$3,VentasMenudeo[[#This Row],[Precio de Venta]]*VentasMenudeo[[#This Row],[Cantidad]]-VentasMenudeo[[#This Row],[Descuento]],VentasMenudeo[[#This Row],[Producto]]=$A$4,VentasMenudeo[[#This Row],[Precio de Venta]]*VentasMenudeo[[#This Row],[Cantidad]]-VentasMenudeo[[#This Row],[Descuento]],VentasMenudeo[[#This Row],[Producto]]=$A$5,VentasMenudeo[[#This Row],[Precio de Venta]]*VentasMenudeo[[#This Row],[Cantidad]]-VentasMenudeo[[#This Row],[Descuento]]),0)","v":190},190]
["2023-03-18","Hugo","IPLAY MAX","Double mint",1,"Navidad",null,{"$f":"_xlfn.IFNA(VLOOKUP(VentasMenudeo[[#This Row],[Promoción]],PromocionesMenudeo[[Promocion]:[Descuento]],2,0),0)","v":80},{"$f":"_xlfn.IFNA(VLOOKUP(VentasMenudeo[[#This Row],[Producto]],$A$2:$B$5,2,FALSE),0)","v":270},{"$f":"_xlfn.IFNA(_xlfn.IFS(VentasMenudeo[[#This Row],[Producto]]=$A$2,VentasMenudeo[[#This Row],[Precio de Venta]]*VentasMenudeo[[#This Row],[Cantidad]]-VentasMenudeo[[#This Row],[Descuento]],VentasMenudeo[[#This Row],[Producto]]=$A$3,VentasMenudeo[[#This Row],[Precio de Venta]]*VentasMenudeo[[#This Row],[Cantidad]]-VentasMenudeo[[#This Row],[Descuento]],VentasMenudeo[[#This Row],[Producto]]=$A$4,VentasMenudeo[[#This Row],[Precio de Venta]]*VentasMenudeo[[#This Row],[Cantidad]]-VentasMenudeo[[#This Row],[Descuento]],VentasMenudeo[[#This Row],[Producto]]=$A$5,VentasMenudeo[[#This Row],[Precio de Venta]]*VentasMenudeo[[#This Row],[Cantidad]]-VentasMenudeo[[#This Row],[Descuento]]),0)","v":190},190]
["2023-03-18","Hugo","IPLAY MAX","Black Mint",1,"Navidad",null,{"$f":"_xlfn.IFNA(VLOOKUP(VentasMenudeo[[#This Row],[Promoción]],PromocionesMenudeo[[Promocion]:[Descuento]],2,0),0)","v":80},{"$f":"_xlfn.IFNA(VLOOKUP(VentasMenudeo[[#This Row],[Producto]],$A$2:$B$5,2,FALSE),0)","v":270},{"$f":"_xlfn.IFNA(_xlfn.IFS(VentasMenudeo[[#This Row],[Producto]]=$A$2,VentasMenudeo[[#This Row],[Precio de Venta]]*VentasMenudeo[[#This Row],[Cantidad]]-VentasMenudeo[[#This Row],[Descuento]],VentasMenudeo[[#This Row],[Producto]]=$A$3,VentasMenudeo[[#This Row],[Precio de Venta]]*VentasMenudeo[[#This Row],[Cantidad]]-VentasMenudeo[[#This Row],[Descuento]],VentasMenudeo[[#This Row],[Producto]]=$A$4,VentasMenudeo[[#This Row],[Precio de Venta]]*VentasMenudeo[[#This Row],[Cantidad]]-VentasMenudeo[[#This Row],[Descuento]],VentasMenudeo[[#This Row],[Producto]]=$A$5,VentasMenudeo[[#This Row],[Precio de Venta]]*VentasMenudeo[[#This Row],[Cantidad]]-VentasMenudeo[[#This Row],[Descuento]]),0)","v":190},190]
["2023-03-18","Hugo","IPLAY MAX","Banana Cherry DragonFruit",1,"Navidad",null,{"$f":"_xlfn.IFNA(VLOOKUP(VentasMenudeo[[#This Row],[Promoción]],PromocionesMenudeo[[Promocion]:[Descuento]],2,0),0)","v":80},{"$f":"_xlfn.IFNA(VLOOKUP(VentasMenudeo[[#This Row],[Producto]],$A$2:$B$5,2,FALSE),0)","v":270},{"$f":"_xlfn.IFNA(_xlfn.IFS(VentasMenudeo[[#This Row],[Producto]]=$A$2,VentasMenudeo[[#This Row],[Precio de Venta]]*VentasMenudeo[[#This Row],[Cantidad]]-VentasMenudeo[[#This Row],[Descuento]],VentasMenudeo[[#This Row],[Producto]]=$A$3,VentasMenudeo[[#This Row],[Precio de Venta]]*VentasMenudeo[[#This Row],[Cantidad]]-VentasMenudeo[[#This Row],[Descuento]],VentasMenudeo[[#This Row],[Producto]]=$A$4,VentasMenudeo[[#This Row],[Precio de Venta]]*VentasMenudeo[[#This Row],[Cantidad]]-VentasMenudeo[[#This Row],[Descuento]],VentasMenudeo[[#This Row],[Producto]]=$A$5,VentasMenudeo[[#This Row],[Precio de Venta]]*VentasMenudeo[[#This Row],[Cantidad]]-VentasMenudeo[[#This Row],[Descuento]]),0)","v":190},190]
["2023-03-18","Hugo","IPLAY MAX","Berry Watermelon",1,"Navidad",null,{"$f":"_xlfn.IFNA(VLOOKUP(VentasMenudeo[[#This Row],[Promoción]],PromocionesMenudeo[[Promocion]:[Descuento]],2,0),0)","v":80},{"$f":"_xlfn.IFNA(VLOOKUP(VentasMenudeo[[#This Row],[Producto]],$A$2:$B$5,2,FALSE),0)","v":270},{"$f":"_xlfn.IFNA(_xlfn.IFS(VentasMenudeo[[#This Row],[Producto]]=$A$2,VentasMenudeo[[#This Row],[Precio de Venta]]*VentasMenudeo[[#This Row],[Cantidad]]-VentasMenudeo[[#This Row],[Descuento]],VentasMenudeo[[#This Row],[Producto]]=$A$3,VentasMenudeo[[#This Row],[Precio de Venta]]*VentasMenudeo[[#This Row],[Cantidad]]-VentasMenudeo[[#This Row],[Descuento]],VentasMenudeo[[#This Row],[Producto]]=$A$4,VentasMenudeo[[#This Row],[Precio de Venta]]*VentasMenudeo[[#This Row],[Cantidad]]-VentasMenudeo[[#This Row],[Descuento]],VentasMenudeo[[#This Row],[Producto]]=$A$5,VentasMenudeo[[#This Row],[Precio de Venta]]*VentasMenudeo[[#This Row],[Cantidad]]-VentasMenudeo[[#This Row],[Descuento]]),0)","v":190},190]
["2023-03-18","Hugo","IPLAY MAX","Berry Watermelon",1,"Navidad",null,{"$f":"_xlfn.IFNA(VLOOKUP(VentasMenudeo[[#This Row],[Promoción]],PromocionesMenudeo[[Promocion]:[Descuento]],2,0),0)","v":80},{"$f":"_xlfn.IFNA(VLOOKUP(VentasMenudeo[[#This Row],[Producto]],$A$2:$B$5,2,FALSE),0)","v":270},{"$f":"_xlfn.IFNA(_xlfn.IFS(VentasMenudeo[[#This Row],[Producto]]=$A$2,VentasMenudeo[[#This Row],[Precio de Venta]]*VentasMenudeo[[#This Row],[Cantidad]]-VentasMenudeo[[#This Row],[Descuento]],VentasMenudeo[[#This Row],[Producto]]=$A$3,VentasMenudeo[[#This Row],[Precio de Venta]]*VentasMenudeo[[#This Row],[Cantidad]]-VentasMenudeo[[#This Row],[Descuento]],VentasMenudeo[[#This Row],[Producto]]=$A$4,VentasMenudeo[[#This Row],[Precio de Venta]]*VentasMenudeo[[#This Row],[Cantidad]]-VentasMenudeo[[#This Row],[Descuento]],VentasMenudeo[[#This Row],[Producto]]=$A$5,VentasMenudeo[[#This Row],[Precio de Venta]]*VentasMenudeo[[#This Row],[Cantidad]]-VentasMenudeo[[#This Row],[Descuento]]),0)","v":190},190]
["2023-03-18","Hugo","IPLAY MAX","Peach Berries Ice",1,"Navidad",null,{"$f":"_xlfn.IFNA(VLOOKUP(VentasMenudeo[[#This Row],[Promoción]],PromocionesMenudeo[[Promocion]:[Descuento]],2,0),0)","v":80},{"$f":"_xlfn.IFNA(VLOOKUP(VentasMenudeo[[#This Row],[Producto]],$A$2:$B$5,2,FALSE),0)","v":270},{"$f":"_xlfn.IFNA(_xlfn.IFS(VentasMenudeo[[#This Row],[Producto]]=$A$2,VentasMenudeo[[#This Row],[Precio de Venta]]*VentasMenudeo[[#This Row],[Cantidad]]-VentasMenudeo[[#This Row],[Descuento]],VentasMenudeo[[#This Row],[Producto]]=$A$3,VentasMenudeo[[#This Row],[Precio de Venta]]*VentasMenudeo[[#This Row],[Cantidad]]-VentasMenudeo[[#This Row],[Descuento]],VentasMenudeo[[#This Row],[Producto]]=$A$4,VentasMenudeo[[#This Row],[Precio de Venta]]*VentasMenudeo[[#This Row],[Cantidad]]-VentasMenudeo[[#This Row],[Descuento]],VentasMenudeo[[#This Row],[Producto]]=$A$5,VentasMenudeo[[#This Row],[Precio de Venta]]*VentasMenudeo[[#This Row],[Cantidad]]-VentasMenudeo[[#This Row],[Descuento]]),0)","v":190},190]
["2023-03-18","Hugo","IPLAY MAX","Coconut",1,"Navidad",null,{"$f":"_xlfn.IFNA(VLOOKUP(VentasMenudeo[[#This Row],[Promoción]],PromocionesMenudeo[[Promocion]:[Descuento]],2,0),0)","v":80},{"$f":"_xlfn.IFNA(VLOOKUP(VentasMenudeo[[#This Row],[Producto]],$A$2:$B$5,2,FALSE),0)","v":270},{"$f":"_xlfn.IFNA(_xlfn.IFS(VentasMenudeo[[#This Row],[Producto]]=$A$2,VentasMenudeo[[#This Row],[Precio de Venta]]*VentasMenudeo[[#This Row],[Cantidad]]-VentasMenudeo[[#This Row],[Descuento]],VentasMenudeo[[#This Row],[Producto]]=$A$3,VentasMenudeo[[#This Row],[Precio de Venta]]*VentasMenudeo[[#This Row],[Cantidad]]-VentasMenudeo[[#This Row],[Descuento]],VentasMenudeo[[#This Row],[Producto]]=$A$4,VentasMenudeo[[#This Row],[Precio de Venta]]*VentasMenudeo[[#This Row],[Cantidad]]-VentasMenudeo[[#This Row],[Descuento]],VentasMenudeo[[#This Row],[Producto]]=$A$5,VentasMenudeo[[#This Row],[Precio de Venta]]*VentasMenudeo[[#This Row],[Cantidad]]-VentasMenudeo[[#This Row],[Descuento]]),0)","v":190},190]
["2023-03-18","Hugo","IPLAY MAX","Pineapple Coconut",1,"Navidad",null,{"$f":"_xlfn.IFNA(VLOOKUP(VentasMenudeo[[#This Row],[Promoción]],PromocionesMenudeo[[Promocion]:[Descuento]],2,0),0)","v":80},{"$f":"_xlfn.IFNA(VLOOKUP(VentasMenudeo[[#This Row],[Producto]],$A$2:$B$5,2,FALSE),0)","v":270},{"$f":"_xlfn.IFNA(_xlfn.IFS(VentasMenudeo[[#This Row],[Producto]]=$A$2,VentasMenudeo[[#This Row],[Precio de Venta]]*VentasMenudeo[[#This Row],[Cantidad]]-VentasMenudeo[[#This Row],[Descuento]],VentasMenudeo[[#This Row],[Producto]]=$A$3,VentasMenudeo[[#This Row],[Precio de Venta]]*VentasMenudeo[[#This Row],[Cantidad]]-VentasMenudeo[[#This Row],[Descuento]],VentasMenudeo[[#This Row],[Producto]]=$A$4,VentasMenudeo[[#This Row],[Precio de Venta]]*VentasMenudeo[[#This Row],[Cantidad]]-VentasMenudeo[[#This Row],[Descuento]],VentasMenudeo[[#This Row],[Producto]]=$A$5,VentasMenudeo[[#This Row],[Precio de Venta]]*VentasMenudeo[[#This Row],[Cantidad]]-VentasMenudeo[[#This Row],[Descuento]]),0)","v":190},190]
["2023-03-18","Hugo","IPLAY MAX","Kiwi Guava Passion Fruit",1,"Navidad",null,{"$f":"_xlfn.IFNA(VLOOKUP(VentasMenudeo[[#This Row],[Promoción]],PromocionesMenudeo[[Promocion]:[Descuento]],2,0),0)","v":80},{"$f":"_xlfn.IFNA(VLOOKUP(VentasMenudeo[[#This Row],[Producto]],$A$2:$B$5,2,FALSE),0)","v":270},{"$f":"_xlfn.IFNA(_xlfn.IFS(VentasMenudeo[[#This Row],[Producto]]=$A$2,VentasMenudeo[[#This Row],[Precio de Venta]]*VentasMenudeo[[#This Row],[Cantidad]]-VentasMenudeo[[#This Row],[Descuento]],VentasMenudeo[[#This Row],[Producto]]=$A$3,VentasMenudeo[[#This Row],[Precio de Venta]]*VentasMenudeo[[#This Row],[Cantidad]]-VentasMenudeo[[#This Row],[Descuento]],VentasMenudeo[[#This Row],[Producto]]=$A$4,VentasMenudeo[[#This Row],[Precio de Venta]]*VentasMenudeo[[#This Row],[Cantidad]]-VentasMenudeo[[#This Row],[Descuento]],VentasMenudeo[[#This Row],[Producto]]=$A$5,VentasMenudeo[[#This Row],[Precio de Venta]]*VentasMenudeo[[#This Row],[Cantidad]]-VentasMenudeo[[#This Row],[Descuento]]),0)","v":190},190]
["2023-03-18","Hugo","IPLAY MAX","Blueberry Rainbow",1,"Navidad",null,{"$f":"_xlfn.IFNA(VLOOKUP(VentasMenudeo[[#This Row],[Promoción]],PromocionesMenudeo[[Promocion]:[Descuento]],2,0),0)","v":80},{"$f":"_xlfn.IFNA(VLOOKUP(VentasMenudeo[[#This Row],[Producto]],$A$2:$B$5,2,FALSE),0)","v":270},{"$f":"_xlfn.IFNA(_xlfn.IFS(VentasMenudeo[[#This Row],[Producto]]=$A$2,VentasMenudeo[[#This Row],[Precio de Venta]]*VentasMenudeo[[#This Row],[Cantidad]]-VentasMenudeo[[#This Row],[Descuento]],VentasMenudeo[[#This Row],[Producto]]=$A$3,VentasMenudeo[[#This Row],[Precio de Venta]]*VentasMenudeo[[#This Row],[Cantidad]]-VentasMenudeo[[#This Row],[Descuento]],VentasMenudeo[[#This Row],[Producto]]=$A$4,VentasMenudeo[[#This Row],[Precio de Venta]]*VentasMenudeo[[#This Row],[Cantidad]]-VentasMenudeo[[#This Row],[Descuento]],VentasMenudeo[[#This Row],[Producto]]=$A$5,VentasMenudeo[[#This Row],[Precio de Venta]]*VentasMenudeo[[#This Row],[Cantidad]]-VentasMenudeo[[#This Row],[Descuento]]),0)","v":190},190]
["2023-03-18","Hugo","IPLAY MAX","Low Mint",1,"Navidad",null,{"$f":"_xlfn.IFNA(VLOOKUP(VentasMenudeo[[#This Row],[Promoción]],PromocionesMenudeo[[Promocion]:[Descuento]],2,0),0)","v":80},{"$f":"_xlfn.IFNA(VLOOKUP(VentasMenudeo[[#This Row],[Producto]],$A$2:$B$5,2,FALSE),0)","v":270},{"$f":"_xlfn.IFNA(_xlfn.IFS(VentasMenudeo[[#This Row],[Producto]]=$A$2,VentasMenudeo[[#This Row],[Precio de Venta]]*VentasMenudeo[[#This Row],[Cantidad]]-VentasMenudeo[[#This Row],[Descuento]],VentasMenudeo[[#This Row],[Producto]]=$A$3,VentasMenudeo[[#This Row],[Precio de Venta]]*VentasMenudeo[[#This Row],[Cantidad]]-VentasMenudeo[[#This Row],[Descuento]],VentasMenudeo[[#This Row],[Producto]]=$A$4,VentasMenudeo[[#This Row],[Precio de Venta]]*VentasMenudeo[[#This Row],[Cantidad]]-VentasMenudeo[[#This Row],[Descuento]],VentasMenudeo[[#This Row],[Producto]]=$A$5,VentasMenudeo[[#This Row],[Precio de Venta]]*VentasMenudeo[[#This Row],[Cantidad]]-VentasMenudeo[[#This Row],[Descuento]]),0)","v":190},190]
["2023-03-26","Hugo","IPLAY MAX","Berry Watermelon",1,"Navidad",null,{"$f":"_xlfn.IFNA(VLOOKUP(VentasMenudeo[[#This Row],[Promoción]],PromocionesMenudeo[[Promocion]:[Descuento]],2,0),0)","v":80},{"$f":"_xlfn.IFNA(VLOOKUP(VentasMenudeo[[#This Row],[Producto]],$A$2:$B$5,2,FALSE),0)","v":270},{"$f":"_xlfn.IFNA(_xlfn.IFS(VentasMenudeo[[#This Row],[Producto]]=$A$2,VentasMenudeo[[#This Row],[Precio de Venta]]*VentasMenudeo[[#This Row],[Cantidad]]-VentasMenudeo[[#This Row],[Descuento]],VentasMenudeo[[#This Row],[Producto]]=$A$3,VentasMenudeo[[#This Row],[Precio de Venta]]*VentasMenudeo[[#This Row],[Cantidad]]-VentasMenudeo[[#This Row],[Descuento]],VentasMenudeo[[#This Row],[Producto]]=$A$4,VentasMenudeo[[#This Row],[Precio de Venta]]*VentasMenudeo[[#This Row],[Cantidad]]-VentasMenudeo[[#This Row],[Descuento]],VentasMenudeo[[#This Row],[Producto]]=$A$5,VentasMenudeo[[#This Row],[Precio de Venta]]*VentasMenudeo[[#This Row],[Cantidad]]-VentasMenudeo[[#This Row],[Descuento]]),0)","v":190},190]
["2023-03-26","Hugo","IPLAY MAX","Berry Watermelon",1,"Navidad",null,{"$f":"_xlfn.IFNA(VLOOKUP(VentasMenudeo[[#This Row],[Promoción]],PromocionesMenudeo[[Promocion]:[Descuento]],2,0),0)","v":80},{"$f":"_xlfn.IFNA(VLOOKUP(VentasMenudeo[[#This Row],[Producto]],$A$2:$B$5,2,FALSE),0)","v":270},{"$f":"_xlfn.IFNA(_xlfn.IFS(VentasMenudeo[[#This Row],[Producto]]=$A$2,VentasMenudeo[[#This Row],[Precio de Venta]]*VentasMenudeo[[#This Row],[Cantidad]]-VentasMenudeo[[#This Row],[Descuento]],VentasMenudeo[[#This Row],[Producto]]=$A$3,VentasMenudeo[[#This Row],[Precio de Venta]]*VentasMenudeo[[#This Row],[Cantidad]]-VentasMenudeo[[#This Row],[Descuento]],VentasMenudeo[[#This Row],[Producto]]=$A$4,VentasMenudeo[[#This Row],[Precio de Venta]]*VentasMenudeo[[#This Row],[Cantidad]]-VentasMenudeo[[#This Row],[Descuento]],VentasMenudeo[[#This Row],[Producto]]=$A$5,VentasMenudeo[[#This Row],[Precio de Venta]]*VentasMenudeo[[#This Row],[Cantidad]]-VentasMenudeo[[#This Row],[Descuento]]),0)","v":190},190]
["2023-03-26","Hugo","IPLAY MAX","Bluerazz",1,"Navidad",null,{"$f":"_xlfn.IFNA(VLOOKUP(VentasMenudeo[[#This Row],[Promoción]],PromocionesMenudeo[[Promocion]:[Descuento]],2,0),0)","v":80},{"$f":"_xlfn.IFNA(VLOOKUP(VentasMenudeo[[#This Row],[Producto]],$A$2:$B$5,2,FALSE),0)","v":270},{"$f":"_xlfn.IFNA(_xlfn.IFS(VentasMenudeo[[#This Row],[Producto]]=$A$2,VentasMenudeo[[#This Row],[Precio de Venta]]*VentasMenudeo[[#This Row],[Cantidad]]-VentasMenudeo[[#This Row],[Descuento]],VentasMenudeo[[#This Row],[Producto]]=$A$3,VentasMenudeo[[#This Row],[Precio de Venta]]*VentasMenudeo[[#This Row],[Cantidad]]-VentasMenudeo[[#This Row],[Descuento]],VentasMenudeo[[#This Row],[Producto]]=$A$4,VentasMenudeo[[#This Row],[Precio de Venta]]*VentasMenudeo[[#This Row],[Cantidad]]-VentasMenudeo[[#This Row],[Descuento]],VentasMenudeo[[#This Row],[Producto]]=$A$5,VentasMenudeo[[#This Row],[Precio de Venta]]*VentasMenudeo[[#This Row],[Cantidad]]-VentasMenudeo[[#This Row],[Descuento]]),0)","v":190},190]
["2023-03-26","Hugo","IPLAY MAX","Bluerazz",1,"Navidad",null,{"$f":"_xlfn.IFNA(VLOOKUP(VentasMenudeo[[#This Row],[Promoción]],PromocionesMenudeo[[Promocion]:[Descuento]],2,0),0)","v":80},{"$f":"_xlfn.IFNA(VLOOKUP(VentasMenudeo[[#This Row],[Producto]],$A$2:$B$5,2,FALSE),0)","v":270},{"$f":"_xlfn.IFNA(_xlfn.IFS(VentasMenudeo[[#This Row],[Producto]]=$A$2,VentasMenudeo[[#This Row],[Precio de Venta]]*VentasMenudeo[[#This Row],[Cantidad]]-VentasMenudeo[[#This Row],[Descuento]],VentasMenudeo[[#This Row],[Producto]]=$A$3,VentasMenudeo[[#This Row],[Precio de Venta]]*VentasMenudeo[[#This Row],[Cantidad]]-VentasMenudeo[[#This Row],[Descuento]],VentasMenudeo[[#This Row],[Producto]]=$A$4,VentasMenudeo[[#This Row],[Precio de Venta]]*VentasMenudeo[[#This Row],[Cantidad]]-VentasMenudeo[[#This Row],[Descuento]],VentasMenudeo[[#This Row],[Producto]]=$A$5,VentasMenudeo[[#This Row],[Precio de Venta]]*VentasMenudeo[[#This Row],[Cantidad]]-VentasMenudeo[[#This Row],[Descuento]]),0)","v":190},190]
["2023-03-26","Hugo","IPLAY MAX","Bluerazz",1,"Navidad",null,{"$f":"_xlfn.IFNA(VLOOKUP(VentasMenudeo[[#This Row],[Promoción]],PromocionesMenudeo[[Promocion]:[Descuento]],2,0),0)","v":80},{"$f":"_xlfn.IFNA(VLOOKUP(VentasMenudeo[[#This Row],[Producto]],$A$2:$B$5,2,FALSE),0)","v":270},{"$f":"_xlfn.IFNA(_xlfn.IFS(VentasMenudeo[[#This Row],[Producto]]=$A$2,VentasMenudeo[[#This Row],[Precio de Venta]]*VentasMenudeo[[#This Row],[Cantidad]]-VentasMenudeo[[#This Row],[Descuento]],VentasMenudeo[[#This Row],[Producto]]=$A$3,VentasMenudeo[[#This Row],[Precio de Venta]]*VentasMenudeo[[#This Row],[Cantidad]]-VentasMenudeo[[#This Row],[Descuento]],VentasMenudeo[[#This Row],[Producto]]=$A$4,VentasMenudeo[[#This Row],[Precio de Venta]]*VentasMenudeo[[#This Row],[Cantidad]]-VentasMenudeo[[#This Row],[Descuento]],VentasMenudeo[[#This Row],[Producto]]=$A$5,VentasMenudeo[[#This Row],[Precio de Venta]]*VentasMenudeo[[#This Row],[Cantidad]]-VentasMenudeo[[#This Row],[Descuento]]),0)","v":190},190]
["2023-03-26","Hugo","IPLAY MAX","Coconut",1,"Navidad",null,{"$f":"_xlfn.IFNA(VLOOKUP(VentasMenudeo[[#This Row],[Promoción]],PromocionesMenudeo[[Promocion]:[Descuento]],2,0),0)","v":80},{"$f":"_xlfn.IFNA(VLOOKUP(VentasMenudeo[[#This Row],[Producto]],$A$2:$B$5,2,FALSE),0)","v":270},{"$f":"_xlfn.IFNA(_xlfn.IFS(VentasMenudeo[[#This Row],[Producto]]=$A$2,VentasMenudeo[[#This Row],[Precio de Venta]]*VentasMenudeo[[#This Row],[Cantidad]]-VentasMenudeo[[#This Row],[Descuento]],VentasMenudeo[[#This Row],[Producto]]=$A$3,VentasMenudeo[[#This Row],[Precio de Venta]]*VentasMenudeo[[#This Row],[Cantidad]]-VentasMenudeo[[#This Row],[Descuento]],VentasMenudeo[[#This Row],[Producto]]=$A$4,VentasMenudeo[[#This Row],[Precio de Venta]]*VentasMenudeo[[#This Row],[Cantidad]]-VentasMenudeo[[#This Row],[Descuento]],VentasMenudeo[[#This Row],[Producto]]=$A$5,VentasMenudeo[[#This Row],[Precio de Venta]]*VentasMenudeo[[#This Row],[Cantidad]]-VentasMenudeo[[#This Row],[Descuento]]),0)","v":190},190]
["2023-03-26","Hugo","IPLAY MAX","Coconut",1,"Navidad",null,{"$f":"_xlfn.IFNA(VLOOKUP(VentasMenudeo[[#This Row],[Promoción]],PromocionesMenudeo[[Promocion]:[Descuento]],2,0),0)","v":80},{"$f":"_xlfn.IFNA(VLOOKUP(VentasMenudeo[[#This Row],[Producto]],$A$2:$B$5,2,FALSE),0)","v":270},{"$f":"_xlfn.IFNA(_xlfn.IFS(VentasMenudeo[[#This Row],[Producto]]=$A$2,VentasMenudeo[[#This Row],[Precio de Venta]]*VentasMenudeo[[#This Row],[Cantidad]]-VentasMenudeo[[#This Row],[Descuento]],VentasMenudeo[[#This Row],[Producto]]=$A$3,VentasMenudeo[[#This Row],[Precio de Venta]]*VentasMenudeo[[#This Row],[Cantidad]]-VentasMenudeo[[#This Row],[Descuento]],VentasMenudeo[[#This Row],[Producto]]=$A$4,VentasMenudeo[[#This Row],[Precio de Venta]]*VentasMenudeo[[#This Row],[Cantidad]]-VentasMenudeo[[#This Row],[Descuento]],VentasMenudeo[[#This Row],[Producto]]=$A$5,VentasMenudeo[[#This Row],[Precio de Venta]]*VentasMenudeo[[#This Row],[Cantidad]]-VentasMenudeo[[#This Row],[Descuento]]),0)","v":190},190]
["2023-03-26","Hugo","IPLAY MAX","Coconut",1,"Navidad",null,{"$f":"_xlfn.IFNA(VLOOKUP(VentasMenudeo[[#This Row],[Promoción]],PromocionesMenudeo[[Promocion]:[Descuento]],2,0),0)","v":80},{"$f":"_xlfn.IFNA(VLOOKUP(VentasMenudeo[[#This Row],[Producto]],$A$2:$B$5,2,FALSE),0)","v":270},{"$f":"_xlfn.IFNA(_xlfn.IFS(VentasMenudeo[[#This Row],[Producto]]=$A$2,VentasMenudeo[[#This Row],[Precio de Venta]]*VentasMenudeo[[#This Row],[Cantidad]]-VentasMenudeo[[#This Row],[Descuento]],VentasMenudeo[[#This Row],[Producto]]=$A$3,VentasMenudeo[[#This Row],[Precio de Venta]]*VentasMenudeo[[#This Row],[Cantidad]]-VentasMenudeo[[#This Row],[Descuento]],VentasMenudeo[[#This Row],[Producto]]=$A$4,VentasMenudeo[[#This Row],[Precio de Venta]]*VentasMenudeo[[#This Row],[Cantidad]]-VentasMenudeo[[#This Row],[Descuento]],VentasMenudeo[[#This Row],[Producto]]=$A$5,VentasMenudeo[[#This Row],[Precio de Venta]]*VentasMenudeo[[#This Row],[Cantidad]]-VentasMenudeo[[#This Row],[Descuento]]),0)","v":190},190]
["2023-03-26","Hugo","IPLAY MAX","Cool mint",1,"Navidad",null,{"$f":"_xlfn.IFNA(VLOOKUP(VentasMenudeo[[#This Row],[Promoción]],PromocionesMenudeo[[Promocion]:[Descuento]],2,0),0)","v":80},{"$f":"_xlfn.IFNA(VLOOKUP(VentasMenudeo[[#This Row],[Producto]],$A$2:$B$5,2,FALSE),0)","v":270},{"$f":"_xlfn.IFNA(_xlfn.IFS(VentasMenudeo[[#This Row],[Producto]]=$A$2,VentasMenudeo[[#This Row],[Precio de Venta]]*VentasMenudeo[[#This Row],[Cantidad]]-VentasMenudeo[[#This Row],[Descuento]],VentasMenudeo[[#This Row],[Producto]]=$A$3,VentasMenudeo[[#This Row],[Precio de Venta]]*VentasMenudeo[[#This Row],[Cantidad]]-VentasMenudeo[[#This Row],[Descuento]],VentasMenudeo[[#This Row],[Producto]]=$A$4,VentasMenudeo[[#This Row],[Precio de Venta]]*VentasMenudeo[[#This Row],[Cantidad]]-VentasMenudeo[[#This Row],[Descuento]],VentasMenudeo[[#This Row],[Producto]]=$A$5,VentasMenudeo[[#This Row],[Precio de Venta]]*VentasMenudeo[[#This Row],[Cantidad]]-VentasMenudeo[[#This Row],[Descuento]]),0)","v":190},190]
["2023-03-26","Hugo","IPLAY MAX","Cool mint",1,"Navidad",null,{"$f":"_xlfn.IFNA(VLOOKUP(VentasMenudeo[[#This Row],[Promoción]],PromocionesMenudeo[[Promocion]:[Descuento]],2,0),0)","v":80},{"$f":"_xlfn.IFNA(VLOOKUP(VentasMenudeo[[#This Row],[Producto]],$A$2:$B$5,2,FALSE),0)","v":270},{"$f":"_xlfn.IFNA(_xlfn.IFS(VentasMenudeo[[#This Row],[Producto]]=$A$2,VentasMenudeo[[#This Row],[Precio de Venta]]*VentasMenudeo[[#This Row],[Cantidad]]-VentasMenudeo[[#This Row],[Descuento]],VentasMenudeo[[#This Row],[Producto]]=$A$3,VentasMenudeo[[#This Row],[Precio de Venta]]*VentasMenudeo[[#This Row],[Cantidad]]-VentasMenudeo[[#This Row],[Descuento]],VentasMenudeo[[#This Row],[Producto]]=$A$4,VentasMenudeo[[#This Row],[Precio de Venta]]*VentasMenudeo[[#This Row],[Cantidad]]-VentasMenudeo[[#This Row],[Descuento]],VentasMenudeo[[#This Row],[Producto]]=$A$5,VentasMenudeo[[#This Row],[Precio de Venta]]*VentasMenudeo[[#This Row],[Cantidad]]-VentasMenudeo[[#This Row],[Descuento]]),0)","v":190},190]
["2023-03-26","Hugo","IPLAY MAX","Cool mint",1,"Navidad",null,{"$f":"_xlfn.IFNA(VLOOKUP(VentasMenudeo[[#This Row],[Promoción]],PromocionesMenudeo[[Promocion]:[Descuento]],2,0),0)","v":80},{"$f":"_xlfn.IFNA(VLOOKUP(VentasMenudeo[[#This Row],[Producto]],$A$2:$B$5,2,FALSE),0)","v":270},{"$f":"_xlfn.IFNA(_xlfn.IFS(VentasMenudeo[[#This Row],[Producto]]=$A$2,VentasMenudeo[[#This Row],[Precio de Venta]]*VentasMenudeo[[#This Row],[Cantidad]]-VentasMenudeo[[#This Row],[Descuento]],VentasMenudeo[[#This Row],[Producto]]=$A$3,VentasMenudeo[[#This Row],[Precio de Venta]]*VentasMenudeo[[#This Row],[Cantidad]]-VentasMenudeo[[#This Row],[Descuento]],VentasMenudeo[[#This Row],[Producto]]=$A$4,VentasMenudeo[[#This Row],[Precio de Venta]]*VentasMenudeo[[#This Row],[Cantidad]]-VentasMenudeo[[#This Row],[Descuento]],VentasMenudeo[[#This Row],[Producto]]=$A$5,VentasMenudeo[[#This Row],[Precio de Venta]]*VentasMenudeo[[#This Row],[Cantidad]]-VentasMenudeo[[#This Row],[Descuento]]),0)","v":190},190]
["2023-03-26","Hugo","IPLAY MAX","Cool mint",1,"Navidad",null,{"$f":"_xlfn.IFNA(VLOOKUP(VentasMenudeo[[#This Row],[Promoción]],PromocionesMenudeo[[Promocion]:[Descuento]],2,0),0)","v":80},{"$f":"_xlfn.IFNA(VLOOKUP(VentasMenudeo[[#This Row],[Producto]],$A$2:$B$5,2,FALSE),0)","v":270},{"$f":"_xlfn.IFNA(_xlfn.IFS(VentasMenudeo[[#This Row],[Producto]]=$A$2,VentasMenudeo[[#This Row],[Precio de Venta]]*VentasMenudeo[[#This Row],[Cantidad]]-VentasMenudeo[[#This Row],[Descuento]],VentasMenudeo[[#This Row],[Producto]]=$A$3,VentasMenudeo[[#This Row],[Precio de Venta]]*VentasMenudeo[[#This Row],[Cantidad]]-VentasMenudeo[[#This Row],[Descuento]],VentasMenudeo[[#This Row],[Producto]]=$A$4,VentasMenudeo[[#This Row],[Precio de Venta]]*VentasMenudeo[[#This Row],[Cantidad]]-VentasMenudeo[[#This Row],[Descuento]],VentasMenudeo[[#This Row],[Producto]]=$A$5,VentasMenudeo[[#This Row],[Precio de Venta]]*VentasMenudeo[[#This Row],[Cantidad]]-VentasMenudeo[[#This Row],[Descuento]]),0)","v":190},190]
["2023-03-26","Hugo","IPLAY MAX","Guava",1,"Navidad",null,{"$f":"_xlfn.IFNA(VLOOKUP(VentasMenudeo[[#This Row],[Promoción]],PromocionesMenudeo[[Promocion]:[Descuento]],2,0),0)","v":80},{"$f":"_xlfn.IFNA(VLOOKUP(VentasMenudeo[[#This Row],[Producto]],$A$2:$B$5,2,FALSE),0)","v":270},{"$f":"_xlfn.IFNA(_xlfn.IFS(VentasMenudeo[[#This Row],[Producto]]=$A$2,VentasMenudeo[[#This Row],[Precio de Venta]]*VentasMenudeo[[#This Row],[Cantidad]]-VentasMenudeo[[#This Row],[Descuento]],VentasMenudeo[[#This Row],[Producto]]=$A$3,VentasMenudeo[[#This Row],[Precio de Venta]]*VentasMenudeo[[#This Row],[Cantidad]]-VentasMenudeo[[#This Row],[Descuento]],VentasMenudeo[[#This Row],[Producto]]=$A$4,VentasMenudeo[[#This Row],[Precio de Venta]]*VentasMenudeo[[#This Row],[Cantidad]]-VentasMenudeo[[#This Row],[Descuento]],VentasMenudeo[[#This Row],[Producto]]=$A$5,VentasMenudeo[[#This Row],[Precio de Venta]]*VentasMenudeo[[#This Row],[Cantidad]]-VentasMenudeo[[#This Row],[Descuento]]),0)","v":190},190]
["2023-03-26","Hugo","IPLAY MAX","Sour Apple",1,"Navidad",null,{"$f":"_xlfn.IFNA(VLOOKUP(VentasMenudeo[[#This Row],[Promoción]],PromocionesMenudeo[[Promocion]:[Descuento]],2,0),0)","v":80},{"$f":"_xlfn.IFNA(VLOOKUP(VentasMenudeo[[#This Row],[Producto]],$A$2:$B$5,2,FALSE),0)","v":270},{"$f":"_xlfn.IFNA(_xlfn.IFS(VentasMenudeo[[#This Row],[Producto]]=$A$2,VentasMenudeo[[#This Row],[Precio de Venta]]*VentasMenudeo[[#This Row],[Cantidad]]-VentasMenudeo[[#This Row],[Descuento]],VentasMenudeo[[#This Row],[Producto]]=$A$3,VentasMenudeo[[#This Row],[Precio de Venta]]*VentasMenudeo[[#This Row],[Cantidad]]-VentasMenudeo[[#This Row],[Descuento]],VentasMenudeo[[#This Row],[Producto]]=$A$4,VentasMenudeo[[#This Row],[Precio de Venta]]*VentasMenudeo[[#This Row],[Cantidad]]-VentasMenudeo[[#This Row],[Descuento]],VentasMenudeo[[#This Row],[Producto]]=$A$5,VentasMenudeo[[#This Row],[Precio de Venta]]*VentasMenudeo[[#This Row],[Cantidad]]-VentasMenudeo[[#This Row],[Descuento]]),0)","v":190},190]
["2023-03-26","Hugo","IPLAY MAX","Strawberry Lychee",1,"Navidad",null,{"$f":"_xlfn.IFNA(VLOOKUP(VentasMenudeo[[#This Row],[Promoción]],PromocionesMenudeo[[Promocion]:[Descuento]],2,0),0)","v":80},{"$f":"_xlfn.IFNA(VLOOKUP(VentasMenudeo[[#This Row],[Producto]],$A$2:$B$5,2,FALSE),0)","v":270},{"$f":"_xlfn.IFNA(_xlfn.IFS(VentasMenudeo[[#This Row],[Producto]]=$A$2,VentasMenudeo[[#This Row],[Precio de Venta]]*VentasMenudeo[[#This Row],[Cantidad]]-VentasMenudeo[[#This Row],[Descuento]],VentasMenudeo[[#This Row],[Producto]]=$A$3,VentasMenudeo[[#This Row],[Precio de Venta]]*VentasMenudeo[[#This Row],[Cantidad]]-VentasMenudeo[[#This Row],[Descuento]],VentasMenudeo[[#This Row],[Producto]]=$A$4,VentasMenudeo[[#This Row],[Precio de Venta]]*VentasMenudeo[[#This Row],[Cantidad]]-VentasMenudeo[[#This Row],[Descuento]],VentasMenudeo[[#This Row],[Producto]]=$A$5,VentasMenudeo[[#This Row],[Precio de Venta]]*VentasMenudeo[[#This Row],[Cantidad]]-VentasMenudeo[[#This Row],[Descuento]]),0)","v":190},190]
["2023-03-26","Hugo","IPLAY MAX","Strawberry Lychee",1,"Navidad",null,{"$f":"_xlfn.IFNA(VLOOKUP(VentasMenudeo[[#This Row],[Promoción]],PromocionesMenudeo[[Promocion]:[Descuento]],2,0),0)","v":80},{"$f":"_xlfn.IFNA(VLOOKUP(VentasMenudeo[[#This Row],[Producto]],$A$2:$B$5,2,FALSE),0)","v":270},{"$f":"_xlfn.IFNA(_xlfn.IFS(VentasMenudeo[[#This Row],[Producto]]=$A$2,VentasMenudeo[[#This Row],[Precio de Venta]]*VentasMenudeo[[#This Row],[Cantidad]]-VentasMenudeo[[#This Row],[Descuento]],VentasMenudeo[[#This Row],[Producto]]=$A$3,VentasMenudeo[[#This Row],[Precio de Venta]]*VentasMenudeo[[#This Row],[Cantidad]]-VentasMenudeo[[#This Row],[Descuento]],VentasMenudeo[[#This Row],[Producto]]=$A$4,VentasMenudeo[[#This Row],[Precio de Venta]]*VentasMenudeo[[#This Row],[Cantidad]]-VentasMenudeo[[#This Row],[Descuento]],VentasMenudeo[[#This Row],[Producto]]=$A$5,VentasMenudeo[[#This Row],[Precio de Venta]]*VentasMenudeo[[#This Row],[Cantidad]]-VentasMenudeo[[#This Row],[Descuento]]),0)","v":190},190]
["2023-03-26","Hugo","IPLAY MAX","Strawberry Lychee",1,"Navidad",null,{"$f":"_xlfn.IFNA(VLOOKUP(VentasMenudeo[[#This Row],[Promoción]],PromocionesMenudeo[[Promocion]:[Descuento]],2,0),0)","v":80},{"$f":"_xlfn.IFNA(VLOOKUP(VentasMenudeo[[#This Row],[Producto]],$A$2:$B$5,2,FALSE),0)","v":270},{"$f":"_xlfn.IFNA(_xlfn.IFS(VentasMenudeo[[#This Row],[Producto]]=$A$2,VentasMenudeo[[#This Row],[Precio de Venta]]*VentasMenudeo[[#This Row],[Cantidad]]-VentasMenudeo[[#This Row],[Descuento]],VentasMenudeo[[#This Row],[Producto]]=$A$3,VentasMenudeo[[#This Row],[Precio de Venta]]*VentasMenudeo[[#This Row],[Cantidad]]-VentasMenudeo[[#This Row],[Descuento]],VentasMenudeo[[#This Row],[Producto]]=$A$4,VentasMenudeo[[#This Row],[Precio de Venta]]*VentasMenudeo[[#This Row],[Cantidad]]-VentasMenudeo[[#This Row],[Descuento]],VentasMenudeo[[#This Row],[Producto]]=$A$5,VentasMenudeo[[#This Row],[Precio de Venta]]*VentasMenudeo[[#This Row],[Cantidad]]-VentasMenudeo[[#This Row],[Descuento]]),0)","v":190},190]
["2023-03-26","Hugo","IPLAY MAX","Grape Ice",1,"Navidad",null,{"$f":"_xlfn.IFNA(VLOOKUP(VentasMenudeo[[#This Row],[Promoción]],PromocionesMenudeo[[Promocion]:[Descuento]],2,0),0)","v":80},{"$f":"_xlfn.IFNA(VLOOKUP(VentasMenudeo[[#This Row],[Producto]],$A$2:$B$5,2,FALSE),0)","v":270},{"$f":"_xlfn.IFNA(_xlfn.IFS(VentasMenudeo[[#This Row],[Producto]]=$A$2,VentasMenudeo[[#This Row],[Precio de Venta]]*VentasMenudeo[[#This Row],[Cantidad]]-VentasMenudeo[[#This Row],[Descuento]],VentasMenudeo[[#This Row],[Producto]]=$A$3,VentasMenudeo[[#This Row],[Precio de Venta]]*VentasMenudeo[[#This Row],[Cantidad]]-VentasMenudeo[[#This Row],[Descuento]],VentasMenudeo[[#This Row],[Producto]]=$A$4,VentasMenudeo[[#This Row],[Precio de Venta]]*VentasMenudeo[[#This Row],[Cantidad]]-VentasMenudeo[[#This Row],[Descuento]],VentasMenudeo[[#This Row],[Producto]]=$A$5,VentasMenudeo[[#This Row],[Precio de Venta]]*VentasMenudeo[[#This Row],[Cantidad]]-VentasMenudeo[[#This Row],[Descuento]]),0)","v":190},190]
["2023-03-26","Hugo","IPLAY MAX","Grape Ice",1,"Navidad",null,{"$f":"_xlfn.IFNA(VLOOKUP(VentasMenudeo[[#This Row],[Promoción]],PromocionesMenudeo[[Promocion]:[Descuento]],2,0),0)","v":80},{"$f":"_xlfn.IFNA(VLOOKUP(VentasMenudeo[[#This Row],[Producto]],$A$2:$B$5,2,FALSE),0)","v":270},{"$f":"_xlfn.IFNA(_xlfn.IFS(VentasMenudeo[[#This Row],[Producto]]=$A$2,VentasMenudeo[[#This Row],[Precio de Venta]]*VentasMenudeo[[#This Row],[Cantidad]]-VentasMenudeo[[#This Row],[Descuento]],VentasMenudeo[[#This Row],[Producto]]=$A$3,VentasMenudeo[[#This Row],[Precio de Venta]]*VentasMenudeo[[#This Row],[Cantidad]]-VentasMenudeo[[#This Row],[Descuento]],VentasMenudeo[[#This Row],[Producto]]=$A$4,VentasMenudeo[[#This Row],[Precio de Venta]]*VentasMenudeo[[#This Row],[Cantidad]]-VentasMenudeo[[#This Row],[Descuento]],VentasMenudeo[[#This Row],[Producto]]=$A$5,VentasMenudeo[[#This Row],[Precio de Venta]]*VentasMenudeo[[#This Row],[Cantidad]]-VentasMenudeo[[#This Row],[Descuento]]),0)","v":190},190]
["2023-03-26","Hugo","IPLAY MAX","Sourraspberry",1,"Navidad",null,{"$f":"_xlfn.IFNA(VLOOKUP(VentasMenudeo[[#This Row],[Promoción]],PromocionesMenudeo[[Promocion]:[Descuento]],2,0),0)","v":80},{"$f":"_xlfn.IFNA(VLOOKUP(VentasMenudeo[[#This Row],[Producto]],$A$2:$B$5,2,FALSE),0)","v":270},{"$f":"_xlfn.IFNA(_xlfn.IFS(VentasMenudeo[[#This Row],[Producto]]=$A$2,VentasMenudeo[[#This Row],[Precio de Venta]]*VentasMenudeo[[#This Row],[Cantidad]]-VentasMenudeo[[#This Row],[Descuento]],VentasMenudeo[[#This Row],[Producto]]=$A$3,VentasMenudeo[[#This Row],[Precio de Venta]]*VentasMenudeo[[#This Row],[Cantidad]]-VentasMenudeo[[#This Row],[Descuento]],VentasMenudeo[[#This Row],[Producto]]=$A$4,VentasMenudeo[[#This Row],[Precio de Venta]]*VentasMenudeo[[#This Row],[Cantidad]]-VentasMenudeo[[#This Row],[Descuento]],VentasMenudeo[[#This Row],[Producto]]=$A$5,VentasMenudeo[[#This Row],[Precio de Venta]]*VentasMenudeo[[#This Row],[Cantidad]]-VentasMenudeo[[#This Row],[Descuento]]),0)","v":190},190]
["2023-03-26","Hugo","IPLAY MAX","Low Mint",1,"Navidad",null,{"$f":"_xlfn.IFNA(VLOOKUP(VentasMenudeo[[#This Row],[Promoción]],PromocionesMenudeo[[Promocion]:[Descuento]],2,0),0)","v":80},{"$f":"_xlfn.IFNA(VLOOKUP(VentasMenudeo[[#This Row],[Producto]],$A$2:$B$5,2,FALSE),0)","v":270},{"$f":"_xlfn.IFNA(_xlfn.IFS(VentasMenudeo[[#This Row],[Producto]]=$A$2,VentasMenudeo[[#This Row],[Precio de Venta]]*VentasMenudeo[[#This Row],[Cantidad]]-VentasMenudeo[[#This Row],[Descuento]],VentasMenudeo[[#This Row],[Producto]]=$A$3,VentasMenudeo[[#This Row],[Precio de Venta]]*VentasMenudeo[[#This Row],[Cantidad]]-VentasMenudeo[[#This Row],[Descuento]],VentasMenudeo[[#This Row],[Producto]]=$A$4,VentasMenudeo[[#This Row],[Precio de Venta]]*VentasMenudeo[[#This Row],[Cantidad]]-VentasMenudeo[[#This Row],[Descuento]],VentasMenudeo[[#This Row],[Producto]]=$A$5,VentasMenudeo[[#This Row],[Precio de Venta]]*VentasMenudeo[[#This Row],[Cantidad]]-VentasMenudeo[[#This Row],[Descuento]]),0)","v":190},190]
["2023-03-26","Hugo","IPLAY MAX","Low Mint",1,"Navidad",null,{"$f":"_xlfn.IFNA(VLOOKUP(VentasMenudeo[[#This Row],[Promoción]],PromocionesMenudeo[[Promocion]:[Descuento]],2,0),0)","v":80},{"$f":"_xlfn.IFNA(VLOOKUP(VentasMenudeo[[#This Row],[Producto]],$A$2:$B$5,2,FALSE),0)","v":270},{"$f":"_xlfn.IFNA(_xlfn.IFS(VentasMenudeo[[#This Row],[Producto]]=$A$2,VentasMenudeo[[#This Row],[Precio de Venta]]*VentasMenudeo[[#This Row],[Cantidad]]-VentasMenudeo[[#This Row],[Descuento]],VentasMenudeo[[#This Row],[Producto]]=$A$3,VentasMenudeo[[#This Row],[Precio de Venta]]*VentasMenudeo[[#This Row],[Cantidad]]-VentasMenudeo[[#This Row],[Descuento]],VentasMenudeo[[#This Row],[Producto]]=$A$4,VentasMenudeo[[#This Row],[Precio de Venta]]*VentasMenudeo[[#This Row],[Cantidad]]-VentasMenudeo[[#This Row],[Descuento]],VentasMenudeo[[#This Row],[Producto]]=$A$5,VentasMenudeo[[#This Row],[Precio de Venta]]*VentasMenudeo[[#This Row],[Cantidad]]-VentasMenudeo[[#This Row],[Descuento]]),0)","v":190},190]
["2023-03-26","Hugo","IPLAY MAX","Low Mint",1,"Navidad",null,{"$f":"_xlfn.IFNA(VLOOKUP(VentasMenudeo[[#This Row],[Promoción]],PromocionesMenudeo[[Promocion]:[Descuento]],2,0),0)","v":80},{"$f":"_xlfn.IFNA(VLOOKUP(VentasMenudeo[[#This Row],[Producto]],$A$2:$B$5,2,FALSE),0)","v":270},{"$f":"_xlfn.IFNA(_xlfn.IFS(VentasMenudeo[[#This Row],[Producto]]=$A$2,VentasMenudeo[[#This Row],[Precio de Venta]]*VentasMenudeo[[#This Row],[Cantidad]]-VentasMenudeo[[#This Row],[Descuento]],VentasMenudeo[[#This Row],[Producto]]=$A$3,VentasMenudeo[[#This Row],[Precio de Venta]]*VentasMenudeo[[#This Row],[Cantidad]]-VentasMenudeo[[#This Row],[Descuento]],VentasMenudeo[[#This Row],[Producto]]=$A$4,VentasMenudeo[[#This Row],[Precio de Venta]]*VentasMenudeo[[#This Row],[Cantidad]]-VentasMenudeo[[#This Row],[Descuento]],VentasMenudeo[[#This Row],[Producto]]=$A$5,VentasMenudeo[[#This Row],[Precio de Venta]]*VentasMenudeo[[#This Row],[Cantidad]]-VentasMenudeo[[#This Row],[Descuento]]),0)","v":190},190]
["2023-03-26","Hugo","IPLAY MAX","Low Mint",1,"Navidad",null,{"$f":"_xlfn.IFNA(VLOOKUP(VentasMenudeo[[#This Row],[Promoción]],PromocionesMenudeo[[Promocion]:[Descuento]],2,0),0)","v":80},{"$f":"_xlfn.IFNA(VLOOKUP(VentasMenudeo[[#This Row],[Producto]],$A$2:$B$5,2,FALSE),0)","v":270},{"$f":"_xlfn.IFNA(_xlfn.IFS(VentasMenudeo[[#This Row],[Producto]]=$A$2,VentasMenudeo[[#This Row],[Precio de Venta]]*VentasMenudeo[[#This Row],[Cantidad]]-VentasMenudeo[[#This Row],[Descuento]],VentasMenudeo[[#This Row],[Producto]]=$A$3,VentasMenudeo[[#This Row],[Precio de Venta]]*VentasMenudeo[[#This Row],[Cantidad]]-VentasMenudeo[[#This Row],[Descuento]],VentasMenudeo[[#This Row],[Producto]]=$A$4,VentasMenudeo[[#This Row],[Precio de Venta]]*VentasMenudeo[[#This Row],[Cantidad]]-VentasMenudeo[[#This Row],[Descuento]],VentasMenudeo[[#This Row],[Producto]]=$A$5,VentasMenudeo[[#This Row],[Precio de Venta]]*VentasMenudeo[[#This Row],[Cantidad]]-VentasMenudeo[[#This Row],[Descuento]]),0)","v":190},190]
["2023-03-26","Hugo","IPLAY MAX","Kiwi Guava Passion Fruit",1,"Navidad",null,{"$f":"_xlfn.IFNA(VLOOKUP(VentasMenudeo[[#This Row],[Promoción]],PromocionesMenudeo[[Promocion]:[Descuento]],2,0),0)","v":80},{"$f":"_xlfn.IFNA(VLOOKUP(VentasMenudeo[[#This Row],[Producto]],$A$2:$B$5,2,FALSE),0)","v":270},{"$f":"_xlfn.IFNA(_xlfn.IFS(VentasMenudeo[[#This Row],[Producto]]=$A$2,VentasMenudeo[[#This Row],[Precio de Venta]]*VentasMenudeo[[#This Row],[Cantidad]]-VentasMenudeo[[#This Row],[Descuento]],VentasMenudeo[[#This Row],[Producto]]=$A$3,VentasMenudeo[[#This Row],[Precio de Venta]]*VentasMenudeo[[#This Row],[Cantidad]]-VentasMenudeo[[#This Row],[Descuento]],VentasMenudeo[[#This Row],[Producto]]=$A$4,VentasMenudeo[[#This Row],[Precio de Venta]]*VentasMenudeo[[#This Row],[Cantidad]]-VentasMenudeo[[#This Row],[Descuento]],VentasMenudeo[[#This Row],[Producto]]=$A$5,VentasMenudeo[[#This Row],[Precio de Venta]]*VentasMenudeo[[#This Row],[Cantidad]]-VentasMenudeo[[#This Row],[Descuento]]),0)","v":190},190]
["2023-03-26","Hugo","IPLAY MAX","Kiwi Guava Passion Fruit",1,"Navidad",null,{"$f":"_xlfn.IFNA(VLOOKUP(VentasMenudeo[[#This Row],[Promoción]],PromocionesMenudeo[[Promocion]:[Descuento]],2,0),0)","v":80},{"$f":"_xlfn.IFNA(VLOOKUP(VentasMenudeo[[#This Row],[Producto]],$A$2:$B$5,2,FALSE),0)","v":270},{"$f":"_xlfn.IFNA(_xlfn.IFS(VentasMenudeo[[#This Row],[Producto]]=$A$2,VentasMenudeo[[#This Row],[Precio de Venta]]*VentasMenudeo[[#This Row],[Cantidad]]-VentasMenudeo[[#This Row],[Descuento]],VentasMenudeo[[#This Row],[Producto]]=$A$3,VentasMenudeo[[#This Row],[Precio de Venta]]*VentasMenudeo[[#This Row],[Cantidad]]-VentasMenudeo[[#This Row],[Descuento]],VentasMenudeo[[#This Row],[Producto]]=$A$4,VentasMenudeo[[#This Row],[Precio de Venta]]*VentasMenudeo[[#This Row],[Cantidad]]-VentasMenudeo[[#This Row],[Descuento]],VentasMenudeo[[#This Row],[Producto]]=$A$5,VentasMenudeo[[#This Row],[Precio de Venta]]*VentasMenudeo[[#This Row],[Cantidad]]-VentasMenudeo[[#This Row],[Descuento]]),0)","v":190},190]
["2023-03-26","Hugo","IPLAY MAX","Blueberry Rainbow",1,"Navidad",null,{"$f":"_xlfn.IFNA(VLOOKUP(VentasMenudeo[[#This Row],[Promoción]],PromocionesMenudeo[[Promocion]:[Descuento]],2,0),0)","v":80},{"$f":"_xlfn.IFNA(VLOOKUP(VentasMenudeo[[#This Row],[Producto]],$A$2:$B$5,2,FALSE),0)","v":270},{"$f":"_xlfn.IFNA(_xlfn.IFS(VentasMenudeo[[#This Row],[Producto]]=$A$2,VentasMenudeo[[#This Row],[Precio de Venta]]*VentasMenudeo[[#This Row],[Cantidad]]-VentasMenudeo[[#This Row],[Descuento]],VentasMenudeo[[#This Row],[Producto]]=$A$3,VentasMenudeo[[#This Row],[Precio de Venta]]*VentasMenudeo[[#This Row],[Cantidad]]-VentasMenudeo[[#This Row],[Descuento]],VentasMenudeo[[#This Row],[Producto]]=$A$4,VentasMenudeo[[#This Row],[Precio de Venta]]*VentasMenudeo[[#This Row],[Cantidad]]-VentasMenudeo[[#This Row],[Descuento]],VentasMenudeo[[#This Row],[Producto]]=$A$5,VentasMenudeo[[#This Row],[Precio de Venta]]*VentasMenudeo[[#This Row],[Cantidad]]-VentasMenudeo[[#This Row],[Descuento]]),0)","v":190},190]
["2023-03-26","Hugo","IPLAY MAX","Pineapple Coconut",1,"Navidad",null,{"$f":"_xlfn.IFNA(VLOOKUP(VentasMenudeo[[#This Row],[Promoción]],PromocionesMenudeo[[Promocion]:[Descuento]],2,0),0)","v":80},{"$f":"_xlfn.IFNA(VLOOKUP(VentasMenudeo[[#This Row],[Producto]],$A$2:$B$5,2,FALSE),0)","v":270},{"$f":"_xlfn.IFNA(_xlfn.IFS(VentasMenudeo[[#This Row],[Producto]]=$A$2,VentasMenudeo[[#This Row],[Precio de Venta]]*VentasMenudeo[[#This Row],[Cantidad]]-VentasMenudeo[[#This Row],[Descuento]],VentasMenudeo[[#This Row],[Producto]]=$A$3,VentasMenudeo[[#This Row],[Precio de Venta]]*VentasMenudeo[[#This Row],[Cantidad]]-VentasMenudeo[[#This Row],[Descuento]],VentasMenudeo[[#This Row],[Producto]]=$A$4,VentasMenudeo[[#This Row],[Precio de Venta]]*VentasMenudeo[[#This Row],[Cantidad]]-VentasMenudeo[[#This Row],[Descuento]],VentasMenudeo[[#This Row],[Producto]]=$A$5,VentasMenudeo[[#This Row],[Precio de Venta]]*VentasMenudeo[[#This Row],[Cantidad]]-VentasMenudeo[[#This Row],[Descuento]]),0)","v":190},190]
["2023-03-26","Hugo","IPLAY MAX","Pineapple Coconut",1,"Navidad",null,{"$f":"_xlfn.IFNA(VLOOKUP(VentasMenudeo[[#This Row],[Promoción]],PromocionesMenudeo[[Promocion]:[Descuento]],2,0),0)","v":80},{"$f":"_xlfn.IFNA(VLOOKUP(VentasMenudeo[[#This Row],[Producto]],$A$2:$B$5,2,FALSE),0)","v":270},{"$f":"_xlfn.IFNA(_xlfn.IFS(VentasMenudeo[[#This Row],[Producto]]=$A$2,VentasMenudeo[[#This Row],[Precio de Venta]]*VentasMenudeo[[#This Row],[Cantidad]]-VentasMenudeo[[#This Row],[Descuento]],VentasMenudeo[[#This Row],[Producto]]=$A$3,VentasMenudeo[[#This Row],[Precio de Venta]]*VentasMenudeo[[#This Row],[Cantidad]]-VentasMenudeo[[#This Row],[Descuento]],VentasMenudeo[[#This Row],[Producto]]=$A$4,VentasMenudeo[[#This Row],[Precio de Venta]]*VentasMenudeo[[#This Row],[Cantidad]]-VentasMenudeo[[#This Row],[Descuento]],VentasMenudeo[[#This Row],[Producto]]=$A$5,VentasMenudeo[[#This Row],[Precio de Venta]]*VentasMenudeo[[#This Row],[Cantidad]]-VentasMenudeo[[#This Row],[Descuento]]),0)","v":190},190]
["2023-03-26","Hugo","IPLAY MAX","Pineapple Coconut",1,"Navidad",null,{"$f":"_xlfn.IFNA(VLOOKUP(VentasMenudeo[[#This Row],[Promoción]],PromocionesMenudeo[[Promocion]:[Descuento]],2,0),0)","v":80},{"$f":"_xlfn.IFNA(VLOOKUP(VentasMenudeo[[#This Row],[Producto]],$A$2:$B$5,2,FALSE),0)","v":270},{"$f":"_xlfn.IFNA(_xlfn.IFS(VentasMenudeo[[#This Row],[Producto]]=$A$2,VentasMenudeo[[#This Row],[Precio de Venta]]*VentasMenudeo[[#This Row],[Cantidad]]-VentasMenudeo[[#This Row],[Descuento]],VentasMenudeo[[#This Row],[Producto]]=$A$3,VentasMenudeo[[#This Row],[Precio de Venta]]*VentasMenudeo[[#This Row],[Cantidad]]-VentasMenudeo[[#This Row],[Descuento]],VentasMenudeo[[#This Row],[Producto]]=$A$4,VentasMenudeo[[#This Row],[Precio de Venta]]*VentasMenudeo[[#This Row],[Cantidad]]-VentasMenudeo[[#This Row],[Descuento]],VentasMenudeo[[#This Row],[Producto]]=$A$5,VentasMenudeo[[#This Row],[Precio de Venta]]*VentasMenudeo[[#This Row],[Cantidad]]-VentasMenudeo[[#This Row],[Descuento]]),0)","v":190},190]
["2023-03-26","Hugo","IPLAY MAX","Pineapple Coconut",1,"Navidad",null,{"$f":"_xlfn.IFNA(VLOOKUP(VentasMenudeo[[#This Row],[Promoción]],PromocionesMenudeo[[Promocion]:[Descuento]],2,0),0)","v":80},{"$f":"_xlfn.IFNA(VLOOKUP(VentasMenudeo[[#This Row],[Producto]],$A$2:$B$5,2,FALSE),0)","v":270},{"$f":"_xlfn.IFNA(_xlfn.IFS(VentasMenudeo[[#This Row],[Producto]]=$A$2,VentasMenudeo[[#This Row],[Precio de Venta]]*VentasMenudeo[[#This Row],[Cantidad]]-VentasMenudeo[[#This Row],[Descuento]],VentasMenudeo[[#This Row],[Producto]]=$A$3,VentasMenudeo[[#This Row],[Precio de Venta]]*VentasMenudeo[[#This Row],[Cantidad]]-VentasMenudeo[[#This Row],[Descuento]],VentasMenudeo[[#This Row],[Producto]]=$A$4,VentasMenudeo[[#This Row],[Precio de Venta]]*VentasMenudeo[[#This Row],[Cantidad]]-VentasMenudeo[[#This Row],[Descuento]],VentasMenudeo[[#This Row],[Producto]]=$A$5,VentasMenudeo[[#This Row],[Precio de Venta]]*VentasMenudeo[[#This Row],[Cantidad]]-VentasMenudeo[[#This Row],[Descuento]]),0)","v":190},190]
["2023-03-26","Hugo","IPLAY MAX","Pineapple Coconut",1,"Navidad",null,{"$f":"_xlfn.IFNA(VLOOKUP(VentasMenudeo[[#This Row],[Promoción]],PromocionesMenudeo[[Promocion]:[Descuento]],2,0),0)","v":80},{"$f":"_xlfn.IFNA(VLOOKUP(VentasMenudeo[[#This Row],[Producto]],$A$2:$B$5,2,FALSE),0)","v":270},{"$f":"_xlfn.IFNA(_xlfn.IFS(VentasMenudeo[[#This Row],[Producto]]=$A$2,VentasMenudeo[[#This Row],[Precio de Venta]]*VentasMenudeo[[#This Row],[Cantidad]]-VentasMenudeo[[#This Row],[Descuento]],VentasMenudeo[[#This Row],[Producto]]=$A$3,VentasMenudeo[[#This Row],[Precio de Venta]]*VentasMenudeo[[#This Row],[Cantidad]]-VentasMenudeo[[#This Row],[Descuento]],VentasMenudeo[[#This Row],[Producto]]=$A$4,VentasMenudeo[[#This Row],[Precio de Venta]]*VentasMenudeo[[#This Row],[Cantidad]]-VentasMenudeo[[#This Row],[Descuento]],VentasMenudeo[[#This Row],[Producto]]=$A$5,VentasMenudeo[[#This Row],[Precio de Venta]]*VentasMenudeo[[#This Row],[Cantidad]]-VentasMenudeo[[#This Row],[Descuento]]),0)","v":190},190]
["2023-03-26","Hugo","IPLAY MAX","Double mint",1,"Navidad",null,{"$f":"_xlfn.IFNA(VLOOKUP(VentasMenudeo[[#This Row],[Promoción]],PromocionesMenudeo[[Promocion]:[Descuento]],2,0),0)","v":80},{"$f":"_xlfn.IFNA(VLOOKUP(VentasMenudeo[[#This Row],[Producto]],$A$2:$B$5,2,FALSE),0)","v":270},{"$f":"_xlfn.IFNA(_xlfn.IFS(VentasMenudeo[[#This Row],[Producto]]=$A$2,VentasMenudeo[[#This Row],[Precio de Venta]]*VentasMenudeo[[#This Row],[Cantidad]]-VentasMenudeo[[#This Row],[Descuento]],VentasMenudeo[[#This Row],[Producto]]=$A$3,VentasMenudeo[[#This Row],[Precio de Venta]]*VentasMenudeo[[#This Row],[Cantidad]]-VentasMenudeo[[#This Row],[Descuento]],VentasMenudeo[[#This Row],[Producto]]=$A$4,VentasMenudeo[[#This Row],[Precio de Venta]]*VentasMenudeo[[#This Row],[Cantidad]]-VentasMenudeo[[#This Row],[Descuento]],VentasMenudeo[[#This Row],[Producto]]=$A$5,VentasMenudeo[[#This Row],[Precio de Venta]]*VentasMenudeo[[#This Row],[Cantidad]]-VentasMenudeo[[#This Row],[Descuento]]),0)","v":190},190]
["2023-03-26","Hugo","IPLAY MAX","Black Mint",1,"Navidad",null,{"$f":"_xlfn.IFNA(VLOOKUP(VentasMenudeo[[#This Row],[Promoción]],PromocionesMenudeo[[Promocion]:[Descuento]],2,0),0)","v":80},{"$f":"_xlfn.IFNA(VLOOKUP(VentasMenudeo[[#This Row],[Producto]],$A$2:$B$5,2,FALSE),0)","v":270},{"$f":"_xlfn.IFNA(_xlfn.IFS(VentasMenudeo[[#This Row],[Producto]]=$A$2,VentasMenudeo[[#This Row],[Precio de Venta]]*VentasMenudeo[[#This Row],[Cantidad]]-VentasMenudeo[[#This Row],[Descuento]],VentasMenudeo[[#This Row],[Producto]]=$A$3,VentasMenudeo[[#This Row],[Precio de Venta]]*VentasMenudeo[[#This Row],[Cantidad]]-VentasMenudeo[[#This Row],[Descuento]],VentasMenudeo[[#This Row],[Producto]]=$A$4,VentasMenudeo[[#This Row],[Precio de Venta]]*VentasMenudeo[[#This Row],[Cantidad]]-VentasMenudeo[[#This Row],[Descuento]],VentasMenudeo[[#This Row],[Producto]]=$A$5,VentasMenudeo[[#This Row],[Precio de Venta]]*VentasMenudeo[[#This Row],[Cantidad]]-VentasMenudeo[[#This Row],[Descuento]]),0)","v":190},190]
["2023-03-26","Hugo","IPLAY MAX","Peach Berries Ice",1,"Navidad",null,{"$f":"_xlfn.IFNA(VLOOKUP(VentasMenudeo[[#This Row],[Promoción]],PromocionesMenudeo[[Promocion]:[Descuento]],2,0),0)","v":80},{"$f":"_xlfn.IFNA(VLOOKUP(VentasMenudeo[[#This Row],[Producto]],$A$2:$B$5,2,FALSE),0)","v":270},{"$f":"_xlfn.IFNA(_xlfn.IFS(VentasMenudeo[[#This Row],[Producto]]=$A$2,VentasMenudeo[[#This Row],[Precio de Venta]]*VentasMenudeo[[#This Row],[Cantidad]]-VentasMenudeo[[#This Row],[Descuento]],VentasMenudeo[[#This Row],[Producto]]=$A$3,VentasMenudeo[[#This Row],[Precio de Venta]]*VentasMenudeo[[#This Row],[Cantidad]]-VentasMenudeo[[#This Row],[Descuento]],VentasMenudeo[[#This Row],[Producto]]=$A$4,VentasMenudeo[[#This Row],[Precio de Venta]]*VentasMenudeo[[#This Row],[Cantidad]]-VentasMenudeo[[#This Row],[Descuento]],VentasMenudeo[[#This Row],[Producto]]=$A$5,VentasMenudeo[[#This Row],[Precio de Venta]]*VentasMenudeo[[#This Row],[Cantidad]]-VentasMenudeo[[#This Row],[Descuento]]),0)","v":190},190]
["2023-03-26","Hugo","IPLAY MAX","Peach Berries Ice",1,"Navidad",null,{"$f":"_xlfn.IFNA(VLOOKUP(VentasMenudeo[[#This Row],[Promoción]],PromocionesMenudeo[[Promocion]:[Descuento]],2,0),0)","v":80},{"$f":"_xlfn.IFNA(VLOOKUP(VentasMenudeo[[#This Row],[Producto]],$A$2:$B$5,2,FALSE),0)","v":270},{"$f":"_xlfn.IFNA(_xlfn.IFS(VentasMenudeo[[#This Row],[Producto]]=$A$2,VentasMenudeo[[#This Row],[Precio de Venta]]*VentasMenudeo[[#This Row],[Cantidad]]-VentasMenudeo[[#This Row],[Descuento]],VentasMenudeo[[#This Row],[Producto]]=$A$3,VentasMenudeo[[#This Row],[Precio de Venta]]*VentasMenudeo[[#This Row],[Cantidad]]-VentasMenudeo[[#This Row],[Descuento]],VentasMenudeo[[#This Row],[Producto]]=$A$4,VentasMenudeo[[#This Row],[Precio de Venta]]*VentasMenudeo[[#This Row],[Cantidad]]-VentasMenudeo[[#This Row],[Descuento]],VentasMenudeo[[#This Row],[Producto]]=$A$5,VentasMenudeo[[#This Row],[Precio de Venta]]*VentasMenudeo[[#This Row],[Cantidad]]-VentasMenudeo[[#This Row],[Descuento]]),0)","v":190},190]
["2023-03-26","Hugo","IPLAY MAX","Peach Berries Ice",1,"Navidad",null,{"$f":"_xlfn.IFNA(VLOOKUP(VentasMenudeo[[#This Row],[Promoción]],PromocionesMenudeo[[Promocion]:[Descuento]],2,0),0)","v":80},{"$f":"_xlfn.IFNA(VLOOKUP(VentasMenudeo[[#This Row],[Producto]],$A$2:$B$5,2,FALSE),0)","v":270},{"$f":"_xlfn.IFNA(_xlfn.IFS(VentasMenudeo[[#This Row],[Producto]]=$A$2,VentasMenudeo[[#This Row],[Precio de Venta]]*VentasMenudeo[[#This Row],[Cantidad]]-VentasMenudeo[[#This Row],[Descuento]],VentasMenudeo[[#This Row],[Producto]]=$A$3,VentasMenudeo[[#This Row],[Precio de Venta]]*VentasMenudeo[[#This Row],[Cantidad]]-VentasMenudeo[[#This Row],[Descuento]],VentasMenudeo[[#This Row],[Producto]]=$A$4,VentasMenudeo[[#This Row],[Precio de Venta]]*VentasMenudeo[[#This Row],[Cantidad]]-VentasMenudeo[[#This Row],[Descuento]],VentasMenudeo[[#This Row],[Producto]]=$A$5,VentasMenudeo[[#This Row],[Precio de Venta]]*VentasMenudeo[[#This Row],[Cantidad]]-VentasMenudeo[[#This Row],[Descuento]]),0)","v":190},190]
["2023-03-26","Hugo","IPLAY MAX","Mango Strawberry",1,"Navidad",null,{"$f":"_xlfn.IFNA(VLOOKUP(VentasMenudeo[[#This Row],[Promoción]],PromocionesMenudeo[[Promocion]:[Descuento]],2,0),0)","v":80},{"$f":"_xlfn.IFNA(VLOOKUP(VentasMenudeo[[#This Row],[Producto]],$A$2:$B$5,2,FALSE),0)","v":270},{"$f":"_xlfn.IFNA(_xlfn.IFS(VentasMenudeo[[#This Row],[Producto]]=$A$2,VentasMenudeo[[#This Row],[Precio de Venta]]*VentasMenudeo[[#This Row],[Cantidad]]-VentasMenudeo[[#This Row],[Descuento]],VentasMenudeo[[#This Row],[Producto]]=$A$3,VentasMenudeo[[#This Row],[Precio de Venta]]*VentasMenudeo[[#This Row],[Cantidad]]-VentasMenudeo[[#This Row],[Descuento]],VentasMenudeo[[#This Row],[Producto]]=$A$4,VentasMenudeo[[#This Row],[Precio de Venta]]*VentasMenudeo[[#This Row],[Cantidad]]-VentasMenudeo[[#This Row],[Descuento]],VentasMenudeo[[#This Row],[Producto]]=$A$5,VentasMenudeo[[#This Row],[Precio de Venta]]*VentasMenudeo[[#This Row],[Cantidad]]-VentasMenudeo[[#This Row],[Descuento]]),0)","v":190},190]
["2023-03-26","Hugo","IPLAY MAX","Mango Strawberry",1,"Navidad",null,{"$f":"_xlfn.IFNA(VLOOKUP(VentasMenudeo[[#This Row],[Promoción]],PromocionesMenudeo[[Promocion]:[Descuento]],2,0),0)","v":80},{"$f":"_xlfn.IFNA(VLOOKUP(VentasMenudeo[[#This Row],[Producto]],$A$2:$B$5,2,FALSE),0)","v":270},{"$f":"_xlfn.IFNA(_xlfn.IFS(VentasMenudeo[[#This Row],[Producto]]=$A$2,VentasMenudeo[[#This Row],[Precio de Venta]]*VentasMenudeo[[#This Row],[Cantidad]]-VentasMenudeo[[#This Row],[Descuento]],VentasMenudeo[[#This Row],[Producto]]=$A$3,VentasMenudeo[[#This Row],[Precio de Venta]]*VentasMenudeo[[#This Row],[Cantidad]]-VentasMenudeo[[#This Row],[Descuento]],VentasMenudeo[[#This Row],[Producto]]=$A$4,VentasMenudeo[[#This Row],[Precio de Venta]]*VentasMenudeo[[#This Row],[Cantidad]]-VentasMenudeo[[#This Row],[Descuento]],VentasMenudeo[[#This Row],[Producto]]=$A$5,VentasMenudeo[[#This Row],[Precio de Venta]]*VentasMenudeo[[#This Row],[Cantidad]]-VentasMenudeo[[#This Row],[Descuento]]),0)","v":190},190]
["2023-03-30","Hugo","IPLAY MAX","Berry Watermelon",1,"Navidad",null,{"$f":"_xlfn.IFNA(VLOOKUP(VentasMenudeo[[#This Row],[Promoción]],PromocionesMenudeo[[Promocion]:[Descuento]],2,0),0)","v":80},{"$f":"_xlfn.IFNA(VLOOKUP(VentasMenudeo[[#This Row],[Producto]],$A$2:$B$5,2,FALSE),0)","v":270},{"$f":"_xlfn.IFNA(_xlfn.IFS(VentasMenudeo[[#This Row],[Producto]]=$A$2,VentasMenudeo[[#This Row],[Precio de Venta]]*VentasMenudeo[[#This Row],[Cantidad]]-VentasMenudeo[[#This Row],[Descuento]],VentasMenudeo[[#This Row],[Producto]]=$A$3,VentasMenudeo[[#This Row],[Precio de Venta]]*VentasMenudeo[[#This Row],[Cantidad]]-VentasMenudeo[[#This Row],[Descuento]],VentasMenudeo[[#This Row],[Producto]]=$A$4,VentasMenudeo[[#This Row],[Precio de Venta]]*VentasMenudeo[[#This Row],[Cantidad]]-VentasMenudeo[[#This Row],[Descuento]],VentasMenudeo[[#This Row],[Producto]]=$A$5,VentasMenudeo[[#This Row],[Precio de Venta]]*VentasMenudeo[[#This Row],[Cantidad]]-VentasMenudeo[[#This Row],[Descuento]]),0)","v":190},190]
["2023-03-30","Hugo","IPLAY MAX","Berry Watermelon",1,"Navidad",null,{"$f":"_xlfn.IFNA(VLOOKUP(VentasMenudeo[[#This Row],[Promoción]],PromocionesMenudeo[[Promocion]:[Descuento]],2,0),0)","v":80},{"$f":"_xlfn.IFNA(VLOOKUP(VentasMenudeo[[#This Row],[Producto]],$A$2:$B$5,2,FALSE),0)","v":270},{"$f":"_xlfn.IFNA(_xlfn.IFS(VentasMenudeo[[#This Row],[Producto]]=$A$2,VentasMenudeo[[#This Row],[Precio de Venta]]*VentasMenudeo[[#This Row],[Cantidad]]-VentasMenudeo[[#This Row],[Descuento]],VentasMenudeo[[#This Row],[Producto]]=$A$3,VentasMenudeo[[#This Row],[Precio de Venta]]*VentasMenudeo[[#This Row],[Cantidad]]-VentasMenudeo[[#This Row],[Descuento]],VentasMenudeo[[#This Row],[Producto]]=$A$4,VentasMenudeo[[#This Row],[Precio de Venta]]*VentasMenudeo[[#This Row],[Cantidad]]-VentasMenudeo[[#This Row],[Descuento]],VentasMenudeo[[#This Row],[Producto]]=$A$5,VentasMenudeo[[#This Row],[Precio de Venta]]*VentasMenudeo[[#This Row],[Cantidad]]-VentasMenudeo[[#This Row],[Descuento]]),0)","v":190},190]
["2023-03-30","Hugo","IPLAY MAX","Bluerazz",1,"Navidad",null,{"$f":"_xlfn.IFNA(VLOOKUP(VentasMenudeo[[#This Row],[Promoción]],PromocionesMenudeo[[Promocion]:[Descuento]],2,0),0)","v":80},{"$f":"_xlfn.IFNA(VLOOKUP(VentasMenudeo[[#This Row],[Producto]],$A$2:$B$5,2,FALSE),0)","v":270},{"$f":"_xlfn.IFNA(_xlfn.IFS(VentasMenudeo[[#This Row],[Producto]]=$A$2,VentasMenudeo[[#This Row],[Precio de Venta]]*VentasMenudeo[[#This Row],[Cantidad]]-VentasMenudeo[[#This Row],[Descuento]],VentasMenudeo[[#This Row],[Producto]]=$A$3,VentasMenudeo[[#This Row],[Precio de Venta]]*VentasMenudeo[[#This Row],[Cantidad]]-VentasMenudeo[[#This Row],[Descuento]],VentasMenudeo[[#This Row],[Producto]]=$A$4,VentasMenudeo[[#This Row],[Precio de Venta]]*VentasMenudeo[[#This Row],[Cantidad]]-VentasMenudeo[[#This Row],[Descuento]],VentasMenudeo[[#This Row],[Producto]]=$A$5,VentasMenudeo[[#This Row],[Precio de Venta]]*VentasMenudeo[[#This Row],[Cantidad]]-VentasMenudeo[[#This Row],[Descuento]]),0)","v":190},190]
["2023-03-30","Hugo","IPLAY MAX","Bluerazz",1,"Navidad",null,{"$f":"_xlfn.IFNA(VLOOKUP(VentasMenudeo[[#This Row],[Promoción]],PromocionesMenudeo[[Promocion]:[Descuento]],2,0),0)","v":80},{"$f":"_xlfn.IFNA(VLOOKUP(VentasMenudeo[[#This Row],[Producto]],$A$2:$B$5,2,FALSE),0)","v":270},{"$f":"_xlfn.IFNA(_xlfn.IFS(VentasMenudeo[[#This Row],[Producto]]=$A$2,VentasMenudeo[[#This Row],[Precio de Venta]]*VentasMenudeo[[#This Row],[Cantidad]]-VentasMenudeo[[#This Row],[Descuento]],VentasMenudeo[[#This Row],[Producto]]=$A$3,VentasMenudeo[[#This Row],[Precio de Venta]]*VentasMenudeo[[#This Row],[Cantidad]]-VentasMenudeo[[#This Row],[Descuento]],VentasMenudeo[[#This Row],[Producto]]=$A$4,VentasMenudeo[[#This Row],[Precio de Venta]]*VentasMenudeo[[#This Row],[Cantidad]]-VentasMenudeo[[#This Row],[Descuento]],VentasMenudeo[[#This Row],[Producto]]=$A$5,VentasMenudeo[[#This Row],[Precio de Venta]]*VentasMenudeo[[#This Row],[Cantidad]]-VentasMenudeo[[#This Row],[Descuento]]),0)","v":190},190]
["2023-03-30","Hugo","IPLAY MAX","Bluerazz",1,"Navidad",null,{"$f":"_xlfn.IFNA(VLOOKUP(VentasMenudeo[[#This Row],[Promoción]],PromocionesMenudeo[[Promocion]:[Descuento]],2,0),0)","v":80},{"$f":"_xlfn.IFNA(VLOOKUP(VentasMenudeo[[#This Row],[Producto]],$A$2:$B$5,2,FALSE),0)","v":270},{"$f":"_xlfn.IFNA(_xlfn.IFS(VentasMenudeo[[#This Row],[Producto]]=$A$2,VentasMenudeo[[#This Row],[Precio de Venta]]*VentasMenudeo[[#This Row],[Cantidad]]-VentasMenudeo[[#This Row],[Descuento]],VentasMenudeo[[#This Row],[Producto]]=$A$3,VentasMenudeo[[#This Row],[Precio de Venta]]*VentasMenudeo[[#This Row],[Cantidad]]-VentasMenudeo[[#This Row],[Descuento]],VentasMenudeo[[#This Row],[Producto]]=$A$4,VentasMenudeo[[#This Row],[Precio de Venta]]*VentasMenudeo[[#This Row],[Cantidad]]-VentasMenudeo[[#This Row],[Descuento]],VentasMenudeo[[#This Row],[Producto]]=$A$5,VentasMenudeo[[#This Row],[Precio de Venta]]*VentasMenudeo[[#This Row],[Cantidad]]-VentasMenudeo[[#This Row],[Descuento]]),0)","v":190},190]
["2023-03-30","Hugo","IPLAY MAX","Coconut",1,"Navidad",null,{"$f":"_xlfn.IFNA(VLOOKUP(VentasMenudeo[[#This Row],[Promoción]],PromocionesMenudeo[[Promocion]:[Descuento]],2,0),0)","v":80},{"$f":"_xlfn.IFNA(VLOOKUP(VentasMenudeo[[#This Row],[Producto]],$A$2:$B$5,2,FALSE),0)","v":270},{"$f":"_xlfn.IFNA(_xlfn.IFS(VentasMenudeo[[#This Row],[Producto]]=$A$2,VentasMenudeo[[#This Row],[Precio de Venta]]*VentasMenudeo[[#This Row],[Cantidad]]-VentasMenudeo[[#This Row],[Descuento]],VentasMenudeo[[#This Row],[Producto]]=$A$3,VentasMenudeo[[#This Row],[Precio de Venta]]*VentasMenudeo[[#This Row],[Cantidad]]-VentasMenudeo[[#This Row],[Descuento]],VentasMenudeo[[#This Row],[Producto]]=$A$4,VentasMenudeo[[#This Row],[Precio de Venta]]*VentasMenudeo[[#This Row],[Cantidad]]-VentasMenudeo[[#This Row],[Descuento]],VentasMenudeo[[#This Row],[Producto]]=$A$5,VentasMenudeo[[#This Row],[Precio de Venta]]*VentasMenudeo[[#This Row],[Cantidad]]-VentasMenudeo[[#This Row],[Descuento]]),0)","v":190},190]
["2023-03-30","Hugo","IPLAY MAX","Coconut",1,"Navidad",null,{"$f":"_xlfn.IFNA(VLOOKUP(VentasMenudeo[[#This Row],[Promoción]],PromocionesMenudeo[[Promocion]:[Descuento]],2,0),0)","v":80},{"$f":"_xlfn.IFNA(VLOOKUP(VentasMenudeo[[#This Row],[Producto]],$A$2:$B$5,2,FALSE),0)","v":270},{"$f":"_xlfn.IFNA(_xlfn.IFS(VentasMenudeo[[#This Row],[Producto]]=$A$2,VentasMenudeo[[#This Row],[Precio de Venta]]*VentasMenudeo[[#This Row],[Cantidad]]-VentasMenudeo[[#This Row],[Descuento]],VentasMenudeo[[#This Row],[Producto]]=$A$3,VentasMenudeo[[#This Row],[Precio de Venta]]*VentasMenudeo[[#This Row],[Cantidad]]-VentasMenudeo[[#This Row],[Descuento]],VentasMenudeo[[#This Row],[Producto]]=$A$4,VentasMenudeo[[#This Row],[Precio de Venta]]*VentasMenudeo[[#This Row],[Cantidad]]-VentasMenudeo[[#This Row],[Descuento]],VentasMenudeo[[#This Row],[Producto]]=$A$5,VentasMenudeo[[#This Row],[Precio de Venta]]*VentasMenudeo[[#This Row],[Cantidad]]-VentasMenudeo[[#This Row],[Descuento]]),0)","v":190},190]
["2023-03-30","Hugo","IPLAY MAX","Cool mint",1,"Navidad",null,{"$f":"_xlfn.IFNA(VLOOKUP(VentasMenudeo[[#This Row],[Promoción]],PromocionesMenudeo[[Promocion]:[Descuento]],2,0),0)","v":80},{"$f":"_xlfn.IFNA(VLOOKUP(VentasMenudeo[[#This Row],[Producto]],$A$2:$B$5,2,FALSE),0)","v":270},{"$f":"_xlfn.IFNA(_xlfn.IFS(VentasMenudeo[[#This Row],[Producto]]=$A$2,VentasMenudeo[[#This Row],[Precio de Venta]]*VentasMenudeo[[#This Row],[Cantidad]]-VentasMenudeo[[#This Row],[Descuento]],VentasMenudeo[[#This Row],[Producto]]=$A$3,VentasMenudeo[[#This Row],[Precio de Venta]]*VentasMenudeo[[#This Row],[Cantidad]]-VentasMenudeo[[#This Row],[Descuento]],VentasMenudeo[[#This Row],[Producto]]=$A$4,VentasMenudeo[[#This Row],[Precio de Venta]]*VentasMenudeo[[#This Row],[Cantidad]]-VentasMenudeo[[#This Row],[Descuento]],VentasMenudeo[[#This Row],[Producto]]=$A$5,VentasMenudeo[[#This Row],[Precio de Venta]]*VentasMenudeo[[#This Row],[Cantidad]]-VentasMenudeo[[#This Row],[Descuento]]),0)","v":190},190]
["2023-03-30","Hugo","IPLAY MAX","Cool mint",1,"Navidad",null,{"$f":"_xlfn.IFNA(VLOOKUP(VentasMenudeo[[#This Row],[Promoción]],PromocionesMenudeo[[Promocion]:[Descuento]],2,0),0)","v":80},{"$f":"_xlfn.IFNA(VLOOKUP(VentasMenudeo[[#This Row],[Producto]],$A$2:$B$5,2,FALSE),0)","v":270},{"$f":"_xlfn.IFNA(_xlfn.IFS(VentasMenudeo[[#This Row],[Producto]]=$A$2,VentasMenudeo[[#This Row],[Precio de Venta]]*VentasMenudeo[[#This Row],[Cantidad]]-VentasMenudeo[[#This Row],[Descuento]],VentasMenudeo[[#This Row],[Producto]]=$A$3,VentasMenudeo[[#This Row],[Precio de Venta]]*VentasMenudeo[[#This Row],[Cantidad]]-VentasMenudeo[[#This Row],[Descuento]],VentasMenudeo[[#This Row],[Producto]]=$A$4,VentasMenudeo[[#This Row],[Precio de Venta]]*VentasMenudeo[[#This Row],[Cantidad]]-VentasMenudeo[[#This Row],[Descuento]],VentasMenudeo[[#This Row],[Producto]]=$A$5,VentasMenudeo[[#This Row],[Precio de Venta]]*VentasMenudeo[[#This Row],[Cantidad]]-VentasMenudeo[[#This Row],[Descuento]]),0)","v":190},190]
["2023-03-30","Hugo","IPLAY MAX","Guava",1,"Navidad",null,{"$f":"_xlfn.IFNA(VLOOKUP(VentasMenudeo[[#This Row],[Promoción]],PromocionesMenudeo[[Promocion]:[Descuento]],2,0),0)","v":80},{"$f":"_xlfn.IFNA(VLOOKUP(VentasMenudeo[[#This Row],[Producto]],$A$2:$B$5,2,FALSE),0)","v":270},{"$f":"_xlfn.IFNA(_xlfn.IFS(VentasMenudeo[[#This Row],[Producto]]=$A$2,VentasMenudeo[[#This Row],[Precio de Venta]]*VentasMenudeo[[#This Row],[Cantidad]]-VentasMenudeo[[#This Row],[Descuento]],VentasMenudeo[[#This Row],[Producto]]=$A$3,VentasMenudeo[[#This Row],[Precio de Venta]]*VentasMenudeo[[#This Row],[Cantidad]]-VentasMenudeo[[#This Row],[Descuento]],VentasMenudeo[[#This Row],[Producto]]=$A$4,VentasMenudeo[[#This Row],[Precio de Venta]]*VentasMenudeo[[#This Row],[Cantidad]]-VentasMenudeo[[#This Row],[Descuento]],VentasMenudeo[[#This Row],[Producto]]=$A$5,VentasMenudeo[[#This Row],[Precio de Venta]]*VentasMenudeo[[#This Row],[Cantidad]]-VentasMenudeo[[#This Row],[Descuento]]),0)","v":190},190]
["2023-03-30","Hugo","IPLAY MAX","Guava",1,"Navidad",null,{"$f":"_xlfn.IFNA(VLOOKUP(VentasMenudeo[[#This Row],[Promoción]],PromocionesMenudeo[[Promocion]:[Descuento]],2,0),0)","v":80},{"$f":"_xlfn.IFNA(VLOOKUP(VentasMenudeo[[#This Row],[Producto]],$A$2:$B$5,2,FALSE),0)","v":270},{"$f":"_xlfn.IFNA(_xlfn.IFS(VentasMenudeo[[#This Row],[Producto]]=$A$2,VentasMenudeo[[#This Row],[Precio de Venta]]*VentasMenudeo[[#This Row],[Cantidad]]-VentasMenudeo[[#This Row],[Descuento]],VentasMenudeo[[#This Row],[Producto]]=$A$3,VentasMenudeo[[#This Row],[Precio de Venta]]*VentasMenudeo[[#This Row],[Cantidad]]-VentasMenudeo[[#This Row],[Descuento]],VentasMenudeo[[#This Row],[Producto]]=$A$4,VentasMenudeo[[#This Row],[Precio de Venta]]*VentasMenudeo[[#This Row],[Cantidad]]-VentasMenudeo[[#This Row],[Descuento]],VentasMenudeo[[#This Row],[Producto]]=$A$5,VentasMenudeo[[#This Row],[Precio de Venta]]*VentasMenudeo[[#This Row],[Cantidad]]-VentasMenudeo[[#This Row],[Descuento]]),0)","v":190},190]
["2023-03-30","Hugo","IPLAY MAX","Strawberry Lychee",1,"Navidad",null,{"$f":"_xlfn.IFNA(VLOOKUP(VentasMenudeo[[#This Row],[Promoción]],PromocionesMenudeo[[Promocion]:[Descuento]],2,0),0)","v":80},{"$f":"_xlfn.IFNA(VLOOKUP(VentasMenudeo[[#This Row],[Producto]],$A$2:$B$5,2,FALSE),0)","v":270},{"$f":"_xlfn.IFNA(_xlfn.IFS(VentasMenudeo[[#This Row],[Producto]]=$A$2,VentasMenudeo[[#This Row],[Precio de Venta]]*VentasMenudeo[[#This Row],[Cantidad]]-VentasMenudeo[[#This Row],[Descuento]],VentasMenudeo[[#This Row],[Producto]]=$A$3,VentasMenudeo[[#This Row],[Precio de Venta]]*VentasMenudeo[[#This Row],[Cantidad]]-VentasMenudeo[[#This Row],[Descuento]],VentasMenudeo[[#This Row],[Producto]]=$A$4,VentasMenudeo[[#This Row],[Precio de Venta]]*VentasMenudeo[[#This Row],[Cantidad]]-VentasMenudeo[[#This Row],[Descuento]],VentasMenudeo[[#This Row],[Producto]]=$A$5,VentasMenudeo[[#This Row],[Precio de Venta]]*VentasMenudeo[[#This Row],[Cantidad]]-VentasMenudeo[[#This Row],[Descuento]]),0)","v":190},190]
["2023-03-30","Hugo","IPLAY MAX","Strawberry Lychee",1,"Navidad",null,{"$f":"_xlfn.IFNA(VLOOKUP(VentasMenudeo[[#This Row],[Promoción]],PromocionesMenudeo[[Promocion]:[Descuento]],2,0),0)","v":80},{"$f":"_xlfn.IFNA(VLOOKUP(VentasMenudeo[[#This Row],[Producto]],$A$2:$B$5,2,FALSE),0)","v":270},{"$f":"_xlfn.IFNA(_xlfn.IFS(VentasMenudeo[[#This Row],[Producto]]=$A$2,VentasMenudeo[[#This Row],[Precio de Venta]]*VentasMenudeo[[#This Row],[Cantidad]]-VentasMenudeo[[#This Row],[Descuento]],VentasMenudeo[[#This Row],[Producto]]=$A$3,VentasMenudeo[[#This Row],[Precio de Venta]]*VentasMenudeo[[#This Row],[Cantidad]]-VentasMenudeo[[#This Row],[Descuento]],VentasMenudeo[[#This Row],[Producto]]=$A$4,VentasMenudeo[[#This Row],[Precio de Venta]]*VentasMenudeo[[#This Row],[Cantidad]]-VentasMenudeo[[#This Row],[Descuento]],VentasMenudeo[[#This Row],[Producto]]=$A$5,VentasMenudeo[[#This Row],[Precio de Venta]]*VentasMenudeo[[#This Row],[Cantidad]]-VentasMenudeo[[#This Row],[Descuento]]),0)","v":190},190]
["2023-03-30","Hugo","IPLAY MAX","Grape Ice",1,"Navidad",null,{"$f":"_xlfn.IFNA(VLOOKUP(VentasMenudeo[[#This Row],[Promoción]],PromocionesMenudeo[[Promocion]:[Descuento]],2,0),0)","v":80},{"$f":"_xlfn.IFNA(VLOOKUP(VentasMenudeo[[#This Row],[Producto]],$A$2:$B$5,2,FALSE),0)","v":270},{"$f":"_xlfn.IFNA(_xlfn.IFS(VentasMenudeo[[#This Row],[Producto]]=$A$2,VentasMenudeo[[#This Row],[Precio de Venta]]*VentasMenudeo[[#This Row],[Cantidad]]-VentasMenudeo[[#This Row],[Descuento]],VentasMenudeo[[#This Row],[Producto]]=$A$3,VentasMenudeo[[#This Row],[Precio de Venta]]*VentasMenudeo[[#This Row],[Cantidad]]-VentasMenudeo[[#This Row],[Descuento]],VentasMenudeo[[#This Row],[Producto]]=$A$4,VentasMenudeo[[#This Row],[Precio de Venta]]*VentasMenudeo[[#This Row],[Cantidad]]-VentasMenudeo[[#This Row],[Descuento]],VentasMenudeo[[#This Row],[Producto]]=$A$5,VentasMenudeo[[#This Row],[Precio de Venta]]*VentasMenudeo[[#This Row],[Cantidad]]-VentasMenudeo[[#This Row],[Descuento]]),0)","v":190},190]
["2023-03-30","Hugo","IPLAY MAX","Grape Ice",1,"Navidad",null,{"$f":"_xlfn.IFNA(VLOOKUP(VentasMenudeo[[#This Row],[Promoción]],PromocionesMenudeo[[Promocion]:[Descuento]],2,0),0)","v":80},{"$f":"_xlfn.IFNA(VLOOKUP(VentasMenudeo[[#This Row],[Producto]],$A$2:$B$5,2,FALSE),0)","v":270},{"$f":"_xlfn.IFNA(_xlfn.IFS(VentasMenudeo[[#This Row],[Producto]]=$A$2,VentasMenudeo[[#This Row],[Precio de Venta]]*VentasMenudeo[[#This Row],[Cantidad]]-VentasMenudeo[[#This Row],[Descuento]],VentasMenudeo[[#This Row],[Producto]]=$A$3,VentasMenudeo[[#This Row],[Precio de Venta]]*VentasMenudeo[[#This Row],[Cantidad]]-VentasMenudeo[[#This Row],[Descuento]],VentasMenudeo[[#This Row],[Producto]]=$A$4,VentasMenudeo[[#This Row],[Precio de Venta]]*VentasMenudeo[[#This Row],[Cantidad]]-VentasMenudeo[[#This Row],[Descuento]],VentasMenudeo[[#This Row],[Producto]]=$A$5,VentasMenudeo[[#This Row],[Precio de Venta]]*VentasMenudeo[[#This Row],[Cantidad]]-VentasMenudeo[[#This Row],[Descuento]]),0)","v":190},190]
["2023-03-30","Hugo","IPLAY MAX","Grape Ice",1,"Navidad",null,{"$f":"_xlfn.IFNA(VLOOKUP(VentasMenudeo[[#This Row],[Promoción]],PromocionesMenudeo[[Promocion]:[Descuento]],2,0),0)","v":80},{"$f":"_xlfn.IFNA(VLOOKUP(VentasMenudeo[[#This Row],[Producto]],$A$2:$B$5,2,FALSE),0)","v":270},{"$f":"_xlfn.IFNA(_xlfn.IFS(VentasMenudeo[[#This Row],[Producto]]=$A$2,VentasMenudeo[[#This Row],[Precio de Venta]]*VentasMenudeo[[#This Row],[Cantidad]]-VentasMenudeo[[#This Row],[Descuento]],VentasMenudeo[[#This Row],[Producto]]=$A$3,VentasMenudeo[[#This Row],[Precio de Venta]]*VentasMenudeo[[#This Row],[Cantidad]]-VentasMenudeo[[#This Row],[Descuento]],VentasMenudeo[[#This Row],[Producto]]=$A$4,VentasMenudeo[[#This Row],[Precio de Venta]]*VentasMenudeo[[#This Row],[Cantidad]]-VentasMenudeo[[#This Row],[Descuento]],VentasMenudeo[[#This Row],[Producto]]=$A$5,VentasMenudeo[[#This Row],[Precio de Venta]]*VentasMenudeo[[#This Row],[Cantidad]]-VentasMenudeo[[#This Row],[Descuento]]),0)","v":190},190]
["2023-03-30","Hugo","IPLAY MAX","Sourraspberry",1,"Navidad",null,{"$f":"_xlfn.IFNA(VLOOKUP(VentasMenudeo[[#This Row],[Promoción]],PromocionesMenudeo[[Promocion]:[Descuento]],2,0),0)","v":80},{"$f":"_xlfn.IFNA(VLOOKUP(VentasMenudeo[[#This Row],[Producto]],$A$2:$B$5,2,FALSE),0)","v":270},{"$f":"_xlfn.IFNA(_xlfn.IFS(VentasMenudeo[[#This Row],[Producto]]=$A$2,VentasMenudeo[[#This Row],[Precio de Venta]]*VentasMenudeo[[#This Row],[Cantidad]]-VentasMenudeo[[#This Row],[Descuento]],VentasMenudeo[[#This Row],[Producto]]=$A$3,VentasMenudeo[[#This Row],[Precio de Venta]]*VentasMenudeo[[#This Row],[Cantidad]]-VentasMenudeo[[#This Row],[Descuento]],VentasMenudeo[[#This Row],[Producto]]=$A$4,VentasMenudeo[[#This Row],[Precio de Venta]]*VentasMenudeo[[#This Row],[Cantidad]]-VentasMenudeo[[#This Row],[Descuento]],VentasMenudeo[[#This Row],[Producto]]=$A$5,VentasMenudeo[[#This Row],[Precio de Venta]]*VentasMenudeo[[#This Row],[Cantidad]]-VentasMenudeo[[#This Row],[Descuento]]),0)","v":190},190]
["2023-03-30","Hugo","IPLAY MAX","Sourraspberry",1,"Navidad",null,{"$f":"_xlfn.IFNA(VLOOKUP(VentasMenudeo[[#This Row],[Promoción]],PromocionesMenudeo[[Promocion]:[Descuento]],2,0),0)","v":80},{"$f":"_xlfn.IFNA(VLOOKUP(VentasMenudeo[[#This Row],[Producto]],$A$2:$B$5,2,FALSE),0)","v":270},{"$f":"_xlfn.IFNA(_xlfn.IFS(VentasMenudeo[[#This Row],[Producto]]=$A$2,VentasMenudeo[[#This Row],[Precio de Venta]]*VentasMenudeo[[#This Row],[Cantidad]]-VentasMenudeo[[#This Row],[Descuento]],VentasMenudeo[[#This Row],[Producto]]=$A$3,VentasMenudeo[[#This Row],[Precio de Venta]]*VentasMenudeo[[#This Row],[Cantidad]]-VentasMenudeo[[#This Row],[Descuento]],VentasMenudeo[[#This Row],[Producto]]=$A$4,VentasMenudeo[[#This Row],[Precio de Venta]]*VentasMenudeo[[#This Row],[Cantidad]]-VentasMenudeo[[#This Row],[Descuento]],VentasMenudeo[[#This Row],[Producto]]=$A$5,VentasMenudeo[[#This Row],[Precio de Venta]]*VentasMenudeo[[#This Row],[Cantidad]]-VentasMenudeo[[#This Row],[Descuento]]),0)","v":190},190]
["2023-03-30","Hugo","IPLAY MAX","Sourraspberry",1,"Navidad",null,{"$f":"_xlfn.IFNA(VLOOKUP(VentasMenudeo[[#This Row],[Promoción]],PromocionesMenudeo[[Promocion]:[Descuento]],2,0),0)","v":80},{"$f":"_xlfn.IFNA(VLOOKUP(VentasMenudeo[[#This Row],[Producto]],$A$2:$B$5,2,FALSE),0)","v":270},{"$f":"_xlfn.IFNA(_xlfn.IFS(VentasMenudeo[[#This Row],[Producto]]=$A$2,VentasMenudeo[[#This Row],[Precio de Venta]]*VentasMenudeo[[#This Row],[Cantidad]]-VentasMenudeo[[#This Row],[Descuento]],VentasMenudeo[[#This Row],[Producto]]=$A$3,VentasMenudeo[[#This Row],[Precio de Venta]]*VentasMenudeo[[#This Row],[Cantidad]]-VentasMenudeo[[#This Row],[Descuento]],VentasMenudeo[[#This Row],[Producto]]=$A$4,VentasMenudeo[[#This Row],[Precio de Venta]]*VentasMenudeo[[#This Row],[Cantidad]]-VentasMenudeo[[#This Row],[Descuento]],VentasMenudeo[[#This Row],[Producto]]=$A$5,VentasMenudeo[[#This Row],[Precio de Venta]]*VentasMenudeo[[#This Row],[Cantidad]]-VentasMenudeo[[#This Row],[Descuento]]),0)","v":190},190]
["2023-03-30","Hugo","IPLAY MAX","Low Mint",1,"Navidad",null,{"$f":"_xlfn.IFNA(VLOOKUP(VentasMenudeo[[#This Row],[Promoción]],PromocionesMenudeo[[Promocion]:[Descuento]],2,0),0)","v":80},{"$f":"_xlfn.IFNA(VLOOKUP(VentasMenudeo[[#This Row],[Producto]],$A$2:$B$5,2,FALSE),0)","v":270},{"$f":"_xlfn.IFNA(_xlfn.IFS(VentasMenudeo[[#This Row],[Producto]]=$A$2,VentasMenudeo[[#This Row],[Precio de Venta]]*VentasMenudeo[[#This Row],[Cantidad]]-VentasMenudeo[[#This Row],[Descuento]],VentasMenudeo[[#This Row],[Producto]]=$A$3,VentasMenudeo[[#This Row],[Precio de Venta]]*VentasMenudeo[[#This Row],[Cantidad]]-VentasMenudeo[[#This Row],[Descuento]],VentasMenudeo[[#This Row],[Producto]]=$A$4,VentasMenudeo[[#This Row],[Precio de Venta]]*VentasMenudeo[[#This Row],[Cantidad]]-VentasMenudeo[[#This Row],[Descuento]],VentasMenudeo[[#This Row],[Producto]]=$A$5,VentasMenudeo[[#This Row],[Precio de Venta]]*VentasMenudeo[[#This Row],[Cantidad]]-VentasMenudeo[[#This Row],[Descuento]]),0)","v":190},190]
["2023-03-30","Hugo","IPLAY MAX","Banana Cherry DragonFruit",1,"Navidad",null,{"$f":"_xlfn.IFNA(VLOOKUP(VentasMenudeo[[#This Row],[Promoción]],PromocionesMenudeo[[Promocion]:[Descuento]],2,0),0)","v":80},{"$f":"_xlfn.IFNA(VLOOKUP(VentasMenudeo[[#This Row],[Producto]],$A$2:$B$5,2,FALSE),0)","v":270},{"$f":"_xlfn.IFNA(_xlfn.IFS(VentasMenudeo[[#This Row],[Producto]]=$A$2,VentasMenudeo[[#This Row],[Precio de Venta]]*VentasMenudeo[[#This Row],[Cantidad]]-VentasMenudeo[[#This Row],[Descuento]],VentasMenudeo[[#This Row],[Producto]]=$A$3,VentasMenudeo[[#This Row],[Precio de Venta]]*VentasMenudeo[[#This Row],[Cantidad]]-VentasMenudeo[[#This Row],[Descuento]],VentasMenudeo[[#This Row],[Producto]]=$A$4,VentasMenudeo[[#This Row],[Precio de Venta]]*VentasMenudeo[[#This Row],[Cantidad]]-VentasMenudeo[[#This Row],[Descuento]],VentasMenudeo[[#This Row],[Producto]]=$A$5,VentasMenudeo[[#This Row],[Precio de Venta]]*VentasMenudeo[[#This Row],[Cantidad]]-VentasMenudeo[[#This Row],[Descuento]]),0)","v":190},190]
["2023-03-30","Hugo","IPLAY MAX","Banana Cherry DragonFruit",1,"Navidad",null,{"$f":"_xlfn.IFNA(VLOOKUP(VentasMenudeo[[#This Row],[Promoción]],PromocionesMenudeo[[Promocion]:[Descuento]],2,0),0)","v":80},{"$f":"_xlfn.IFNA(VLOOKUP(VentasMenudeo[[#This Row],[Producto]],$A$2:$B$5,2,FALSE),0)","v":270},{"$f":"_xlfn.IFNA(_xlfn.IFS(VentasMenudeo[[#This Row],[Producto]]=$A$2,VentasMenudeo[[#This Row],[Precio de Venta]]*VentasMenudeo[[#This Row],[Cantidad]]-VentasMenudeo[[#This Row],[Descuento]],VentasMenudeo[[#This Row],[Producto]]=$A$3,VentasMenudeo[[#This Row],[Precio de Venta]]*VentasMenudeo[[#This Row],[Cantidad]]-VentasMenudeo[[#This Row],[Descuento]],VentasMenudeo[[#This Row],[Producto]]=$A$4,VentasMenudeo[[#This Row],[Precio de Venta]]*VentasMenudeo[[#This Row],[Cantidad]]-VentasMenudeo[[#This Row],[Descuento]],VentasMenudeo[[#This Row],[Producto]]=$A$5,VentasMenudeo[[#This Row],[Precio de Venta]]*VentasMenudeo[[#This Row],[Cantidad]]-VentasMenudeo[[#This Row],[Descuento]]),0)","v":190},190]
["2023-03-30","Hugo","IPLAY MAX","Banana Cherry DragonFruit",1,"Navidad",null,{"$f":"_xlfn.IFNA(VLOOKUP(VentasMenudeo[[#This Row],[Promoción]],PromocionesMenudeo[[Promocion]:[Descuento]],2,0),0)","v":80},{"$f":"_xlfn.IFNA(VLOOKUP(VentasMenudeo[[#This Row],[Producto]],$A$2:$B$5,2,FALSE),0)","v":270},{"$f":"_xlfn.IFNA(_xlfn.IFS(VentasMenudeo[[#This Row],[Producto]]=$A$2,VentasMenudeo[[#This Row],[Precio de Venta]]*VentasMenudeo[[#This Row],[Cantidad]]-VentasMenudeo[[#This Row],[Descuento]],VentasMenudeo[[#This Row],[Producto]]=$A$3,VentasMenudeo[[#This Row],[Precio de Venta]]*VentasMenudeo[[#This Row],[Cantidad]]-VentasMenudeo[[#This Row],[Descuento]],VentasMenudeo[[#This Row],[Producto]]=$A$4,VentasMenudeo[[#This Row],[Precio de Venta]]*VentasMenudeo[[#This Row],[Cantidad]]-VentasMenudeo[[#This Row],[Descuento]],VentasMenudeo[[#This Row],[Producto]]=$A$5,VentasMenudeo[[#This Row],[Precio de Venta]]*VentasMenudeo[[#This Row],[Cantidad]]-VentasMenudeo[[#This Row],[Descuento]]),0)","v":190},190]
["2023-03-30","Hugo","IPLAY MAX","Pineapple Orange Guava",1,"Navidad",null,{"$f":"_xlfn.IFNA(VLOOKUP(VentasMenudeo[[#This Row],[Promoción]],PromocionesMenudeo[[Promocion]:[Descuento]],2,0),0)","v":80},{"$f":"_xlfn.IFNA(VLOOKUP(VentasMenudeo[[#This Row],[Producto]],$A$2:$B$5,2,FALSE),0)","v":270},{"$f":"_xlfn.IFNA(_xlfn.IFS(VentasMenudeo[[#This Row],[Producto]]=$A$2,VentasMenudeo[[#This Row],[Precio de Venta]]*VentasMenudeo[[#This Row],[Cantidad]]-VentasMenudeo[[#This Row],[Descuento]],VentasMenudeo[[#This Row],[Producto]]=$A$3,VentasMenudeo[[#This Row],[Precio de Venta]]*VentasMenudeo[[#This Row],[Cantidad]]-VentasMenudeo[[#This Row],[Descuento]],VentasMenudeo[[#This Row],[Producto]]=$A$4,VentasMenudeo[[#This Row],[Precio de Venta]]*VentasMenudeo[[#This Row],[Cantidad]]-VentasMenudeo[[#This Row],[Descuento]],VentasMenudeo[[#This Row],[Producto]]=$A$5,VentasMenudeo[[#This Row],[Precio de Venta]]*VentasMenudeo[[#This Row],[Cantidad]]-VentasMenudeo[[#This Row],[Descuento]]),0)","v":190},190]
["2023-03-30","Hugo","IPLAY MAX","Pineapple Orange Guava",1,"Navidad",null,{"$f":"_xlfn.IFNA(VLOOKUP(VentasMenudeo[[#This Row],[Promoción]],PromocionesMenudeo[[Promocion]:[Descuento]],2,0),0)","v":80},{"$f":"_xlfn.IFNA(VLOOKUP(VentasMenudeo[[#This Row],[Producto]],$A$2:$B$5,2,FALSE),0)","v":270},{"$f":"_xlfn.IFNA(_xlfn.IFS(VentasMenudeo[[#This Row],[Producto]]=$A$2,VentasMenudeo[[#This Row],[Precio de Venta]]*VentasMenudeo[[#This Row],[Cantidad]]-VentasMenudeo[[#This Row],[Descuento]],VentasMenudeo[[#This Row],[Producto]]=$A$3,VentasMenudeo[[#This Row],[Precio de Venta]]*VentasMenudeo[[#This Row],[Cantidad]]-VentasMenudeo[[#This Row],[Descuento]],VentasMenudeo[[#This Row],[Producto]]=$A$4,VentasMenudeo[[#This Row],[Precio de Venta]]*VentasMenudeo[[#This Row],[Cantidad]]-VentasMenudeo[[#This Row],[Descuento]],VentasMenudeo[[#This Row],[Producto]]=$A$5,VentasMenudeo[[#This Row],[Precio de Venta]]*VentasMenudeo[[#This Row],[Cantidad]]-VentasMenudeo[[#This Row],[Descuento]]),0)","v":190},190]
["2023-03-30","Hugo","IPLAY MAX","Pineapple Orange Guava",1,"Navidad",null,{"$f":"_xlfn.IFNA(VLOOKUP(VentasMenudeo[[#This Row],[Promoción]],PromocionesMenudeo[[Promocion]:[Descuento]],2,0),0)","v":80},{"$f":"_xlfn.IFNA(VLOOKUP(VentasMenudeo[[#This Row],[Producto]],$A$2:$B$5,2,FALSE),0)","v":270},{"$f":"_xlfn.IFNA(_xlfn.IFS(VentasMenudeo[[#This Row],[Producto]]=$A$2,VentasMenudeo[[#This Row],[Precio de Venta]]*VentasMenudeo[[#This Row],[Cantidad]]-VentasMenudeo[[#This Row],[Descuento]],VentasMenudeo[[#This Row],[Producto]]=$A$3,VentasMenudeo[[#This Row],[Precio de Venta]]*VentasMenudeo[[#This Row],[Cantidad]]-VentasMenudeo[[#This Row],[Descuento]],VentasMenudeo[[#This Row],[Producto]]=$A$4,VentasMenudeo[[#This Row],[Precio de Venta]]*VentasMenudeo[[#This Row],[Cantidad]]-VentasMenudeo[[#This Row],[Descuento]],VentasMenudeo[[#This Row],[Producto]]=$A$5,VentasMenudeo[[#This Row],[Precio de Venta]]*VentasMenudeo[[#This Row],[Cantidad]]-VentasMenudeo[[#This Row],[Descuento]]),0)","v":190},190]
["2023-03-30","Hugo","IPLAY MAX","Kiwi Guava Passion Fruit",1,"Navidad",null,{"$f":"_xlfn.IFNA(VLOOKUP(VentasMenudeo[[#This Row],[Promoción]],PromocionesMenudeo[[Promocion]:[Descuento]],2,0),0)","v":80},{"$f":"_xlfn.IFNA(VLOOKUP(VentasMenudeo[[#This Row],[Producto]],$A$2:$B$5,2,FALSE),0)","v":270},{"$f":"_xlfn.IFNA(_xlfn.IFS(VentasMenudeo[[#This Row],[Producto]]=$A$2,VentasMenudeo[[#This Row],[Precio de Venta]]*VentasMenudeo[[#This Row],[Cantidad]]-VentasMenudeo[[#This Row],[Descuento]],VentasMenudeo[[#This Row],[Producto]]=$A$3,VentasMenudeo[[#This Row],[Precio de Venta]]*VentasMenudeo[[#This Row],[Cantidad]]-VentasMenudeo[[#This Row],[Descuento]],VentasMenudeo[[#This Row],[Producto]]=$A$4,VentasMenudeo[[#This Row],[Precio de Venta]]*VentasMenudeo[[#This Row],[Cantidad]]-VentasMenudeo[[#This Row],[Descuento]],VentasMenudeo[[#This Row],[Producto]]=$A$5,VentasMenudeo[[#This Row],[Precio de Venta]]*VentasMenudeo[[#This Row],[Cantidad]]-VentasMenudeo[[#This Row],[Descuento]]),0)","v":190},190]
["2023-03-30","Hugo","IPLAY MAX","Kiwi Guava Passion Fruit",1,"Navidad",null,{"$f":"_xlfn.IFNA(VLOOKUP(VentasMenudeo[[#This Row],[Promoción]],PromocionesMenudeo[[Promocion]:[Descuento]],2,0),0)","v":80},{"$f":"_xlfn.IFNA(VLOOKUP(VentasMenudeo[[#This Row],[Producto]],$A$2:$B$5,2,FALSE),0)","v":270},{"$f":"_xlfn.IFNA(_xlfn.IFS(VentasMenudeo[[#This Row],[Producto]]=$A$2,VentasMenudeo[[#This Row],[Precio de Venta]]*VentasMenudeo[[#This Row],[Cantidad]]-VentasMenudeo[[#This Row],[Descuento]],VentasMenudeo[[#This Row],[Producto]]=$A$3,VentasMenudeo[[#This Row],[Precio de Venta]]*VentasMenudeo[[#This Row],[Cantidad]]-VentasMenudeo[[#This Row],[Descuento]],VentasMenudeo[[#This Row],[Producto]]=$A$4,VentasMenudeo[[#This Row],[Precio de Venta]]*VentasMenudeo[[#This Row],[Cantidad]]-VentasMenudeo[[#This Row],[Descuento]],VentasMenudeo[[#This Row],[Producto]]=$A$5,VentasMenudeo[[#This Row],[Precio de Venta]]*VentasMenudeo[[#This Row],[Cantidad]]-VentasMenudeo[[#This Row],[Descuento]]),0)","v":190},190]
["2023-03-30","Hugo","IPLAY MAX","Kiwi Guava Passion Fruit",1,"Navidad",null,{"$f":"_xlfn.IFNA(VLOOKUP(VentasMenudeo[[#This Row],[Promoción]],PromocionesMenudeo[[Promocion]:[Descuento]],2,0),0)","v":80},{"$f":"_xlfn.IFNA(VLOOKUP(VentasMenudeo[[#This Row],[Producto]],$A$2:$B$5,2,FALSE),0)","v":270},{"$f":"_xlfn.IFNA(_xlfn.IFS(VentasMenudeo[[#This Row],[Producto]]=$A$2,VentasMenudeo[[#This Row],[Precio de Venta]]*VentasMenudeo[[#This Row],[Cantidad]]-VentasMenudeo[[#This Row],[Descuento]],VentasMenudeo[[#This Row],[Producto]]=$A$3,VentasMenudeo[[#This Row],[Precio de Venta]]*VentasMenudeo[[#This Row],[Cantidad]]-VentasMenudeo[[#This Row],[Descuento]],VentasMenudeo[[#This Row],[Producto]]=$A$4,VentasMenudeo[[#This Row],[Precio de Venta]]*VentasMenudeo[[#This Row],[Cantidad]]-VentasMenudeo[[#This Row],[Descuento]],VentasMenudeo[[#This Row],[Producto]]=$A$5,VentasMenudeo[[#This Row],[Precio de Venta]]*VentasMenudeo[[#This Row],[Cantidad]]-VentasMenudeo[[#This Row],[Descuento]]),0)","v":190},190]
["2023-03-30","Hugo","IPLAY MAX","Blueberry Rainbow",1,"Navidad",null,{"$f":"_xlfn.IFNA(VLOOKUP(VentasMenudeo[[#This Row],[Promoción]],PromocionesMenudeo[[Promocion]:[Descuento]],2,0),0)","v":80},{"$f":"_xlfn.IFNA(VLOOKUP(VentasMenudeo[[#This Row],[Producto]],$A$2:$B$5,2,FALSE),0)","v":270},{"$f":"_xlfn.IFNA(_xlfn.IFS(VentasMenudeo[[#This Row],[Producto]]=$A$2,VentasMenudeo[[#This Row],[Precio de Venta]]*VentasMenudeo[[#This Row],[Cantidad]]-VentasMenudeo[[#This Row],[Descuento]],VentasMenudeo[[#This Row],[Producto]]=$A$3,VentasMenudeo[[#This Row],[Precio de Venta]]*VentasMenudeo[[#This Row],[Cantidad]]-VentasMenudeo[[#This Row],[Descuento]],VentasMenudeo[[#This Row],[Producto]]=$A$4,VentasMenudeo[[#This Row],[Precio de Venta]]*VentasMenudeo[[#This Row],[Cantidad]]-VentasMenudeo[[#This Row],[Descuento]],VentasMenudeo[[#This Row],[Producto]]=$A$5,VentasMenudeo[[#This Row],[Precio de Venta]]*VentasMenudeo[[#This Row],[Cantidad]]-VentasMenudeo[[#This Row],[Descuento]]),0)","v":190},190]
["2023-03-30","Hugo","IPLAY MAX","Watermelon Banana",1,"Navidad",null,{"$f":"_xlfn.IFNA(VLOOKUP(VentasMenudeo[[#This Row],[Promoción]],PromocionesMenudeo[[Promocion]:[Descuento]],2,0),0)","v":80},{"$f":"_xlfn.IFNA(VLOOKUP(VentasMenudeo[[#This Row],[Producto]],$A$2:$B$5,2,FALSE),0)","v":270},{"$f":"_xlfn.IFNA(_xlfn.IFS(VentasMenudeo[[#This Row],[Producto]]=$A$2,VentasMenudeo[[#This Row],[Precio de Venta]]*VentasMenudeo[[#This Row],[Cantidad]]-VentasMenudeo[[#This Row],[Descuento]],VentasMenudeo[[#This Row],[Producto]]=$A$3,VentasMenudeo[[#This Row],[Precio de Venta]]*VentasMenudeo[[#This Row],[Cantidad]]-VentasMenudeo[[#This Row],[Descuento]],VentasMenudeo[[#This Row],[Producto]]=$A$4,VentasMenudeo[[#This Row],[Precio de Venta]]*VentasMenudeo[[#This Row],[Cantidad]]-VentasMenudeo[[#This Row],[Descuento]],VentasMenudeo[[#This Row],[Producto]]=$A$5,VentasMenudeo[[#This Row],[Precio de Venta]]*VentasMenudeo[[#This Row],[Cantidad]]-VentasMenudeo[[#This Row],[Descuento]]),0)","v":190},190]
["2023-03-30","Hugo","IPLAY MAX","Watermelon Banana",1,"Navidad",null,{"$f":"_xlfn.IFNA(VLOOKUP(VentasMenudeo[[#This Row],[Promoción]],PromocionesMenudeo[[Promocion]:[Descuento]],2,0),0)","v":80},{"$f":"_xlfn.IFNA(VLOOKUP(VentasMenudeo[[#This Row],[Producto]],$A$2:$B$5,2,FALSE),0)","v":270},{"$f":"_xlfn.IFNA(_xlfn.IFS(VentasMenudeo[[#This Row],[Producto]]=$A$2,VentasMenudeo[[#This Row],[Precio de Venta]]*VentasMenudeo[[#This Row],[Cantidad]]-VentasMenudeo[[#This Row],[Descuento]],VentasMenudeo[[#This Row],[Producto]]=$A$3,VentasMenudeo[[#This Row],[Precio de Venta]]*VentasMenudeo[[#This Row],[Cantidad]]-VentasMenudeo[[#This Row],[Descuento]],VentasMenudeo[[#This Row],[Producto]]=$A$4,VentasMenudeo[[#This Row],[Precio de Venta]]*VentasMenudeo[[#This Row],[Cantidad]]-VentasMenudeo[[#This Row],[Descuento]],VentasMenudeo[[#This Row],[Producto]]=$A$5,VentasMenudeo[[#This Row],[Precio de Venta]]*VentasMenudeo[[#This Row],[Cantidad]]-VentasMenudeo[[#This Row],[Descuento]]),0)","v":190},190]
["2023-03-30","Hugo","IPLAY MAX","Peach Berries Ice",1,"Navidad",null,{"$f":"_xlfn.IFNA(VLOOKUP(VentasMenudeo[[#This Row],[Promoción]],PromocionesMenudeo[[Promocion]:[Descuento]],2,0),0)","v":80},{"$f":"_xlfn.IFNA(VLOOKUP(VentasMenudeo[[#This Row],[Producto]],$A$2:$B$5,2,FALSE),0)","v":270},{"$f":"_xlfn.IFNA(_xlfn.IFS(VentasMenudeo[[#This Row],[Producto]]=$A$2,VentasMenudeo[[#This Row],[Precio de Venta]]*VentasMenudeo[[#This Row],[Cantidad]]-VentasMenudeo[[#This Row],[Descuento]],VentasMenudeo[[#This Row],[Producto]]=$A$3,VentasMenudeo[[#This Row],[Precio de Venta]]*VentasMenudeo[[#This Row],[Cantidad]]-VentasMenudeo[[#This Row],[Descuento]],VentasMenudeo[[#This Row],[Producto]]=$A$4,VentasMenudeo[[#This Row],[Precio de Venta]]*VentasMenudeo[[#This Row],[Cantidad]]-VentasMenudeo[[#This Row],[Descuento]],VentasMenudeo[[#This Row],[Producto]]=$A$5,VentasMenudeo[[#This Row],[Precio de Venta]]*VentasMenudeo[[#This Row],[Cantidad]]-VentasMenudeo[[#This Row],[Descuento]]),0)","v":190},190]
["2023-03-30","Hugo","IPLAY MAX","Peach Berries Ice",1,"Navidad",null,{"$f":"_xlfn.IFNA(VLOOKUP(VentasMenudeo[[#This Row],[Promoción]],PromocionesMenudeo[[Promocion]:[Descuento]],2,0),0)","v":80},{"$f":"_xlfn.IFNA(VLOOKUP(VentasMenudeo[[#This Row],[Producto]],$A$2:$B$5,2,FALSE),0)","v":270},{"$f":"_xlfn.IFNA(_xlfn.IFS(VentasMenudeo[[#This Row],[Producto]]=$A$2,VentasMenudeo[[#This Row],[Precio de Venta]]*VentasMenudeo[[#This Row],[Cantidad]]-VentasMenudeo[[#This Row],[Descuento]],VentasMenudeo[[#This Row],[Producto]]=$A$3,VentasMenudeo[[#This Row],[Precio de Venta]]*VentasMenudeo[[#This Row],[Cantidad]]-VentasMenudeo[[#This Row],[Descuento]],VentasMenudeo[[#This Row],[Producto]]=$A$4,VentasMenudeo[[#This Row],[Precio de Venta]]*VentasMenudeo[[#This Row],[Cantidad]]-VentasMenudeo[[#This Row],[Descuento]],VentasMenudeo[[#This Row],[Producto]]=$A$5,VentasMenudeo[[#This Row],[Precio de Venta]]*VentasMenudeo[[#This Row],[Cantidad]]-VentasMenudeo[[#This Row],[Descuento]]),0)","v":190},190]
["2023-04-11","Hugo","IPLAY MAX","Guava",1,"Navidad",null,{"$f":"_xlfn.IFNA(VLOOKUP(VentasMenudeo[[#This Row],[Promoción]],PromocionesMenudeo[[Promocion]:[Descuento]],2,0),0)","v":80},{"$f":"_xlfn.IFNA(VLOOKUP(VentasMenudeo[[#This Row],[Producto]],$A$2:$B$5,2,FALSE),0)","v":270},{"$f":"_xlfn.IFNA(_xlfn.IFS(VentasMenudeo[[#This Row],[Producto]]=$A$2,VentasMenudeo[[#This Row],[Precio de Venta]]*VentasMenudeo[[#This Row],[Cantidad]]-VentasMenudeo[[#This Row],[Descuento]],VentasMenudeo[[#This Row],[Producto]]=$A$3,VentasMenudeo[[#This Row],[Precio de Venta]]*VentasMenudeo[[#This Row],[Cantidad]]-VentasMenudeo[[#This Row],[Descuento]],VentasMenudeo[[#This Row],[Producto]]=$A$4,VentasMenudeo[[#This Row],[Precio de Venta]]*VentasMenudeo[[#This Row],[Cantidad]]-VentasMenudeo[[#This Row],[Descuento]],VentasMenudeo[[#This Row],[Producto]]=$A$5,VentasMenudeo[[#This Row],[Precio de Venta]]*VentasMenudeo[[#This Row],[Cantidad]]-VentasMenudeo[[#This Row],[Descuento]]),0)","v":190},190]
["2023-04-11","Hugo","IPLAY MAX","Grape Ice",1,"Navidad",null,{"$f":"_xlfn.IFNA(VLOOKUP(VentasMenudeo[[#This Row],[Promoción]],PromocionesMenudeo[[Promocion]:[Descuento]],2,0),0)","v":80},{"$f":"_xlfn.IFNA(VLOOKUP(VentasMenudeo[[#This Row],[Producto]],$A$2:$B$5,2,FALSE),0)","v":270},{"$f":"_xlfn.IFNA(_xlfn.IFS(VentasMenudeo[[#This Row],[Producto]]=$A$2,VentasMenudeo[[#This Row],[Precio de Venta]]*VentasMenudeo[[#This Row],[Cantidad]]-VentasMenudeo[[#This Row],[Descuento]],VentasMenudeo[[#This Row],[Producto]]=$A$3,VentasMenudeo[[#This Row],[Precio de Venta]]*VentasMenudeo[[#This Row],[Cantidad]]-VentasMenudeo[[#This Row],[Descuento]],VentasMenudeo[[#This Row],[Producto]]=$A$4,VentasMenudeo[[#This Row],[Precio de Venta]]*VentasMenudeo[[#This Row],[Cantidad]]-VentasMenudeo[[#This Row],[Descuento]],VentasMenudeo[[#This Row],[Producto]]=$A$5,VentasMenudeo[[#This Row],[Precio de Venta]]*VentasMenudeo[[#This Row],[Cantidad]]-VentasMenudeo[[#This Row],[Descuento]]),0)","v":190},190]
["2023-04-11","Hugo","IPLAY MAX","Sourraspberry",1,"Navidad",null,{"$f":"_xlfn.IFNA(VLOOKUP(VentasMenudeo[[#This Row],[Promoción]],PromocionesMenudeo[[Promocion]:[Descuento]],2,0),0)","v":80},{"$f":"_xlfn.IFNA(VLOOKUP(VentasMenudeo[[#This Row],[Producto]],$A$2:$B$5,2,FALSE),0)","v":270},{"$f":"_xlfn.IFNA(_xlfn.IFS(VentasMenudeo[[#This Row],[Producto]]=$A$2,VentasMenudeo[[#This Row],[Precio de Venta]]*VentasMenudeo[[#This Row],[Cantidad]]-VentasMenudeo[[#This Row],[Descuento]],VentasMenudeo[[#This Row],[Producto]]=$A$3,VentasMenudeo[[#This Row],[Precio de Venta]]*VentasMenudeo[[#This Row],[Cantidad]]-VentasMenudeo[[#This Row],[Descuento]],VentasMenudeo[[#This Row],[Producto]]=$A$4,VentasMenudeo[[#This Row],[Precio de Venta]]*VentasMenudeo[[#This Row],[Cantidad]]-VentasMenudeo[[#This Row],[Descuento]],VentasMenudeo[[#This Row],[Producto]]=$A$5,VentasMenudeo[[#This Row],[Precio de Venta]]*VentasMenudeo[[#This Row],[Cantidad]]-VentasMenudeo[[#This Row],[Descuento]]),0)","v":190},190]
["2023-04-11","Hugo","IPLAY MAX","Blueberry Rainbow",1,"Navidad",null,{"$f":"_xlfn.IFNA(VLOOKUP(VentasMenudeo[[#This Row],[Promoción]],PromocionesMenudeo[[Promocion]:[Descuento]],2,0),0)","v":80},{"$f":"_xlfn.IFNA(VLOOKUP(VentasMenudeo[[#This Row],[Producto]],$A$2:$B$5,2,FALSE),0)","v":270},{"$f":"_xlfn.IFNA(_xlfn.IFS(VentasMenudeo[[#This Row],[Producto]]=$A$2,VentasMenudeo[[#This Row],[Precio de Venta]]*VentasMenudeo[[#This Row],[Cantidad]]-VentasMenudeo[[#This Row],[Descuento]],VentasMenudeo[[#This Row],[Producto]]=$A$3,VentasMenudeo[[#This Row],[Precio de Venta]]*VentasMenudeo[[#This Row],[Cantidad]]-VentasMenudeo[[#This Row],[Descuento]],VentasMenudeo[[#This Row],[Producto]]=$A$4,VentasMenudeo[[#This Row],[Precio de Venta]]*VentasMenudeo[[#This Row],[Cantidad]]-VentasMenudeo[[#This Row],[Descuento]],VentasMenudeo[[#This Row],[Producto]]=$A$5,VentasMenudeo[[#This Row],[Precio de Venta]]*VentasMenudeo[[#This Row],[Cantidad]]-VentasMenudeo[[#This Row],[Descuento]]),0)","v":190},190]
["2023-04-11","Hugo","IPLAY MAX","Blueberry Rainbow",1,"Navidad",null,{"$f":"_xlfn.IFNA(VLOOKUP(VentasMenudeo[[#This Row],[Promoción]],PromocionesMenudeo[[Promocion]:[Descuento]],2,0),0)","v":80},{"$f":"_xlfn.IFNA(VLOOKUP(VentasMenudeo[[#This Row],[Producto]],$A$2:$B$5,2,FALSE),0)","v":270},{"$f":"_xlfn.IFNA(_xlfn.IFS(VentasMenudeo[[#This Row],[Producto]]=$A$2,VentasMenudeo[[#This Row],[Precio de Venta]]*VentasMenudeo[[#This Row],[Cantidad]]-VentasMenudeo[[#This Row],[Descuento]],VentasMenudeo[[#This Row],[Producto]]=$A$3,VentasMenudeo[[#This Row],[Precio de Venta]]*VentasMenudeo[[#This Row],[Cantidad]]-VentasMenudeo[[#This Row],[Descuento]],VentasMenudeo[[#This Row],[Producto]]=$A$4,VentasMenudeo[[#This Row],[Precio de Venta]]*VentasMenudeo[[#This Row],[Cantidad]]-VentasMenudeo[[#This Row],[Descuento]],VentasMenudeo[[#This Row],[Producto]]=$A$5,VentasMenudeo[[#This Row],[Precio de Venta]]*VentasMenudeo[[#This Row],[Cantidad]]-VentasMenudeo[[#This Row],[Descuento]]),0)","v":190},190]
["2023-04-11","Hugo","IPLAY MAX","Blueberry Rainbow",1,"Navidad",null,{"$f":"_xlfn.IFNA(VLOOKUP(VentasMenudeo[[#This Row],[Promoción]],PromocionesMenudeo[[Promocion]:[Descuento]],2,0),0)","v":80},{"$f":"_xlfn.IFNA(VLOOKUP(VentasMenudeo[[#This Row],[Producto]],$A$2:$B$5,2,FALSE),0)","v":270},{"$f":"_xlfn.IFNA(_xlfn.IFS(VentasMenudeo[[#This Row],[Producto]]=$A$2,VentasMenudeo[[#This Row],[Precio de Venta]]*VentasMenudeo[[#This Row],[Cantidad]]-VentasMenudeo[[#This Row],[Descuento]],VentasMenudeo[[#This Row],[Producto]]=$A$3,VentasMenudeo[[#This Row],[Precio de Venta]]*VentasMenudeo[[#This Row],[Cantidad]]-VentasMenudeo[[#This Row],[Descuento]],VentasMenudeo[[#This Row],[Producto]]=$A$4,VentasMenudeo[[#This Row],[Precio de Venta]]*VentasMenudeo[[#This Row],[Cantidad]]-VentasMenudeo[[#This Row],[Descuento]],VentasMenudeo[[#This Row],[Producto]]=$A$5,VentasMenudeo[[#This Row],[Precio de Venta]]*VentasMenudeo[[#This Row],[Cantidad]]-VentasMenudeo[[#This Row],[Descuento]]),0)","v":190},190]
["2023-04-15","Hugo","IPLAY MAX","Coconut",1,"Navidad",null,{"$f":"_xlfn.IFNA(VLOOKUP(VentasMenudeo[[#This Row],[Promoción]],PromocionesMenudeo[[Promocion]:[Descuento]],2,0),0)","v":80},{"$f":"_xlfn.IFNA(VLOOKUP(VentasMenudeo[[#This Row],[Producto]],$A$2:$B$5,2,FALSE),0)","v":270},{"$f":"_xlfn.IFNA(_xlfn.IFS(VentasMenudeo[[#This Row],[Producto]]=$A$2,VentasMenudeo[[#This Row],[Precio de Venta]]*VentasMenudeo[[#This Row],[Cantidad]]-VentasMenudeo[[#This Row],[Descuento]],VentasMenudeo[[#This Row],[Producto]]=$A$3,VentasMenudeo[[#This Row],[Precio de Venta]]*VentasMenudeo[[#This Row],[Cantidad]]-VentasMenudeo[[#This Row],[Descuento]],VentasMenudeo[[#This Row],[Producto]]=$A$4,VentasMenudeo[[#This Row],[Precio de Venta]]*VentasMenudeo[[#This Row],[Cantidad]]-VentasMenudeo[[#This Row],[Descuento]],VentasMenudeo[[#This Row],[Producto]]=$A$5,VentasMenudeo[[#This Row],[Precio de Venta]]*VentasMenudeo[[#This Row],[Cantidad]]-VentasMenudeo[[#This Row],[Descuento]]),0)","v":190},190]
["2023-04-15","Hugo","IPLAY MAX","Guava",1,"Navidad",null,{"$f":"_xlfn.IFNA(VLOOKUP(VentasMenudeo[[#This Row],[Promoción]],PromocionesMenudeo[[Promocion]:[Descuento]],2,0),0)","v":80},{"$f":"_xlfn.IFNA(VLOOKUP(VentasMenudeo[[#This Row],[Producto]],$A$2:$B$5,2,FALSE),0)","v":270},{"$f":"_xlfn.IFNA(_xlfn.IFS(VentasMenudeo[[#This Row],[Producto]]=$A$2,VentasMenudeo[[#This Row],[Precio de Venta]]*VentasMenudeo[[#This Row],[Cantidad]]-VentasMenudeo[[#This Row],[Descuento]],VentasMenudeo[[#This Row],[Producto]]=$A$3,VentasMenudeo[[#This Row],[Precio de Venta]]*VentasMenudeo[[#This Row],[Cantidad]]-VentasMenudeo[[#This Row],[Descuento]],VentasMenudeo[[#This Row],[Producto]]=$A$4,VentasMenudeo[[#This Row],[Precio de Venta]]*VentasMenudeo[[#This Row],[Cantidad]]-VentasMenudeo[[#This Row],[Descuento]],VentasMenudeo[[#This Row],[Producto]]=$A$5,VentasMenudeo[[#This Row],[Precio de Venta]]*VentasMenudeo[[#This Row],[Cantidad]]-VentasMenudeo[[#This Row],[Descuento]]),0)","v":190},190]
["2023-04-15","Hugo","IPLAY MAX","Guava",1,"Navidad",null,{"$f":"_xlfn.IFNA(VLOOKUP(VentasMenudeo[[#This Row],[Promoción]],PromocionesMenudeo[[Promocion]:[Descuento]],2,0),0)","v":80},{"$f":"_xlfn.IFNA(VLOOKUP(VentasMenudeo[[#This Row],[Producto]],$A$2:$B$5,2,FALSE),0)","v":270},{"$f":"_xlfn.IFNA(_xlfn.IFS(VentasMenudeo[[#This Row],[Producto]]=$A$2,VentasMenudeo[[#This Row],[Precio de Venta]]*VentasMenudeo[[#This Row],[Cantidad]]-VentasMenudeo[[#This Row],[Descuento]],VentasMenudeo[[#This Row],[Producto]]=$A$3,VentasMenudeo[[#This Row],[Precio de Venta]]*VentasMenudeo[[#This Row],[Cantidad]]-VentasMenudeo[[#This Row],[Descuento]],VentasMenudeo[[#This Row],[Producto]]=$A$4,VentasMenudeo[[#This Row],[Precio de Venta]]*VentasMenudeo[[#This Row],[Cantidad]]-VentasMenudeo[[#This Row],[Descuento]],VentasMenudeo[[#This Row],[Producto]]=$A$5,VentasMenudeo[[#This Row],[Precio de Venta]]*VentasMenudeo[[#This Row],[Cantidad]]-VentasMenudeo[[#This Row],[Descuento]]),0)","v":190},190]
["2023-04-15","Hugo","IPLAY MAX","Mango ICE",1,"Navidad",null,{"$f":"_xlfn.IFNA(VLOOKUP(VentasMenudeo[[#This Row],[Promoción]],PromocionesMenudeo[[Promocion]:[Descuento]],2,0),0)","v":80},{"$f":"_xlfn.IFNA(VLOOKUP(VentasMenudeo[[#This Row],[Producto]],$A$2:$B$5,2,FALSE),0)","v":270},{"$f":"_xlfn.IFNA(_xlfn.IFS(VentasMenudeo[[#This Row],[Producto]]=$A$2,VentasMenudeo[[#This Row],[Precio de Venta]]*VentasMenudeo[[#This Row],[Cantidad]]-VentasMenudeo[[#This Row],[Descuento]],VentasMenudeo[[#This Row],[Producto]]=$A$3,VentasMenudeo[[#This Row],[Precio de Venta]]*VentasMenudeo[[#This Row],[Cantidad]]-VentasMenudeo[[#This Row],[Descuento]],VentasMenudeo[[#This Row],[Producto]]=$A$4,VentasMenudeo[[#This Row],[Precio de Venta]]*VentasMenudeo[[#This Row],[Cantidad]]-VentasMenudeo[[#This Row],[Descuento]],VentasMenudeo[[#This Row],[Producto]]=$A$5,VentasMenudeo[[#This Row],[Precio de Venta]]*VentasMenudeo[[#This Row],[Cantidad]]-VentasMenudeo[[#This Row],[Descuento]]),0)","v":190},190]
["2023-04-15","Hugo","IPLAY MAX","Sour Apple",1,"Navidad",null,{"$f":"_xlfn.IFNA(VLOOKUP(VentasMenudeo[[#This Row],[Promoción]],PromocionesMenudeo[[Promocion]:[Descuento]],2,0),0)","v":80},{"$f":"_xlfn.IFNA(VLOOKUP(VentasMenudeo[[#This Row],[Producto]],$A$2:$B$5,2,FALSE),0)","v":270},{"$f":"_xlfn.IFNA(_xlfn.IFS(VentasMenudeo[[#This Row],[Producto]]=$A$2,VentasMenudeo[[#This Row],[Precio de Venta]]*VentasMenudeo[[#This Row],[Cantidad]]-VentasMenudeo[[#This Row],[Descuento]],VentasMenudeo[[#This Row],[Producto]]=$A$3,VentasMenudeo[[#This Row],[Precio de Venta]]*VentasMenudeo[[#This Row],[Cantidad]]-VentasMenudeo[[#This Row],[Descuento]],VentasMenudeo[[#This Row],[Producto]]=$A$4,VentasMenudeo[[#This Row],[Precio de Venta]]*VentasMenudeo[[#This Row],[Cantidad]]-VentasMenudeo[[#This Row],[Descuento]],VentasMenudeo[[#This Row],[Producto]]=$A$5,VentasMenudeo[[#This Row],[Precio de Venta]]*VentasMenudeo[[#This Row],[Cantidad]]-VentasMenudeo[[#This Row],[Descuento]]),0)","v":190},190]
["2023-04-15","Hugo","IPLAY MAX","Sourraspberry",1,"Navidad",null,{"$f":"_xlfn.IFNA(VLOOKUP(VentasMenudeo[[#This Row],[Promoción]],PromocionesMenudeo[[Promocion]:[Descuento]],2,0),0)","v":80},{"$f":"_xlfn.IFNA(VLOOKUP(VentasMenudeo[[#This Row],[Producto]],$A$2:$B$5,2,FALSE),0)","v":270},{"$f":"_xlfn.IFNA(_xlfn.IFS(VentasMenudeo[[#This Row],[Producto]]=$A$2,VentasMenudeo[[#This Row],[Precio de Venta]]*VentasMenudeo[[#This Row],[Cantidad]]-VentasMenudeo[[#This Row],[Descuento]],VentasMenudeo[[#This Row],[Producto]]=$A$3,VentasMenudeo[[#This Row],[Precio de Venta]]*VentasMenudeo[[#This Row],[Cantidad]]-VentasMenudeo[[#This Row],[Descuento]],VentasMenudeo[[#This Row],[Producto]]=$A$4,VentasMenudeo[[#This Row],[Precio de Venta]]*VentasMenudeo[[#This Row],[Cantidad]]-VentasMenudeo[[#This Row],[Descuento]],VentasMenudeo[[#This Row],[Producto]]=$A$5,VentasMenudeo[[#This Row],[Precio de Venta]]*VentasMenudeo[[#This Row],[Cantidad]]-VentasMenudeo[[#This Row],[Descuento]]),0)","v":190},190]
["2023-04-15","Hugo","IPLAY MAX","Low Mint",1,"Navidad",null,{"$f":"_xlfn.IFNA(VLOOKUP(VentasMenudeo[[#This Row],[Promoción]],PromocionesMenudeo[[Promocion]:[Descuento]],2,0),0)","v":80},{"$f":"_xlfn.IFNA(VLOOKUP(VentasMenudeo[[#This Row],[Producto]],$A$2:$B$5,2,FALSE),0)","v":270},{"$f":"_xlfn.IFNA(_xlfn.IFS(VentasMenudeo[[#This Row],[Producto]]=$A$2,VentasMenudeo[[#This Row],[Precio de Venta]]*VentasMenudeo[[#This Row],[Cantidad]]-VentasMenudeo[[#This Row],[Descuento]],VentasMenudeo[[#This Row],[Producto]]=$A$3,VentasMenudeo[[#This Row],[Precio de Venta]]*VentasMenudeo[[#This Row],[Cantidad]]-VentasMenudeo[[#This Row],[Descuento]],VentasMenudeo[[#This Row],[Producto]]=$A$4,VentasMenudeo[[#This Row],[Precio de Venta]]*VentasMenudeo[[#This Row],[Cantidad]]-VentasMenudeo[[#This Row],[Descuento]],VentasMenudeo[[#This Row],[Producto]]=$A$5,VentasMenudeo[[#This Row],[Precio de Venta]]*VentasMenudeo[[#This Row],[Cantidad]]-VentasMenudeo[[#This Row],[Descuento]]),0)","v":190},190]
["2023-04-15","Hugo","IPLAY MAX","Pineapple Orange Guava",1,"Navidad",null,{"$f":"_xlfn.IFNA(VLOOKUP(VentasMenudeo[[#This Row],[Promoción]],PromocionesMenudeo[[Promocion]:[Descuento]],2,0),0)","v":80},{"$f":"_xlfn.IFNA(VLOOKUP(VentasMenudeo[[#This Row],[Producto]],$A$2:$B$5,2,FALSE),0)","v":270},{"$f":"_xlfn.IFNA(_xlfn.IFS(VentasMenudeo[[#This Row],[Producto]]=$A$2,VentasMenudeo[[#This Row],[Precio de Venta]]*VentasMenudeo[[#This Row],[Cantidad]]-VentasMenudeo[[#This Row],[Descuento]],VentasMenudeo[[#This Row],[Producto]]=$A$3,VentasMenudeo[[#This Row],[Precio de Venta]]*VentasMenudeo[[#This Row],[Cantidad]]-VentasMenudeo[[#This Row],[Descuento]],VentasMenudeo[[#This Row],[Producto]]=$A$4,VentasMenudeo[[#This Row],[Precio de Venta]]*VentasMenudeo[[#This Row],[Cantidad]]-VentasMenudeo[[#This Row],[Descuento]],VentasMenudeo[[#This Row],[Producto]]=$A$5,VentasMenudeo[[#This Row],[Precio de Venta]]*VentasMenudeo[[#This Row],[Cantidad]]-VentasMenudeo[[#This Row],[Descuento]]),0)","v":190},190]
["2023-04-15","Hugo","IPLAY MAX","Kiwi Guava Passion Fruit",1,"Navidad",null,{"$f":"_xlfn.IFNA(VLOOKUP(VentasMenudeo[[#This Row],[Promoción]],PromocionesMenudeo[[Promocion]:[Descuento]],2,0),0)","v":80},{"$f":"_xlfn.IFNA(VLOOKUP(VentasMenudeo[[#This Row],[Producto]],$A$2:$B$5,2,FALSE),0)","v":270},{"$f":"_xlfn.IFNA(_xlfn.IFS(VentasMenudeo[[#This Row],[Producto]]=$A$2,VentasMenudeo[[#This Row],[Precio de Venta]]*VentasMenudeo[[#This Row],[Cantidad]]-VentasMenudeo[[#This Row],[Descuento]],VentasMenudeo[[#This Row],[Producto]]=$A$3,VentasMenudeo[[#This Row],[Precio de Venta]]*VentasMenudeo[[#This Row],[Cantidad]]-VentasMenudeo[[#This Row],[Descuento]],VentasMenudeo[[#This Row],[Producto]]=$A$4,VentasMenudeo[[#This Row],[Precio de Venta]]*VentasMenudeo[[#This Row],[Cantidad]]-VentasMenudeo[[#This Row],[Descuento]],VentasMenudeo[[#This Row],[Producto]]=$A$5,VentasMenudeo[[#This Row],[Precio de Venta]]*VentasMenudeo[[#This Row],[Cantidad]]-VentasMenudeo[[#This Row],[Descuento]]),0)","v":190},190]
["2023-04-15","Hugo","IPLAY MAX","Pineapple Coconut",1,"Navidad",null,{"$f":"_xlfn.IFNA(VLOOKUP(VentasMenudeo[[#This Row],[Promoción]],PromocionesMenudeo[[Promocion]:[Descuento]],2,0),0)","v":80},{"$f":"_xlfn.IFNA(VLOOKUP(VentasMenudeo[[#This Row],[Producto]],$A$2:$B$5,2,FALSE),0)","v":270},{"$f":"_xlfn.IFNA(_xlfn.IFS(VentasMenudeo[[#This Row],[Producto]]=$A$2,VentasMenudeo[[#This Row],[Precio de Venta]]*VentasMenudeo[[#This Row],[Cantidad]]-VentasMenudeo[[#This Row],[Descuento]],VentasMenudeo[[#This Row],[Producto]]=$A$3,VentasMenudeo[[#This Row],[Precio de Venta]]*VentasMenudeo[[#This Row],[Cantidad]]-VentasMenudeo[[#This Row],[Descuento]],VentasMenudeo[[#This Row],[Producto]]=$A$4,VentasMenudeo[[#This Row],[Precio de Venta]]*VentasMenudeo[[#This Row],[Cantidad]]-VentasMenudeo[[#This Row],[Descuento]],VentasMenudeo[[#This Row],[Producto]]=$A$5,VentasMenudeo[[#This Row],[Precio de Venta]]*VentasMenudeo[[#This Row],[Cantidad]]-VentasMenudeo[[#This Row],[Descuento]]),0)","v":190},190]
["2023-04-15","Hugo","IPLAY MAX","Peach Berries Ice",1,"Navidad",null,{"$f":"_xlfn.IFNA(VLOOKUP(VentasMenudeo[[#This Row],[Promoción]],PromocionesMenudeo[[Promocion]:[Descuento]],2,0),0)","v":80},{"$f":"_xlfn.IFNA(VLOOKUP(VentasMenudeo[[#This Row],[Producto]],$A$2:$B$5,2,FALSE),0)","v":270},{"$f":"_xlfn.IFNA(_xlfn.IFS(VentasMenudeo[[#This Row],[Producto]]=$A$2,VentasMenudeo[[#This Row],[Precio de Venta]]*VentasMenudeo[[#This Row],[Cantidad]]-VentasMenudeo[[#This Row],[Descuento]],VentasMenudeo[[#This Row],[Producto]]=$A$3,VentasMenudeo[[#This Row],[Precio de Venta]]*VentasMenudeo[[#This Row],[Cantidad]]-VentasMenudeo[[#This Row],[Descuento]],VentasMenudeo[[#This Row],[Producto]]=$A$4,VentasMenudeo[[#This Row],[Precio de Venta]]*VentasMenudeo[[#This Row],[Cantidad]]-VentasMenudeo[[#This Row],[Descuento]],VentasMenudeo[[#This Row],[Producto]]=$A$5,VentasMenudeo[[#This Row],[Precio de Venta]]*VentasMenudeo[[#This Row],[Cantidad]]-VentasMenudeo[[#This Row],[Descuento]]),0)","v":190},190]
["2023-04-15","Hugo","IPLAY MAX","Cranberry Grape",1,"Navidad",null,{"$f":"_xlfn.IFNA(VLOOKUP(VentasMenudeo[[#This Row],[Promoción]],PromocionesMenudeo[[Promocion]:[Descuento]],2,0),0)","v":80},{"$f":"_xlfn.IFNA(VLOOKUP(VentasMenudeo[[#This Row],[Producto]],$A$2:$B$5,2,FALSE),0)","v":270},{"$f":"_xlfn.IFNA(_xlfn.IFS(VentasMenudeo[[#This Row],[Producto]]=$A$2,VentasMenudeo[[#This Row],[Precio de Venta]]*VentasMenudeo[[#This Row],[Cantidad]]-VentasMenudeo[[#This Row],[Descuento]],VentasMenudeo[[#This Row],[Producto]]=$A$3,VentasMenudeo[[#This Row],[Precio de Venta]]*VentasMenudeo[[#This Row],[Cantidad]]-VentasMenudeo[[#This Row],[Descuento]],VentasMenudeo[[#This Row],[Producto]]=$A$4,VentasMenudeo[[#This Row],[Precio de Venta]]*VentasMenudeo[[#This Row],[Cantidad]]-VentasMenudeo[[#This Row],[Descuento]],VentasMenudeo[[#This Row],[Producto]]=$A$5,VentasMenudeo[[#This Row],[Precio de Venta]]*VentasMenudeo[[#This Row],[Cantidad]]-VentasMenudeo[[#This Row],[Descuento]]),0)","v":190},190]
["2023-04-15","Hugo","IPLAY MAX","Cranberry Grape",1,"Navidad",null,{"$f":"_xlfn.IFNA(VLOOKUP(VentasMenudeo[[#This Row],[Promoción]],PromocionesMenudeo[[Promocion]:[Descuento]],2,0),0)","v":80},{"$f":"_xlfn.IFNA(VLOOKUP(VentasMenudeo[[#This Row],[Producto]],$A$2:$B$5,2,FALSE),0)","v":270},{"$f":"_xlfn.IFNA(_xlfn.IFS(VentasMenudeo[[#This Row],[Producto]]=$A$2,VentasMenudeo[[#This Row],[Precio de Venta]]*VentasMenudeo[[#This Row],[Cantidad]]-VentasMenudeo[[#This Row],[Descuento]],VentasMenudeo[[#This Row],[Producto]]=$A$3,VentasMenudeo[[#This Row],[Precio de Venta]]*VentasMenudeo[[#This Row],[Cantidad]]-VentasMenudeo[[#This Row],[Descuento]],VentasMenudeo[[#This Row],[Producto]]=$A$4,VentasMenudeo[[#This Row],[Precio de Venta]]*VentasMenudeo[[#This Row],[Cantidad]]-VentasMenudeo[[#This Row],[Descuento]],VentasMenudeo[[#This Row],[Producto]]=$A$5,VentasMenudeo[[#This Row],[Precio de Venta]]*VentasMenudeo[[#This Row],[Cantidad]]-VentasMenudeo[[#This Row],[Descuento]]),0)","v":190},190]
["2023-04-15","Hugo","IPLAY MAX","Mixed Berries Lemon",1,"Navidad",null,{"$f":"_xlfn.IFNA(VLOOKUP(VentasMenudeo[[#This Row],[Promoción]],PromocionesMenudeo[[Promocion]:[Descuento]],2,0),0)","v":80},{"$f":"_xlfn.IFNA(VLOOKUP(VentasMenudeo[[#This Row],[Producto]],$A$2:$B$5,2,FALSE),0)","v":270},{"$f":"_xlfn.IFNA(_xlfn.IFS(VentasMenudeo[[#This Row],[Producto]]=$A$2,VentasMenudeo[[#This Row],[Precio de Venta]]*VentasMenudeo[[#This Row],[Cantidad]]-VentasMenudeo[[#This Row],[Descuento]],VentasMenudeo[[#This Row],[Producto]]=$A$3,VentasMenudeo[[#This Row],[Precio de Venta]]*VentasMenudeo[[#This Row],[Cantidad]]-VentasMenudeo[[#This Row],[Descuento]],VentasMenudeo[[#This Row],[Producto]]=$A$4,VentasMenudeo[[#This Row],[Precio de Venta]]*VentasMenudeo[[#This Row],[Cantidad]]-VentasMenudeo[[#This Row],[Descuento]],VentasMenudeo[[#This Row],[Producto]]=$A$5,VentasMenudeo[[#This Row],[Precio de Venta]]*VentasMenudeo[[#This Row],[Cantidad]]-VentasMenudeo[[#This Row],[Descuento]]),0)","v":190},190]
["2023-04-15","Hugo","IPLAY MAX","Mixed Berries Lemon",1,"Navidad",null,{"$f":"_xlfn.IFNA(VLOOKUP(VentasMenudeo[[#This Row],[Promoción]],PromocionesMenudeo[[Promocion]:[Descuento]],2,0),0)","v":80},{"$f":"_xlfn.IFNA(VLOOKUP(VentasMenudeo[[#This Row],[Producto]],$A$2:$B$5,2,FALSE),0)","v":270},{"$f":"_xlfn.IFNA(_xlfn.IFS(VentasMenudeo[[#This Row],[Producto]]=$A$2,VentasMenudeo[[#This Row],[Precio de Venta]]*VentasMenudeo[[#This Row],[Cantidad]]-VentasMenudeo[[#This Row],[Descuento]],VentasMenudeo[[#This Row],[Producto]]=$A$3,VentasMenudeo[[#This Row],[Precio de Venta]]*VentasMenudeo[[#This Row],[Cantidad]]-VentasMenudeo[[#This Row],[Descuento]],VentasMenudeo[[#This Row],[Producto]]=$A$4,VentasMenudeo[[#This Row],[Precio de Venta]]*VentasMenudeo[[#This Row],[Cantidad]]-VentasMenudeo[[#This Row],[Descuento]],VentasMenudeo[[#This Row],[Producto]]=$A$5,VentasMenudeo[[#This Row],[Precio de Venta]]*VentasMenudeo[[#This Row],[Cantidad]]-VentasMenudeo[[#This Row],[Descuento]]),0)","v":190},190]
["2023-04-16","Julio","IPLAY BOX","Grape Pear",0,null,null,{"$f":"_xlfn.IFNA(VLOOKUP(VentasMenudeo[[#This Row],[Promoción]],PromocionesMenudeo[[Promocion]:[Descuento]],2,0),0)","v":0},{"$f":"_xlfn.IFNA(VLOOKUP(VentasMenudeo[[#This Row],[Producto]],$A$2:$B$5,2,FALSE),0)","v":260},{"$f":"_xlfn.IFNA(_xlfn.IFS(VentasMenudeo[[#This Row],[Producto]]=$A$2,VentasMenudeo[[#This Row],[Precio de Venta]]*VentasMenudeo[[#This Row],[Cantidad]]-VentasMenudeo[[#This Row],[Descuento]],VentasMenudeo[[#This Row],[Producto]]=$A$3,VentasMenudeo[[#This Row],[Precio de Venta]]*VentasMenudeo[[#This Row],[Cantidad]]-VentasMenudeo[[#This Row],[Descuento]],VentasMenudeo[[#This Row],[Producto]]=$A$4,VentasMenudeo[[#This Row],[Precio de Venta]]*VentasMenudeo[[#This Row],[Cantidad]]-VentasMenudeo[[#This Row],[Descuento]],VentasMenudeo[[#This Row],[Producto]]=$A$5,VentasMenudeo[[#This Row],[Precio de Venta]]*VentasMenudeo[[#This Row],[Cantidad]]-VentasMenudeo[[#This Row],[Descuento]]),0)","v":0},0]
["2023-04-20","Hugo","IPLAY BOX","Grape Pear",1,"No aplica",null,{"$f":"_xlfn.IFNA(VLOOKUP(VentasMenudeo[[#This Row],[Promoción]],PromocionesMenudeo[[Promocion]:[Descuento]],2,0),0)","v":0},{"$f":"_xlfn.IFNA(VLOOKUP(VentasMenudeo[[#This Row],[Producto]],$A$2:$B$5,2,FALSE),0)","v":260},{"$f":"_xlfn.IFNA(_xlfn.IFS(VentasMenudeo[[#This Row],[Producto]]=$A$2,VentasMenudeo[[#This Row],[Precio de Venta]]*VentasMenudeo[[#This Row],[Cantidad]]-VentasMenudeo[[#This Row],[Descuento]],VentasMenudeo[[#This Row],[Producto]]=$A$3,VentasMenudeo[[#This Row],[Precio de Venta]]*VentasMenudeo[[#This Row],[Cantidad]]-VentasMenudeo[[#This Row],[Descuento]],VentasMenudeo[[#This Row],[Producto]]=$A$4,VentasMenudeo[[#This Row],[Precio de Venta]]*VentasMenudeo[[#This Row],[Cantidad]]-VentasMenudeo[[#This Row],[Descuento]],VentasMenudeo[[#This Row],[Producto]]=$A$5,VentasMenudeo[[#This Row],[Precio de Venta]]*VentasMenudeo[[#This Row],[Cantidad]]-VentasMenudeo[[#This Row],[Descuento]]),0)","v":260},260]
["2023-04-20","Hugo","IPLAY BOX","Grape Pear",1,"No aplica",null,{"$f":"_xlfn.IFNA(VLOOKUP(VentasMenudeo[[#This Row],[Promoción]],PromocionesMenudeo[[Promocion]:[Descuento]],2,0),0)","v":0},{"$f":"_xlfn.IFNA(VLOOKUP(VentasMenudeo[[#This Row],[Producto]],$A$2:$B$5,2,FALSE),0)","v":260},{"$f":"_xlfn.IFNA(_xlfn.IFS(VentasMenudeo[[#This Row],[Producto]]=$A$2,VentasMenudeo[[#This Row],[Precio de Venta]]*VentasMenudeo[[#This Row],[Cantidad]]-VentasMenudeo[[#This Row],[Descuento]],VentasMenudeo[[#This Row],[Producto]]=$A$3,VentasMenudeo[[#This Row],[Precio de Venta]]*VentasMenudeo[[#This Row],[Cantidad]]-VentasMenudeo[[#This Row],[Descuento]],VentasMenudeo[[#This Row],[Producto]]=$A$4,VentasMenudeo[[#This Row],[Precio de Venta]]*VentasMenudeo[[#This Row],[Cantidad]]-VentasMenudeo[[#This Row],[Descuento]],VentasMenudeo[[#This Row],[Producto]]=$A$5,VentasMenudeo[[#This Row],[Precio de Venta]]*VentasMenudeo[[#This Row],[Cantidad]]-VentasMenudeo[[#This Row],[Descuento]]),0)","v":260},260]
["2023-04-20","Hugo","IPLAY BOX","Srawberry Lychee",1,"No aplica",null,{"$f":"_xlfn.IFNA(VLOOKUP(VentasMenudeo[[#This Row],[Promoción]],PromocionesMenudeo[[Promocion]:[Descuento]],2,0),0)","v":0},{"$f":"_xlfn.IFNA(VLOOKUP(VentasMenudeo[[#This Row],[Producto]],$A$2:$B$5,2,FALSE),0)","v":260},{"$f":"_xlfn.IFNA(_xlfn.IFS(VentasMenudeo[[#This Row],[Producto]]=$A$2,VentasMenudeo[[#This Row],[Precio de Venta]]*VentasMenudeo[[#This Row],[Cantidad]]-VentasMenudeo[[#This Row],[Descuento]],VentasMenudeo[[#This Row],[Producto]]=$A$3,VentasMenudeo[[#This Row],[Precio de Venta]]*VentasMenudeo[[#This Row],[Cantidad]]-VentasMenudeo[[#This Row],[Descuento]],VentasMenudeo[[#This Row],[Producto]]=$A$4,VentasMenudeo[[#This Row],[Precio de Venta]]*VentasMenudeo[[#This Row],[Cantidad]]-VentasMenudeo[[#This Row],[Descuento]],VentasMenudeo[[#This Row],[Producto]]=$A$5,VentasMenudeo[[#This Row],[Precio de Venta]]*VentasMenudeo[[#This Row],[Cantidad]]-VentasMenudeo[[#This Row],[Descuento]]),0)","v":260},260]
["2023-04-20","Hugo","IPLAY BOX","Srawberry Lychee",1,"No aplica",null,{"$f":"_xlfn.IFNA(VLOOKUP(VentasMenudeo[[#This Row],[Promoción]],PromocionesMenudeo[[Promocion]:[Descuento]],2,0),0)","v":0},{"$f":"_xlfn.IFNA(VLOOKUP(VentasMenudeo[[#This Row],[Producto]],$A$2:$B$5,2,FALSE),0)","v":260},{"$f":"_xlfn.IFNA(_xlfn.IFS(VentasMenudeo[[#This Row],[Producto]]=$A$2,VentasMenudeo[[#This Row],[Precio de Venta]]*VentasMenudeo[[#This Row],[Cantidad]]-VentasMenudeo[[#This Row],[Descuento]],VentasMenudeo[[#This Row],[Producto]]=$A$3,VentasMenudeo[[#This Row],[Precio de Venta]]*VentasMenudeo[[#This Row],[Cantidad]]-VentasMenudeo[[#This Row],[Descuento]],VentasMenudeo[[#This Row],[Producto]]=$A$4,VentasMenudeo[[#This Row],[Precio de Venta]]*VentasMenudeo[[#This Row],[Cantidad]]-VentasMenudeo[[#This Row],[Descuento]],VentasMenudeo[[#This Row],[Producto]]=$A$5,VentasMenudeo[[#This Row],[Precio de Venta]]*VentasMenudeo[[#This Row],[Cantidad]]-VentasMenudeo[[#This Row],[Descuento]]),0)","v":260},260]
["2023-04-20","Hugo","IPLAY BOX","Watermelon Ice",1,"No aplica",null,{"$f":"_xlfn.IFNA(VLOOKUP(VentasMenudeo[[#This Row],[Promoción]],PromocionesMenudeo[[Promocion]:[Descuento]],2,0),0)","v":0},{"$f":"_xlfn.IFNA(VLOOKUP(VentasMenudeo[[#This Row],[Producto]],$A$2:$B$5,2,FALSE),0)","v":260},{"$f":"_xlfn.IFNA(_xlfn.IFS(VentasMenudeo[[#This Row],[Producto]]=$A$2,VentasMenudeo[[#This Row],[Precio de Venta]]*VentasMenudeo[[#This Row],[Cantidad]]-VentasMenudeo[[#This Row],[Descuento]],VentasMenudeo[[#This Row],[Producto]]=$A$3,VentasMenudeo[[#This Row],[Precio de Venta]]*VentasMenudeo[[#This Row],[Cantidad]]-VentasMenudeo[[#This Row],[Descuento]],VentasMenudeo[[#This Row],[Producto]]=$A$4,VentasMenudeo[[#This Row],[Precio de Venta]]*VentasMenudeo[[#This Row],[Cantidad]]-VentasMenudeo[[#This Row],[Descuento]],VentasMenudeo[[#This Row],[Producto]]=$A$5,VentasMenudeo[[#This Row],[Precio de Venta]]*VentasMenudeo[[#This Row],[Cantidad]]-VentasMenudeo[[#This Row],[Descuento]]),0)","v":260},260]
["2023-04-20","Hugo","IPLAY BOX","Watermelon Ice",1,"No aplica",null,{"$f":"_xlfn.IFNA(VLOOKUP(VentasMenudeo[[#This Row],[Promoción]],PromocionesMenudeo[[Promocion]:[Descuento]],2,0),0)","v":0},{"$f":"_xlfn.IFNA(VLOOKUP(VentasMenudeo[[#This Row],[Producto]],$A$2:$B$5,2,FALSE),0)","v":260},{"$f":"_xlfn.IFNA(_xlfn.IFS(VentasMenudeo[[#This Row],[Producto]]=$A$2,VentasMenudeo[[#This Row],[Precio de Venta]]*VentasMenudeo[[#This Row],[Cantidad]]-VentasMenudeo[[#This Row],[Descuento]],VentasMenudeo[[#This Row],[Producto]]=$A$3,VentasMenudeo[[#This Row],[Precio de Venta]]*VentasMenudeo[[#This Row],[Cantidad]]-VentasMenudeo[[#This Row],[Descuento]],VentasMenudeo[[#This Row],[Producto]]=$A$4,VentasMenudeo[[#This Row],[Precio de Venta]]*VentasMenudeo[[#This Row],[Cantidad]]-VentasMenudeo[[#This Row],[Descuento]],VentasMenudeo[[#This Row],[Producto]]=$A$5,VentasMenudeo[[#This Row],[Precio de Venta]]*VentasMenudeo[[#This Row],[Cantidad]]-VentasMenudeo[[#This Row],[Descuento]]),0)","v":260},260]
["2023-04-20","Hugo","IPLAY MAX","Low Mint",1,"Navidad",null,{"$f":"_xlfn.IFNA(VLOOKUP(VentasMenudeo[[#This Row],[Promoción]],PromocionesMenudeo[[Promocion]:[Descuento]],2,0),0)","v":80},{"$f":"_xlfn.IFNA(VLOOKUP(VentasMenudeo[[#This Row],[Producto]],$A$2:$B$5,2,FALSE),0)","v":270},{"$f":"_xlfn.IFNA(_xlfn.IFS(VentasMenudeo[[#This Row],[Producto]]=$A$2,VentasMenudeo[[#This Row],[Precio de Venta]]*VentasMenudeo[[#This Row],[Cantidad]]-VentasMenudeo[[#This Row],[Descuento]],VentasMenudeo[[#This Row],[Producto]]=$A$3,VentasMenudeo[[#This Row],[Precio de Venta]]*VentasMenudeo[[#This Row],[Cantidad]]-VentasMenudeo[[#This Row],[Descuento]],VentasMenudeo[[#This Row],[Producto]]=$A$4,VentasMenudeo[[#This Row],[Precio de Venta]]*VentasMenudeo[[#This Row],[Cantidad]]-VentasMenudeo[[#This Row],[Descuento]],VentasMenudeo[[#This Row],[Producto]]=$A$5,VentasMenudeo[[#This Row],[Precio de Venta]]*VentasMenudeo[[#This Row],[Cantidad]]-VentasMenudeo[[#This Row],[Descuento]]),0)","v":190},190]
["2023-04-20","Hugo","IPLAY MAX","Low Mint",1,"Navidad",null,{"$f":"_xlfn.IFNA(VLOOKUP(VentasMenudeo[[#This Row],[Promoción]],PromocionesMenudeo[[Promocion]:[Descuento]],2,0),0)","v":80},{"$f":"_xlfn.IFNA(VLOOKUP(VentasMenudeo[[#This Row],[Producto]],$A$2:$B$5,2,FALSE),0)","v":270},{"$f":"_xlfn.IFNA(_xlfn.IFS(VentasMenudeo[[#This Row],[Producto]]=$A$2,VentasMenudeo[[#This Row],[Precio de Venta]]*VentasMenudeo[[#This Row],[Cantidad]]-VentasMenudeo[[#This Row],[Descuento]],VentasMenudeo[[#This Row],[Producto]]=$A$3,VentasMenudeo[[#This Row],[Precio de Venta]]*VentasMenudeo[[#This Row],[Cantidad]]-VentasMenudeo[[#This Row],[Descuento]],VentasMenudeo[[#This Row],[Producto]]=$A$4,VentasMenudeo[[#This Row],[Precio de Venta]]*VentasMenudeo[[#This Row],[Cantidad]]-VentasMenudeo[[#This Row],[Descuento]],VentasMenudeo[[#This Row],[Producto]]=$A$5,VentasMenudeo[[#This Row],[Precio de Venta]]*VentasMenudeo[[#This Row],[Cantidad]]-VentasMenudeo[[#This Row],[Descuento]]),0)","v":190},190]
["2023-04-20","Hugo","IPLAY MAX","Banana Cherry DragonFruit",1,"Navidad",null,{"$f":"_xlfn.IFNA(VLOOKUP(VentasMenudeo[[#This Row],[Promoción]],PromocionesMenudeo[[Promocion]:[Descuento]],2,0),0)","v":80},{"$f":"_xlfn.IFNA(VLOOKUP(VentasMenudeo[[#This Row],[Producto]],$A$2:$B$5,2,FALSE),0)","v":270},{"$f":"_xlfn.IFNA(_xlfn.IFS(VentasMenudeo[[#This Row],[Producto]]=$A$2,VentasMenudeo[[#This Row],[Precio de Venta]]*VentasMenudeo[[#This Row],[Cantidad]]-VentasMenudeo[[#This Row],[Descuento]],VentasMenudeo[[#This Row],[Producto]]=$A$3,VentasMenudeo[[#This Row],[Precio de Venta]]*VentasMenudeo[[#This Row],[Cantidad]]-VentasMenudeo[[#This Row],[Descuento]],VentasMenudeo[[#This Row],[Producto]]=$A$4,VentasMenudeo[[#This Row],[Precio de Venta]]*VentasMenudeo[[#This Row],[Cantidad]]-VentasMenudeo[[#This Row],[Descuento]],VentasMenudeo[[#This Row],[Producto]]=$A$5,VentasMenudeo[[#This Row],[Precio de Venta]]*VentasMenudeo[[#This Row],[Cantidad]]-VentasMenudeo[[#This Row],[Descuento]]),0)","v":190},190]
["2023-04-20","Hugo","IPLAY MAX","Banana Cherry DragonFruit",1,"Navidad",null,{"$f":"_xlfn.IFNA(VLOOKUP(VentasMenudeo[[#This Row],[Promoción]],PromocionesMenudeo[[Promocion]:[Descuento]],2,0),0)","v":80},{"$f":"_xlfn.IFNA(VLOOKUP(VentasMenudeo[[#This Row],[Producto]],$A$2:$B$5,2,FALSE),0)","v":270},{"$f":"_xlfn.IFNA(_xlfn.IFS(VentasMenudeo[[#This Row],[Producto]]=$A$2,VentasMenudeo[[#This Row],[Precio de Venta]]*VentasMenudeo[[#This Row],[Cantidad]]-VentasMenudeo[[#This Row],[Descuento]],VentasMenudeo[[#This Row],[Producto]]=$A$3,VentasMenudeo[[#This Row],[Precio de Venta]]*VentasMenudeo[[#This Row],[Cantidad]]-VentasMenudeo[[#This Row],[Descuento]],VentasMenudeo[[#This Row],[Producto]]=$A$4,VentasMenudeo[[#This Row],[Precio de Venta]]*VentasMenudeo[[#This Row],[Cantidad]]-VentasMenudeo[[#This Row],[Descuento]],VentasMenudeo[[#This Row],[Producto]]=$A$5,VentasMenudeo[[#This Row],[Precio de Venta]]*VentasMenudeo[[#This Row],[Cantidad]]-VentasMenudeo[[#This Row],[Descuento]]),0)","v":190},190]
["2023-04-20","Hugo","IPLAY MAX","Kiwi Guava Passion Fruit",1,"Navidad",null,{"$f":"_xlfn.IFNA(VLOOKUP(VentasMenudeo[[#This Row],[Promoción]],PromocionesMenudeo[[Promocion]:[Descuento]],2,0),0)","v":80},{"$f":"_xlfn.IFNA(VLOOKUP(VentasMenudeo[[#This Row],[Producto]],$A$2:$B$5,2,FALSE),0)","v":270},{"$f":"_xlfn.IFNA(_xlfn.IFS(VentasMenudeo[[#This Row],[Producto]]=$A$2,VentasMenudeo[[#This Row],[Precio de Venta]]*VentasMenudeo[[#This Row],[Cantidad]]-VentasMenudeo[[#This Row],[Descuento]],VentasMenudeo[[#This Row],[Producto]]=$A$3,VentasMenudeo[[#This Row],[Precio de Venta]]*VentasMenudeo[[#This Row],[Cantidad]]-VentasMenudeo[[#This Row],[Descuento]],VentasMenudeo[[#This Row],[Producto]]=$A$4,VentasMenudeo[[#This Row],[Precio de Venta]]*VentasMenudeo[[#This Row],[Cantidad]]-VentasMenudeo[[#This Row],[Descuento]],VentasMenudeo[[#This Row],[Producto]]=$A$5,VentasMenudeo[[#This Row],[Precio de Venta]]*VentasMenudeo[[#This Row],[Cantidad]]-VentasMenudeo[[#This Row],[Descuento]]),0)","v":190},190]
["2023-04-20","Hugo","IPLAY MAX","Kiwi Guava Passion Fruit",1,"Navidad",null,{"$f":"_xlfn.IFNA(VLOOKUP(VentasMenudeo[[#This Row],[Promoción]],PromocionesMenudeo[[Promocion]:[Descuento]],2,0),0)","v":80},{"$f":"_xlfn.IFNA(VLOOKUP(VentasMenudeo[[#This Row],[Producto]],$A$2:$B$5,2,FALSE),0)","v":270},{"$f":"_xlfn.IFNA(_xlfn.IFS(VentasMenudeo[[#This Row],[Producto]]=$A$2,VentasMenudeo[[#This Row],[Precio de Venta]]*VentasMenudeo[[#This Row],[Cantidad]]-VentasMenudeo[[#This Row],[Descuento]],VentasMenudeo[[#This Row],[Producto]]=$A$3,VentasMenudeo[[#This Row],[Precio de Venta]]*VentasMenudeo[[#This Row],[Cantidad]]-VentasMenudeo[[#This Row],[Descuento]],VentasMenudeo[[#This Row],[Producto]]=$A$4,VentasMenudeo[[#This Row],[Precio de Venta]]*VentasMenudeo[[#This Row],[Cantidad]]-VentasMenudeo[[#This Row],[Descuento]],VentasMenudeo[[#This Row],[Producto]]=$A$5,VentasMenudeo[[#This Row],[Precio de Venta]]*VentasMenudeo[[#This Row],[Cantidad]]-VentasMenudeo[[#This Row],[Descuento]]),0)","v":190},190]
["2023-04-20","Hugo","IPLAY MAX","Pineapple Coconut",1,"Navidad",null,{"$f":"_xlfn.IFNA(VLOOKUP(VentasMenudeo[[#This Row],[Promoción]],PromocionesMenudeo[[Promocion]:[Descuento]],2,0),0)","v":80},{"$f":"_xlfn.IFNA(VLOOKUP(VentasMenudeo[[#This Row],[Producto]],$A$2:$B$5,2,FALSE),0)","v":270},{"$f":"_xlfn.IFNA(_xlfn.IFS(VentasMenudeo[[#This Row],[Producto]]=$A$2,VentasMenudeo[[#This Row],[Precio de Venta]]*VentasMenudeo[[#This Row],[Cantidad]]-VentasMenudeo[[#This Row],[Descuento]],VentasMenudeo[[#This Row],[Producto]]=$A$3,VentasMenudeo[[#This Row],[Precio de Venta]]*VentasMenudeo[[#This Row],[Cantidad]]-VentasMenudeo[[#This Row],[Descuento]],VentasMenudeo[[#This Row],[Producto]]=$A$4,VentasMenudeo[[#This Row],[Precio de Venta]]*VentasMenudeo[[#This Row],[Cantidad]]-VentasMenudeo[[#This Row],[Descuento]],VentasMenudeo[[#This Row],[Producto]]=$A$5,VentasMenudeo[[#This Row],[Precio de Venta]]*VentasMenudeo[[#This Row],[Cantidad]]-VentasMenudeo[[#This Row],[Descuento]]),0)","v":190},190]
["2023-04-20","Hugo","IPLAY MAX","Peach Berries Ice",1,"Navidad",null,{"$f":"_xlfn.IFNA(VLOOKUP(VentasMenudeo[[#This Row],[Promoción]],PromocionesMenudeo[[Promocion]:[Descuento]],2,0),0)","v":80},{"$f":"_xlfn.IFNA(VLOOKUP(VentasMenudeo[[#This Row],[Producto]],$A$2:$B$5,2,FALSE),0)","v":270},{"$f":"_xlfn.IFNA(_xlfn.IFS(VentasMenudeo[[#This Row],[Producto]]=$A$2,VentasMenudeo[[#This Row],[Precio de Venta]]*VentasMenudeo[[#This Row],[Cantidad]]-VentasMenudeo[[#This Row],[Descuento]],VentasMenudeo[[#This Row],[Producto]]=$A$3,VentasMenudeo[[#This Row],[Precio de Venta]]*VentasMenudeo[[#This Row],[Cantidad]]-VentasMenudeo[[#This Row],[Descuento]],VentasMenudeo[[#This Row],[Producto]]=$A$4,VentasMenudeo[[#This Row],[Precio de Venta]]*VentasMenudeo[[#This Row],[Cantidad]]-VentasMenudeo[[#This Row],[Descuento]],VentasMenudeo[[#This Row],[Producto]]=$A$5,VentasMenudeo[[#This Row],[Precio de Venta]]*VentasMenudeo[[#This Row],[Cantidad]]-VentasMenudeo[[#This Row],[Descuento]]),0)","v":190},190]
["2023-04-20","Hugo","IPLAY MAX","Peach Berries Ice",1,"Navidad",null,{"$f":"_xlfn.IFNA(VLOOKUP(VentasMenudeo[[#This Row],[Promoción]],PromocionesMenudeo[[Promocion]:[Descuento]],2,0),0)","v":80},{"$f":"_xlfn.IFNA(VLOOKUP(VentasMenudeo[[#This Row],[Producto]],$A$2:$B$5,2,FALSE),0)","v":270},{"$f":"_xlfn.IFNA(_xlfn.IFS(VentasMenudeo[[#This Row],[Producto]]=$A$2,VentasMenudeo[[#This Row],[Precio de Venta]]*VentasMenudeo[[#This Row],[Cantidad]]-VentasMenudeo[[#This Row],[Descuento]],VentasMenudeo[[#This Row],[Producto]]=$A$3,VentasMenudeo[[#This Row],[Precio de Venta]]*VentasMenudeo[[#This Row],[Cantidad]]-VentasMenudeo[[#This Row],[Descuento]],VentasMenudeo[[#This Row],[Producto]]=$A$4,VentasMenudeo[[#This Row],[Precio de Venta]]*VentasMenudeo[[#This Row],[Cantidad]]-VentasMenudeo[[#This Row],[Descuento]],VentasMenudeo[[#This Row],[Producto]]=$A$5,VentasMenudeo[[#This Row],[Precio de Venta]]*VentasMenudeo[[#This Row],[Cantidad]]-VentasMenudeo[[#This Row],[Descuento]]),0)","v":190},190]
["2023-04-20","Hugo","IPLAY MAX","Peach Berries Ice",1,"Navidad",null,{"$f":"_xlfn.IFNA(VLOOKUP(VentasMenudeo[[#This Row],[Promoción]],PromocionesMenudeo[[Promocion]:[Descuento]],2,0),0)","v":80},{"$f":"_xlfn.IFNA(VLOOKUP(VentasMenudeo[[#This Row],[Producto]],$A$2:$B$5,2,FALSE),0)","v":270},{"$f":"_xlfn.IFNA(_xlfn.IFS(VentasMenudeo[[#This Row],[Producto]]=$A$2,VentasMenudeo[[#This Row],[Precio de Venta]]*VentasMenudeo[[#This Row],[Cantidad]]-VentasMenudeo[[#This Row],[Descuento]],VentasMenudeo[[#This Row],[Producto]]=$A$3,VentasMenudeo[[#This Row],[Precio de Venta]]*VentasMenudeo[[#This Row],[Cantidad]]-VentasMenudeo[[#This Row],[Descuento]],VentasMenudeo[[#This Row],[Producto]]=$A$4,VentasMenudeo[[#This Row],[Precio de Venta]]*VentasMenudeo[[#This Row],[Cantidad]]-VentasMenudeo[[#This Row],[Descuento]],VentasMenudeo[[#This Row],[Producto]]=$A$5,VentasMenudeo[[#This Row],[Precio de Venta]]*VentasMenudeo[[#This Row],[Cantidad]]-VentasMenudeo[[#This Row],[Descuento]]),0)","v":190},190]
["2023-04-20","Hugo","IPLAY MAX","Peach Berries Ice",1,"Navidad",null,{"$f":"_xlfn.IFNA(VLOOKUP(VentasMenudeo[[#This Row],[Promoción]],PromocionesMenudeo[[Promocion]:[Descuento]],2,0),0)","v":80},{"$f":"_xlfn.IFNA(VLOOKUP(VentasMenudeo[[#This Row],[Producto]],$A$2:$B$5,2,FALSE),0)","v":270},{"$f":"_xlfn.IFNA(_xlfn.IFS(VentasMenudeo[[#This Row],[Producto]]=$A$2,VentasMenudeo[[#This Row],[Precio de Venta]]*VentasMenudeo[[#This Row],[Cantidad]]-VentasMenudeo[[#This Row],[Descuento]],VentasMenudeo[[#This Row],[Producto]]=$A$3,VentasMenudeo[[#This Row],[Precio de Venta]]*VentasMenudeo[[#This Row],[Cantidad]]-VentasMenudeo[[#This Row],[Descuento]],VentasMenudeo[[#This Row],[Producto]]=$A$4,VentasMenudeo[[#This Row],[Precio de Venta]]*VentasMenudeo[[#This Row],[Cantidad]]-VentasMenudeo[[#This Row],[Descuento]],VentasMenudeo[[#This Row],[Producto]]=$A$5,VentasMenudeo[[#This Row],[Precio de Venta]]*VentasMenudeo[[#This Row],[Cantidad]]-VentasMenudeo[[#This Row],[Descuento]]),0)","v":190},190]
["2023-04-20","Hugo","IPLAY MAX","Cranberry Grape",1,"Navidad",null,{"$f":"_xlfn.IFNA(VLOOKUP(VentasMenudeo[[#This Row],[Promoción]],PromocionesMenudeo[[Promocion]:[Descuento]],2,0),0)","v":80},{"$f":"_xlfn.IFNA(VLOOKUP(VentasMenudeo[[#This Row],[Producto]],$A$2:$B$5,2,FALSE),0)","v":270},{"$f":"_xlfn.IFNA(_xlfn.IFS(VentasMenudeo[[#This Row],[Producto]]=$A$2,VentasMenudeo[[#This Row],[Precio de Venta]]*VentasMenudeo[[#This Row],[Cantidad]]-VentasMenudeo[[#This Row],[Descuento]],VentasMenudeo[[#This Row],[Producto]]=$A$3,VentasMenudeo[[#This Row],[Precio de Venta]]*VentasMenudeo[[#This Row],[Cantidad]]-VentasMenudeo[[#This Row],[Descuento]],VentasMenudeo[[#This Row],[Producto]]=$A$4,VentasMenudeo[[#This Row],[Precio de Venta]]*VentasMenudeo[[#This Row],[Cantidad]]-VentasMenudeo[[#This Row],[Descuento]],VentasMenudeo[[#This Row],[Producto]]=$A$5,VentasMenudeo[[#This Row],[Precio de Venta]]*VentasMenudeo[[#This Row],[Cantidad]]-VentasMenudeo[[#This Row],[Descuento]]),0)","v":190},190]
["2023-04-20","Hugo","IPLAY MAX","Cranberry Grape",1,"Navidad",null,{"$f":"_xlfn.IFNA(VLOOKUP(VentasMenudeo[[#This Row],[Promoción]],PromocionesMenudeo[[Promocion]:[Descuento]],2,0),0)","v":80},{"$f":"_xlfn.IFNA(VLOOKUP(VentasMenudeo[[#This Row],[Producto]],$A$2:$B$5,2,FALSE),0)","v":270},{"$f":"_xlfn.IFNA(_xlfn.IFS(VentasMenudeo[[#This Row],[Producto]]=$A$2,VentasMenudeo[[#This Row],[Precio de Venta]]*VentasMenudeo[[#This Row],[Cantidad]]-VentasMenudeo[[#This Row],[Descuento]],VentasMenudeo[[#This Row],[Producto]]=$A$3,VentasMenudeo[[#This Row],[Precio de Venta]]*VentasMenudeo[[#This Row],[Cantidad]]-VentasMenudeo[[#This Row],[Descuento]],VentasMenudeo[[#This Row],[Producto]]=$A$4,VentasMenudeo[[#This Row],[Precio de Venta]]*VentasMenudeo[[#This Row],[Cantidad]]-VentasMenudeo[[#This Row],[Descuento]],VentasMenudeo[[#This Row],[Producto]]=$A$5,VentasMenudeo[[#This Row],[Precio de Venta]]*VentasMenudeo[[#This Row],[Cantidad]]-VentasMenudeo[[#This Row],[Descuento]]),0)","v":190},190]
["2023-04-20","Hugo","IPLAY MAX","Coconut ice",1,"Navidad",null,{"$f":"_xlfn.IFNA(VLOOKUP(VentasMenudeo[[#This Row],[Promoción]],PromocionesMenudeo[[Promocion]:[Descuento]],2,0),0)","v":80},{"$f":"_xlfn.IFNA(VLOOKUP(VentasMenudeo[[#This Row],[Producto]],$A$2:$B$5,2,FALSE),0)","v":270},{"$f":"_xlfn.IFNA(_xlfn.IFS(VentasMenudeo[[#This Row],[Producto]]=$A$2,VentasMenudeo[[#This Row],[Precio de Venta]]*VentasMenudeo[[#This Row],[Cantidad]]-VentasMenudeo[[#This Row],[Descuento]],VentasMenudeo[[#This Row],[Producto]]=$A$3,VentasMenudeo[[#This Row],[Precio de Venta]]*VentasMenudeo[[#This Row],[Cantidad]]-VentasMenudeo[[#This Row],[Descuento]],VentasMenudeo[[#This Row],[Producto]]=$A$4,VentasMenudeo[[#This Row],[Precio de Venta]]*VentasMenudeo[[#This Row],[Cantidad]]-VentasMenudeo[[#This Row],[Descuento]],VentasMenudeo[[#This Row],[Producto]]=$A$5,VentasMenudeo[[#This Row],[Precio de Venta]]*VentasMenudeo[[#This Row],[Cantidad]]-VentasMenudeo[[#This Row],[Descuento]]),0)","v":190},190]
["2023-04-20","Hugo","IPLAY MAX","Mixed Berries Lemon",1,"Navidad",null,{"$f":"_xlfn.IFNA(VLOOKUP(VentasMenudeo[[#This Row],[Promoción]],PromocionesMenudeo[[Promocion]:[Descuento]],2,0),0)","v":80},{"$f":"_xlfn.IFNA(VLOOKUP(VentasMenudeo[[#This Row],[Producto]],$A$2:$B$5,2,FALSE),0)","v":270},{"$f":"_xlfn.IFNA(_xlfn.IFS(VentasMenudeo[[#This Row],[Producto]]=$A$2,VentasMenudeo[[#This Row],[Precio de Venta]]*VentasMenudeo[[#This Row],[Cantidad]]-VentasMenudeo[[#This Row],[Descuento]],VentasMenudeo[[#This Row],[Producto]]=$A$3,VentasMenudeo[[#This Row],[Precio de Venta]]*VentasMenudeo[[#This Row],[Cantidad]]-VentasMenudeo[[#This Row],[Descuento]],VentasMenudeo[[#This Row],[Producto]]=$A$4,VentasMenudeo[[#This Row],[Precio de Venta]]*VentasMenudeo[[#This Row],[Cantidad]]-VentasMenudeo[[#This Row],[Descuento]],VentasMenudeo[[#This Row],[Producto]]=$A$5,VentasMenudeo[[#This Row],[Precio de Venta]]*VentasMenudeo[[#This Row],[Cantidad]]-VentasMenudeo[[#This Row],[Descuento]]),0)","v":190},190]
["2023-04-20","Hugo","IPLAY MAX","Mixed Berries Lemon",1,"Navidad",null,{"$f":"_xlfn.IFNA(VLOOKUP(VentasMenudeo[[#This Row],[Promoción]],PromocionesMenudeo[[Promocion]:[Descuento]],2,0),0)","v":80},{"$f":"_xlfn.IFNA(VLOOKUP(VentasMenudeo[[#This Row],[Producto]],$A$2:$B$5,2,FALSE),0)","v":270},{"$f":"_xlfn.IFNA(_xlfn.IFS(VentasMenudeo[[#This Row],[Producto]]=$A$2,VentasMenudeo[[#This Row],[Precio de Venta]]*VentasMenudeo[[#This Row],[Cantidad]]-VentasMenudeo[[#This Row],[Descuento]],VentasMenudeo[[#This Row],[Producto]]=$A$3,VentasMenudeo[[#This Row],[Precio de Venta]]*VentasMenudeo[[#This Row],[Cantidad]]-VentasMenudeo[[#This Row],[Descuento]],VentasMenudeo[[#This Row],[Producto]]=$A$4,VentasMenudeo[[#This Row],[Precio de Venta]]*VentasMenudeo[[#This Row],[Cantidad]]-VentasMenudeo[[#This Row],[Descuento]],VentasMenudeo[[#This Row],[Producto]]=$A$5,VentasMenudeo[[#This Row],[Precio de Venta]]*VentasMenudeo[[#This Row],[Cantidad]]-VentasMenudeo[[#This Row],[Descuento]]),0)","v":190},190]
["2023-04-24","Hugo","IPLAY MAX","Coconut",1,"Navidad",null,{"$f":"_xlfn.IFNA(VLOOKUP(VentasMenudeo[[#This Row],[Promoción]],PromocionesMenudeo[[Promocion]:[Descuento]],2,0),0)","v":80},{"$f":"_xlfn.IFNA(VLOOKUP(VentasMenudeo[[#This Row],[Producto]],$A$2:$B$5,2,FALSE),0)","v":270},{"$f":"_xlfn.IFNA(_xlfn.IFS(VentasMenudeo[[#This Row],[Producto]]=$A$2,VentasMenudeo[[#This Row],[Precio de Venta]]*VentasMenudeo[[#This Row],[Cantidad]]-VentasMenudeo[[#This Row],[Descuento]],VentasMenudeo[[#This Row],[Producto]]=$A$3,VentasMenudeo[[#This Row],[Precio de Venta]]*VentasMenudeo[[#This Row],[Cantidad]]-VentasMenudeo[[#This Row],[Descuento]],VentasMenudeo[[#This Row],[Producto]]=$A$4,VentasMenudeo[[#This Row],[Precio de Venta]]*VentasMenudeo[[#This Row],[Cantidad]]-VentasMenudeo[[#This Row],[Descuento]],VentasMenudeo[[#This Row],[Producto]]=$A$5,VentasMenudeo[[#This Row],[Precio de Venta]]*VentasMenudeo[[#This Row],[Cantidad]]-VentasMenudeo[[#This Row],[Descuento]]),0)","v":190},190]
["2023-04-24","Hugo","IPLAY MAX","Cocumber Lemonade",1,"Navidad",null,{"$f":"_xlfn.IFNA(VLOOKUP(VentasMenudeo[[#This Row],[Promoción]],PromocionesMenudeo[[Promocion]:[Descuento]],2,0),0)","v":80},{"$f":"_xlfn.IFNA(VLOOKUP(VentasMenudeo[[#This Row],[Producto]],$A$2:$B$5,2,FALSE),0)","v":270},{"$f":"_xlfn.IFNA(_xlfn.IFS(VentasMenudeo[[#This Row],[Producto]]=$A$2,VentasMenudeo[[#This Row],[Precio de Venta]]*VentasMenudeo[[#This Row],[Cantidad]]-VentasMenudeo[[#This Row],[Descuento]],VentasMenudeo[[#This Row],[Producto]]=$A$3,VentasMenudeo[[#This Row],[Precio de Venta]]*VentasMenudeo[[#This Row],[Cantidad]]-VentasMenudeo[[#This Row],[Descuento]],VentasMenudeo[[#This Row],[Producto]]=$A$4,VentasMenudeo[[#This Row],[Precio de Venta]]*VentasMenudeo[[#This Row],[Cantidad]]-VentasMenudeo[[#This Row],[Descuento]],VentasMenudeo[[#This Row],[Producto]]=$A$5,VentasMenudeo[[#This Row],[Precio de Venta]]*VentasMenudeo[[#This Row],[Cantidad]]-VentasMenudeo[[#This Row],[Descuento]]),0)","v":190},190]
["2023-04-24","Hugo","IPLAY MAX","Cocumber Lemonade",1,"Navidad",null,{"$f":"_xlfn.IFNA(VLOOKUP(VentasMenudeo[[#This Row],[Promoción]],PromocionesMenudeo[[Promocion]:[Descuento]],2,0),0)","v":80},{"$f":"_xlfn.IFNA(VLOOKUP(VentasMenudeo[[#This Row],[Producto]],$A$2:$B$5,2,FALSE),0)","v":270},{"$f":"_xlfn.IFNA(_xlfn.IFS(VentasMenudeo[[#This Row],[Producto]]=$A$2,VentasMenudeo[[#This Row],[Precio de Venta]]*VentasMenudeo[[#This Row],[Cantidad]]-VentasMenudeo[[#This Row],[Descuento]],VentasMenudeo[[#This Row],[Producto]]=$A$3,VentasMenudeo[[#This Row],[Precio de Venta]]*VentasMenudeo[[#This Row],[Cantidad]]-VentasMenudeo[[#This Row],[Descuento]],VentasMenudeo[[#This Row],[Producto]]=$A$4,VentasMenudeo[[#This Row],[Precio de Venta]]*VentasMenudeo[[#This Row],[Cantidad]]-VentasMenudeo[[#This Row],[Descuento]],VentasMenudeo[[#This Row],[Producto]]=$A$5,VentasMenudeo[[#This Row],[Precio de Venta]]*VentasMenudeo[[#This Row],[Cantidad]]-VentasMenudeo[[#This Row],[Descuento]]),0)","v":190},190]
["2023-04-24","Hugo","IPLAY MAX","Cocumber Lemonade",1,"Navidad",null,{"$f":"_xlfn.IFNA(VLOOKUP(VentasMenudeo[[#This Row],[Promoción]],PromocionesMenudeo[[Promocion]:[Descuento]],2,0),0)","v":80},{"$f":"_xlfn.IFNA(VLOOKUP(VentasMenudeo[[#This Row],[Producto]],$A$2:$B$5,2,FALSE),0)","v":270},{"$f":"_xlfn.IFNA(_xlfn.IFS(VentasMenudeo[[#This Row],[Producto]]=$A$2,VentasMenudeo[[#This Row],[Precio de Venta]]*VentasMenudeo[[#This Row],[Cantidad]]-VentasMenudeo[[#This Row],[Descuento]],VentasMenudeo[[#This Row],[Producto]]=$A$3,VentasMenudeo[[#This Row],[Precio de Venta]]*VentasMenudeo[[#This Row],[Cantidad]]-VentasMenudeo[[#This Row],[Descuento]],VentasMenudeo[[#This Row],[Producto]]=$A$4,VentasMenudeo[[#This Row],[Precio de Venta]]*VentasMenudeo[[#This Row],[Cantidad]]-VentasMenudeo[[#This Row],[Descuento]],VentasMenudeo[[#This Row],[Producto]]=$A$5,VentasMenudeo[[#This Row],[Precio de Venta]]*VentasMenudeo[[#This Row],[Cantidad]]-VentasMenudeo[[#This Row],[Descuento]]),0)","v":190},190]
["2023-04-24","Hugo","IPLAY MAX","Guava",1,"Navidad",null,{"$f":"_xlfn.IFNA(VLOOKUP(VentasMenudeo[[#This Row],[Promoción]],PromocionesMenudeo[[Promocion]:[Descuento]],2,0),0)","v":80},{"$f":"_xlfn.IFNA(VLOOKUP(VentasMenudeo[[#This Row],[Producto]],$A$2:$B$5,2,FALSE),0)","v":270},{"$f":"_xlfn.IFNA(_xlfn.IFS(VentasMenudeo[[#This Row],[Producto]]=$A$2,VentasMenudeo[[#This Row],[Precio de Venta]]*VentasMenudeo[[#This Row],[Cantidad]]-VentasMenudeo[[#This Row],[Descuento]],VentasMenudeo[[#This Row],[Producto]]=$A$3,VentasMenudeo[[#This Row],[Precio de Venta]]*VentasMenudeo[[#This Row],[Cantidad]]-VentasMenudeo[[#This Row],[Descuento]],VentasMenudeo[[#This Row],[Producto]]=$A$4,VentasMenudeo[[#This Row],[Precio de Venta]]*VentasMenudeo[[#This Row],[Cantidad]]-VentasMenudeo[[#This Row],[Descuento]],VentasMenudeo[[#This Row],[Producto]]=$A$5,VentasMenudeo[[#This Row],[Precio de Venta]]*VentasMenudeo[[#This Row],[Cantidad]]-VentasMenudeo[[#This Row],[Descuento]]),0)","v":190},190]
["2023-04-24","Hugo","IPLAY MAX","Mango ICE",1,"Navidad",null,{"$f":"_xlfn.IFNA(VLOOKUP(VentasMenudeo[[#This Row],[Promoción]],PromocionesMenudeo[[Promocion]:[Descuento]],2,0),0)","v":80},{"$f":"_xlfn.IFNA(VLOOKUP(VentasMenudeo[[#This Row],[Producto]],$A$2:$B$5,2,FALSE),0)","v":270},{"$f":"_xlfn.IFNA(_xlfn.IFS(VentasMenudeo[[#This Row],[Producto]]=$A$2,VentasMenudeo[[#This Row],[Precio de Venta]]*VentasMenudeo[[#This Row],[Cantidad]]-VentasMenudeo[[#This Row],[Descuento]],VentasMenudeo[[#This Row],[Producto]]=$A$3,VentasMenudeo[[#This Row],[Precio de Venta]]*VentasMenudeo[[#This Row],[Cantidad]]-VentasMenudeo[[#This Row],[Descuento]],VentasMenudeo[[#This Row],[Producto]]=$A$4,VentasMenudeo[[#This Row],[Precio de Venta]]*VentasMenudeo[[#This Row],[Cantidad]]-VentasMenudeo[[#This Row],[Descuento]],VentasMenudeo[[#This Row],[Producto]]=$A$5,VentasMenudeo[[#This Row],[Precio de Venta]]*VentasMenudeo[[#This Row],[Cantidad]]-VentasMenudeo[[#This Row],[Descuento]]),0)","v":190},190]
["2023-04-24","Hugo","IPLAY MAX","Mango ICE",1,"Navidad",null,{"$f":"_xlfn.IFNA(VLOOKUP(VentasMenudeo[[#This Row],[Promoción]],PromocionesMenudeo[[Promocion]:[Descuento]],2,0),0)","v":80},{"$f":"_xlfn.IFNA(VLOOKUP(VentasMenudeo[[#This Row],[Producto]],$A$2:$B$5,2,FALSE),0)","v":270},{"$f":"_xlfn.IFNA(_xlfn.IFS(VentasMenudeo[[#This Row],[Producto]]=$A$2,VentasMenudeo[[#This Row],[Precio de Venta]]*VentasMenudeo[[#This Row],[Cantidad]]-VentasMenudeo[[#This Row],[Descuento]],VentasMenudeo[[#This Row],[Producto]]=$A$3,VentasMenudeo[[#This Row],[Precio de Venta]]*VentasMenudeo[[#This Row],[Cantidad]]-VentasMenudeo[[#This Row],[Descuento]],VentasMenudeo[[#This Row],[Producto]]=$A$4,VentasMenudeo[[#This Row],[Precio de Venta]]*VentasMenudeo[[#This Row],[Cantidad]]-VentasMenudeo[[#This Row],[Descuento]],VentasMenudeo[[#This Row],[Producto]]=$A$5,VentasMenudeo[[#This Row],[Precio de Venta]]*VentasMenudeo[[#This Row],[Cantidad]]-VentasMenudeo[[#This Row],[Descuento]]),0)","v":190},190]
["2023-04-24","Hugo","IPLAY MAX","Sour Apple",1,"Navidad",null,{"$f":"_xlfn.IFNA(VLOOKUP(VentasMenudeo[[#This Row],[Promoción]],PromocionesMenudeo[[Promocion]:[Descuento]],2,0),0)","v":80},{"$f":"_xlfn.IFNA(VLOOKUP(VentasMenudeo[[#This Row],[Producto]],$A$2:$B$5,2,FALSE),0)","v":270},{"$f":"_xlfn.IFNA(_xlfn.IFS(VentasMenudeo[[#This Row],[Producto]]=$A$2,VentasMenudeo[[#This Row],[Precio de Venta]]*VentasMenudeo[[#This Row],[Cantidad]]-VentasMenudeo[[#This Row],[Descuento]],VentasMenudeo[[#This Row],[Producto]]=$A$3,VentasMenudeo[[#This Row],[Precio de Venta]]*VentasMenudeo[[#This Row],[Cantidad]]-VentasMenudeo[[#This Row],[Descuento]],VentasMenudeo[[#This Row],[Producto]]=$A$4,VentasMenudeo[[#This Row],[Precio de Venta]]*VentasMenudeo[[#This Row],[Cantidad]]-VentasMenudeo[[#This Row],[Descuento]],VentasMenudeo[[#This Row],[Producto]]=$A$5,VentasMenudeo[[#This Row],[Precio de Venta]]*VentasMenudeo[[#This Row],[Cantidad]]-VentasMenudeo[[#This Row],[Descuento]]),0)","v":190},190]
["2023-04-24","Hugo","IPLAY MAX","Low Mint",1,"Navidad",null,{"$f":"_xlfn.IFNA(VLOOKUP(VentasMenudeo[[#This Row],[Promoción]],PromocionesMenudeo[[Promocion]:[Descuento]],2,0),0)","v":80},{"$f":"_xlfn.IFNA(VLOOKUP(VentasMenudeo[[#This Row],[Producto]],$A$2:$B$5,2,FALSE),0)","v":270},{"$f":"_xlfn.IFNA(_xlfn.IFS(VentasMenudeo[[#This Row],[Producto]]=$A$2,VentasMenudeo[[#This Row],[Precio de Venta]]*VentasMenudeo[[#This Row],[Cantidad]]-VentasMenudeo[[#This Row],[Descuento]],VentasMenudeo[[#This Row],[Producto]]=$A$3,VentasMenudeo[[#This Row],[Precio de Venta]]*VentasMenudeo[[#This Row],[Cantidad]]-VentasMenudeo[[#This Row],[Descuento]],VentasMenudeo[[#This Row],[Producto]]=$A$4,VentasMenudeo[[#This Row],[Precio de Venta]]*VentasMenudeo[[#This Row],[Cantidad]]-VentasMenudeo[[#This Row],[Descuento]],VentasMenudeo[[#This Row],[Producto]]=$A$5,VentasMenudeo[[#This Row],[Precio de Venta]]*VentasMenudeo[[#This Row],[Cantidad]]-VentasMenudeo[[#This Row],[Descuento]]),0)","v":190},190]
["2023-04-24","Hugo","IPLAY MAX","Pineapple Orange Guava",1,"Navidad",null,{"$f":"_xlfn.IFNA(VLOOKUP(VentasMenudeo[[#This Row],[Promoción]],PromocionesMenudeo[[Promocion]:[Descuento]],2,0),0)","v":80},{"$f":"_xlfn.IFNA(VLOOKUP(VentasMenudeo[[#This Row],[Producto]],$A$2:$B$5,2,FALSE),0)","v":270},{"$f":"_xlfn.IFNA(_xlfn.IFS(VentasMenudeo[[#This Row],[Producto]]=$A$2,VentasMenudeo[[#This Row],[Precio de Venta]]*VentasMenudeo[[#This Row],[Cantidad]]-VentasMenudeo[[#This Row],[Descuento]],VentasMenudeo[[#This Row],[Producto]]=$A$3,VentasMenudeo[[#This Row],[Precio de Venta]]*VentasMenudeo[[#This Row],[Cantidad]]-VentasMenudeo[[#This Row],[Descuento]],VentasMenudeo[[#This Row],[Producto]]=$A$4,VentasMenudeo[[#This Row],[Precio de Venta]]*VentasMenudeo[[#This Row],[Cantidad]]-VentasMenudeo[[#This Row],[Descuento]],VentasMenudeo[[#This Row],[Producto]]=$A$5,VentasMenudeo[[#This Row],[Precio de Venta]]*VentasMenudeo[[#This Row],[Cantidad]]-VentasMenudeo[[#This Row],[Descuento]]),0)","v":190},190]
["2023-04-24","Hugo","IPLAY MAX","Kiwi Guava Passion Fruit",1,"Navidad",null,{"$f":"_xlfn.IFNA(VLOOKUP(VentasMenudeo[[#This Row],[Promoción]],PromocionesMenudeo[[Promocion]:[Descuento]],2,0),0)","v":80},{"$f":"_xlfn.IFNA(VLOOKUP(VentasMenudeo[[#This Row],[Producto]],$A$2:$B$5,2,FALSE),0)","v":270},{"$f":"_xlfn.IFNA(_xlfn.IFS(VentasMenudeo[[#This Row],[Producto]]=$A$2,VentasMenudeo[[#This Row],[Precio de Venta]]*VentasMenudeo[[#This Row],[Cantidad]]-VentasMenudeo[[#This Row],[Descuento]],VentasMenudeo[[#This Row],[Producto]]=$A$3,VentasMenudeo[[#This Row],[Precio de Venta]]*VentasMenudeo[[#This Row],[Cantidad]]-VentasMenudeo[[#This Row],[Descuento]],VentasMenudeo[[#This Row],[Producto]]=$A$4,VentasMenudeo[[#This Row],[Precio de Venta]]*VentasMenudeo[[#This Row],[Cantidad]]-VentasMenudeo[[#This Row],[Descuento]],VentasMenudeo[[#This Row],[Producto]]=$A$5,VentasMenudeo[[#This Row],[Precio de Venta]]*VentasMenudeo[[#This Row],[Cantidad]]-VentasMenudeo[[#This Row],[Descuento]]),0)","v":190},190]
["2023-04-24","Hugo","IPLAY MAX","Kiwi Guava Passion Fruit",1,"Navidad",null,{"$f":"_xlfn.IFNA(VLOOKUP(VentasMenudeo[[#This Row],[Promoción]],PromocionesMenudeo[[Promocion]:[Descuento]],2,0),0)","v":80},{"$f":"_xlfn.IFNA(VLOOKUP(VentasMenudeo[[#This Row],[Producto]],$A$2:$B$5,2,FALSE),0)","v":270},{"$f":"_xlfn.IFNA(_xlfn.IFS(VentasMenudeo[[#This Row],[Producto]]=$A$2,VentasMenudeo[[#This Row],[Precio de Venta]]*VentasMenudeo[[#This Row],[Cantidad]]-VentasMenudeo[[#This Row],[Descuento]],VentasMenudeo[[#This Row],[Producto]]=$A$3,VentasMenudeo[[#This Row],[Precio de Venta]]*VentasMenudeo[[#This Row],[Cantidad]]-VentasMenudeo[[#This Row],[Descuento]],VentasMenudeo[[#This Row],[Producto]]=$A$4,VentasMenudeo[[#This Row],[Precio de Venta]]*VentasMenudeo[[#This Row],[Cantidad]]-VentasMenudeo[[#This Row],[Descuento]],VentasMenudeo[[#This Row],[Producto]]=$A$5,VentasMenudeo[[#This Row],[Precio de Venta]]*VentasMenudeo[[#This Row],[Cantidad]]-VentasMenudeo[[#This Row],[Descuento]]),0)","v":190},190]
["2023-04-24","Hugo","IPLAY MAX","Kiwi Guava Passion Fruit",1,"Navidad",null,{"$f":"_xlfn.IFNA(VLOOKUP(VentasMenudeo[[#This Row],[Promoción]],PromocionesMenudeo[[Promocion]:[Descuento]],2,0),0)","v":80},{"$f":"_xlfn.IFNA(VLOOKUP(VentasMenudeo[[#This Row],[Producto]],$A$2:$B$5,2,FALSE),0)","v":270},{"$f":"_xlfn.IFNA(_xlfn.IFS(VentasMenudeo[[#This Row],[Producto]]=$A$2,VentasMenudeo[[#This Row],[Precio de Venta]]*VentasMenudeo[[#This Row],[Cantidad]]-VentasMenudeo[[#This Row],[Descuento]],VentasMenudeo[[#This Row],[Producto]]=$A$3,VentasMenudeo[[#This Row],[Precio de Venta]]*VentasMenudeo[[#This Row],[Cantidad]]-VentasMenudeo[[#This Row],[Descuento]],VentasMenudeo[[#This Row],[Producto]]=$A$4,VentasMenudeo[[#This Row],[Precio de Venta]]*VentasMenudeo[[#This Row],[Cantidad]]-VentasMenudeo[[#This Row],[Descuento]],VentasMenudeo[[#This Row],[Producto]]=$A$5,VentasMenudeo[[#This Row],[Precio de Venta]]*VentasMenudeo[[#This Row],[Cantidad]]-VentasMenudeo[[#This Row],[Descuento]]),0)","v":190},190]
["2023-04-24","Hugo","IPLAY MAX","Peach Berries Ice",1,"Navidad",null,{"$f":"_xlfn.IFNA(VLOOKUP(VentasMenudeo[[#This Row],[Promoción]],PromocionesMenudeo[[Promocion]:[Descuento]],2,0),0)","v":80},{"$f":"_xlfn.IFNA(VLOOKUP(VentasMenudeo[[#This Row],[Producto]],$A$2:$B$5,2,FALSE),0)","v":270},{"$f":"_xlfn.IFNA(_xlfn.IFS(VentasMenudeo[[#This Row],[Producto]]=$A$2,VentasMenudeo[[#This Row],[Precio de Venta]]*VentasMenudeo[[#This Row],[Cantidad]]-VentasMenudeo[[#This Row],[Descuento]],VentasMenudeo[[#This Row],[Producto]]=$A$3,VentasMenudeo[[#This Row],[Precio de Venta]]*VentasMenudeo[[#This Row],[Cantidad]]-VentasMenudeo[[#This Row],[Descuento]],VentasMenudeo[[#This Row],[Producto]]=$A$4,VentasMenudeo[[#This Row],[Precio de Venta]]*VentasMenudeo[[#This Row],[Cantidad]]-VentasMenudeo[[#This Row],[Descuento]],VentasMenudeo[[#This Row],[Producto]]=$A$5,VentasMenudeo[[#This Row],[Precio de Venta]]*VentasMenudeo[[#This Row],[Cantidad]]-VentasMenudeo[[#This Row],[Descuento]]),0)","v":190},190]
["2023-04-24","Hugo","IPLAY MAX","Peach Berries Ice",1,"Navidad",null,{"$f":"_xlfn.IFNA(VLOOKUP(VentasMenudeo[[#This Row],[Promoción]],PromocionesMenudeo[[Promocion]:[Descuento]],2,0),0)","v":80},{"$f":"_xlfn.IFNA(VLOOKUP(VentasMenudeo[[#This Row],[Producto]],$A$2:$B$5,2,FALSE),0)","v":270},{"$f":"_xlfn.IFNA(_xlfn.IFS(VentasMenudeo[[#This Row],[Producto]]=$A$2,VentasMenudeo[[#This Row],[Precio de Venta]]*VentasMenudeo[[#This Row],[Cantidad]]-VentasMenudeo[[#This Row],[Descuento]],VentasMenudeo[[#This Row],[Producto]]=$A$3,VentasMenudeo[[#This Row],[Precio de Venta]]*VentasMenudeo[[#This Row],[Cantidad]]-VentasMenudeo[[#This Row],[Descuento]],VentasMenudeo[[#This Row],[Producto]]=$A$4,VentasMenudeo[[#This Row],[Precio de Venta]]*VentasMenudeo[[#This Row],[Cantidad]]-VentasMenudeo[[#This Row],[Descuento]],VentasMenudeo[[#This Row],[Producto]]=$A$5,VentasMenudeo[[#This Row],[Precio de Venta]]*VentasMenudeo[[#This Row],[Cantidad]]-VentasMenudeo[[#This Row],[Descuento]]),0)","v":190},190]
["2023-04-24","Hugo","IPLAY MAX","Coconut ice",1,"Navidad",null,{"$f":"_xlfn.IFNA(VLOOKUP(VentasMenudeo[[#This Row],[Promoción]],PromocionesMenudeo[[Promocion]:[Descuento]],2,0),0)","v":80},{"$f":"_xlfn.IFNA(VLOOKUP(VentasMenudeo[[#This Row],[Producto]],$A$2:$B$5,2,FALSE),0)","v":270},{"$f":"_xlfn.IFNA(_xlfn.IFS(VentasMenudeo[[#This Row],[Producto]]=$A$2,VentasMenudeo[[#This Row],[Precio de Venta]]*VentasMenudeo[[#This Row],[Cantidad]]-VentasMenudeo[[#This Row],[Descuento]],VentasMenudeo[[#This Row],[Producto]]=$A$3,VentasMenudeo[[#This Row],[Precio de Venta]]*VentasMenudeo[[#This Row],[Cantidad]]-VentasMenudeo[[#This Row],[Descuento]],VentasMenudeo[[#This Row],[Producto]]=$A$4,VentasMenudeo[[#This Row],[Precio de Venta]]*VentasMenudeo[[#This Row],[Cantidad]]-VentasMenudeo[[#This Row],[Descuento]],VentasMenudeo[[#This Row],[Producto]]=$A$5,VentasMenudeo[[#This Row],[Precio de Venta]]*VentasMenudeo[[#This Row],[Cantidad]]-VentasMenudeo[[#This Row],[Descuento]]),0)","v":190},190]
["2023-04-24","Hugo","IPLAY MAX","Coconut ice",1,"Navidad",null,{"$f":"_xlfn.IFNA(VLOOKUP(VentasMenudeo[[#This Row],[Promoción]],PromocionesMenudeo[[Promocion]:[Descuento]],2,0),0)","v":80},{"$f":"_xlfn.IFNA(VLOOKUP(VentasMenudeo[[#This Row],[Producto]],$A$2:$B$5,2,FALSE),0)","v":270},{"$f":"_xlfn.IFNA(_xlfn.IFS(VentasMenudeo[[#This Row],[Producto]]=$A$2,VentasMenudeo[[#This Row],[Precio de Venta]]*VentasMenudeo[[#This Row],[Cantidad]]-VentasMenudeo[[#This Row],[Descuento]],VentasMenudeo[[#This Row],[Producto]]=$A$3,VentasMenudeo[[#This Row],[Precio de Venta]]*VentasMenudeo[[#This Row],[Cantidad]]-VentasMenudeo[[#This Row],[Descuento]],VentasMenudeo[[#This Row],[Producto]]=$A$4,VentasMenudeo[[#This Row],[Precio de Venta]]*VentasMenudeo[[#This Row],[Cantidad]]-VentasMenudeo[[#This Row],[Descuento]],VentasMenudeo[[#This Row],[Producto]]=$A$5,VentasMenudeo[[#This Row],[Precio de Venta]]*VentasMenudeo[[#This Row],[Cantidad]]-VentasMenudeo[[#This Row],[Descuento]]),0)","v":190},190]
["2023-04-24","Hugo","IPLAY MAX","Mixed Berries Lemon",1,"Navidad",null,{"$f":"_xlfn.IFNA(VLOOKUP(VentasMenudeo[[#This Row],[Promoción]],PromocionesMenudeo[[Promocion]:[Descuento]],2,0),0)","v":80},{"$f":"_xlfn.IFNA(VLOOKUP(VentasMenudeo[[#This Row],[Producto]],$A$2:$B$5,2,FALSE),0)","v":270},{"$f":"_xlfn.IFNA(_xlfn.IFS(VentasMenudeo[[#This Row],[Producto]]=$A$2,VentasMenudeo[[#This Row],[Precio de Venta]]*VentasMenudeo[[#This Row],[Cantidad]]-VentasMenudeo[[#This Row],[Descuento]],VentasMenudeo[[#This Row],[Producto]]=$A$3,VentasMenudeo[[#This Row],[Precio de Venta]]*VentasMenudeo[[#This Row],[Cantidad]]-VentasMenudeo[[#This Row],[Descuento]],VentasMenudeo[[#This Row],[Producto]]=$A$4,VentasMenudeo[[#This Row],[Precio de Venta]]*VentasMenudeo[[#This Row],[Cantidad]]-VentasMenudeo[[#This Row],[Descuento]],VentasMenudeo[[#This Row],[Producto]]=$A$5,VentasMenudeo[[#This Row],[Precio de Venta]]*VentasMenudeo[[#This Row],[Cantidad]]-VentasMenudeo[[#This Row],[Descuento]]),0)","v":190},190]
["2023-04-24","Hugo","IPLAY MAX","Mixed Berries Lemon",1,"Navidad",null,{"$f":"_xlfn.IFNA(VLOOKUP(VentasMenudeo[[#This Row],[Promoción]],PromocionesMenudeo[[Promocion]:[Descuento]],2,0),0)","v":80},{"$f":"_xlfn.IFNA(VLOOKUP(VentasMenudeo[[#This Row],[Producto]],$A$2:$B$5,2,FALSE),0)","v":270},{"$f":"_xlfn.IFNA(_xlfn.IFS(VentasMenudeo[[#This Row],[Producto]]=$A$2,VentasMenudeo[[#This Row],[Precio de Venta]]*VentasMenudeo[[#This Row],[Cantidad]]-VentasMenudeo[[#This Row],[Descuento]],VentasMenudeo[[#This Row],[Producto]]=$A$3,VentasMenudeo[[#This Row],[Precio de Venta]]*VentasMenudeo[[#This Row],[Cantidad]]-VentasMenudeo[[#This Row],[Descuento]],VentasMenudeo[[#This Row],[Producto]]=$A$4,VentasMenudeo[[#This Row],[Precio de Venta]]*VentasMenudeo[[#This Row],[Cantidad]]-VentasMenudeo[[#This Row],[Descuento]],VentasMenudeo[[#This Row],[Producto]]=$A$5,VentasMenudeo[[#This Row],[Precio de Venta]]*VentasMenudeo[[#This Row],[Cantidad]]-VentasMenudeo[[#This Row],[Descuento]]),0)","v":190},190]
["2023-04-25","Hugo","IPLAY MAX","Coconut",1,"Navidad",null,{"$f":"_xlfn.IFNA(VLOOKUP(VentasMenudeo[[#This Row],[Promoción]],PromocionesMenudeo[[Promocion]:[Descuento]],2,0),0)","v":80},{"$f":"_xlfn.IFNA(VLOOKUP(VentasMenudeo[[#This Row],[Producto]],$A$2:$B$5,2,FALSE),0)","v":270},{"$f":"_xlfn.IFNA(_xlfn.IFS(VentasMenudeo[[#This Row],[Producto]]=$A$2,VentasMenudeo[[#This Row],[Precio de Venta]]*VentasMenudeo[[#This Row],[Cantidad]]-VentasMenudeo[[#This Row],[Descuento]],VentasMenudeo[[#This Row],[Producto]]=$A$3,VentasMenudeo[[#This Row],[Precio de Venta]]*VentasMenudeo[[#This Row],[Cantidad]]-VentasMenudeo[[#This Row],[Descuento]],VentasMenudeo[[#This Row],[Producto]]=$A$4,VentasMenudeo[[#This Row],[Precio de Venta]]*VentasMenudeo[[#This Row],[Cantidad]]-VentasMenudeo[[#This Row],[Descuento]],VentasMenudeo[[#This Row],[Producto]]=$A$5,VentasMenudeo[[#This Row],[Precio de Venta]]*VentasMenudeo[[#This Row],[Cantidad]]-VentasMenudeo[[#This Row],[Descuento]]),0)","v":190},190]
["2023-04-25","Hugo","IPLAY MAX","Pineapple Orange Guava",1,"Navidad",null,{"$f":"_xlfn.IFNA(VLOOKUP(VentasMenudeo[[#This Row],[Promoción]],PromocionesMenudeo[[Promocion]:[Descuento]],2,0),0)","v":80},{"$f":"_xlfn.IFNA(VLOOKUP(VentasMenudeo[[#This Row],[Producto]],$A$2:$B$5,2,FALSE),0)","v":270},{"$f":"_xlfn.IFNA(_xlfn.IFS(VentasMenudeo[[#This Row],[Producto]]=$A$2,VentasMenudeo[[#This Row],[Precio de Venta]]*VentasMenudeo[[#This Row],[Cantidad]]-VentasMenudeo[[#This Row],[Descuento]],VentasMenudeo[[#This Row],[Producto]]=$A$3,VentasMenudeo[[#This Row],[Precio de Venta]]*VentasMenudeo[[#This Row],[Cantidad]]-VentasMenudeo[[#This Row],[Descuento]],VentasMenudeo[[#This Row],[Producto]]=$A$4,VentasMenudeo[[#This Row],[Precio de Venta]]*VentasMenudeo[[#This Row],[Cantidad]]-VentasMenudeo[[#This Row],[Descuento]],VentasMenudeo[[#This Row],[Producto]]=$A$5,VentasMenudeo[[#This Row],[Precio de Venta]]*VentasMenudeo[[#This Row],[Cantidad]]-VentasMenudeo[[#This Row],[Descuento]]),0)","v":190},190]
["2023-04-25","Hugo","IPLAY MAX","Pineapple Orange Guava",1,"Navidad",null,{"$f":"_xlfn.IFNA(VLOOKUP(VentasMenudeo[[#This Row],[Promoción]],PromocionesMenudeo[[Promocion]:[Descuento]],2,0),0)","v":80},{"$f":"_xlfn.IFNA(VLOOKUP(VentasMenudeo[[#This Row],[Producto]],$A$2:$B$5,2,FALSE),0)","v":270},{"$f":"_xlfn.IFNA(_xlfn.IFS(VentasMenudeo[[#This Row],[Producto]]=$A$2,VentasMenudeo[[#This Row],[Precio de Venta]]*VentasMenudeo[[#This Row],[Cantidad]]-VentasMenudeo[[#This Row],[Descuento]],VentasMenudeo[[#This Row],[Producto]]=$A$3,VentasMenudeo[[#This Row],[Precio de Venta]]*VentasMenudeo[[#This Row],[Cantidad]]-VentasMenudeo[[#This Row],[Descuento]],VentasMenudeo[[#This Row],[Producto]]=$A$4,VentasMenudeo[[#This Row],[Precio de Venta]]*VentasMenudeo[[#This Row],[Cantidad]]-VentasMenudeo[[#This Row],[Descuento]],VentasMenudeo[[#This Row],[Producto]]=$A$5,VentasMenudeo[[#This Row],[Precio de Venta]]*VentasMenudeo[[#This Row],[Cantidad]]-VentasMenudeo[[#This Row],[Descuento]]),0)","v":190},190]
["2023-04-25","Hugo","IPLAY MAX","Pineapple Coconut",1,"Navidad",null,{"$f":"_xlfn.IFNA(VLOOKUP(VentasMenudeo[[#This Row],[Promoción]],PromocionesMenudeo[[Promocion]:[Descuento]],2,0),0)","v":80},{"$f":"_xlfn.IFNA(VLOOKUP(VentasMenudeo[[#This Row],[Producto]],$A$2:$B$5,2,FALSE),0)","v":270},{"$f":"_xlfn.IFNA(_xlfn.IFS(VentasMenudeo[[#This Row],[Producto]]=$A$2,VentasMenudeo[[#This Row],[Precio de Venta]]*VentasMenudeo[[#This Row],[Cantidad]]-VentasMenudeo[[#This Row],[Descuento]],VentasMenudeo[[#This Row],[Producto]]=$A$3,VentasMenudeo[[#This Row],[Precio de Venta]]*VentasMenudeo[[#This Row],[Cantidad]]-VentasMenudeo[[#This Row],[Descuento]],VentasMenudeo[[#This Row],[Producto]]=$A$4,VentasMenudeo[[#This Row],[Precio de Venta]]*VentasMenudeo[[#This Row],[Cantidad]]-VentasMenudeo[[#This Row],[Descuento]],VentasMenudeo[[#This Row],[Producto]]=$A$5,VentasMenudeo[[#This Row],[Precio de Venta]]*VentasMenudeo[[#This Row],[Cantidad]]-VentasMenudeo[[#This Row],[Descuento]]),0)","v":190},190]
["2023-04-25","Hugo","IPLAY MAX","Pineapple Coconut",1,"Navidad",null,{"$f":"_xlfn.IFNA(VLOOKUP(VentasMenudeo[[#This Row],[Promoción]],PromocionesMenudeo[[Promocion]:[Descuento]],2,0),0)","v":80},{"$f":"_xlfn.IFNA(VLOOKUP(VentasMenudeo[[#This Row],[Producto]],$A$2:$B$5,2,FALSE),0)","v":270},{"$f":"_xlfn.IFNA(_xlfn.IFS(VentasMenudeo[[#This Row],[Producto]]=$A$2,VentasMenudeo[[#This Row],[Precio de Venta]]*VentasMenudeo[[#This Row],[Cantidad]]-VentasMenudeo[[#This Row],[Descuento]],VentasMenudeo[[#This Row],[Producto]]=$A$3,VentasMenudeo[[#This Row],[Precio de Venta]]*VentasMenudeo[[#This Row],[Cantidad]]-VentasMenudeo[[#This Row],[Descuento]],VentasMenudeo[[#This Row],[Producto]]=$A$4,VentasMenudeo[[#This Row],[Precio de Venta]]*VentasMenudeo[[#This Row],[Cantidad]]-VentasMenudeo[[#This Row],[Descuento]],VentasMenudeo[[#This Row],[Producto]]=$A$5,VentasMenudeo[[#This Row],[Precio de Venta]]*VentasMenudeo[[#This Row],[Cantidad]]-VentasMenudeo[[#This Row],[Descuento]]),0)","v":190},190]
["2023-04-25","Hugo","IPLAY MAX","Coconut ice",1,"Navidad",null,{"$f":"_xlfn.IFNA(VLOOKUP(VentasMenudeo[[#This Row],[Promoción]],PromocionesMenudeo[[Promocion]:[Descuento]],2,0),0)","v":80},{"$f":"_xlfn.IFNA(VLOOKUP(VentasMenudeo[[#This Row],[Producto]],$A$2:$B$5,2,FALSE),0)","v":270},{"$f":"_xlfn.IFNA(_xlfn.IFS(VentasMenudeo[[#This Row],[Producto]]=$A$2,VentasMenudeo[[#This Row],[Precio de Venta]]*VentasMenudeo[[#This Row],[Cantidad]]-VentasMenudeo[[#This Row],[Descuento]],VentasMenudeo[[#This Row],[Producto]]=$A$3,VentasMenudeo[[#This Row],[Precio de Venta]]*VentasMenudeo[[#This Row],[Cantidad]]-VentasMenudeo[[#This Row],[Descuento]],VentasMenudeo[[#This Row],[Producto]]=$A$4,VentasMenudeo[[#This Row],[Precio de Venta]]*VentasMenudeo[[#This Row],[Cantidad]]-VentasMenudeo[[#This Row],[Descuento]],VentasMenudeo[[#This Row],[Producto]]=$A$5,VentasMenudeo[[#This Row],[Precio de Venta]]*VentasMenudeo[[#This Row],[Cantidad]]-VentasMenudeo[[#This Row],[Descuento]]),0)","v":190},190]
["2023-04-30","Hugo","IPLAY MAX","Guava",1,"Navidad",null,{"$f":"_xlfn.IFNA(VLOOKUP(VentasMenudeo[[#This Row],[Promoción]],PromocionesMenudeo[[Promocion]:[Descuento]],2,0),0)","v":80},{"$f":"_xlfn.IFNA(VLOOKUP(VentasMenudeo[[#This Row],[Producto]],$A$2:$B$5,2,FALSE),0)","v":270},{"$f":"_xlfn.IFNA(_xlfn.IFS(VentasMenudeo[[#This Row],[Producto]]=$A$2,VentasMenudeo[[#This Row],[Precio de Venta]]*VentasMenudeo[[#This Row],[Cantidad]]-VentasMenudeo[[#This Row],[Descuento]],VentasMenudeo[[#This Row],[Producto]]=$A$3,VentasMenudeo[[#This Row],[Precio de Venta]]*VentasMenudeo[[#This Row],[Cantidad]]-VentasMenudeo[[#This Row],[Descuento]],VentasMenudeo[[#This Row],[Producto]]=$A$4,VentasMenudeo[[#This Row],[Precio de Venta]]*VentasMenudeo[[#This Row],[Cantidad]]-VentasMenudeo[[#This Row],[Descuento]],VentasMenudeo[[#This Row],[Producto]]=$A$5,VentasMenudeo[[#This Row],[Precio de Venta]]*VentasMenudeo[[#This Row],[Cantidad]]-VentasMenudeo[[#This Row],[Descuento]]),0)","v":190},190]
["2023-04-30","Hugo","IPLAY MAX","Sour Apple",1,"Navidad",null,{"$f":"_xlfn.IFNA(VLOOKUP(VentasMenudeo[[#This Row],[Promoción]],PromocionesMenudeo[[Promocion]:[Descuento]],2,0),0)","v":80},{"$f":"_xlfn.IFNA(VLOOKUP(VentasMenudeo[[#This Row],[Producto]],$A$2:$B$5,2,FALSE),0)","v":270},{"$f":"_xlfn.IFNA(_xlfn.IFS(VentasMenudeo[[#This Row],[Producto]]=$A$2,VentasMenudeo[[#This Row],[Precio de Venta]]*VentasMenudeo[[#This Row],[Cantidad]]-VentasMenudeo[[#This Row],[Descuento]],VentasMenudeo[[#This Row],[Producto]]=$A$3,VentasMenudeo[[#This Row],[Precio de Venta]]*VentasMenudeo[[#This Row],[Cantidad]]-VentasMenudeo[[#This Row],[Descuento]],VentasMenudeo[[#This Row],[Producto]]=$A$4,VentasMenudeo[[#This Row],[Precio de Venta]]*VentasMenudeo[[#This Row],[Cantidad]]-VentasMenudeo[[#This Row],[Descuento]],VentasMenudeo[[#This Row],[Producto]]=$A$5,VentasMenudeo[[#This Row],[Precio de Venta]]*VentasMenudeo[[#This Row],[Cantidad]]-VentasMenudeo[[#This Row],[Descuento]]),0)","v":190},190]
["2023-04-30","Hugo","IPLAY MAX","Sourraspberry",1,"Navidad",null,{"$f":"_xlfn.IFNA(VLOOKUP(VentasMenudeo[[#This Row],[Promoción]],PromocionesMenudeo[[Promocion]:[Descuento]],2,0),0)","v":80},{"$f":"_xlfn.IFNA(VLOOKUP(VentasMenudeo[[#This Row],[Producto]],$A$2:$B$5,2,FALSE),0)","v":270},{"$f":"_xlfn.IFNA(_xlfn.IFS(VentasMenudeo[[#This Row],[Producto]]=$A$2,VentasMenudeo[[#This Row],[Precio de Venta]]*VentasMenudeo[[#This Row],[Cantidad]]-VentasMenudeo[[#This Row],[Descuento]],VentasMenudeo[[#This Row],[Producto]]=$A$3,VentasMenudeo[[#This Row],[Precio de Venta]]*VentasMenudeo[[#This Row],[Cantidad]]-VentasMenudeo[[#This Row],[Descuento]],VentasMenudeo[[#This Row],[Producto]]=$A$4,VentasMenudeo[[#This Row],[Precio de Venta]]*VentasMenudeo[[#This Row],[Cantidad]]-VentasMenudeo[[#This Row],[Descuento]],VentasMenudeo[[#This Row],[Producto]]=$A$5,VentasMenudeo[[#This Row],[Precio de Venta]]*VentasMenudeo[[#This Row],[Cantidad]]-VentasMenudeo[[#This Row],[Descuento]]),0)","v":190},190]
["2023-04-30","Hugo","IPLAY MAX",1,1,"Navidad",null,{"$f":"_xlfn.IFNA(VLOOKUP(VentasMenudeo[[#This Row],[Promoción]],PromocionesMenudeo[[Promocion]:[Descuento]],2,0),0)","v":80},{"$f":"_xlfn.IFNA(VLOOKUP(VentasMenudeo[[#This Row],[Producto]],$A$2:$B$5,2,FALSE),0)","v":270},{"$f":"_xlfn.IFNA(_xlfn.IFS(VentasMenudeo[[#This Row],[Producto]]=$A$2,VentasMenudeo[[#This Row],[Precio de Venta]]*VentasMenudeo[[#This Row],[Cantidad]]-VentasMenudeo[[#This Row],[Descuento]],VentasMenudeo[[#This Row],[Producto]]=$A$3,VentasMenudeo[[#This Row],[Precio de Venta]]*VentasMenudeo[[#This Row],[Cantidad]]-VentasMenudeo[[#This Row],[Descuento]],VentasMenudeo[[#This Row],[Producto]]=$A$4,VentasMenudeo[[#This Row],[Precio de Venta]]*VentasMenudeo[[#This Row],[Cantidad]]-VentasMenudeo[[#This Row],[Descuento]],VentasMenudeo[[#This Row],[Producto]]=$A$5,VentasMenudeo[[#This Row],[Precio de Venta]]*VentasMenudeo[[#This Row],[Cantidad]]-VentasMenudeo[[#This Row],[Descuento]]),0)","v":190},190]
["2023-04-30","Hugo","IPLAY MAX","Low Mint",1,"Navidad",null,{"$f":"_xlfn.IFNA(VLOOKUP(VentasMenudeo[[#This Row],[Promoción]],PromocionesMenudeo[[Promocion]:[Descuento]],2,0),0)","v":80},{"$f":"_xlfn.IFNA(VLOOKUP(VentasMenudeo[[#This Row],[Producto]],$A$2:$B$5,2,FALSE),0)","v":270},{"$f":"_xlfn.IFNA(_xlfn.IFS(VentasMenudeo[[#This Row],[Producto]]=$A$2,VentasMenudeo[[#This Row],[Precio de Venta]]*VentasMenudeo[[#This Row],[Cantidad]]-VentasMenudeo[[#This Row],[Descuento]],VentasMenudeo[[#This Row],[Producto]]=$A$3,VentasMenudeo[[#This Row],[Precio de Venta]]*VentasMenudeo[[#This Row],[Cantidad]]-VentasMenudeo[[#This Row],[Descuento]],VentasMenudeo[[#This Row],[Producto]]=$A$4,VentasMenudeo[[#This Row],[Precio de Venta]]*VentasMenudeo[[#This Row],[Cantidad]]-VentasMenudeo[[#This Row],[Descuento]],VentasMenudeo[[#This Row],[Producto]]=$A$5,VentasMenudeo[[#This Row],[Precio de Venta]]*VentasMenudeo[[#This Row],[Cantidad]]-VentasMenudeo[[#This Row],[Descuento]]),0)","v":190},190]
["2023-04-30","Hugo","IPLAY MAX","Banana Cherry DragonFruit",1,"Navidad",null,{"$f":"_xlfn.IFNA(VLOOKUP(VentasMenudeo[[#This Row],[Promoción]],PromocionesMenudeo[[Promocion]:[Descuento]],2,0),0)","v":80},{"$f":"_xlfn.IFNA(VLOOKUP(VentasMenudeo[[#This Row],[Producto]],$A$2:$B$5,2,FALSE),0)","v":270},{"$f":"_xlfn.IFNA(_xlfn.IFS(VentasMenudeo[[#This Row],[Producto]]=$A$2,VentasMenudeo[[#This Row],[Precio de Venta]]*VentasMenudeo[[#This Row],[Cantidad]]-VentasMenudeo[[#This Row],[Descuento]],VentasMenudeo[[#This Row],[Producto]]=$A$3,VentasMenudeo[[#This Row],[Precio de Venta]]*VentasMenudeo[[#This Row],[Cantidad]]-VentasMenudeo[[#This Row],[Descuento]],VentasMenudeo[[#This Row],[Producto]]=$A$4,VentasMenudeo[[#This Row],[Precio de Venta]]*VentasMenudeo[[#This Row],[Cantidad]]-VentasMenudeo[[#This Row],[Descuento]],VentasMenudeo[[#This Row],[Producto]]=$A$5,VentasMenudeo[[#This Row],[Precio de Venta]]*VentasMenudeo[[#This Row],[Cantidad]]-VentasMenudeo[[#This Row],[Descuento]]),0)","v":190},190]
["2023-04-30","Hugo","IPLAY MAX","Pineapple Orange Guava",1,"Navidad",null,{"$f":"_xlfn.IFNA(VLOOKUP(VentasMenudeo[[#This Row],[Promoción]],PromocionesMenudeo[[Promocion]:[Descuento]],2,0),0)","v":80},{"$f":"_xlfn.IFNA(VLOOKUP(VentasMenudeo[[#This Row],[Producto]],$A$2:$B$5,2,FALSE),0)","v":270},{"$f":"_xlfn.IFNA(_xlfn.IFS(VentasMenudeo[[#This Row],[Producto]]=$A$2,VentasMenudeo[[#This Row],[Precio de Venta]]*VentasMenudeo[[#This Row],[Cantidad]]-VentasMenudeo[[#This Row],[Descuento]],VentasMenudeo[[#This Row],[Producto]]=$A$3,VentasMenudeo[[#This Row],[Precio de Venta]]*VentasMenudeo[[#This Row],[Cantidad]]-VentasMenudeo[[#This Row],[Descuento]],VentasMenudeo[[#This Row],[Producto]]=$A$4,VentasMenudeo[[#This Row],[Precio de Venta]]*VentasMenudeo[[#This Row],[Cantidad]]-VentasMenudeo[[#This Row],[Descuento]],VentasMenudeo[[#This Row],[Producto]]=$A$5,VentasMenudeo[[#This Row],[Precio de Venta]]*VentasMenudeo[[#This Row],[Cantidad]]-VentasMenudeo[[#This Row],[Descuento]]),0)","v":190},190]
["2023-04-30","Hugo","IPLAY MAX","Blueberry Rainbow",1,"Navidad",null,{"$f":"_xlfn.IFNA(VLOOKUP(VentasMenudeo[[#This Row],[Promoción]],PromocionesMenudeo[[Promocion]:[Descuento]],2,0),0)","v":80},{"$f":"_xlfn.IFNA(VLOOKUP(VentasMenudeo[[#This Row],[Producto]],$A$2:$B$5,2,FALSE),0)","v":270},{"$f":"_xlfn.IFNA(_xlfn.IFS(VentasMenudeo[[#This Row],[Producto]]=$A$2,VentasMenudeo[[#This Row],[Precio de Venta]]*VentasMenudeo[[#This Row],[Cantidad]]-VentasMenudeo[[#This Row],[Descuento]],VentasMenudeo[[#This Row],[Producto]]=$A$3,VentasMenudeo[[#This Row],[Precio de Venta]]*VentasMenudeo[[#This Row],[Cantidad]]-VentasMenudeo[[#This Row],[Descuento]],VentasMenudeo[[#This Row],[Producto]]=$A$4,VentasMenudeo[[#This Row],[Precio de Venta]]*VentasMenudeo[[#This Row],[Cantidad]]-VentasMenudeo[[#This Row],[Descuento]],VentasMenudeo[[#This Row],[Producto]]=$A$5,VentasMenudeo[[#This Row],[Precio de Venta]]*VentasMenudeo[[#This Row],[Cantidad]]-VentasMenudeo[[#This Row],[Descuento]]),0)","v":190},190]
["2023-04-30","Hugo","IPLAY MAX","Mixed Berries Lemon",1,"Navidad",null,{"$f":"_xlfn.IFNA(VLOOKUP(VentasMenudeo[[#This Row],[Promoción]],PromocionesMenudeo[[Promocion]:[Descuento]],2,0),0)","v":80},{"$f":"_xlfn.IFNA(VLOOKUP(VentasMenudeo[[#This Row],[Producto]],$A$2:$B$5,2,FALSE),0)","v":270},{"$f":"_xlfn.IFNA(_xlfn.IFS(VentasMenudeo[[#This Row],[Producto]]=$A$2,VentasMenudeo[[#This Row],[Precio de Venta]]*VentasMenudeo[[#This Row],[Cantidad]]-VentasMenudeo[[#This Row],[Descuento]],VentasMenudeo[[#This Row],[Producto]]=$A$3,VentasMenudeo[[#This Row],[Precio de Venta]]*VentasMenudeo[[#This Row],[Cantidad]]-VentasMenudeo[[#This Row],[Descuento]],VentasMenudeo[[#This Row],[Producto]]=$A$4,VentasMenudeo[[#This Row],[Precio de Venta]]*VentasMenudeo[[#This Row],[Cantidad]]-VentasMenudeo[[#This Row],[Descuento]],VentasMenudeo[[#This Row],[Producto]]=$A$5,VentasMenudeo[[#This Row],[Precio de Venta]]*VentasMenudeo[[#This Row],[Cantidad]]-VentasMenudeo[[#This Row],[Descuento]]),0)","v":190},190]
["2023-04-30","Hugo","IPLAY BOX","Grape Pear",1,"No aplica",null,{"$f":"_xlfn.IFNA(VLOOKUP(VentasMenudeo[[#This Row],[Promoción]],PromocionesMenudeo[[Promocion]:[Descuento]],2,0),0)","v":0},{"$f":"_xlfn.IFNA(VLOOKUP(VentasMenudeo[[#This Row],[Producto]],$A$2:$B$5,2,FALSE),0)","v":260},{"$f":"_xlfn.IFNA(_xlfn.IFS(VentasMenudeo[[#This Row],[Producto]]=$A$2,VentasMenudeo[[#This Row],[Precio de Venta]]*VentasMenudeo[[#This Row],[Cantidad]]-VentasMenudeo[[#This Row],[Descuento]],VentasMenudeo[[#This Row],[Producto]]=$A$3,VentasMenudeo[[#This Row],[Precio de Venta]]*VentasMenudeo[[#This Row],[Cantidad]]-VentasMenudeo[[#This Row],[Descuento]],VentasMenudeo[[#This Row],[Producto]]=$A$4,VentasMenudeo[[#This Row],[Precio de Venta]]*VentasMenudeo[[#This Row],[Cantidad]]-VentasMenudeo[[#This Row],[Descuento]],VentasMenudeo[[#This Row],[Producto]]=$A$5,VentasMenudeo[[#This Row],[Precio de Venta]]*VentasMenudeo[[#This Row],[Cantidad]]-VentasMenudeo[[#This Row],[Descuento]]),0)","v":260},260]
["2023-04-30","Hugo","IPLAY BOX","Grape Pear",1,"No aplica",null,{"$f":"_xlfn.IFNA(VLOOKUP(VentasMenudeo[[#This Row],[Promoción]],PromocionesMenudeo[[Promocion]:[Descuento]],2,0),0)","v":0},{"$f":"_xlfn.IFNA(VLOOKUP(VentasMenudeo[[#This Row],[Producto]],$A$2:$B$5,2,FALSE),0)","v":260},{"$f":"_xlfn.IFNA(_xlfn.IFS(VentasMenudeo[[#This Row],[Producto]]=$A$2,VentasMenudeo[[#This Row],[Precio de Venta]]*VentasMenudeo[[#This Row],[Cantidad]]-VentasMenudeo[[#This Row],[Descuento]],VentasMenudeo[[#This Row],[Producto]]=$A$3,VentasMenudeo[[#This Row],[Precio de Venta]]*VentasMenudeo[[#This Row],[Cantidad]]-VentasMenudeo[[#This Row],[Descuento]],VentasMenudeo[[#This Row],[Producto]]=$A$4,VentasMenudeo[[#This Row],[Precio de Venta]]*VentasMenudeo[[#This Row],[Cantidad]]-VentasMenudeo[[#This Row],[Descuento]],VentasMenudeo[[#This Row],[Producto]]=$A$5,VentasMenudeo[[#This Row],[Precio de Venta]]*VentasMenudeo[[#This Row],[Cantidad]]-VentasMenudeo[[#This Row],[Descuento]]),0)","v":260},260]
["2023-04-30","Hugo","IPLAY BOX","Mint",1,"No aplica",null,{"$f":"_xlfn.IFNA(VLOOKUP(VentasMenudeo[[#This Row],[Promoción]],PromocionesMenudeo[[Promocion]:[Descuento]],2,0),0)","v":0},{"$f":"_xlfn.IFNA(VLOOKUP(VentasMenudeo[[#This Row],[Producto]],$A$2:$B$5,2,FALSE),0)","v":260},{"$f":"_xlfn.IFNA(_xlfn.IFS(VentasMenudeo[[#This Row],[Producto]]=$A$2,VentasMenudeo[[#This Row],[Precio de Venta]]*VentasMenudeo[[#This Row],[Cantidad]]-VentasMenudeo[[#This Row],[Descuento]],VentasMenudeo[[#This Row],[Producto]]=$A$3,VentasMenudeo[[#This Row],[Precio de Venta]]*VentasMenudeo[[#This Row],[Cantidad]]-VentasMenudeo[[#This Row],[Descuento]],VentasMenudeo[[#This Row],[Producto]]=$A$4,VentasMenudeo[[#This Row],[Precio de Venta]]*VentasMenudeo[[#This Row],[Cantidad]]-VentasMenudeo[[#This Row],[Descuento]],VentasMenudeo[[#This Row],[Producto]]=$A$5,VentasMenudeo[[#This Row],[Precio de Venta]]*VentasMenudeo[[#This Row],[Cantidad]]-VentasMenudeo[[#This Row],[Descuento]]),0)","v":260},260]
["2023-04-30","Hugo","IPLAY BOX","Mint",1,"No aplica",null,{"$f":"_xlfn.IFNA(VLOOKUP(VentasMenudeo[[#This Row],[Promoción]],PromocionesMenudeo[[Promocion]:[Descuento]],2,0),0)","v":0},{"$f":"_xlfn.IFNA(VLOOKUP(VentasMenudeo[[#This Row],[Producto]],$A$2:$B$5,2,FALSE),0)","v":260},{"$f":"_xlfn.IFNA(_xlfn.IFS(VentasMenudeo[[#This Row],[Producto]]=$A$2,VentasMenudeo[[#This Row],[Precio de Venta]]*VentasMenudeo[[#This Row],[Cantidad]]-VentasMenudeo[[#This Row],[Descuento]],VentasMenudeo[[#This Row],[Producto]]=$A$3,VentasMenudeo[[#This Row],[Precio de Venta]]*VentasMenudeo[[#This Row],[Cantidad]]-VentasMenudeo[[#This Row],[Descuento]],VentasMenudeo[[#This Row],[Producto]]=$A$4,VentasMenudeo[[#This Row],[Precio de Venta]]*VentasMenudeo[[#This Row],[Cantidad]]-VentasMenudeo[[#This Row],[Descuento]],VentasMenudeo[[#This Row],[Producto]]=$A$5,VentasMenudeo[[#This Row],[Precio de Venta]]*VentasMenudeo[[#This Row],[Cantidad]]-VentasMenudeo[[#This Row],[Descuento]]),0)","v":260},260]
["2023-04-30","Hugo","IPLAY BOX","Peach Mint",1,"No aplica",null,{"$f":"_xlfn.IFNA(VLOOKUP(VentasMenudeo[[#This Row],[Promoción]],PromocionesMenudeo[[Promocion]:[Descuento]],2,0),0)","v":0},{"$f":"_xlfn.IFNA(VLOOKUP(VentasMenudeo[[#This Row],[Producto]],$A$2:$B$5,2,FALSE),0)","v":260},{"$f":"_xlfn.IFNA(_xlfn.IFS(VentasMenudeo[[#This Row],[Producto]]=$A$2,VentasMenudeo[[#This Row],[Precio de Venta]]*VentasMenudeo[[#This Row],[Cantidad]]-VentasMenudeo[[#This Row],[Descuento]],VentasMenudeo[[#This Row],[Producto]]=$A$3,VentasMenudeo[[#This Row],[Precio de Venta]]*VentasMenudeo[[#This Row],[Cantidad]]-VentasMenudeo[[#This Row],[Descuento]],VentasMenudeo[[#This Row],[Producto]]=$A$4,VentasMenudeo[[#This Row],[Precio de Venta]]*VentasMenudeo[[#This Row],[Cantidad]]-VentasMenudeo[[#This Row],[Descuento]],VentasMenudeo[[#This Row],[Producto]]=$A$5,VentasMenudeo[[#This Row],[Precio de Venta]]*VentasMenudeo[[#This Row],[Cantidad]]-VentasMenudeo[[#This Row],[Descuento]]),0)","v":260},260]
["2023-04-30","Hugo","IPLAY BOX","Peach Mint",1,"No aplica",null,{"$f":"_xlfn.IFNA(VLOOKUP(VentasMenudeo[[#This Row],[Promoción]],PromocionesMenudeo[[Promocion]:[Descuento]],2,0),0)","v":0},{"$f":"_xlfn.IFNA(VLOOKUP(VentasMenudeo[[#This Row],[Producto]],$A$2:$B$5,2,FALSE),0)","v":260},{"$f":"_xlfn.IFNA(_xlfn.IFS(VentasMenudeo[[#This Row],[Producto]]=$A$2,VentasMenudeo[[#This Row],[Precio de Venta]]*VentasMenudeo[[#This Row],[Cantidad]]-VentasMenudeo[[#This Row],[Descuento]],VentasMenudeo[[#This Row],[Producto]]=$A$3,VentasMenudeo[[#This Row],[Precio de Venta]]*VentasMenudeo[[#This Row],[Cantidad]]-VentasMenudeo[[#This Row],[Descuento]],VentasMenudeo[[#This Row],[Producto]]=$A$4,VentasMenudeo[[#This Row],[Precio de Venta]]*VentasMenudeo[[#This Row],[Cantidad]]-VentasMenudeo[[#This Row],[Descuento]],VentasMenudeo[[#This Row],[Producto]]=$A$5,VentasMenudeo[[#This Row],[Precio de Venta]]*VentasMenudeo[[#This Row],[Cantidad]]-VentasMenudeo[[#This Row],[Descuento]]),0)","v":260},260]
["2023-04-30","Hugo","IPLAY BOX","Watermelon Ice",1,"No aplica",null,{"$f":"_xlfn.IFNA(VLOOKUP(VentasMenudeo[[#This Row],[Promoción]],PromocionesMenudeo[[Promocion]:[Descuento]],2,0),0)","v":0},{"$f":"_xlfn.IFNA(VLOOKUP(VentasMenudeo[[#This Row],[Producto]],$A$2:$B$5,2,FALSE),0)","v":260},{"$f":"_xlfn.IFNA(_xlfn.IFS(VentasMenudeo[[#This Row],[Producto]]=$A$2,VentasMenudeo[[#This Row],[Precio de Venta]]*VentasMenudeo[[#This Row],[Cantidad]]-VentasMenudeo[[#This Row],[Descuento]],VentasMenudeo[[#This Row],[Producto]]=$A$3,VentasMenudeo[[#This Row],[Precio de Venta]]*VentasMenudeo[[#This Row],[Cantidad]]-VentasMenudeo[[#This Row],[Descuento]],VentasMenudeo[[#This Row],[Producto]]=$A$4,VentasMenudeo[[#This Row],[Precio de Venta]]*VentasMenudeo[[#This Row],[Cantidad]]-VentasMenudeo[[#This Row],[Descuento]],VentasMenudeo[[#This Row],[Producto]]=$A$5,VentasMenudeo[[#This Row],[Precio de Venta]]*VentasMenudeo[[#This Row],[Cantidad]]-VentasMenudeo[[#This Row],[Descuento]]),0)","v":260},260]
["2023-04-30","Hugo","IPLAY BOX","Watermelon Ice",1,"No aplica",null,{"$f":"_xlfn.IFNA(VLOOKUP(VentasMenudeo[[#This Row],[Promoción]],PromocionesMenudeo[[Promocion]:[Descuento]],2,0),0)","v":0},{"$f":"_xlfn.IFNA(VLOOKUP(VentasMenudeo[[#This Row],[Producto]],$A$2:$B$5,2,FALSE),0)","v":260},{"$f":"_xlfn.IFNA(_xlfn.IFS(VentasMenudeo[[#This Row],[Producto]]=$A$2,VentasMenudeo[[#This Row],[Precio de Venta]]*VentasMenudeo[[#This Row],[Cantidad]]-VentasMenudeo[[#This Row],[Descuento]],VentasMenudeo[[#This Row],[Producto]]=$A$3,VentasMenudeo[[#This Row],[Precio de Venta]]*VentasMenudeo[[#This Row],[Cantidad]]-VentasMenudeo[[#This Row],[Descuento]],VentasMenudeo[[#This Row],[Producto]]=$A$4,VentasMenudeo[[#This Row],[Precio de Venta]]*VentasMenudeo[[#This Row],[Cantidad]]-VentasMenudeo[[#This Row],[Descuento]],VentasMenudeo[[#This Row],[Producto]]=$A$5,VentasMenudeo[[#This Row],[Precio de Venta]]*VentasMenudeo[[#This Row],[Cantidad]]-VentasMenudeo[[#This Row],[Descuento]]),0)","v":260},260]
["2023-05-14","Hugo","IPLAY MAX","Coconut",1,"Navidad",null,{"$f":"_xlfn.IFNA(VLOOKUP(VentasMenudeo[[#This Row],[Promoción]],PromocionesMenudeo[[Promocion]:[Descuento]],2,0),0)","v":80},{"$f":"_xlfn.IFNA(VLOOKUP(VentasMenudeo[[#This Row],[Producto]],$A$2:$B$5,2,FALSE),0)","v":270},{"$f":"_xlfn.IFNA(_xlfn.IFS(VentasMenudeo[[#This Row],[Producto]]=$A$2,VentasMenudeo[[#This Row],[Precio de Venta]]*VentasMenudeo[[#This Row],[Cantidad]]-VentasMenudeo[[#This Row],[Descuento]],VentasMenudeo[[#This Row],[Producto]]=$A$3,VentasMenudeo[[#This Row],[Precio de Venta]]*VentasMenudeo[[#This Row],[Cantidad]]-VentasMenudeo[[#This Row],[Descuento]],VentasMenudeo[[#This Row],[Producto]]=$A$4,VentasMenudeo[[#This Row],[Precio de Venta]]*VentasMenudeo[[#This Row],[Cantidad]]-VentasMenudeo[[#This Row],[Descuento]],VentasMenudeo[[#This Row],[Producto]]=$A$5,VentasMenudeo[[#This Row],[Precio de Venta]]*VentasMenudeo[[#This Row],[Cantidad]]-VentasMenudeo[[#This Row],[Descuento]]),0)","v":190},190]
["2023-05-14","Hugo","IPLAY MAX","Coconut",1,"Navidad",null,{"$f":"_xlfn.IFNA(VLOOKUP(VentasMenudeo[[#This Row],[Promoción]],PromocionesMenudeo[[Promocion]:[Descuento]],2,0),0)","v":80},{"$f":"_xlfn.IFNA(VLOOKUP(VentasMenudeo[[#This Row],[Producto]],$A$2:$B$5,2,FALSE),0)","v":270},{"$f":"_xlfn.IFNA(_xlfn.IFS(VentasMenudeo[[#This Row],[Producto]]=$A$2,VentasMenudeo[[#This Row],[Precio de Venta]]*VentasMenudeo[[#This Row],[Cantidad]]-VentasMenudeo[[#This Row],[Descuento]],VentasMenudeo[[#This Row],[Producto]]=$A$3,VentasMenudeo[[#This Row],[Precio de Venta]]*VentasMenudeo[[#This Row],[Cantidad]]-VentasMenudeo[[#This Row],[Descuento]],VentasMenudeo[[#This Row],[Producto]]=$A$4,VentasMenudeo[[#This Row],[Precio de Venta]]*VentasMenudeo[[#This Row],[Cantidad]]-VentasMenudeo[[#This Row],[Descuento]],VentasMenudeo[[#This Row],[Producto]]=$A$5,VentasMenudeo[[#This Row],[Precio de Venta]]*VentasMenudeo[[#This Row],[Cantidad]]-VentasMenudeo[[#This Row],[Descuento]]),0)","v":190},190]
["2023-05-14","Hugo","IPLAY MAX","Guava",1,"Navidad",null,{"$f":"_xlfn.IFNA(VLOOKUP(VentasMenudeo[[#This Row],[Promoción]],PromocionesMenudeo[[Promocion]:[Descuento]],2,0),0)","v":80},{"$f":"_xlfn.IFNA(VLOOKUP(VentasMenudeo[[#This Row],[Producto]],$A$2:$B$5,2,FALSE),0)","v":270},{"$f":"_xlfn.IFNA(_xlfn.IFS(VentasMenudeo[[#This Row],[Producto]]=$A$2,VentasMenudeo[[#This Row],[Precio de Venta]]*VentasMenudeo[[#This Row],[Cantidad]]-VentasMenudeo[[#This Row],[Descuento]],VentasMenudeo[[#This Row],[Producto]]=$A$3,VentasMenudeo[[#This Row],[Precio de Venta]]*VentasMenudeo[[#This Row],[Cantidad]]-VentasMenudeo[[#This Row],[Descuento]],VentasMenudeo[[#This Row],[Producto]]=$A$4,VentasMenudeo[[#This Row],[Precio de Venta]]*VentasMenudeo[[#This Row],[Cantidad]]-VentasMenudeo[[#This Row],[Descuento]],VentasMenudeo[[#This Row],[Producto]]=$A$5,VentasMenudeo[[#This Row],[Precio de Venta]]*VentasMenudeo[[#This Row],[Cantidad]]-VentasMenudeo[[#This Row],[Descuento]]),0)","v":190},190]
["2023-05-14","Hugo","IPLAY MAX","Guava",1,"Navidad",null,{"$f":"_xlfn.IFNA(VLOOKUP(VentasMenudeo[[#This Row],[Promoción]],PromocionesMenudeo[[Promocion]:[Descuento]],2,0),0)","v":80},{"$f":"_xlfn.IFNA(VLOOKUP(VentasMenudeo[[#This Row],[Producto]],$A$2:$B$5,2,FALSE),0)","v":270},{"$f":"_xlfn.IFNA(_xlfn.IFS(VentasMenudeo[[#This Row],[Producto]]=$A$2,VentasMenudeo[[#This Row],[Precio de Venta]]*VentasMenudeo[[#This Row],[Cantidad]]-VentasMenudeo[[#This Row],[Descuento]],VentasMenudeo[[#This Row],[Producto]]=$A$3,VentasMenudeo[[#This Row],[Precio de Venta]]*VentasMenudeo[[#This Row],[Cantidad]]-VentasMenudeo[[#This Row],[Descuento]],VentasMenudeo[[#This Row],[Producto]]=$A$4,VentasMenudeo[[#This Row],[Precio de Venta]]*VentasMenudeo[[#This Row],[Cantidad]]-VentasMenudeo[[#This Row],[Descuento]],VentasMenudeo[[#This Row],[Producto]]=$A$5,VentasMenudeo[[#This Row],[Precio de Venta]]*VentasMenudeo[[#This Row],[Cantidad]]-VentasMenudeo[[#This Row],[Descuento]]),0)","v":190},190]
["2023-05-14","Hugo","IPLAY MAX","Guava",1,"Navidad",null,{"$f":"_xlfn.IFNA(VLOOKUP(VentasMenudeo[[#This Row],[Promoción]],PromocionesMenudeo[[Promocion]:[Descuento]],2,0),0)","v":80},{"$f":"_xlfn.IFNA(VLOOKUP(VentasMenudeo[[#This Row],[Producto]],$A$2:$B$5,2,FALSE),0)","v":270},{"$f":"_xlfn.IFNA(_xlfn.IFS(VentasMenudeo[[#This Row],[Producto]]=$A$2,VentasMenudeo[[#This Row],[Precio de Venta]]*VentasMenudeo[[#This Row],[Cantidad]]-VentasMenudeo[[#This Row],[Descuento]],VentasMenudeo[[#This Row],[Producto]]=$A$3,VentasMenudeo[[#This Row],[Precio de Venta]]*VentasMenudeo[[#This Row],[Cantidad]]-VentasMenudeo[[#This Row],[Descuento]],VentasMenudeo[[#This Row],[Producto]]=$A$4,VentasMenudeo[[#This Row],[Precio de Venta]]*VentasMenudeo[[#This Row],[Cantidad]]-VentasMenudeo[[#This Row],[Descuento]],VentasMenudeo[[#This Row],[Producto]]=$A$5,VentasMenudeo[[#This Row],[Precio de Venta]]*VentasMenudeo[[#This Row],[Cantidad]]-VentasMenudeo[[#This Row],[Descuento]]),0)","v":190},190]
["2023-05-14","Hugo","IPLAY MAX","Mango ICE",1,"Navidad",null,{"$f":"_xlfn.IFNA(VLOOKUP(VentasMenudeo[[#This Row],[Promoción]],PromocionesMenudeo[[Promocion]:[Descuento]],2,0),0)","v":80},{"$f":"_xlfn.IFNA(VLOOKUP(VentasMenudeo[[#This Row],[Producto]],$A$2:$B$5,2,FALSE),0)","v":270},{"$f":"_xlfn.IFNA(_xlfn.IFS(VentasMenudeo[[#This Row],[Producto]]=$A$2,VentasMenudeo[[#This Row],[Precio de Venta]]*VentasMenudeo[[#This Row],[Cantidad]]-VentasMenudeo[[#This Row],[Descuento]],VentasMenudeo[[#This Row],[Producto]]=$A$3,VentasMenudeo[[#This Row],[Precio de Venta]]*VentasMenudeo[[#This Row],[Cantidad]]-VentasMenudeo[[#This Row],[Descuento]],VentasMenudeo[[#This Row],[Producto]]=$A$4,VentasMenudeo[[#This Row],[Precio de Venta]]*VentasMenudeo[[#This Row],[Cantidad]]-VentasMenudeo[[#This Row],[Descuento]],VentasMenudeo[[#This Row],[Producto]]=$A$5,VentasMenudeo[[#This Row],[Precio de Venta]]*VentasMenudeo[[#This Row],[Cantidad]]-VentasMenudeo[[#This Row],[Descuento]]),0)","v":190},190]
["2023-05-14","Hugo","IPLAY MAX","Sourraspberry",1,"Navidad",null,{"$f":"_xlfn.IFNA(VLOOKUP(VentasMenudeo[[#This Row],[Promoción]],PromocionesMenudeo[[Promocion]:[Descuento]],2,0),0)","v":80},{"$f":"_xlfn.IFNA(VLOOKUP(VentasMenudeo[[#This Row],[Producto]],$A$2:$B$5,2,FALSE),0)","v":270},{"$f":"_xlfn.IFNA(_xlfn.IFS(VentasMenudeo[[#This Row],[Producto]]=$A$2,VentasMenudeo[[#This Row],[Precio de Venta]]*VentasMenudeo[[#This Row],[Cantidad]]-VentasMenudeo[[#This Row],[Descuento]],VentasMenudeo[[#This Row],[Producto]]=$A$3,VentasMenudeo[[#This Row],[Precio de Venta]]*VentasMenudeo[[#This Row],[Cantidad]]-VentasMenudeo[[#This Row],[Descuento]],VentasMenudeo[[#This Row],[Producto]]=$A$4,VentasMenudeo[[#This Row],[Precio de Venta]]*VentasMenudeo[[#This Row],[Cantidad]]-VentasMenudeo[[#This Row],[Descuento]],VentasMenudeo[[#This Row],[Producto]]=$A$5,VentasMenudeo[[#This Row],[Precio de Venta]]*VentasMenudeo[[#This Row],[Cantidad]]-VentasMenudeo[[#This Row],[Descuento]]),0)","v":190},190]
["2023-05-14","Hugo","IPLAY MAX","Sourraspberry",1,"Navidad",null,{"$f":"_xlfn.IFNA(VLOOKUP(VentasMenudeo[[#This Row],[Promoción]],PromocionesMenudeo[[Promocion]:[Descuento]],2,0),0)","v":80},{"$f":"_xlfn.IFNA(VLOOKUP(VentasMenudeo[[#This Row],[Producto]],$A$2:$B$5,2,FALSE),0)","v":270},{"$f":"_xlfn.IFNA(_xlfn.IFS(VentasMenudeo[[#This Row],[Producto]]=$A$2,VentasMenudeo[[#This Row],[Precio de Venta]]*VentasMenudeo[[#This Row],[Cantidad]]-VentasMenudeo[[#This Row],[Descuento]],VentasMenudeo[[#This Row],[Producto]]=$A$3,VentasMenudeo[[#This Row],[Precio de Venta]]*VentasMenudeo[[#This Row],[Cantidad]]-VentasMenudeo[[#This Row],[Descuento]],VentasMenudeo[[#This Row],[Producto]]=$A$4,VentasMenudeo[[#This Row],[Precio de Venta]]*VentasMenudeo[[#This Row],[Cantidad]]-VentasMenudeo[[#This Row],[Descuento]],VentasMenudeo[[#This Row],[Producto]]=$A$5,VentasMenudeo[[#This Row],[Precio de Venta]]*VentasMenudeo[[#This Row],[Cantidad]]-VentasMenudeo[[#This Row],[Descuento]]),0)","v":190},190]
["2023-05-14","Hugo","IPLAY MAX","Low Mint",1,"Navidad",null,{"$f":"_xlfn.IFNA(VLOOKUP(VentasMenudeo[[#This Row],[Promoción]],PromocionesMenudeo[[Promocion]:[Descuento]],2,0),0)","v":80},{"$f":"_xlfn.IFNA(VLOOKUP(VentasMenudeo[[#This Row],[Producto]],$A$2:$B$5,2,FALSE),0)","v":270},{"$f":"_xlfn.IFNA(_xlfn.IFS(VentasMenudeo[[#This Row],[Producto]]=$A$2,VentasMenudeo[[#This Row],[Precio de Venta]]*VentasMenudeo[[#This Row],[Cantidad]]-VentasMenudeo[[#This Row],[Descuento]],VentasMenudeo[[#This Row],[Producto]]=$A$3,VentasMenudeo[[#This Row],[Precio de Venta]]*VentasMenudeo[[#This Row],[Cantidad]]-VentasMenudeo[[#This Row],[Descuento]],VentasMenudeo[[#This Row],[Producto]]=$A$4,VentasMenudeo[[#This Row],[Precio de Venta]]*VentasMenudeo[[#This Row],[Cantidad]]-VentasMenudeo[[#This Row],[Descuento]],VentasMenudeo[[#This Row],[Producto]]=$A$5,VentasMenudeo[[#This Row],[Precio de Venta]]*VentasMenudeo[[#This Row],[Cantidad]]-VentasMenudeo[[#This Row],[Descuento]]),0)","v":190},190]
["2023-05-14","Hugo","IPLAY MAX","Low Mint",1,"Navidad",null,{"$f":"_xlfn.IFNA(VLOOKUP(VentasMenudeo[[#This Row],[Promoción]],PromocionesMenudeo[[Promocion]:[Descuento]],2,0),0)","v":80},{"$f":"_xlfn.IFNA(VLOOKUP(VentasMenudeo[[#This Row],[Producto]],$A$2:$B$5,2,FALSE),0)","v":270},{"$f":"_xlfn.IFNA(_xlfn.IFS(VentasMenudeo[[#This Row],[Producto]]=$A$2,VentasMenudeo[[#This Row],[Precio de Venta]]*VentasMenudeo[[#This Row],[Cantidad]]-VentasMenudeo[[#This Row],[Descuento]],VentasMenudeo[[#This Row],[Producto]]=$A$3,VentasMenudeo[[#This Row],[Precio de Venta]]*VentasMenudeo[[#This Row],[Cantidad]]-VentasMenudeo[[#This Row],[Descuento]],VentasMenudeo[[#This Row],[Producto]]=$A$4,VentasMenudeo[[#This Row],[Precio de Venta]]*VentasMenudeo[[#This Row],[Cantidad]]-VentasMenudeo[[#This Row],[Descuento]],VentasMenudeo[[#This Row],[Producto]]=$A$5,VentasMenudeo[[#This Row],[Precio de Venta]]*VentasMenudeo[[#This Row],[Cantidad]]-VentasMenudeo[[#This Row],[Descuento]]),0)","v":190},190]
["2023-05-14","Hugo","IPLAY MAX","Low Mint",1,"Navidad",null,{"$f":"_xlfn.IFNA(VLOOKUP(VentasMenudeo[[#This Row],[Promoción]],PromocionesMenudeo[[Promocion]:[Descuento]],2,0),0)","v":80},{"$f":"_xlfn.IFNA(VLOOKUP(VentasMenudeo[[#This Row],[Producto]],$A$2:$B$5,2,FALSE),0)","v":270},{"$f":"_xlfn.IFNA(_xlfn.IFS(VentasMenudeo[[#This Row],[Producto]]=$A$2,VentasMenudeo[[#This Row],[Precio de Venta]]*VentasMenudeo[[#This Row],[Cantidad]]-VentasMenudeo[[#This Row],[Descuento]],VentasMenudeo[[#This Row],[Producto]]=$A$3,VentasMenudeo[[#This Row],[Precio de Venta]]*VentasMenudeo[[#This Row],[Cantidad]]-VentasMenudeo[[#This Row],[Descuento]],VentasMenudeo[[#This Row],[Producto]]=$A$4,VentasMenudeo[[#This Row],[Precio de Venta]]*VentasMenudeo[[#This Row],[Cantidad]]-VentasMenudeo[[#This Row],[Descuento]],VentasMenudeo[[#This Row],[Producto]]=$A$5,VentasMenudeo[[#This Row],[Precio de Venta]]*VentasMenudeo[[#This Row],[Cantidad]]-VentasMenudeo[[#This Row],[Descuento]]),0)","v":190},190]
["2023-05-14","Hugo","IPLAY MAX","Low Mint",1,"Navidad",null,{"$f":"_xlfn.IFNA(VLOOKUP(VentasMenudeo[[#This Row],[Promoción]],PromocionesMenudeo[[Promocion]:[Descuento]],2,0),0)","v":80},{"$f":"_xlfn.IFNA(VLOOKUP(VentasMenudeo[[#This Row],[Producto]],$A$2:$B$5,2,FALSE),0)","v":270},{"$f":"_xlfn.IFNA(_xlfn.IFS(VentasMenudeo[[#This Row],[Producto]]=$A$2,VentasMenudeo[[#This Row],[Precio de Venta]]*VentasMenudeo[[#This Row],[Cantidad]]-VentasMenudeo[[#This Row],[Descuento]],VentasMenudeo[[#This Row],[Producto]]=$A$3,VentasMenudeo[[#This Row],[Precio de Venta]]*VentasMenudeo[[#This Row],[Cantidad]]-VentasMenudeo[[#This Row],[Descuento]],VentasMenudeo[[#This Row],[Producto]]=$A$4,VentasMenudeo[[#This Row],[Precio de Venta]]*VentasMenudeo[[#This Row],[Cantidad]]-VentasMenudeo[[#This Row],[Descuento]],VentasMenudeo[[#This Row],[Producto]]=$A$5,VentasMenudeo[[#This Row],[Precio de Venta]]*VentasMenudeo[[#This Row],[Cantidad]]-VentasMenudeo[[#This Row],[Descuento]]),0)","v":190},190]
["2023-05-14","Hugo","IPLAY MAX","Banana Cherry DragonFruit",1,"Navidad",null,{"$f":"_xlfn.IFNA(VLOOKUP(VentasMenudeo[[#This Row],[Promoción]],PromocionesMenudeo[[Promocion]:[Descuento]],2,0),0)","v":80},{"$f":"_xlfn.IFNA(VLOOKUP(VentasMenudeo[[#This Row],[Producto]],$A$2:$B$5,2,FALSE),0)","v":270},{"$f":"_xlfn.IFNA(_xlfn.IFS(VentasMenudeo[[#This Row],[Producto]]=$A$2,VentasMenudeo[[#This Row],[Precio de Venta]]*VentasMenudeo[[#This Row],[Cantidad]]-VentasMenudeo[[#This Row],[Descuento]],VentasMenudeo[[#This Row],[Producto]]=$A$3,VentasMenudeo[[#This Row],[Precio de Venta]]*VentasMenudeo[[#This Row],[Cantidad]]-VentasMenudeo[[#This Row],[Descuento]],VentasMenudeo[[#This Row],[Producto]]=$A$4,VentasMenudeo[[#This Row],[Precio de Venta]]*VentasMenudeo[[#This Row],[Cantidad]]-VentasMenudeo[[#This Row],[Descuento]],VentasMenudeo[[#This Row],[Producto]]=$A$5,VentasMenudeo[[#This Row],[Precio de Venta]]*VentasMenudeo[[#This Row],[Cantidad]]-VentasMenudeo[[#This Row],[Descuento]]),0)","v":190},190]
["2023-05-14","Hugo","IPLAY MAX","Banana Cherry DragonFruit",1,"Navidad",null,{"$f":"_xlfn.IFNA(VLOOKUP(VentasMenudeo[[#This Row],[Promoción]],PromocionesMenudeo[[Promocion]:[Descuento]],2,0),0)","v":80},{"$f":"_xlfn.IFNA(VLOOKUP(VentasMenudeo[[#This Row],[Producto]],$A$2:$B$5,2,FALSE),0)","v":270},{"$f":"_xlfn.IFNA(_xlfn.IFS(VentasMenudeo[[#This Row],[Producto]]=$A$2,VentasMenudeo[[#This Row],[Precio de Venta]]*VentasMenudeo[[#This Row],[Cantidad]]-VentasMenudeo[[#This Row],[Descuento]],VentasMenudeo[[#This Row],[Producto]]=$A$3,VentasMenudeo[[#This Row],[Precio de Venta]]*VentasMenudeo[[#This Row],[Cantidad]]-VentasMenudeo[[#This Row],[Descuento]],VentasMenudeo[[#This Row],[Producto]]=$A$4,VentasMenudeo[[#This Row],[Precio de Venta]]*VentasMenudeo[[#This Row],[Cantidad]]-VentasMenudeo[[#This Row],[Descuento]],VentasMenudeo[[#This Row],[Producto]]=$A$5,VentasMenudeo[[#This Row],[Precio de Venta]]*VentasMenudeo[[#This Row],[Cantidad]]-VentasMenudeo[[#This Row],[Descuento]]),0)","v":190},190]
["2023-05-14","Hugo","IPLAY MAX","Pineapple Orange Guava",1,"Navidad",null,{"$f":"_xlfn.IFNA(VLOOKUP(VentasMenudeo[[#This Row],[Promoción]],PromocionesMenudeo[[Promocion]:[Descuento]],2,0),0)","v":80},{"$f":"_xlfn.IFNA(VLOOKUP(VentasMenudeo[[#This Row],[Producto]],$A$2:$B$5,2,FALSE),0)","v":270},{"$f":"_xlfn.IFNA(_xlfn.IFS(VentasMenudeo[[#This Row],[Producto]]=$A$2,VentasMenudeo[[#This Row],[Precio de Venta]]*VentasMenudeo[[#This Row],[Cantidad]]-VentasMenudeo[[#This Row],[Descuento]],VentasMenudeo[[#This Row],[Producto]]=$A$3,VentasMenudeo[[#This Row],[Precio de Venta]]*VentasMenudeo[[#This Row],[Cantidad]]-VentasMenudeo[[#This Row],[Descuento]],VentasMenudeo[[#This Row],[Producto]]=$A$4,VentasMenudeo[[#This Row],[Precio de Venta]]*VentasMenudeo[[#This Row],[Cantidad]]-VentasMenudeo[[#This Row],[Descuento]],VentasMenudeo[[#This Row],[Producto]]=$A$5,VentasMenudeo[[#This Row],[Precio de Venta]]*VentasMenudeo[[#This Row],[Cantidad]]-VentasMenudeo[[#This Row],[Descuento]]),0)","v":190},190]
["2023-05-14","Hugo","IPLAY MAX","Kiwi Guava Passion Fruit",1,"Navidad",null,{"$f":"_xlfn.IFNA(VLOOKUP(VentasMenudeo[[#This Row],[Promoción]],PromocionesMenudeo[[Promocion]:[Descuento]],2,0),0)","v":80},{"$f":"_xlfn.IFNA(VLOOKUP(VentasMenudeo[[#This Row],[Producto]],$A$2:$B$5,2,FALSE),0)","v":270},{"$f":"_xlfn.IFNA(_xlfn.IFS(VentasMenudeo[[#This Row],[Producto]]=$A$2,VentasMenudeo[[#This Row],[Precio de Venta]]*VentasMenudeo[[#This Row],[Cantidad]]-VentasMenudeo[[#This Row],[Descuento]],VentasMenudeo[[#This Row],[Producto]]=$A$3,VentasMenudeo[[#This Row],[Precio de Venta]]*VentasMenudeo[[#This Row],[Cantidad]]-VentasMenudeo[[#This Row],[Descuento]],VentasMenudeo[[#This Row],[Producto]]=$A$4,VentasMenudeo[[#This Row],[Precio de Venta]]*VentasMenudeo[[#This Row],[Cantidad]]-VentasMenudeo[[#This Row],[Descuento]],VentasMenudeo[[#This Row],[Producto]]=$A$5,VentasMenudeo[[#This Row],[Precio de Venta]]*VentasMenudeo[[#This Row],[Cantidad]]-VentasMenudeo[[#This Row],[Descuento]]),0)","v":190},190]
["2023-05-14","Hugo","IPLAY MAX","Kiwi Guava Passion Fruit",1,"Navidad",null,{"$f":"_xlfn.IFNA(VLOOKUP(VentasMenudeo[[#This Row],[Promoción]],PromocionesMenudeo[[Promocion]:[Descuento]],2,0),0)","v":80},{"$f":"_xlfn.IFNA(VLOOKUP(VentasMenudeo[[#This Row],[Producto]],$A$2:$B$5,2,FALSE),0)","v":270},{"$f":"_xlfn.IFNA(_xlfn.IFS(VentasMenudeo[[#This Row],[Producto]]=$A$2,VentasMenudeo[[#This Row],[Precio de Venta]]*VentasMenudeo[[#This Row],[Cantidad]]-VentasMenudeo[[#This Row],[Descuento]],VentasMenudeo[[#This Row],[Producto]]=$A$3,VentasMenudeo[[#This Row],[Precio de Venta]]*VentasMenudeo[[#This Row],[Cantidad]]-VentasMenudeo[[#This Row],[Descuento]],VentasMenudeo[[#This Row],[Producto]]=$A$4,VentasMenudeo[[#This Row],[Precio de Venta]]*VentasMenudeo[[#This Row],[Cantidad]]-VentasMenudeo[[#This Row],[Descuento]],VentasMenudeo[[#This Row],[Producto]]=$A$5,VentasMenudeo[[#This Row],[Precio de Venta]]*VentasMenudeo[[#This Row],[Cantidad]]-VentasMenudeo[[#This Row],[Descuento]]),0)","v":190},190]
["2023-05-14","Hugo","IPLAY MAX","Kiwi Guava Passion Fruit",1,"Navidad",null,{"$f":"_xlfn.IFNA(VLOOKUP(VentasMenudeo[[#This Row],[Promoción]],PromocionesMenudeo[[Promocion]:[Descuento]],2,0),0)","v":80},{"$f":"_xlfn.IFNA(VLOOKUP(VentasMenudeo[[#This Row],[Producto]],$A$2:$B$5,2,FALSE),0)","v":270},{"$f":"_xlfn.IFNA(_xlfn.IFS(VentasMenudeo[[#This Row],[Producto]]=$A$2,VentasMenudeo[[#This Row],[Precio de Venta]]*VentasMenudeo[[#This Row],[Cantidad]]-VentasMenudeo[[#This Row],[Descuento]],VentasMenudeo[[#This Row],[Producto]]=$A$3,VentasMenudeo[[#This Row],[Precio de Venta]]*VentasMenudeo[[#This Row],[Cantidad]]-VentasMenudeo[[#This Row],[Descuento]],VentasMenudeo[[#This Row],[Producto]]=$A$4,VentasMenudeo[[#This Row],[Precio de Venta]]*VentasMenudeo[[#This Row],[Cantidad]]-VentasMenudeo[[#This Row],[Descuento]],VentasMenudeo[[#This Row],[Producto]]=$A$5,VentasMenudeo[[#This Row],[Precio de Venta]]*VentasMenudeo[[#This Row],[Cantidad]]-VentasMenudeo[[#This Row],[Descuento]]),0)","v":190},190]
["2023-05-14","Hugo","IPLAY MAX","Kiwi Guava Passion Fruit",1,"Navidad",null,{"$f":"_xlfn.IFNA(VLOOKUP(VentasMenudeo[[#This Row],[Promoción]],PromocionesMenudeo[[Promocion]:[Descuento]],2,0),0)","v":80},{"$f":"_xlfn.IFNA(VLOOKUP(VentasMenudeo[[#This Row],[Producto]],$A$2:$B$5,2,FALSE),0)","v":270},{"$f":"_xlfn.IFNA(_xlfn.IFS(VentasMenudeo[[#This Row],[Producto]]=$A$2,VentasMenudeo[[#This Row],[Precio de Venta]]*VentasMenudeo[[#This Row],[Cantidad]]-VentasMenudeo[[#This Row],[Descuento]],VentasMenudeo[[#This Row],[Producto]]=$A$3,VentasMenudeo[[#This Row],[Precio de Venta]]*VentasMenudeo[[#This Row],[Cantidad]]-VentasMenudeo[[#This Row],[Descuento]],VentasMenudeo[[#This Row],[Producto]]=$A$4,VentasMenudeo[[#This Row],[Precio de Venta]]*VentasMenudeo[[#This Row],[Cantidad]]-VentasMenudeo[[#This Row],[Descuento]],VentasMenudeo[[#This Row],[Producto]]=$A$5,VentasMenudeo[[#This Row],[Precio de Venta]]*VentasMenudeo[[#This Row],[Cantidad]]-VentasMenudeo[[#This Row],[Descuento]]),0)","v":190},190]
["2023-05-14","Hugo","IPLAY MAX","Blueberry Rainbow",1,"Navidad",null,{"$f":"_xlfn.IFNA(VLOOKUP(VentasMenudeo[[#This Row],[Promoción]],PromocionesMenudeo[[Promocion]:[Descuento]],2,0),0)","v":80},{"$f":"_xlfn.IFNA(VLOOKUP(VentasMenudeo[[#This Row],[Producto]],$A$2:$B$5,2,FALSE),0)","v":270},{"$f":"_xlfn.IFNA(_xlfn.IFS(VentasMenudeo[[#This Row],[Producto]]=$A$2,VentasMenudeo[[#This Row],[Precio de Venta]]*VentasMenudeo[[#This Row],[Cantidad]]-VentasMenudeo[[#This Row],[Descuento]],VentasMenudeo[[#This Row],[Producto]]=$A$3,VentasMenudeo[[#This Row],[Precio de Venta]]*VentasMenudeo[[#This Row],[Cantidad]]-VentasMenudeo[[#This Row],[Descuento]],VentasMenudeo[[#This Row],[Producto]]=$A$4,VentasMenudeo[[#This Row],[Precio de Venta]]*VentasMenudeo[[#This Row],[Cantidad]]-VentasMenudeo[[#This Row],[Descuento]],VentasMenudeo[[#This Row],[Producto]]=$A$5,VentasMenudeo[[#This Row],[Precio de Venta]]*VentasMenudeo[[#This Row],[Cantidad]]-VentasMenudeo[[#This Row],[Descuento]]),0)","v":190},190]
["2023-05-14","Hugo","IPLAY MAX","Blueberry Rainbow",1,"Navidad",null,{"$f":"_xlfn.IFNA(VLOOKUP(VentasMenudeo[[#This Row],[Promoción]],PromocionesMenudeo[[Promocion]:[Descuento]],2,0),0)","v":80},{"$f":"_xlfn.IFNA(VLOOKUP(VentasMenudeo[[#This Row],[Producto]],$A$2:$B$5,2,FALSE),0)","v":270},{"$f":"_xlfn.IFNA(_xlfn.IFS(VentasMenudeo[[#This Row],[Producto]]=$A$2,VentasMenudeo[[#This Row],[Precio de Venta]]*VentasMenudeo[[#This Row],[Cantidad]]-VentasMenudeo[[#This Row],[Descuento]],VentasMenudeo[[#This Row],[Producto]]=$A$3,VentasMenudeo[[#This Row],[Precio de Venta]]*VentasMenudeo[[#This Row],[Cantidad]]-VentasMenudeo[[#This Row],[Descuento]],VentasMenudeo[[#This Row],[Producto]]=$A$4,VentasMenudeo[[#This Row],[Precio de Venta]]*VentasMenudeo[[#This Row],[Cantidad]]-VentasMenudeo[[#This Row],[Descuento]],VentasMenudeo[[#This Row],[Producto]]=$A$5,VentasMenudeo[[#This Row],[Precio de Venta]]*VentasMenudeo[[#This Row],[Cantidad]]-VentasMenudeo[[#This Row],[Descuento]]),0)","v":190},190]
["2023-05-14","Hugo","IPLAY MAX","Blueberry Rainbow",1,"Navidad",null,{"$f":"_xlfn.IFNA(VLOOKUP(VentasMenudeo[[#This Row],[Promoción]],PromocionesMenudeo[[Promocion]:[Descuento]],2,0),0)","v":80},{"$f":"_xlfn.IFNA(VLOOKUP(VentasMenudeo[[#This Row],[Producto]],$A$2:$B$5,2,FALSE),0)","v":270},{"$f":"_xlfn.IFNA(_xlfn.IFS(VentasMenudeo[[#This Row],[Producto]]=$A$2,VentasMenudeo[[#This Row],[Precio de Venta]]*VentasMenudeo[[#This Row],[Cantidad]]-VentasMenudeo[[#This Row],[Descuento]],VentasMenudeo[[#This Row],[Producto]]=$A$3,VentasMenudeo[[#This Row],[Precio de Venta]]*VentasMenudeo[[#This Row],[Cantidad]]-VentasMenudeo[[#This Row],[Descuento]],VentasMenudeo[[#This Row],[Producto]]=$A$4,VentasMenudeo[[#This Row],[Precio de Venta]]*VentasMenudeo[[#This Row],[Cantidad]]-VentasMenudeo[[#This Row],[Descuento]],VentasMenudeo[[#This Row],[Producto]]=$A$5,VentasMenudeo[[#This Row],[Precio de Venta]]*VentasMenudeo[[#This Row],[Cantidad]]-VentasMenudeo[[#This Row],[Descuento]]),0)","v":190},190]
["2023-05-14","Hugo","IPLAY MAX","Blueberry Rainbow",1,"Navidad",null,{"$f":"_xlfn.IFNA(VLOOKUP(VentasMenudeo[[#This Row],[Promoción]],PromocionesMenudeo[[Promocion]:[Descuento]],2,0),0)","v":80},{"$f":"_xlfn.IFNA(VLOOKUP(VentasMenudeo[[#This Row],[Producto]],$A$2:$B$5,2,FALSE),0)","v":270},{"$f":"_xlfn.IFNA(_xlfn.IFS(VentasMenudeo[[#This Row],[Producto]]=$A$2,VentasMenudeo[[#This Row],[Precio de Venta]]*VentasMenudeo[[#This Row],[Cantidad]]-VentasMenudeo[[#This Row],[Descuento]],VentasMenudeo[[#This Row],[Producto]]=$A$3,VentasMenudeo[[#This Row],[Precio de Venta]]*VentasMenudeo[[#This Row],[Cantidad]]-VentasMenudeo[[#This Row],[Descuento]],VentasMenudeo[[#This Row],[Producto]]=$A$4,VentasMenudeo[[#This Row],[Precio de Venta]]*VentasMenudeo[[#This Row],[Cantidad]]-VentasMenudeo[[#This Row],[Descuento]],VentasMenudeo[[#This Row],[Producto]]=$A$5,VentasMenudeo[[#This Row],[Precio de Venta]]*VentasMenudeo[[#This Row],[Cantidad]]-VentasMenudeo[[#This Row],[Descuento]]),0)","v":190},190]
["2023-05-14","Hugo","IPLAY MAX","Pineapple Coconut",1,"Navidad",null,{"$f":"_xlfn.IFNA(VLOOKUP(VentasMenudeo[[#This Row],[Promoción]],PromocionesMenudeo[[Promocion]:[Descuento]],2,0),0)","v":80},{"$f":"_xlfn.IFNA(VLOOKUP(VentasMenudeo[[#This Row],[Producto]],$A$2:$B$5,2,FALSE),0)","v":270},{"$f":"_xlfn.IFNA(_xlfn.IFS(VentasMenudeo[[#This Row],[Producto]]=$A$2,VentasMenudeo[[#This Row],[Precio de Venta]]*VentasMenudeo[[#This Row],[Cantidad]]-VentasMenudeo[[#This Row],[Descuento]],VentasMenudeo[[#This Row],[Producto]]=$A$3,VentasMenudeo[[#This Row],[Precio de Venta]]*VentasMenudeo[[#This Row],[Cantidad]]-VentasMenudeo[[#This Row],[Descuento]],VentasMenudeo[[#This Row],[Producto]]=$A$4,VentasMenudeo[[#This Row],[Precio de Venta]]*VentasMenudeo[[#This Row],[Cantidad]]-VentasMenudeo[[#This Row],[Descuento]],VentasMenudeo[[#This Row],[Producto]]=$A$5,VentasMenudeo[[#This Row],[Precio de Venta]]*VentasMenudeo[[#This Row],[Cantidad]]-VentasMenudeo[[#This Row],[Descuento]]),0)","v":190},190]
["2023-05-14","Hugo","IPLAY MAX","Pineapple Coconut",1,"Navidad",null,{"$f":"_xlfn.IFNA(VLOOKUP(VentasMenudeo[[#This Row],[Promoción]],PromocionesMenudeo[[Promocion]:[Descuento]],2,0),0)","v":80},{"$f":"_xlfn.IFNA(VLOOKUP(VentasMenudeo[[#This Row],[Producto]],$A$2:$B$5,2,FALSE),0)","v":270},{"$f":"_xlfn.IFNA(_xlfn.IFS(VentasMenudeo[[#This Row],[Producto]]=$A$2,VentasMenudeo[[#This Row],[Precio de Venta]]*VentasMenudeo[[#This Row],[Cantidad]]-VentasMenudeo[[#This Row],[Descuento]],VentasMenudeo[[#This Row],[Producto]]=$A$3,VentasMenudeo[[#This Row],[Precio de Venta]]*VentasMenudeo[[#This Row],[Cantidad]]-VentasMenudeo[[#This Row],[Descuento]],VentasMenudeo[[#This Row],[Producto]]=$A$4,VentasMenudeo[[#This Row],[Precio de Venta]]*VentasMenudeo[[#This Row],[Cantidad]]-VentasMenudeo[[#This Row],[Descuento]],VentasMenudeo[[#This Row],[Producto]]=$A$5,VentasMenudeo[[#This Row],[Precio de Venta]]*VentasMenudeo[[#This Row],[Cantidad]]-VentasMenudeo[[#This Row],[Descuento]]),0)","v":190},190]
["2023-05-14","Hugo","IPLAY MAX","Pineapple Coconut",1,"Navidad",null,{"$f":"_xlfn.IFNA(VLOOKUP(VentasMenudeo[[#This Row],[Promoción]],PromocionesMenudeo[[Promocion]:[Descuento]],2,0),0)","v":80},{"$f":"_xlfn.IFNA(VLOOKUP(VentasMenudeo[[#This Row],[Producto]],$A$2:$B$5,2,FALSE),0)","v":270},{"$f":"_xlfn.IFNA(_xlfn.IFS(VentasMenudeo[[#This Row],[Producto]]=$A$2,VentasMenudeo[[#This Row],[Precio de Venta]]*VentasMenudeo[[#This Row],[Cantidad]]-VentasMenudeo[[#This Row],[Descuento]],VentasMenudeo[[#This Row],[Producto]]=$A$3,VentasMenudeo[[#This Row],[Precio de Venta]]*VentasMenudeo[[#This Row],[Cantidad]]-VentasMenudeo[[#This Row],[Descuento]],VentasMenudeo[[#This Row],[Producto]]=$A$4,VentasMenudeo[[#This Row],[Precio de Venta]]*VentasMenudeo[[#This Row],[Cantidad]]-VentasMenudeo[[#This Row],[Descuento]],VentasMenudeo[[#This Row],[Producto]]=$A$5,VentasMenudeo[[#This Row],[Precio de Venta]]*VentasMenudeo[[#This Row],[Cantidad]]-VentasMenudeo[[#This Row],[Descuento]]),0)","v":190},190]
["2023-05-14","Hugo","IPLAY MAX","Pineapple Coconut",1,"Navidad",null,{"$f":"_xlfn.IFNA(VLOOKUP(VentasMenudeo[[#This Row],[Promoción]],PromocionesMenudeo[[Promocion]:[Descuento]],2,0),0)","v":80},{"$f":"_xlfn.IFNA(VLOOKUP(VentasMenudeo[[#This Row],[Producto]],$A$2:$B$5,2,FALSE),0)","v":270},{"$f":"_xlfn.IFNA(_xlfn.IFS(VentasMenudeo[[#This Row],[Producto]]=$A$2,VentasMenudeo[[#This Row],[Precio de Venta]]*VentasMenudeo[[#This Row],[Cantidad]]-VentasMenudeo[[#This Row],[Descuento]],VentasMenudeo[[#This Row],[Producto]]=$A$3,VentasMenudeo[[#This Row],[Precio de Venta]]*VentasMenudeo[[#This Row],[Cantidad]]-VentasMenudeo[[#This Row],[Descuento]],VentasMenudeo[[#This Row],[Producto]]=$A$4,VentasMenudeo[[#This Row],[Precio de Venta]]*VentasMenudeo[[#This Row],[Cantidad]]-VentasMenudeo[[#This Row],[Descuento]],VentasMenudeo[[#This Row],[Producto]]=$A$5,VentasMenudeo[[#This Row],[Precio de Venta]]*VentasMenudeo[[#This Row],[Cantidad]]-VentasMenudeo[[#This Row],[Descuento]]),0)","v":190},190]
["2023-05-14","Hugo","IPLAY MAX","Pineapple Coconut",1,"Navidad",null,{"$f":"_xlfn.IFNA(VLOOKUP(VentasMenudeo[[#This Row],[Promoción]],PromocionesMenudeo[[Promocion]:[Descuento]],2,0),0)","v":80},{"$f":"_xlfn.IFNA(VLOOKUP(VentasMenudeo[[#This Row],[Producto]],$A$2:$B$5,2,FALSE),0)","v":270},{"$f":"_xlfn.IFNA(_xlfn.IFS(VentasMenudeo[[#This Row],[Producto]]=$A$2,VentasMenudeo[[#This Row],[Precio de Venta]]*VentasMenudeo[[#This Row],[Cantidad]]-VentasMenudeo[[#This Row],[Descuento]],VentasMenudeo[[#This Row],[Producto]]=$A$3,VentasMenudeo[[#This Row],[Precio de Venta]]*VentasMenudeo[[#This Row],[Cantidad]]-VentasMenudeo[[#This Row],[Descuento]],VentasMenudeo[[#This Row],[Producto]]=$A$4,VentasMenudeo[[#This Row],[Precio de Venta]]*VentasMenudeo[[#This Row],[Cantidad]]-VentasMenudeo[[#This Row],[Descuento]],VentasMenudeo[[#This Row],[Producto]]=$A$5,VentasMenudeo[[#This Row],[Precio de Venta]]*VentasMenudeo[[#This Row],[Cantidad]]-VentasMenudeo[[#This Row],[Descuento]]),0)","v":190},190]
["2023-05-14","Hugo","IPLAY MAX","Peach Berries Ice",1,"Navidad",null,{"$f":"_xlfn.IFNA(VLOOKUP(VentasMenudeo[[#This Row],[Promoción]],PromocionesMenudeo[[Promocion]:[Descuento]],2,0),0)","v":80},{"$f":"_xlfn.IFNA(VLOOKUP(VentasMenudeo[[#This Row],[Producto]],$A$2:$B$5,2,FALSE),0)","v":270},{"$f":"_xlfn.IFNA(_xlfn.IFS(VentasMenudeo[[#This Row],[Producto]]=$A$2,VentasMenudeo[[#This Row],[Precio de Venta]]*VentasMenudeo[[#This Row],[Cantidad]]-VentasMenudeo[[#This Row],[Descuento]],VentasMenudeo[[#This Row],[Producto]]=$A$3,VentasMenudeo[[#This Row],[Precio de Venta]]*VentasMenudeo[[#This Row],[Cantidad]]-VentasMenudeo[[#This Row],[Descuento]],VentasMenudeo[[#This Row],[Producto]]=$A$4,VentasMenudeo[[#This Row],[Precio de Venta]]*VentasMenudeo[[#This Row],[Cantidad]]-VentasMenudeo[[#This Row],[Descuento]],VentasMenudeo[[#This Row],[Producto]]=$A$5,VentasMenudeo[[#This Row],[Precio de Venta]]*VentasMenudeo[[#This Row],[Cantidad]]-VentasMenudeo[[#This Row],[Descuento]]),0)","v":190},190]
["2023-05-14","Hugo","IPLAY MAX","Peach Berries Ice",1,"Navidad",null,{"$f":"_xlfn.IFNA(VLOOKUP(VentasMenudeo[[#This Row],[Promoción]],PromocionesMenudeo[[Promocion]:[Descuento]],2,0),0)","v":80},{"$f":"_xlfn.IFNA(VLOOKUP(VentasMenudeo[[#This Row],[Producto]],$A$2:$B$5,2,FALSE),0)","v":270},{"$f":"_xlfn.IFNA(_xlfn.IFS(VentasMenudeo[[#This Row],[Producto]]=$A$2,VentasMenudeo[[#This Row],[Precio de Venta]]*VentasMenudeo[[#This Row],[Cantidad]]-VentasMenudeo[[#This Row],[Descuento]],VentasMenudeo[[#This Row],[Producto]]=$A$3,VentasMenudeo[[#This Row],[Precio de Venta]]*VentasMenudeo[[#This Row],[Cantidad]]-VentasMenudeo[[#This Row],[Descuento]],VentasMenudeo[[#This Row],[Producto]]=$A$4,VentasMenudeo[[#This Row],[Precio de Venta]]*VentasMenudeo[[#This Row],[Cantidad]]-VentasMenudeo[[#This Row],[Descuento]],VentasMenudeo[[#This Row],[Producto]]=$A$5,VentasMenudeo[[#This Row],[Precio de Venta]]*VentasMenudeo[[#This Row],[Cantidad]]-VentasMenudeo[[#This Row],[Descuento]]),0)","v":190},190]
["2023-05-14","Hugo","IPLAY MAX","Peach Berries Ice",1,"Navidad",null,{"$f":"_xlfn.IFNA(VLOOKUP(VentasMenudeo[[#This Row],[Promoción]],PromocionesMenudeo[[Promocion]:[Descuento]],2,0),0)","v":80},{"$f":"_xlfn.IFNA(VLOOKUP(VentasMenudeo[[#This Row],[Producto]],$A$2:$B$5,2,FALSE),0)","v":270},{"$f":"_xlfn.IFNA(_xlfn.IFS(VentasMenudeo[[#This Row],[Producto]]=$A$2,VentasMenudeo[[#This Row],[Precio de Venta]]*VentasMenudeo[[#This Row],[Cantidad]]-VentasMenudeo[[#This Row],[Descuento]],VentasMenudeo[[#This Row],[Producto]]=$A$3,VentasMenudeo[[#This Row],[Precio de Venta]]*VentasMenudeo[[#This Row],[Cantidad]]-VentasMenudeo[[#This Row],[Descuento]],VentasMenudeo[[#This Row],[Producto]]=$A$4,VentasMenudeo[[#This Row],[Precio de Venta]]*VentasMenudeo[[#This Row],[Cantidad]]-VentasMenudeo[[#This Row],[Descuento]],VentasMenudeo[[#This Row],[Producto]]=$A$5,VentasMenudeo[[#This Row],[Precio de Venta]]*VentasMenudeo[[#This Row],[Cantidad]]-VentasMenudeo[[#This Row],[Descuento]]),0)","v":190},190]
["2023-05-14","Hugo","IPLAY MAX","Peach Berries Ice",1,"Navidad",null,{"$f":"_xlfn.IFNA(VLOOKUP(VentasMenudeo[[#This Row],[Promoción]],PromocionesMenudeo[[Promocion]:[Descuento]],2,0),0)","v":80},{"$f":"_xlfn.IFNA(VLOOKUP(VentasMenudeo[[#This Row],[Producto]],$A$2:$B$5,2,FALSE),0)","v":270},{"$f":"_xlfn.IFNA(_xlfn.IFS(VentasMenudeo[[#This Row],[Producto]]=$A$2,VentasMenudeo[[#This Row],[Precio de Venta]]*VentasMenudeo[[#This Row],[Cantidad]]-VentasMenudeo[[#This Row],[Descuento]],VentasMenudeo[[#This Row],[Producto]]=$A$3,VentasMenudeo[[#This Row],[Precio de Venta]]*VentasMenudeo[[#This Row],[Cantidad]]-VentasMenudeo[[#This Row],[Descuento]],VentasMenudeo[[#This Row],[Producto]]=$A$4,VentasMenudeo[[#This Row],[Precio de Venta]]*VentasMenudeo[[#This Row],[Cantidad]]-VentasMenudeo[[#This Row],[Descuento]],VentasMenudeo[[#This Row],[Producto]]=$A$5,VentasMenudeo[[#This Row],[Precio de Venta]]*VentasMenudeo[[#This Row],[Cantidad]]-VentasMenudeo[[#This Row],[Descuento]]),0)","v":190},190]
["2023-05-14","Hugo","IPLAY MAX","Cranberry Grape",1,"Navidad",null,{"$f":"_xlfn.IFNA(VLOOKUP(VentasMenudeo[[#This Row],[Promoción]],PromocionesMenudeo[[Promocion]:[Descuento]],2,0),0)","v":80},{"$f":"_xlfn.IFNA(VLOOKUP(VentasMenudeo[[#This Row],[Producto]],$A$2:$B$5,2,FALSE),0)","v":270},{"$f":"_xlfn.IFNA(_xlfn.IFS(VentasMenudeo[[#This Row],[Producto]]=$A$2,VentasMenudeo[[#This Row],[Precio de Venta]]*VentasMenudeo[[#This Row],[Cantidad]]-VentasMenudeo[[#This Row],[Descuento]],VentasMenudeo[[#This Row],[Producto]]=$A$3,VentasMenudeo[[#This Row],[Precio de Venta]]*VentasMenudeo[[#This Row],[Cantidad]]-VentasMenudeo[[#This Row],[Descuento]],VentasMenudeo[[#This Row],[Producto]]=$A$4,VentasMenudeo[[#This Row],[Precio de Venta]]*VentasMenudeo[[#This Row],[Cantidad]]-VentasMenudeo[[#This Row],[Descuento]],VentasMenudeo[[#This Row],[Producto]]=$A$5,VentasMenudeo[[#This Row],[Precio de Venta]]*VentasMenudeo[[#This Row],[Cantidad]]-VentasMenudeo[[#This Row],[Descuento]]),0)","v":190},190]
["2023-05-14","Hugo","IPLAY MAX","Cranberry Grape",1,"Navidad",null,{"$f":"_xlfn.IFNA(VLOOKUP(VentasMenudeo[[#This Row],[Promoción]],PromocionesMenudeo[[Promocion]:[Descuento]],2,0),0)","v":80},{"$f":"_xlfn.IFNA(VLOOKUP(VentasMenudeo[[#This Row],[Producto]],$A$2:$B$5,2,FALSE),0)","v":270},{"$f":"_xlfn.IFNA(_xlfn.IFS(VentasMenudeo[[#This Row],[Producto]]=$A$2,VentasMenudeo[[#This Row],[Precio de Venta]]*VentasMenudeo[[#This Row],[Cantidad]]-VentasMenudeo[[#This Row],[Descuento]],VentasMenudeo[[#This Row],[Producto]]=$A$3,VentasMenudeo[[#This Row],[Precio de Venta]]*VentasMenudeo[[#This Row],[Cantidad]]-VentasMenudeo[[#This Row],[Descuento]],VentasMenudeo[[#This Row],[Producto]]=$A$4,VentasMenudeo[[#This Row],[Precio de Venta]]*VentasMenudeo[[#This Row],[Cantidad]]-VentasMenudeo[[#This Row],[Descuento]],VentasMenudeo[[#This Row],[Producto]]=$A$5,VentasMenudeo[[#This Row],[Precio de Venta]]*VentasMenudeo[[#This Row],[Cantidad]]-VentasMenudeo[[#This Row],[Descuento]]),0)","v":190},190]
["2023-05-14","Hugo","IPLAY MAX","Coconut ice",1,"Navidad",null,{"$f":"_xlfn.IFNA(VLOOKUP(VentasMenudeo[[#This Row],[Promoción]],PromocionesMenudeo[[Promocion]:[Descuento]],2,0),0)","v":80},{"$f":"_xlfn.IFNA(VLOOKUP(VentasMenudeo[[#This Row],[Producto]],$A$2:$B$5,2,FALSE),0)","v":270},{"$f":"_xlfn.IFNA(_xlfn.IFS(VentasMenudeo[[#This Row],[Producto]]=$A$2,VentasMenudeo[[#This Row],[Precio de Venta]]*VentasMenudeo[[#This Row],[Cantidad]]-VentasMenudeo[[#This Row],[Descuento]],VentasMenudeo[[#This Row],[Producto]]=$A$3,VentasMenudeo[[#This Row],[Precio de Venta]]*VentasMenudeo[[#This Row],[Cantidad]]-VentasMenudeo[[#This Row],[Descuento]],VentasMenudeo[[#This Row],[Producto]]=$A$4,VentasMenudeo[[#This Row],[Precio de Venta]]*VentasMenudeo[[#This Row],[Cantidad]]-VentasMenudeo[[#This Row],[Descuento]],VentasMenudeo[[#This Row],[Producto]]=$A$5,VentasMenudeo[[#This Row],[Precio de Venta]]*VentasMenudeo[[#This Row],[Cantidad]]-VentasMenudeo[[#This Row],[Descuento]]),0)","v":190},190]
["2023-05-14","Hugo","IPLAY MAX","Mixed Berries Lemon",1,"Navidad",null,{"$f":"_xlfn.IFNA(VLOOKUP(VentasMenudeo[[#This Row],[Promoción]],PromocionesMenudeo[[Promocion]:[Descuento]],2,0),0)","v":80},{"$f":"_xlfn.IFNA(VLOOKUP(VentasMenudeo[[#This Row],[Producto]],$A$2:$B$5,2,FALSE),0)","v":270},{"$f":"_xlfn.IFNA(_xlfn.IFS(VentasMenudeo[[#This Row],[Producto]]=$A$2,VentasMenudeo[[#This Row],[Precio de Venta]]*VentasMenudeo[[#This Row],[Cantidad]]-VentasMenudeo[[#This Row],[Descuento]],VentasMenudeo[[#This Row],[Producto]]=$A$3,VentasMenudeo[[#This Row],[Precio de Venta]]*VentasMenudeo[[#This Row],[Cantidad]]-VentasMenudeo[[#This Row],[Descuento]],VentasMenudeo[[#This Row],[Producto]]=$A$4,VentasMenudeo[[#This Row],[Precio de Venta]]*VentasMenudeo[[#This Row],[Cantidad]]-VentasMenudeo[[#This Row],[Descuento]],VentasMenudeo[[#This Row],[Producto]]=$A$5,VentasMenudeo[[#This Row],[Precio de Venta]]*VentasMenudeo[[#This Row],[Cantidad]]-VentasMenudeo[[#This Row],[Descuento]]),0)","v":190},190]
["2023-05-14","Hugo","IPLAY MAX","Mixed Berries Lemon",1,"Navidad",null,{"$f":"_xlfn.IFNA(VLOOKUP(VentasMenudeo[[#This Row],[Promoción]],PromocionesMenudeo[[Promocion]:[Descuento]],2,0),0)","v":80},{"$f":"_xlfn.IFNA(VLOOKUP(VentasMenudeo[[#This Row],[Producto]],$A$2:$B$5,2,FALSE),0)","v":270},{"$f":"_xlfn.IFNA(_xlfn.IFS(VentasMenudeo[[#This Row],[Producto]]=$A$2,VentasMenudeo[[#This Row],[Precio de Venta]]*VentasMenudeo[[#This Row],[Cantidad]]-VentasMenudeo[[#This Row],[Descuento]],VentasMenudeo[[#This Row],[Producto]]=$A$3,VentasMenudeo[[#This Row],[Precio de Venta]]*VentasMenudeo[[#This Row],[Cantidad]]-VentasMenudeo[[#This Row],[Descuento]],VentasMenudeo[[#This Row],[Producto]]=$A$4,VentasMenudeo[[#This Row],[Precio de Venta]]*VentasMenudeo[[#This Row],[Cantidad]]-VentasMenudeo[[#This Row],[Descuento]],VentasMenudeo[[#This Row],[Producto]]=$A$5,VentasMenudeo[[#This Row],[Precio de Venta]]*VentasMenudeo[[#This Row],[Cantidad]]-VentasMenudeo[[#This Row],[Descuento]]),0)","v":190},190]
["2023-05-14","Hugo","IPLAY MAX","Mixed Berries Lemon",1,"Navidad",null,{"$f":"_xlfn.IFNA(VLOOKUP(VentasMenudeo[[#This Row],[Promoción]],PromocionesMenudeo[[Promocion]:[Descuento]],2,0),0)","v":80},{"$f":"_xlfn.IFNA(VLOOKUP(VentasMenudeo[[#This Row],[Producto]],$A$2:$B$5,2,FALSE),0)","v":270},{"$f":"_xlfn.IFNA(_xlfn.IFS(VentasMenudeo[[#This Row],[Producto]]=$A$2,VentasMenudeo[[#This Row],[Precio de Venta]]*VentasMenudeo[[#This Row],[Cantidad]]-VentasMenudeo[[#This Row],[Descuento]],VentasMenudeo[[#This Row],[Producto]]=$A$3,VentasMenudeo[[#This Row],[Precio de Venta]]*VentasMenudeo[[#This Row],[Cantidad]]-VentasMenudeo[[#This Row],[Descuento]],VentasMenudeo[[#This Row],[Producto]]=$A$4,VentasMenudeo[[#This Row],[Precio de Venta]]*VentasMenudeo[[#This Row],[Cantidad]]-VentasMenudeo[[#This Row],[Descuento]],VentasMenudeo[[#This Row],[Producto]]=$A$5,VentasMenudeo[[#This Row],[Precio de Venta]]*VentasMenudeo[[#This Row],[Cantidad]]-VentasMenudeo[[#This Row],[Descuento]]),0)","v":190},190]
["2023-05-14","Hugo","IPLAY MAX","Mixed Berries Lemon",1,"Navidad",null,{"$f":"_xlfn.IFNA(VLOOKUP(VentasMenudeo[[#This Row],[Promoción]],PromocionesMenudeo[[Promocion]:[Descuento]],2,0),0)","v":80},{"$f":"_xlfn.IFNA(VLOOKUP(VentasMenudeo[[#This Row],[Producto]],$A$2:$B$5,2,FALSE),0)","v":270},{"$f":"_xlfn.IFNA(_xlfn.IFS(VentasMenudeo[[#This Row],[Producto]]=$A$2,VentasMenudeo[[#This Row],[Precio de Venta]]*VentasMenudeo[[#This Row],[Cantidad]]-VentasMenudeo[[#This Row],[Descuento]],VentasMenudeo[[#This Row],[Producto]]=$A$3,VentasMenudeo[[#This Row],[Precio de Venta]]*VentasMenudeo[[#This Row],[Cantidad]]-VentasMenudeo[[#This Row],[Descuento]],VentasMenudeo[[#This Row],[Producto]]=$A$4,VentasMenudeo[[#This Row],[Precio de Venta]]*VentasMenudeo[[#This Row],[Cantidad]]-VentasMenudeo[[#This Row],[Descuento]],VentasMenudeo[[#This Row],[Producto]]=$A$5,VentasMenudeo[[#This Row],[Precio de Venta]]*VentasMenudeo[[#This Row],[Cantidad]]-VentasMenudeo[[#This Row],[Descuento]]),0)","v":190},190]
["2023-05-14","Hugo","IPLAY BOX","Grape Pear",1,"No aplica",null,{"$f":"_xlfn.IFNA(VLOOKUP(VentasMenudeo[[#This Row],[Promoción]],PromocionesMenudeo[[Promocion]:[Descuento]],2,0),0)","v":0},{"$f":"_xlfn.IFNA(VLOOKUP(VentasMenudeo[[#This Row],[Producto]],$A$2:$B$5,2,FALSE),0)","v":260},{"$f":"_xlfn.IFNA(_xlfn.IFS(VentasMenudeo[[#This Row],[Producto]]=$A$2,VentasMenudeo[[#This Row],[Precio de Venta]]*VentasMenudeo[[#This Row],[Cantidad]]-VentasMenudeo[[#This Row],[Descuento]],VentasMenudeo[[#This Row],[Producto]]=$A$3,VentasMenudeo[[#This Row],[Precio de Venta]]*VentasMenudeo[[#This Row],[Cantidad]]-VentasMenudeo[[#This Row],[Descuento]],VentasMenudeo[[#This Row],[Producto]]=$A$4,VentasMenudeo[[#This Row],[Precio de Venta]]*VentasMenudeo[[#This Row],[Cantidad]]-VentasMenudeo[[#This Row],[Descuento]],VentasMenudeo[[#This Row],[Producto]]=$A$5,VentasMenudeo[[#This Row],[Precio de Venta]]*VentasMenudeo[[#This Row],[Cantidad]]-VentasMenudeo[[#This Row],[Descuento]]),0)","v":260},260]
["2023-05-14","Hugo","IPLAY BOX","Peach Mint",1,"No aplica",null,{"$f":"_xlfn.IFNA(VLOOKUP(VentasMenudeo[[#This Row],[Promoción]],PromocionesMenudeo[[Promocion]:[Descuento]],2,0),0)","v":0},{"$f":"_xlfn.IFNA(VLOOKUP(VentasMenudeo[[#This Row],[Producto]],$A$2:$B$5,2,FALSE),0)","v":260},{"$f":"_xlfn.IFNA(_xlfn.IFS(VentasMenudeo[[#This Row],[Producto]]=$A$2,VentasMenudeo[[#This Row],[Precio de Venta]]*VentasMenudeo[[#This Row],[Cantidad]]-VentasMenudeo[[#This Row],[Descuento]],VentasMenudeo[[#This Row],[Producto]]=$A$3,VentasMenudeo[[#This Row],[Precio de Venta]]*VentasMenudeo[[#This Row],[Cantidad]]-VentasMenudeo[[#This Row],[Descuento]],VentasMenudeo[[#This Row],[Producto]]=$A$4,VentasMenudeo[[#This Row],[Precio de Venta]]*VentasMenudeo[[#This Row],[Cantidad]]-VentasMenudeo[[#This Row],[Descuento]],VentasMenudeo[[#This Row],[Producto]]=$A$5,VentasMenudeo[[#This Row],[Precio de Venta]]*VentasMenudeo[[#This Row],[Cantidad]]-VentasMenudeo[[#This Row],[Descuento]]),0)","v":260},260]
["2023-05-14","Hugo","IPLAY BOX","Peach Mint",1,"No aplica",null,{"$f":"_xlfn.IFNA(VLOOKUP(VentasMenudeo[[#This Row],[Promoción]],PromocionesMenudeo[[Promocion]:[Descuento]],2,0),0)","v":0},{"$f":"_xlfn.IFNA(VLOOKUP(VentasMenudeo[[#This Row],[Producto]],$A$2:$B$5,2,FALSE),0)","v":260},{"$f":"_xlfn.IFNA(_xlfn.IFS(VentasMenudeo[[#This Row],[Producto]]=$A$2,VentasMenudeo[[#This Row],[Precio de Venta]]*VentasMenudeo[[#This Row],[Cantidad]]-VentasMenudeo[[#This Row],[Descuento]],VentasMenudeo[[#This Row],[Producto]]=$A$3,VentasMenudeo[[#This Row],[Precio de Venta]]*VentasMenudeo[[#This Row],[Cantidad]]-VentasMenudeo[[#This Row],[Descuento]],VentasMenudeo[[#This Row],[Producto]]=$A$4,VentasMenudeo[[#This Row],[Precio de Venta]]*VentasMenudeo[[#This Row],[Cantidad]]-VentasMenudeo[[#This Row],[Descuento]],VentasMenudeo[[#This Row],[Producto]]=$A$5,VentasMenudeo[[#This Row],[Precio de Venta]]*VentasMenudeo[[#This Row],[Cantidad]]-VentasMenudeo[[#This Row],[Descuento]]),0)","v":260},260]
["2023-05-14","Hugo","IPLAY BOX","Peach Mint",1,"No aplica",null,{"$f":"_xlfn.IFNA(VLOOKUP(VentasMenudeo[[#This Row],[Promoción]],PromocionesMenudeo[[Promocion]:[Descuento]],2,0),0)","v":0},{"$f":"_xlfn.IFNA(VLOOKUP(VentasMenudeo[[#This Row],[Producto]],$A$2:$B$5,2,FALSE),0)","v":260},{"$f":"_xlfn.IFNA(_xlfn.IFS(VentasMenudeo[[#This Row],[Producto]]=$A$2,VentasMenudeo[[#This Row],[Precio de Venta]]*VentasMenudeo[[#This Row],[Cantidad]]-VentasMenudeo[[#This Row],[Descuento]],VentasMenudeo[[#This Row],[Producto]]=$A$3,VentasMenudeo[[#This Row],[Precio de Venta]]*VentasMenudeo[[#This Row],[Cantidad]]-VentasMenudeo[[#This Row],[Descuento]],VentasMenudeo[[#This Row],[Producto]]=$A$4,VentasMenudeo[[#This Row],[Precio de Venta]]*VentasMenudeo[[#This Row],[Cantidad]]-VentasMenudeo[[#This Row],[Descuento]],VentasMenudeo[[#This Row],[Producto]]=$A$5,VentasMenudeo[[#This Row],[Precio de Venta]]*VentasMenudeo[[#This Row],[Cantidad]]-VentasMenudeo[[#This Row],[Descuento]]),0)","v":260},260]
["2023-05-14","Hugo","IPLAY BOX","Mint",1,"No aplica",null,{"$f":"_xlfn.IFNA(VLOOKUP(VentasMenudeo[[#This Row],[Promoción]],PromocionesMenudeo[[Promocion]:[Descuento]],2,0),0)","v":0},{"$f":"_xlfn.IFNA(VLOOKUP(VentasMenudeo[[#This Row],[Producto]],$A$2:$B$5,2,FALSE),0)","v":260},{"$f":"_xlfn.IFNA(_xlfn.IFS(VentasMenudeo[[#This Row],[Producto]]=$A$2,VentasMenudeo[[#This Row],[Precio de Venta]]*VentasMenudeo[[#This Row],[Cantidad]]-VentasMenudeo[[#This Row],[Descuento]],VentasMenudeo[[#This Row],[Producto]]=$A$3,VentasMenudeo[[#This Row],[Precio de Venta]]*VentasMenudeo[[#This Row],[Cantidad]]-VentasMenudeo[[#This Row],[Descuento]],VentasMenudeo[[#This Row],[Producto]]=$A$4,VentasMenudeo[[#This Row],[Precio de Venta]]*VentasMenudeo[[#This Row],[Cantidad]]-VentasMenudeo[[#This Row],[Descuento]],VentasMenudeo[[#This Row],[Producto]]=$A$5,VentasMenudeo[[#This Row],[Precio de Venta]]*VentasMenudeo[[#This Row],[Cantidad]]-VentasMenudeo[[#This Row],[Descuento]]),0)","v":260},260]
[null,null,null,null,{"$f":"SUM(VentasMenudeo[Cantidad])","v":1160},null,null,{"$f":"SUBTOTAL(109,VentasMenudeo[Descuento])","v":37130},null,{"$f":"SUBTOTAL(109,VentasMenudeo[Venta Total])","v":268950},{"$f":"SUBTOTAL(109,VentasMenudeo[Transferencia])","v":256620},{"$f":"SUBTOTAL(109,VentasMenudeo[Efectivo])","v":12170}]

{"sheet":"Inventario","index":4,"n_rows":1189,"n_cols":11,"rows_kept":1189,"cut":false,"hidden":false,"merged":[[2,7,2,9]]}
[null,null,null,null,"Producto","IPLAY MAX"]
["Producto","Sabor","Cantidad"]
[{"$f":"Pedidos!B2","v":"IPLAY CUBE"},{"$f":"Pedidos!C2","v":"Energy ICE"},{"$f":"Pedidos!D2","v":1},null,"Etiquetas de fila","Suma de Cantidad",null,"Pedido para gdl "]
[{"$f":"Pedidos!B3","v":"IPLAY CUBE"},{"$f":"Pedidos!C3","v":"Mango ICE"},{"$f":"Pedidos!D3","v":2},null,"Banana Ice",0,null,null,"Stock","Pedido"]
[{"$f":"Pedidos!B4","v":"IPLAY CUBE"},{"$f":"Pedidos!C4","v":"Cola ICE"},{"$f":"Pedidos!D4","v":2},null,"Berry Watermelon",0,null,"Cool Mint",{"$f":"_xlfn.IFNA(VLOOKUP(H5,E4:F17,2,0),0)","v":0},30]
[{"$f":"Pedidos!B5","v":"IPLAY CUBE"},{"$f":"Pedidos!C5","v":"Grape soda"},{"$f":"Pedidos!D5","v":2},null,"Bluerazz",0,null,"Energy Ice",0,15]
[{"$f":"Pedidos!B6","v":"IPLAY CUBE"},{"$f":"Pedidos!C6","v":"Strawberry Lychee"},{"$f":"Pedidos!D6","v":2},null,"Coconut",2,null,"Lush Ice",0]
[{"$f":"Pedidos!B7","v":"IPLAY CUBE"},{"$f":"Pedidos!C7","v":"Lemonade"},{"$f":"Pedidos!D7","v":2},null,"Cocumber Lemonade",0,null,"StrawBerry Lychee",0]
[{"$f":"Pedidos!B8","v":"IPLAY CUBE"},{"$f":"Pedidos!C8","v":"Energy ICE"},{"$f":"Pedidos!D8","v":5},null,"Cool mint",0,null,"Sour Apple Melon",0,5]
[{"$f":"Pedidos!B9","v":"IPLAY CUBE"},{"$f":"Pedidos!C9","v":"Mango ICE"},{"$f":"Pedidos!D9","v":3},null,"Energy ICE",0,null,"GrapeFruit Berry",0]
[{"$f":"Pedidos!B10","v":"IPLAY CUBE"},{"$f":"Pedidos!C10","v":"Cola ICE"},{"$f":"Pedidos!D10","v":3},null,"GrapeFruit berry",0,null,"Guava",0]
[{"$f":"Pedidos!B11","v":"IPLAY CUBE"},{"$f":"Pedidos!C11","v":"Grape soda"},{"$f":"Pedidos!D11","v":3},null,"Grapestraw",0,null,"Bluerazz",0,15]
[{"$f":"Pedidos!B12","v":"IPLAY CUBE"},{"$f":"Pedidos!C12","v":"Strawberry Lychee"},{"$f":"Pedidos!D12","v":3},null,"Guava",0,null,"Grapestraw",0,15]
[{"$f":"Pedidos!B13","v":"IPLAY CUBE"},{"$f":"Pedidos!C13","v":"Banana Ice"},{"$f":"Pedidos!D13","v":2},null,"Lemon cookies",0,null,"Peach Ice",0,10]
[{"$f":"Pedidos!B14","v":"IPLAY CUBE"},{"$f":"Pedidos!C14","v":"Peach Candy"},{"$f":"Pedidos!D14","v":2},null,"Lush Ice",0,null,"Berry Watermelon",0,20]
[{"$f":"Pedidos!B15","v":"IPLAY CUBE"},{"$f":"Pedidos!C15","v":"Watermelon"},{"$f":"Pedidos!D15","v":1},null,"Mango ICE",0,null,"Coconut",0,15]
[{"$f":"Pedidos!B16","v":"IPLAY CUBE"},{"$f":"Pedidos!C16","v":"Double apple"},{"$f":"Pedidos!D16","v":1},null,"Sour Apple",37,null,"Lemon Cucumber",0,10]
[{"$f":"Pedidos!B17","v":"IPLAY CUBE"},{"$f":"Pedidos!C17","v":"Lemonade"},{"$f":"Pedidos!D17","v":2},null,"Strawberry Lychee",0,null,"Grape Ice",0,15]
[{"$f":"Pedidos!B18","v":"IPLAY CUBE"},{"$f":"Pedidos!C18","v":"Energy ICE"},{"$f":"Pedidos!D18","v":3},null,"Peach Ice",0,null,"Orange Ice",0]
[{"$f":"Pedidos!B19","v":"IPLAY CUBE"},{"$f":"Pedidos!C19","v":"Mango ICE"},{"$f":"Pedidos!D19","v":2},null,"Grape Ice",0,null,"Mango Ice",0]
[{"$f":"Pedidos!B20","v":"IPLAY CUBE"},{"$f":"Pedidos!C20","v":"Cola ICE"},{"$f":"Pedidos!D20","v":2},null,"Sourraspberry",0,null,"Banana Ice",0,5]
[{"$f":"Pedidos!B21","v":"IPLAY CUBE"},{"$f":"Pedidos!C21","v":"Grape soda"},{"$f":"Pedidos!D21","v":5},null,"Passion Fruit",0,null,"Passion Fruit",0]
[{"$f":"Pedidos!B22","v":"IPLAY CUBE"},{"$f":"Pedidos!C22","v":"Strawberry Lychee"},{"$f":"Pedidos!D22","v":2},null,"Low Mint",0]
[{"$f":"Pedidos!B23","v":"IPLAY CUBE"},{"$f":"Pedidos!C23","v":"Banana Ice"},{"$f":"Pedidos!D23","v":2},null,"Banana Cherry DragonFruit",0,null,null,null,{"$f":"SUM(J5:J22)","v":155},{"$f":"J24*135","v":20925}]
[{"$f":"Pedidos!B24","v":"IPLAY CUBE"},{"$f":"Pedidos!C24","v":"Peach Candy"},{"$f":"Pedidos!D24","v":2},null,"Pineapple Orange Guava",0]
[{"$f":"Pedidos!B25","v":"IPLAY CUBE"},{"$f":"Pedidos!C25","v":"ICE Water"},{"$f":"Pedidos!D25","v":1},null,"Kiwi Guava Passion Fruit",0]
[{"$f":"Pedidos!B26","v":"IPLAY CUBE"},{"$f":"Pedidos!C26","v":"Double apple"},{"$f":"Pedidos!D26","v":4},null,"Blueberry Rainbow",0]
[{"$f":"Pedidos!B27","v":"IPLAY CUBE"},{"$f":"Pedidos!C27","v":"Lemonade"},{"$f":"Pedidos!D27","v":2},null,"Pineapple Coconut",0]
[{"$f":"Pedidos!B28","v":"ELF BAR"},{"$f":"Pedidos!C28","v":"Banana ICE"},{"$f":"Pedidos!D28","v":2},null,"Watermelon Banana",0]
[{"$f":"Pedidos!B29","v":"ELF BAR"},{"$f":"Pedidos!C29","v":"Pineaple ICE"},{"$f":"Pedidos!D29","v":2},null,"Double mint",0]
[{"$f":"Pedidos!B30","v":"ELF BAR"},{"$f":"Pedidos!C30","v":"Mango ICE"},{"$f":"Pedidos!D30","v":2},null,"Black Mint",0]
[{"$f":"Pedidos!B31","v":"IPLAY MAX"},{"$f":"Pedidos!C31","v":"Strawberry Lychee"},{"$f":"Pedidos!D31","v":2},null,"Peach Berries Ice",0]
[{"$f":"Pedidos!B32","v":"IPLAY MAX"},{"$f":"Pedidos!C32","v":"Grapestraw"},{"$f":"Pedidos!D32","v":2},null,"Mango Strawberry",0]
[{"$f":"Pedidos!B33","v":"IPLAY MAX"},{"$f":"Pedidos!C33","v":"Berry Watermelon"},{"$f":"Pedidos!D33","v":2},null,"Cranberry Grape",1]
[{"$f":"Pedidos!B34","v":"IPLAY MAX"},{"$f":"Pedidos!C34","v":"Guava"},{"$f":"Pedidos!D34","v":2},null,"Coconut ice",0]
[{"$f":"Pedidos!B35","v":"IPLAY MAX"},{"$f":"Pedidos!C35","v":"Cool mint"},{"$f":"Pedidos!D35","v":2},null,"Mixed Berries Lemon",0]
[{"$f":"Pedidos!B36","v":"IPLAY MAX"},{"$f":"Pedidos!C36","v":"Bluerazz"},{"$f":"Pedidos!D36","v":2},null,1,-1]
[{"$f":"Pedidos!B37","v":"IPLAY MAX"},{"$f":"Pedidos!C37","v":"Sour Apple"},{"$f":"Pedidos!D37","v":2},null,"Total general",39]
[{"$f":"Pedidos!B38","v":"IPLAY MAX"},{"$f":"Pedidos!C38","v":"Coconut"},{"$f":"Pedidos!D38","v":2}]
[{"$f":"Pedidos!B39","v":"IPLAY MAX"},{"$f":"Pedidos!C39","v":"Grapestraw"},{"$f":"Pedidos!D39","v":4}]
[{"$f":"Pedidos!B40","v":"IPLAY MAX"},{"$f":"Pedidos!C40","v":"Guava"},{"$f":"Pedidos!D40","v":4}]
[{"$f":"Pedidos!B41","v":"IPLAY MAX"},{"$f":"Pedidos!C41","v":"Sour Apple"},{"$f":"Pedidos!D41","v":1}]
[{"$f":"Pedidos!B42","v":"IPLAY MAX"},{"$f":"Pedidos!C42","v":"Coconut"},{"$f":"Pedidos!D42","v":4}]
[{"$f":"Pedidos!B43","v":"IPLAY MAX"},{"$f":"Pedidos!C43","v":"Cool mint"},{"$f":"Pedidos!D43","v":2}]
[{"$f":"Pedidos!B44","v":"IPLAY MAX"},{"$f":"Pedidos!C44","v":"Berry Watermelon"},{"$f":"Pedidos!D44","v":2}]
[{"$f":"Pedidos!B45","v":"IPLAY MAX"},{"$f":"Pedidos!C45","v":"Bluerazz"},{"$f":"Pedidos!D45","v":3}]
[{"$f":"Pedidos!B46","v":"IPLAY MAX"},{"$f":"Pedidos!C46","v":"Energy ICE"},{"$f":"Pedidos!D46","v":1}]
[{"$f":"Pedidos!B47","v":"IPLAY MAX"},{"$f":"Pedidos!C47","v":"Strawberry Lychee"},{"$f":"Pedidos!D47","v":3}]
[{"$f":"Pedidos!B48","v":"IPLAY MAX"},{"$f":"Pedidos!C48","v":"GrapeFruit berry"},{"$f":"Pedidos!D48","v":1}]
[{"$f":"Pedidos!B49","v":"IPLAY CUBE"},{"$f":"Pedidos!C49","v":"Mango ICE"},{"$f":"Pedidos!D49","v":2}]
[{"$f":"Pedidos!B50","v":"IPLAY CUBE"},{"$f":"Pedidos!C50","v":"Lemonade"},{"$f":"Pedidos!D50","v":3}]
[{"$f":"Pedidos!B51","v":"IPLAY CUBE"},{"$f":"Pedidos!C51","v":"Banana Ice"},{"$f":"Pedidos!D51","v":2}]
[{"$f":"Pedidos!B52","v":"IPLAY CUBE"},{"$f":"Pedidos!C52","v":"Double apple"},{"$f":"Pedidos!D52","v":3}]
[{"$f":"Pedidos!B53","v":"IPLAY CUBE"},{"$f":"Pedidos!C53","v":"Energy ICE"},{"$f":"Pedidos!D53","v":3}]
[{"$f":"Pedidos!B54","v":"IPLAY CUBE"},{"$f":"Pedidos!C54","v":"ICE Water"},{"$f":"Pedidos!D54","v":3}]
[{"$f":"Pedidos!B55","v":"IPLAY CUBE"},{"$f":"Pedidos!C55","v":"Grape soda"},{"$f":"Pedidos!D55","v":4}]
[{"$f":"Pedidos!B56","v":"IPLAY CUBE"},{"$f":"Pedidos!C56","v":"Peach Candy"},{"$f":"Pedidos!D56","v":2}]
[{"$f":"Pedidos!B57","v":"IPLAY CUBE"},{"$f":"Pedidos!C57","v":"Cola ICE"},{"$f":"Pedidos!D57","v":2}]
[{"$f":"Pedidos!B58","v":"IPLAY CUBE"},{"$f":"Pedidos!C58","v":"Strawberry Lychee"},{"$f":"Pedidos!D58","v":2}]
[{"$f":"Pedidos!B59","v":"IPLAY MAX"},{"$f":"Pedidos!C59","v":"Berry Watermelon"},{"$f":"Pedidos!D59","v":4}]
[{"$f":"Pedidos!B60","v":"IPLAY MAX"},{"$f":"Pedidos!C60","v":"Cool mint"},{"$f":"Pedidos!D60","v":2}]
[{"$f":"Pedidos!B61","v":"IPLAY MAX"},{"$f":"Pedidos!C61","v":"Guava"},{"$f":"Pedidos!D61","v":1}]
[{"$f":"Pedidos!B62","v":"IPLAY MAX"},{"$f":"Pedidos!C62","v":"Grapestraw"},{"$f":"Pedidos!D62","v":3}]
[{"$f":"Pedidos!B63","v":"IPLAY MAX"},{"$f":"Pedidos!C63","v":"Energy ICE"},{"$f":"Pedidos!D63","v":3}]
[{"$f":"Pedidos!B64","v":"IPLAY MAX"},{"$f":"Pedidos!C64","v":"Bluerazz"},{"$f":"Pedidos!D64","v":4}]
[{"$f":"Pedidos!B65","v":"IPLAY MAX"},{"$f":"Pedidos!C65","v":"GrapeFruit berry"},{"$f":"Pedidos!D65","v":3}]
[{"$f":"Pedidos!B66","v":"IPLAY MAX"},{"$f":"Pedidos!C66","v":"Strawberry Lychee"},{"$f":"Pedidos!D66","v":4}]
[{"$f":"Pedidos!B67","v":"IPLAY MAX"},{"$f":"Pedidos!C67","v":"Coconut"},{"$f":"Pedidos!D67","v":1}]
[{"$f":"Pedidos!B68","v":"IPLAY MAX"},{"$f":"Pedidos!C68","v":"Cool mint"},{"$f":"Pedidos!D68","v":4}]
[{"$f":"Pedidos!B69","v":"IPLAY MAX"},{"$f":"Pedidos!C69","v":"Berry Watermelon"},{"$f":"Pedidos!D69","v":4}]
[{"$f":"Pedidos!B70","v":"IPLAY MAX"},{"$f":"Pedidos!C70","v":"Grapestraw"},{"$f":"Pedidos!D70","v":5}]
[{"$f":"Pedidos!B71","v":"IPLAY MAX"},{"$f":"Pedidos!C71","v":"Bluerazz"},{"$f":"Pedidos!D71","v":4}]
[{"$f":"Pedidos!B72","v":"IPLAY MAX"},{"$f":"Pedidos!C72","v":"Coconut"},{"$f":"Pedidos!D72","v":5}]
[{"$f":"Pedidos!B73","v":"IPLAY MAX"},{"$f":"Pedidos!C73","v":"Guava"},{"$f":"Pedidos!D73","v":4}]
[{"$f":"Pedidos!B74","v":"IPLAY MAX"},{"$f":"Pedidos!C74","v":"Lush Ice"},{"$f":"Pedidos!D74","v":4}]
[{"$f":"Pedidos!B75","v":"IPLAY MAX"},{"$f":"Pedidos!C75","v":"Strawberry Lychee"},{"$f":"Pedidos!D75","v":4}]
[{"$f":"Pedidos!B76","v":"IPLAY MAX"},{"$f":"Pedidos!C76","v":"Energy ICE"},{"$f":"Pedidos!D76","v":4}]
[{"$f":"Pedidos!B77","v":"IPLAY MAX"},{"$f":"Pedidos!C77","v":"GrapeFruit berry"},{"$f":"Pedidos!D77","v":4}]
[{"$f":"Pedidos!B78","v":"IPLAY MAX"},{"$f":"Pedidos!C78","v":"Cocumber Lemonade"},{"$f":"Pedidos!D78","v":4}]
[{"$f":"Pedidos!B79","v":"IPLAY MAX"},{"$f":"Pedidos!C79","v":"Sour Apple"},{"$f":"Pedidos!D79","v":4}]
[{"$f":"Pedidos!B80","v":"IPLAY MAX"},{"$f":"Pedidos!C80","v":"Grapestraw"},{"$f":"Pedidos!D80","v":7}]
[{"$f":"Pedidos!B81","v":"IPLAY MAX"},{"$f":"Pedidos!C81","v":"Guava"},{"$f":"Pedidos!D81","v":4}]
[{"$f":"Pedidos!B82","v":"IPLAY MAX"},{"$f":"Pedidos!C82","v":"Cool mint"},{"$f":"Pedidos!D82","v":2}]
[{"$f":"Pedidos!B83","v":"IPLAY MAX"},{"$f":"Pedidos!C83","v":"Bluerazz"},{"$f":"Pedidos!D83","v":4}]
[{"$f":"Pedidos!B84","v":"IPLAY MAX"},{"$f":"Pedidos!C84","v":"Strawberry Lychee"},{"$f":"Pedidos!D84","v":2}]
[{"$f":"Pedidos!B85","v":"IPLAY MAX"},{"$f":"Pedidos!C85","v":"Coconut"},{"$f":"Pedidos!D85","v":1}]
[{"$f":"Pedidos!B86","v":"IPLAY MAX"},{"$f":"Pedidos!C86","v":"Lush Ice"},{"$f":"Pedidos!D86","v":1}]
[{"$f":"Pedidos!B87","v":"IPLAY MAX"},{"$f":"Pedidos!C87","v":"Berry Watermelon"},{"$f":"Pedidos!D87","v":2}]
[{"$f":"Pedidos!B88","v":"IPLAY MAX"},{"$f":"Pedidos!C88","v":"Energy ICE"},{"$f":"Pedidos!D88","v":8}]
[{"$f":"Pedidos!B89","v":"IPLAY MAX"},{"$f":"Pedidos!C89","v":"Sour Apple"},{"$f":"Pedidos!D89","v":7}]
[{"$f":"Pedidos!B90","v":"IPLAY MAX"},{"$f":"Pedidos!C90","v":"Berry Watermelon"},{"$f":"Pedidos!D90","v":9}]
[{"$f":"Pedidos!B91","v":"IPLAY MAX"},{"$f":"Pedidos!C91","v":"Cool mint"},{"$f":"Pedidos!D91","v":7}]
[{"$f":"Pedidos!B92","v":"IPLAY MAX"},{"$f":"Pedidos!C92","v":"GrapeFruit berry"},{"$f":"Pedidos!D92","v":9}]
[{"$f":"Pedidos!B93","v":"IPLAY MAX"},{"$f":"Pedidos!C93","v":"Strawberry Lychee"},{"$f":"Pedidos!D93","v":2}]
[{"$f":"Pedidos!B94","v":"IPLAY MAX"},{"$f":"Pedidos!C94","v":"Bluerazz"},{"$f":"Pedidos!D94","v":3}]
[{"$f":"Pedidos!B95","v":"IPLAY MAX"},{"$f":"Pedidos!C95","v":"Lush Ice"},{"$f":"Pedidos!D95","v":5}]
[{"$f":"Pedidos!B96","v":"IPLAY MAX"},{"$f":"Pedidos!C96","v":"Energy ICE"},{"$f":"Pedidos!D96","v":3}]
[{"$f":"Pedidos!B97","v":"IPLAY MAX"},{"$f":"Pedidos!C97","v":"Sour Apple"},{"$f":"Pedidos!D97","v":3}]
[{"$f":"Pedidos!B98","v":"IPLAY MAX"},{"$f":"Pedidos!C98","v":"Strawberry Lychee"},{"$f":"Pedidos!D98","v":15}]
[{"$f":"Pedidos!B99","v":"IPLAY MAX"},{"$f":"Pedidos!C99","v":"Berry Watermelon"},{"$f":"Pedidos!D99","v":15}]
[{"$f":"Pedidos!B100","v":"IPLAY MAX"},{"$f":"Pedidos!C100","v":"Guava"},{"$f":"Pedidos!D100","v":4}]
[{"$f":"Pedidos!B101","v":"IPLAY MAX"},{"$f":"Pedidos!C101","v":"Bluerazz"},{"$f":"Pedidos!D101","v":15}]
[{"$f":"Pedidos!B102","v":"IPLAY MAX"},{"$f":"Pedidos!C102","v":"GrapeFruit berry"},{"$f":"Pedidos!D102","v":15}]
[{"$f":"Pedidos!B103","v":"IPLAY MAX"},{"$f":"Pedidos!C103","v":"GrapeStraw"},{"$f":"Pedidos!D103","v":15}]
[{"$f":"Pedidos!B104","v":"IPLAY MAX"},{"$f":"Pedidos!C104","v":"Cool mint"},{"$f":"Pedidos!D104","v":5}]
[{"$f":"Pedidos!B105","v":"IPLAY MAX"},{"$f":"Pedidos!C105","v":"Coconut"},{"$f":"Pedidos!D105","v":5}]
[{"$f":"Pedidos!B106","v":"IPLAY MAX"},{"$f":"Pedidos!C106","v":"Lemon cookies"},{"$f":"Pedidos!D106","v":5}]
[{"$f":"Pedidos!B107","v":"IPLAY MAX"},{"$f":"Pedidos!C107","v":"Energy ICE"},{"$f":"Pedidos!D107","v":7}]
[{"$f":"Pedidos!B108","v":"IPLAY MAX"},{"$f":"Pedidos!C108","v":"Sour Apple"},{"$f":"Pedidos!D108","v":7}]
[{"$f":"Pedidos!B109","v":"IPLAY MAX"},{"$f":"Pedidos!C109","v":"Strawberry Lychee"},{"$f":"Pedidos!D109","v":10}]
[{"$f":"Pedidos!B110","v":"IPLAY MAX"},{"$f":"Pedidos!C110","v":"Berry Watermelon"},{"$f":"Pedidos!D110","v":10}]
[{"$f":"Pedidos!B111","v":"IPLAY MAX"},{"$f":"Pedidos!C111","v":"Bluerazz"},{"$f":"Pedidos!D111","v":10}]
[{"$f":"Pedidos!B112","v":"IPLAY MAX"},{"$f":"Pedidos!C112","v":"GrapeFruit berry"},{"$f":"Pedidos!D112","v":10}]
[{"$f":"Pedidos!B113","v":"IPLAY MAX"},{"$f":"Pedidos!C113","v":"Grapestraw"},{"$f":"Pedidos!D113","v":10}]
[{"$f":"Pedidos!B114","v":"IPLAY MAX"},{"$f":"Pedidos!C114","v":"Cool mint"},{"$f":"Pedidos!D114","v":10}]
[{"$f":"Pedidos!B115","v":"IPLAY MAX"},{"$f":"Pedidos!C115","v":"Coconut"},{"$f":"Pedidos!D115","v":7}]
[{"$f":"Pedidos!B116","v":"IPLAY MAX"},{"$f":"Pedidos!C116","v":"Lemon cookies"},{"$f":"Pedidos!D116","v":3}]
[{"$f":"Pedidos!B117","v":"IPLAY MAX"},{"$f":"Pedidos!C117","v":"Cocumber Lemonade"},{"$f":"Pedidos!D117","v":8}]
[{"$f":"Pedidos!B118","v":"IPLAY MAX"},{"$f":"Pedidos!C118","v":"Guava"},{"$f":"Pedidos!D118","v":8}]
[{"$f":"'Ventas Menudeo'!C7","v":"IPLAY CUBE"},{"$f":"'Ventas Menudeo'!D7","v":"Energy ICE"},{"$f":"-'Ventas Menudeo'!E7","v":-12}]
[{"$f":"'Ventas Menudeo'!C8","v":"IPLAY CUBE"},{"$f":"'Ventas Menudeo'!D8","v":"Mango ICE"},{"$f":"-'Ventas Menudeo'!E8","v":-9}]
[{"$f":"'Ventas Menudeo'!C9","v":"IPLAY CUBE"},{"$f":"'Ventas Menudeo'!D9","v":"Cola ICE"},{"$f":"-'Ventas Menudeo'!E9","v":-9}]
[{"$f":"'Ventas Menudeo'!C10","v":"IPLAY CUBE"},{"$f":"'Ventas Menudeo'!D10","v":"Grape soda"},{"$f":"-'Ventas Menudeo'!E10","v":-14}]
[{"$f":"'Ventas Menudeo'!C11","v":"IPLAY CUBE"},{"$f":"'Ventas Menudeo'!D11","v":"Strawberry Lychee"},{"$f":"-'Ventas Menudeo'!E11","v":-9}]
[{"$f":"'Ventas Menudeo'!C12","v":"IPLAY CUBE"},{"$f":"'Ventas Menudeo'!D12","v":"Lemonade"},{"$f":"-'Ventas Menudeo'!E12","v":-9}]
[{"$f":"'Ventas Menudeo'!C13","v":"IPLAY CUBE"},{"$f":"'Ventas Menudeo'!D13","v":"Banana Ice"},{"$f":"-'Ventas Menudeo'!E13","v":-6}]
[{"$f":"'Ventas Menudeo'!C14","v":"IPLAY CUBE"},{"$f":"'Ventas Menudeo'!D14","v":"Peach Candy"},{"$f":"-'Ventas Menudeo'!E14","v":-6}]
[{"$f":"'Ventas Menudeo'!C15","v":"IPLAY CUBE"},{"$f":"'Ventas Menudeo'!D15","v":"Watermelon"},{"$f":"-'Ventas Menudeo'!E15","v":-1}]
[{"$f":"'Ventas Menudeo'!C16","v":"IPLAY CUBE"},{"$f":"'Ventas Menudeo'!D16","v":"Double apple"},{"$f":"-'Ventas Menudeo'!E16","v":-8}]
[{"$f":"'Ventas Menudeo'!C17","v":"IPLAY CUBE"},{"$f":"'Ventas Menudeo'!D17","v":"ICE Water"},{"$f":"-'Ventas Menudeo'!E17","v":-4}]
[{"$f":"'Ventas Menudeo'!C18","v":"ELF BAR"},{"$f":"'Ventas Menudeo'!D18","v":"Banana Ice"},{"$f":"-'Ventas Menudeo'!E18","v":-2}]
[{"$f":"'Ventas Menudeo'!C19","v":"ELF BAR"},{"$f":"'Ventas Menudeo'!D19","v":"Mango ICE"},{"$f":"-'Ventas Menudeo'!E19","v":-2}]
[{"$f":"'Ventas Menudeo'!C20","v":"ELF BAR"},{"$f":"'Ventas Menudeo'!D20","v":"Pineaple ICE"},{"$f":"-'Ventas Menudeo'!E20","v":-2}]
[{"$f":"'Ventas Menudeo'!C21","v":"IPLAY MAX"},{"$f":"'Ventas Menudeo'!D21","v":"Strawberry Lychee"},{"$f":"-'Ventas Menudeo'!E21","v":-19}]
[{"$f":"'Ventas Menudeo'!C22","v":"IPLAY MAX"},{"$f":"'Ventas Menudeo'!D22","v":"Grapestraw"},{"$f":"-'Ventas Menudeo'!E22","v":-21}]
[{"$f":"'Ventas Menudeo'!C23","v":"IPLAY MAX"},{"$f":"'Ventas Menudeo'!D23","v":"Berry Watermelon"},{"$f":"-'Ventas Menudeo'!E23","v":-25}]
[{"$f":"'Ventas Menudeo'!C24","v":"IPLAY MAX"},{"$f":"'Ventas Menudeo'!D24","v":"Guava"},{"$f":"-'Ventas Menudeo'!E24","v":-19}]
[{"$f":"'Ventas Menudeo'!C25","v":"IPLAY MAX"},{"$f":"'Ventas Menudeo'!D25","v":"Cool mint"},{"$f":"-'Ventas Menudeo'!E25","v":-22}]
[{"$f":"'Ventas Menudeo'!C26","v":"IPLAY MAX"},{"$f":"'Ventas Menudeo'!D26","v":"Bluerazz"},{"$f":"-'Ventas Menudeo'!E26","v":-12}]
[{"$f":"'Ventas Menudeo'!C27","v":"IPLAY MAX"},{"$f":"'Ventas Menudeo'!D27","v":"Bluerazz"},{"$f":"-'Ventas Menudeo'!E27","v":-12}]
[{"$f":"'Ventas Menudeo'!C28","v":"IPLAY MAX"},{"$f":"'Ventas Menudeo'!D28","v":"Sour Apple"},{"$f":"-'Ventas Menudeo'!E28","v":-12}]
[{"$f":"'Ventas Menudeo'!C29","v":"IPLAY MAX"},{"$f":"'Ventas Menudeo'!D29","v":"Energy ICE"},{"$f":"-'Ventas Menudeo'!E29","v":-7}]
[{"$f":"'Ventas Menudeo'!C30","v":"IPLAY MAX"},{"$f":"'Ventas Menudeo'!D30","v":"Energy ICE"},{"$f":"-'Ventas Menudeo'!E30","v":-7}]
[{"$f":"'Ventas Menudeo'!C31","v":"IPLAY MAX"},{"$f":"'Ventas Menudeo'!D31","v":"GrapeFruit berry"},{"$f":"-'Ventas Menudeo'!E31","v":-18}]
[{"$f":"'Ventas Menudeo'!C32","v":"IPLAY MAX"},{"$f":"'Ventas Menudeo'!D32","v":"Cocumber Lemonade"},{"$f":"-'Ventas Menudeo'!E32","v":-4}]
[{"$f":"'Ventas Menudeo'!C33","v":"IPLAY MAX"},{"$f":"'Ventas Menudeo'!D33","v":"Lush Ice"},{"$f":"-'Ventas Menudeo'!E33","v":-7}]
[{"$f":"'Ventas Menudeo'!C34","v":"IPLAY MAX"},{"$f":"'Ventas Menudeo'!D34","v":"Lemon cookies"},{"$f":"-'Ventas Menudeo'!E34","v":-1}]
[{"$f":"'Ventas Menudeo'!C35","v":"IPLAY MAX"},{"$f":"'Ventas Menudeo'!D35","v":"Coconut"},{"$f":"-'Ventas Menudeo'!E35","v":-17}]
[{"$f":"'Ventas Menudeo'!C36","v":"IPLAY MAX"},{"$f":"'Ventas Menudeo'!D36","v":"Strawberry Lychee"},{"$f":"-'Ventas Menudeo'!E36","v":-1}]
[{"$f":"'Ventas Menudeo'!C37","v":"IPLAY MAX"},{"$f":"'Ventas Menudeo'!D37","v":"Sour Apple"},{"$f":"-'Ventas Menudeo'!E37","v":-1}]
[{"$f":"'Ventas Menudeo'!C38","v":"IPLAY MAX"},{"$f":"'Ventas Menudeo'!D38","v":"Strawberry Lychee"},{"$f":"-'Ventas Menudeo'!E38","v":-1}]
[{"$f":"'Ventas Menudeo'!C39","v":"IPLAY MAX"},{"$f":"'Ventas Menudeo'!D39","v":"Grapestraw"},{"$f":"-'Ventas Menudeo'!E39","v":-1}]
[{"$f":"'Ventas Menudeo'!C40","v":"IPLAY MAX"},{"$f":"'Ventas Menudeo'!D40","v":"Grapestraw"},{"$f":"-'Ventas Menudeo'!E40","v":-1}]
[{"$f":"'Ventas Menudeo'!C41","v":"IPLAY MAX"},{"$f":"'Ventas Menudeo'!D41","v":"Bluerazz"},{"$f":"-'Ventas Menudeo'!E41","v":-2}]
[{"$f":"'Ventas Menudeo'!C42","v":"IPLAY MAX"},{"$f":"'Ventas Menudeo'!D42","v":"Guava"},{"$f":"-'Ventas Menudeo'!E42","v":-1}]
[{"$f":"'Ventas Menudeo'!C43","v":"IPLAY MAX"},{"$f":"'Ventas Menudeo'!D43","v":"Coconut"},{"$f":"-'Ventas Menudeo'!E43","v":-1}]
[{"$f":"'Ventas Menudeo'!C44","v":"IPLAY MAX"},{"$f":"'Ventas Menudeo'!D44","v":"Guava"},{"$f":"-'Ventas Menudeo'!E44","v":-1}]
[{"$f":"'Ventas Menudeo'!C45","v":"IPLAY MAX"},{"$f":"'Ventas Menudeo'!D45","v":"Bluerazz"},{"$f":"-'Ventas Menudeo'!E45","v":-1}]
[{"$f":"'Ventas Menudeo'!C46","v":"IPLAY MAX"},{"$f":"'Ventas Menudeo'!D46","v":"Cool mint"},{"$f":"-'Ventas Menudeo'!E46","v":-1}]
[{"$f":"'Ventas Menudeo'!C47","v":"IPLAY MAX"},{"$f":"'Ventas Menudeo'!D47","v":"Berry Watermelon"},{"$f":"-'Ventas Menudeo'!E47","v":-1}]
[{"$f":"'Ventas Menudeo'!C48","v":"IPLAY MAX"},{"$f":"'Ventas Menudeo'!D48","v":"Berry Watermelon"},{"$f":"-'Ventas Menudeo'!E48","v":-1}]
[{"$f":"'Ventas Menudeo'!C49","v":"IPLAY MAX"},{"$f":"'Ventas Menudeo'!D49","v":"Cool mint"},{"$f":"-'Ventas Menudeo'!E49","v":-1}]
[{"$f":"'Ventas Menudeo'!C50","v":"IPLAY MAX"},{"$f":"'Ventas Menudeo'!D50","v":"Energy ICE"},{"$f":"-'Ventas Menudeo'!E50","v":-1}]
[{"$f":"'Ventas Menudeo'!C51","v":"IPLAY MAX"},{"$f":"'Ventas Menudeo'!D51","v":"Energy ICE"},{"$f":"-'Ventas Menudeo'!E51","v":-1}]
[{"$f":"'Ventas Mayoreo'!C5","v":"IPLAY MAX"},{"$f":"'Ventas Mayoreo'!D5","v":"Strawberry Lychee"},{"$f":"-'Ventas Mayoreo'!E5","v":-10}]
[{"$f":"'Ventas Mayoreo'!C6","v":"IPLAY MAX"},{"$f":"'Ventas Mayoreo'!D6","v":"Grapestraw"},{"$f":"-'Ventas Mayoreo'!E6","v":-10}]
[{"$f":"'Ventas Mayoreo'!C7","v":"IPLAY MAX"},{"$f":"'Ventas Mayoreo'!D7","v":"Berry Watermelon"},{"$f":"-'Ventas Mayoreo'!E7","v":-10}]
[{"$f":"'Ventas Mayoreo'!C8","v":"IPLAY MAX"},{"$f":"'Ventas Mayoreo'!D8","v":"Bluerazz"},{"$f":"-'Ventas Mayoreo'!E8","v":-10}]
[{"$f":"'Ventas Mayoreo'!C9","v":"IPLAY MAX"},{"$f":"'Ventas Mayoreo'!D9","v":"GrapeFruit berry"},{"$f":"-'Ventas Mayoreo'!E9","v":-10}]
[{"$f":"'Traspaso Mazatlán'!B3","v":"IPLAY MAX"},{"$f":"'Traspaso Mazatlán'!C3","v":"Energy ICE"},{"$f":"-'Traspaso Mazatlán'!D3","v":-4}]
[{"$f":"'Traspaso Mazatlán'!B4","v":"IPLAY MAX"},{"$f":"'Traspaso Mazatlán'!C4","v":"Sour Apple"},{"$f":"-'Traspaso Mazatlán'!D4","v":-3}]
[{"$f":"'Traspaso Mazatlán'!B5","v":"IPLAY MAX"},{"$f":"'Traspaso Mazatlán'!C5","v":"Cool mint"},{"$f":"-'Traspaso Mazatlán'!D5","v":-2}]
[{"$f":"'Traspaso Mazatlán'!B6","v":"IPLAY MAX"},{"$f":"'Traspaso Mazatlán'!C6","v":"GrapeFruit berry"},{"$f":"-'Traspaso Mazatlán'!D6","v":-4}]
[{"$f":"'Traspaso Mazatlán'!B7","v":"IPLAY MAX"},{"$f":"'Traspaso Mazatlán'!C7","v":"Lush Ice"},{"$f":"-'Traspaso Mazatlán'!D7","v":-3}]
[{"$f":"'Traspaso Mazatlán'!B8","v":"IPLAY MAX"},{"$f":"'Traspaso Mazatlán'!C8","v":"Strawberry Lychee"},{"$f":"-'Traspaso Mazatlán'!D8","v":-1}]
["IPLAY MAX","Cocumber Lemonade",-1]
["IPLAY MAX","Coconut",-1]
["IPLAY MAX","Strawberry Lychee",-1]
["IPLAY MAX","GrapeFruit berry",-1]
["IPLAY MAX","Grapestraw",-1]
["IPLAY MAX","Grapestraw",-1]
["IPLAY MAX","Bluerazz",-1]
["IPLAY MAX","Strawberry Lychee",-1]
["IPLAY MAX","Lemon cookies",-1]
["IPLAY MAX","Cool mint",-1]
["IPLAY MAX","Cocumber Lemonade",-1]
["IPLAY MAX","Coconut",-1]
["IPLAY MAX","Bluerazz",-1]
["IPLAY MAX","Coconut",-1]
["IPLAY MAX","Strawberry Lychee",-1]
["IPLAY MAX","Cool mint",-1]
["IPLAY MAX","Bluerazz",-1]
["IPLAY MAX","Sour Apple",-1]
["IPLAY MAX","Bluerazz",-1]
["IPLAY MAX","Bluerazz",-1]
["IPLAY MAX","Cool mint",-1]
["IPLAY MAX","Guava",-1]
["IPLAY MAX","Coconut",-1]
["IPLAY MAX","Cool mint",-1]
["IPLAY MAX","Guava",-1]
["IPLAY MAX","Guava",-1]
["IPLAY MAX","GrapeFruit berry",-1]
["IPLAY MAX","Bluerazz",-1]
["IPLAY MAX","Berry Watermelon",-1]
["IPLAY MAX","Bluerazz",-1]
["IPLAY MAX","Guava",-1]
["IPLAY MAX","Grapestraw",-1]
["IPLAY MAX","Energy ICE",-1]
["IPLAY MAX","Cool mint",-1]
["IPLAY MAX","Cool mint",-1]
["IPLAY MAX","GrapeFruit berry",-1]
["IPLAY MAX","Coconut",-1]
["IPLAY MAX","Grapestraw",-1]
["IPLAY MAX","Bluerazz",-1]
["IPLAY MAX","Cool mint",-1]
["IPLAY MAX","Sour Apple",-1]
["IPLAY MAX","Coconut",-1]
["IPLAY MAX","Guava",-1]
["IPLAY MAX","Energy ICE",-1]
["IPLAY MAX","Cool mint",-1]
["IPLAY MAX","Berry Watermelon",-1]
["IPLAY MAX","GrapeFruit berry",-1]
["IPLAY MAX","Grapestraw",-1]
["IPLAY MAX","Grapestraw",-1]
["IPLAY MAX","Guava",-1]
["IPLAY MAX","Sour Apple",-1]
["IPLAY MAX","Sour Apple",-1]
["IPLAY MAX","GrapeFruit berry",-1]
["IPLAY MAX","GrapeFruit berry",-1]
["IPLAY MAX","Strawberry Lychee",-1]
["IPLAY MAX","GrapeFruit berry",-1]
["IPLAY MAX","Cocumber Lemonade",-1]
["IPLAY MAX","Grapestraw",-1]
["IPLAY MAX","Strawberry Lychee",-1]
["IPLAY MAX","GrapeFruit berry",-1]
["IPLAY MAX","Berry Watermelon",20]
["IPLAY MAX","Grapestraw",20]
["IPLAY MAX","Strawberry Lychee",20]
["IPLAY MAX","GrapeFruit berry",20]
["IPLAY MAX","Bluerazz",20]
["IPLAY MAX","Strawberry Lychee",-1]
["IPLAY MAX","Berry Watermelon",-1]
["IPLAY MAX","Berry Watermelon",-20]
["IPLAY MAX","Bluerazz",-20]
["IPLAY MAX","Grapestraw",-20]
["IPLAY MAX","GrapeFruit berry",-20]
["IPLAY MAX","Strawberry Lychee",-20]
["IPLAY MAX","Energy ICE",-1]
["IPLAY MAX","Lemon cookies",-1]
["IPLAY MAX","GrapeFruit berry",-1]
["IPLAY MAX","Berry Watermelon",-1]
["IPLAY MAX","Energy ICE",-1]
["IPLAY MAX","Energy ICE",-1]
["IPLAY MAX","Berry Watermelon",-1]
["IPLAY MAX","Strawberry Lychee",-1]
["IPLAY MAX","Sour Apple",-1]
["IPLAY MAX","Berry Watermelon",-1]
["IPLAY MAX","Grapestraw",-1]
["IPLAY MAX","Cocumber Lemonade",-1]
["IPLAY MAX","Grapestraw",-1]
["IPLAY MAX","Cocumber Lemonade",-1]
["IPLAY MAX","Cocumber Lemonade",-1]
["IPLAY MAX","Strawberry Lychee",-1]
["IPLAY MAX","Sour Apple",-1]
["IPLAY MAX","Berry Watermelon",-1]
["IPLAY MAX","Berry Watermelon",-1]
["IPLAY MAX","Sour Apple",-1]
["IPLAY MAX","Cocumber Lemonade",-1]
["IPLAY MAX","Cocumber Lemonade",-1]
["IPLAY MAX","Berry Watermelon",-3]
["IPLAY MAX","Coconut",-1]
["IPLAY MAX","Energy ICE",-1]
["IPLAY MAX","GrapeFruit berry",-1]
["IPLAY MAX","Grapestraw",-4]
["IPLAY MAX","Lemon cookies",-1]
["IPLAY MAX","Sour Apple",-1]
["IPLAY MAX","Strawberry Lychee",-2]
["IPLAY MAX","Lemon cookies",-1]
["IPLAY MAX","Berry Watermelon",100]
["IPLAY MAX","Bluerazz",100]
["IPLAY MAX","Cool mint",80]
["IPLAY MAX","GrapeFruit berry",100]
["IPLAY MAX","Grapestraw",70]
["IPLAY MAX","Guava",90]
["IPLAY MAX","Sour Apple",60]
["IPLAY MAX","Strawberry Lychee",80]
["IPLAY MAX","Peach Ice",50]
["IPLAY MAX","Coconut",10,null,{"$f":"SUM(C279:C288)","v":740}]
["IPLAY MAX","Sour Apple",-1]
["IPLAY MAX","Berry Watermelon",-1]
["IPLAY MAX","Cool mint",-1]
["IPLAY MAX","Bluerazz",-1]
["IPLAY MAX","Peach Ice",-1]
["IPLAY MAX","Peach Ice",-1]
["IPLAY MAX","Berry Watermelon",-1]
["IPLAY MAX","Grapestraw",-1]
["IPLAY MAX","Bluerazz",-1]
["IPLAY MAX","Strawberry Lychee",-1]
["IPLAY MAX","Cool mint",-1]
["IPLAY MAX","Cool mint",-1]
["IPLAY MAX","GrapeFruit berry",-1]
["IPLAY MAX","Peach Ice",-1]
["IPLAY MAX","Cool mint",-1]
["IPLAY MAX","Peach Ice",-1]
["IPLAY MAX","GrapeFruit berry",-1]
["IPLAY MAX","Peach Ice",-1]
["IPLAY MAX","Bluerazz",-1]
["IPLAY MAX","Bluerazz",-1]
["IPLAY MAX","Guava",-1]
["IPLAY MAX","Guava",-1]
["IPLAY MAX","Guava",-1]
["IPLAY MAX","Peach Ice",-1]
["IPLAY MAX","Cool mint",-1]
["IPLAY MAX","Berry Watermelon",-1]
["IPLAY MAX","Cool mint",-1]
["IPLAY MAX","Coconut",-1]
["IPLAY MAX","Cool mint",-1]
["IPLAY MAX","Grapestraw",-1]
["IPLAY MAX","Berry Watermelon",-20]
["IPLAY MAX","Strawberry Lychee",-20]
["IPLAY MAX","Bluerazz",-20]
["IPLAY MAX","GrapeFruit berry",-20]
["IPLAY MAX","Grapestraw",-20]
["IPLAY MAX","Bluerazz",-12]
["IPLAY MAX","Guava",-8]
["IPLAY MAX","Grapestraw",-14]
["IPLAY MAX","Cool mint",-18]
["IPLAY MAX","Berry Watermelon",-12]
["IPLAY MAX","Strawberry Lychee",-10]
["IPLAY MAX","Grapestraw",-10]
["IPLAY MAX","Guava",-10]
["IPLAY MAX","Peach Ice",-10]
["IPLAY MAX","Sour Apple",-10]
["IPLAY MAX","Cool mint",-10]
["IPLAY MAX","GrapeFruit berry",-10]
["IPLAY MAX","Bluerazz",-10]
["IPLAY MAX","Cool mint",-1]
["IPLAY MAX","Cool mint",-1]
["IPLAY MAX","Peach Ice",-1]
["IPLAY MAX","Peach Ice",-1]
["IPLAY MAX","GrapeFruit berry",-1]
["IPLAY MAX","Coconut",-1]
["IPLAY MAX","Peach Ice",-1]
["IPLAY MAX","Strawberry Lychee",-1]
["IPLAY MAX","Cool mint",-1]
["IPLAY MAX","Cool mint",-1]
["IPLAY MAX","Coconut",-1]
["IPLAY MAX","Berry Watermelon",-1]
["IPLAY MAX","Cool mint",-1]
["IPLAY MAX","Peach Ice",-1]
["IPLAY MAX","Bluerazz",-1]
["IPLAY MAX","Coconut",-1]
["IPLAY MAX","Coconut",-1]
["IPLAY MAX","Bluerazz",-1]
["IPLAY MAX","Bluerazz",-1]
["IPLAY MAX","Bluerazz",-1]
["IPLAY MAX","Grapestraw",-1]
["IPLAY MAX","Grapestraw",-1]
["IPLAY MAX","Guava",-1]
["IPLAY MAX","Berry Watermelon",-1]
["IPLAY MAX","Coconut",-1]
["IPLAY MAX","Peach Ice",-27]
["IPLAY MAX","Berry Watermelon",-40]
["IPLAY MAX","Cool mint",-37]
["IPLAY MAX","Strawberry Lychee",-31]
["IPLAY MAX","Grapestraw",-22]
["IPLAY MAX","Guava",-20]
["IPLAY MAX","GrapeFruit berry",-30]
["IPLAY MAX","Bluerazz",-30]
["IPLAY MAX","Cool mint",-3,null,{"$f":"SUM(C289:C370)","v":-539}]
["IPLAY MAX","Sour Apple",-1]
["IPLAY MAX","Berry Watermelon",-1]
["IPLAY MAX","Coconut",-1]
["IPLAY MAX","Coconut",-1]
["IPLAY MAX","Bluerazz",-1]
["IPLAY MAX","Lemon cookies",-1]
["IPLAY MAX","Bluerazz",-1]
["IPLAY MAX","Berry Watermelon",-1]
["IPLAY MAX","Berry Watermelon",-1]
["IPLAY MAX","Berry Watermelon",-1]
["IPLAY MAX","Sour Apple",-1]
["IPLAY MAX","Sour Apple",-1]
["IPLAY MAX","Bluerazz",-1]
["IPLAY MAX","Berry Watermelon",-1]
["IPLAY MAX","GrapeFruit berry",-1]
["IPLAY MAX","Guava",-1]
["IPLAY MAX","Guava",-1]
["IPLAY MAX","Guava",-1]
["IPLAY MAX","Berry Watermelon",-1]
["IPLAY MAX","GrapeFruit berry",-1]
["IPLAY MAX","Guava",-1]
["IPLAY MAX","Berry Watermelon",-1]
["IPLAY MAX","Berry Watermelon",-1]
["IPLAY MAX","Guava",-1]
["IPLAY MAX","Berry Watermelon",-1]
["IPLAY MAX","Bluerazz",-1]
["IPLAY MAX","GrapeFruit berry",-1]
["IPLAY MAX","Bluerazz",-1]
["IPLAY MAX","GrapeFruit berry",-1]
["IPLAY MAX","Coconut",-1]
["IPLAY MAX","Bluerazz",-1]
["IPLAY MAX","Berry Watermelon",-1]
["IPLAY MAX","Coconut",-1]
["IPLAY MAX","Strawberry Lychee",-1]
["IPLAY MAX","Sour Apple",-1]
["IPLAY MAX","Strawberry Lychee",-1]
["IPLAY MAX","Strawberry Lychee",-1]
["IPLAY MAX","Bluerazz",-1]
["IPLAY MAX","Bluerazz",-1]
["IPLAY MAX","Bluerazz",-1]
["IPLAY MAX","Bluerazz",-1]
["IPLAY MAX","Berry Watermelon",-1]
["IPLAY MAX","Guava",-1]
["IPLAY MAX","Guava",-1]
["IPLAY MAX","GrapeFruit berry",-1]
["IPLAY MAX","Berry Watermelon",-1]
["IPLAY MAX","Berry Watermelon",-1]
["IPLAY MAX","Bluerazz",-1]
["IPLAY MAX","Bluerazz",-1]
["IPLAY MAX","Bluerazz",-1]
["IPLAY MAX","Bluerazz",-1]
["IPLAY MAX","Bluerazz",-1]
["IPLAY MAX","Bluerazz",-1]
["IPLAY MAX","Bluerazz",-1]
["IPLAY MAX","Bluerazz",-1]
["IPLAY MAX","Bluerazz",-1]
["IPLAY MAX","Bluerazz",-1]
["IPLAY MAX","GrapeFruit berry",-1]
["IPLAY MAX","Strawberry Lychee",-1]
["IPLAY MAX","Strawberry Lychee",-1]
["IPLAY MAX","Strawberry Lychee",-1]
["IPLAY MAX","Strawberry Lychee",-1]
["IPLAY MAX","Strawberry Lychee",-1]
["IPLAY MAX","Guava",-1]
["IPLAY MAX","Guava",-1]
["IPLAY MAX","Energy ICE",15]
["IPLAY MAX","Berry Watermelon",20]
["IPLAY MAX","Sour Apple",5]
["IPLAY MAX","Bluerazz",15]
["IPLAY MAX","Grapestraw",15]
["IPLAY MAX","Cool mint",30]
["IPLAY MAX","Coconut",15]
["IPLAY MAX","Cocumber Lemonade",10]
["IPLAY MAX","Grape Ice",15]
["IPLAY MAX","Peach Ice",10]
["IPLAY MAX","Banana Ice",5]
["IPLAY MAX","Strawberry Lychee",-1]
["IPLAY MAX","GrapeFruit berry",-1]
["IPLAY MAX","Strawberry Lychee",-1]
["IPLAY MAX","GrapeFruit berry",-1]
["IPLAY MAX","GrapeFruit berry",-1]
["IPLAY MAX","GrapeFruit berry",-1]
["IPLAY MAX","Sour Apple",-1]
["IPLAY MAX","Berry Watermelon",-1]
["IPLAY MAX","GrapeFruit berry",-1]
["IPLAY MAX","GrapeFruit berry",-1]
["IPLAY MAX","Berry Watermelon",-1]
["IPLAY MAX","Berry Watermelon",-1]
["IPLAY MAX","Guava",-1]
["IPLAY MAX","Berry Watermelon",-1]
["IPLAY MAX","Grapestraw",-1]
["IPLAY MAX","Grapestraw",-1]
["IPLAY MAX","Grape Ice",-1]
["IPLAY MAX","Berry Watermelon",-1]
["IPLAY MAX","Guava",-1]
["IPLAY MAX","Guava",-1]
["IPLAY MAX","Berry Watermelon",-1]
["IPLAY MAX","Grapestraw",-1]
["IPLAY MAX","Energy ICE",-1]
["IPLAY MAX","Energy ICE",-1]
["IPLAY MAX","Energy ICE",-1]
["IPLAY MAX","Berry Watermelon",-1]
["IPLAY MAX","Berry Watermelon",-1]
["IPLAY MAX","Peach Ice",-1]
["IPLAY MAX","Peach Ice",-1]
["IPLAY MAX","Peach Ice",-1]
["IPLAY MAX","Cool mint",-1]
["IPLAY MAX","Cocumber Lemonade",-1]
["IPLAY MAX","Energy ICE",-1]
["IPLAY MAX","Cool mint",-1]
["IPLAY MAX","Coconut",-1]
["IPLAY MAX","Berry Watermelon",-1]
["IPLAY MAX","Bluerazz",-1]
["IPLAY MAX","Bluerazz",-1]
["IPLAY MAX","Grapestraw",-1]
["IPLAY MAX","Peach Ice",-1]
["IPLAY MAX","Berry Watermelon",-1]
["IPLAY MAX","Guava",-1]
["IPLAY MAX","Berry Watermelon",-1]
["IPLAY MAX","Banana Ice",-1]
["IPLAY MAX","Banana Ice",-1]
["IPLAY MAX","Banana Ice",-1]
["IPLAY MAX","Berry Watermelon",-1]
["IPLAY MAX","Bluerazz",-1]
["IPLAY MAX","Bluerazz",-1]
["IPLAY MAX","Bluerazz",-1]
["IPLAY MAX","Bluerazz",-1]
["IPLAY MAX","Bluerazz",-1]
["IPLAY MAX","Bluerazz",-1]
["IPLAY MAX","Bluerazz",-1]
["IPLAY MAX","Coconut",-1]
["IPLAY MAX","Coconut",-1]
["IPLAY MAX","Coconut",-1]
["IPLAY MAX","Coconut",-1]
["IPLAY MAX","Coconut",-1]
["IPLAY MAX","Coconut",-1]
["IPLAY MAX","Coconut",-1]
["IPLAY MAX","Coconut",-1]
["IPLAY MAX","Cocumber Lemonade",-1]
["IPLAY MAX","Cool mint",-1]
["IPLAY MAX","Cool mint",-1]
["IPLAY MAX","Cool mint",-1]
["IPLAY MAX","Cool mint",-1]
["IPLAY MAX","Grapestraw",-1]
["IPLAY MAX","Grapestraw",-1]
["IPLAY MAX","Grapestraw",-1]
["IPLAY MAX","Grapestraw",-1]
["IPLAY MAX","Grapestraw",-1]
["IPLAY MAX","Grapestraw",-1]
["IPLAY MAX","Grapestraw",-1]
["IPLAY MAX","Grapestraw",-1]
["IPLAY MAX","Grapestraw",-1]
["IPLAY MAX","Guava",-1]
["IPLAY MAX","Guava",-1]
["IPLAY MAX","Sour Apple",-1]
["IPLAY MAX","Sour Apple",-1]
["IPLAY MAX","Peach Ice",-1]
["IPLAY MAX","Peach Ice",-1]
["IPLAY MAX","Peach Ice",-1]
["IPLAY MAX","Peach Ice",-1]
["IPLAY MAX","Grape Ice",-1]
["IPLAY MAX","Peach Ice",-1]
["IPLAY MAX","Peach Ice",-1]
["IPLAY MAX","GrapeFruit berry",-1]
["IPLAY MAX","Bluerazz",-1]
["IPLAY MAX","Bluerazz",-1]
["IPLAY MAX","Cool mint",-1]
["IPLAY MAX","Bluerazz",-1]
["IPLAY MAX","Grapestraw",-1]
["IPLAY MAX","Grapestraw",-1]
["IPLAY MAX","GrapeFruit berry",-1]
["IPLAY MAX","Cool mint",-1]
["IPLAY MAX","Cocumber Lemonade",-1]
["IPLAY MAX","Cool mint",-1]
["IPLAY MAX","GrapeFruit berry",-1]
["IPLAY MAX","Berry Watermelon",-1]
["IPLAY MAX","Berry Watermelon",-1]
["IPLAY MAX","Bluerazz",-1]
["IPLAY MAX","Coconut",-1]
["IPLAY MAX","GrapeFruit berry",-1]
["IPLAY MAX","Coconut",-1]
["IPLAY MAX","GrapeFruit berry",-1]
["IPLAY MAX","Cool mint",-1]
["IPLAY MAX","Energy ICE",-1]
["IPLAY MAX","Energy ICE",-1]
["IPLAY MAX","Cool mint",-1]
["IPLAY MAX","Cool mint",-1]
["IPLAY MAX","Berry Watermelon",-1]
["IPLAY MAX","Guava",-1]
["IPLAY MAX","Cool mint",-1]
["IPLAY MAX","GrapeFruit berry",-1]
["IPLAY MAX","Cool mint",-1]
["IPLAY MAX","Cool mint",-1]
["IPLAY MAX","Cool mint",-1]
["IPLAY MAX","Cool mint",-1]
["IPLAY MAX","Energy ICE",-1]
["IPLAY MAX","Energy ICE",-1]
["IPLAY MAX","Guava",-1]
["IPLAY MAX","Coconut",-1]
["IPLAY MAX","Banana Ice",-1]
["IPLAY MAX","Coconut",-1]
["IPLAY MAX","Guava",-1]
["IPLAY MAX","Banana Ice",-1]
["IPLAY MAX","Berry Watermelon",-1]
["IPLAY MAX","Berry Watermelon",-1]
["IPLAY MAX","Energy ICE",-1]
["IPLAY MAX","Coconut",-1]
["IPLAY MAX","Guava",-1]
["IPLAY MAX","Strawberry Lychee",-1]
["IPLAY MAX","Cool mint",-1]
["IPLAY MAX","Sour Apple",-1]
["IPLAY MAX","Berry Watermelon",-1]
["IPLAY MAX","Energy ICE",-1]
["IPLAY MAX","Grape Ice",-1]
["IPLAY MAX","Guava",-1]
["IPLAY MAX","Grape Ice",-1]
["IPLAY MAX","Sour Apple",-1]
["IPLAY MAX","Energy ICE",9]
["IPLAY MAX","Bluerazz",9]
["IPLAY MAX","Strawberry Lychee",5]
["IPLAY MAX","Berry Watermelon",5]
["IPLAY MAX","Guava",5]
["IPLAY MAX","GrapeFruit berry",5]
["IPLAY MAX","Cool mint",8]
["IPLAY MAX","Coconut",8]
["IPLAY MAX","Peach Ice",4]
["IPLAY MAX","Banana Ice",4]
["IPLAY MAX","Sourraspberry",4]
["IPLAY MAX","Energy ICE",1]
["IPLAY MAX","Berry Watermelon",-1]
["IPLAY MAX","Berry Watermelon",-1]
["IPLAY MAX","Coconut",-1]
["IPLAY MAX","Cool mint",-1]
["IPLAY MAX","Guava",-1]
["IPLAY MAX","Guava",-1]
["IPLAY MAX","Strawberry Lychee",-1]
["IPLAY MAX","Grape Ice",-1]
["IPLAY MAX","Cool mint",-1]
["IPLAY MAX","Sourraspberry",-1]
["IPLAY MAX","Sourraspberry",-1]
["IPLAY MAX","Banana Ice",-1]
["IPLAY MAX","Berry Watermelon",-1]
["IPLAY MAX","Guava",-1]
["IPLAY MAX","Grape Ice",-1]
["IPLAY MAX","Berry Watermelon",-1]
["IPLAY MAX","Sourraspberry",-1]
["IPLAY MAX","Peach Ice",-1]
["IPLAY MAX","Cool mint",-1]
["IPLAY MAX","Berry Watermelon",-1]
["IPLAY MAX","Berry Watermelon",-1]
["IPLAY MAX","Bluerazz",-1]
["IPLAY MAX","Bluerazz",-1]
["IPLAY MAX","Coconut",-1]
["IPLAY MAX","Cool mint",-1]
["IPLAY MAX","Cool mint",-1]
["IPLAY MAX","GrapeFruit berry",-1]
["IPLAY MAX","GrapeFruit berry",-1]
["IPLAY MAX","Guava",-1]
["IPLAY MAX","Peach Ice",1]
["IPLAY MAX","Peach Ice",-1]
["IPLAY MAX","Peach Ice",-1]
["IPLAY MAX","Peach Ice",-1]
["IPLAY MAX","Peach Ice",-1]
["IPLAY MAX","Peach Ice",-1]
["IPLAY MAX","Sourraspberry",-1]
["IPLAY MAX","Berry Watermelon",-1]
["IPLAY MAX","Coconut",-1]
["IPLAY MAX","Bluerazz",-1]
["IPLAY MAX","Berry Watermelon",-1]
["IPLAY MAX","Berry Watermelon",-1]
["IPLAY MAX","Energy ICE",-1]
["IPLAY MAX","Peach Ice",-1]
["IPLAY MAX","Strawberry Lychee",-1]
["IPLAY MAX","Banana Ice",-1]
["IPLAY MAX","Cool mint",-1]
["IPLAY MAX","Energy ICE",-1]
["IPLAY MAX","Bluerazz",-1]
["IPLAY MAX","Bluerazz",-1]
["IPLAY MAX","Cool mint",-1]
["IPLAY MAX","Grape Ice",-1]
["IPLAY MAX","GrapeFruit berry",-1]
["IPLAY MAX","Cool mint",-1]
["IPLAY MAX","Berry Watermelon",-1]
["IPLAY MAX","Guava",-1]
["IPLAY MAX","Cool mint",-1]
["IPLAY MAX","Bluerazz",-1]
["IPLAY MAX","Peach Ice",-1]
["IPLAY MAX","Bluerazz",-1]
["IPLAY MAX","Cool mint",-1]
["IPLAY MAX","Cool mint",-1]
["IPLAY MAX","Cool mint",-1]
["IPLAY MAX","Cool mint",-1]
["IPLAY MAX","Banana Ice",-1]
["IPLAY MAX","Coconut",-1]
["IPLAY MAX","Bluerazz",-1]
["IPLAY MAX","Coconut",-1]
["IPLAY MAX","Energy ICE",-1]
["IPLAY MAX","Guava",-1]
["IPLAY MAX","Energy ICE",-1]
["IPLAY MAX","Cool mint",-1]
["IPLAY MAX","GrapeFruit berry",-1]
["IPLAY MAX","Banana Ice",-1]
["IPLAY MAX","GrapeFruit berry",-1]
["IPLAY MAX","Guava",-1]
["IPLAY MAX","Grape Ice",-1]
["IPLAY MAX","Guava",-1]
["IPLAY MAX","GrapeFruit berry",-1]
["IPLAY MAX","Berry Watermelon",-1]
["IPLAY MAX","Bluerazz",-1]
["IPLAY MAX","Cool mint",-1]
["IPLAY MAX","Bluerazz",-1]
["IPLAY MAX","Berry Watermelon",-1]
["IPLAY MAX","Bluerazz",-1]
["IPLAY MAX","Guava",-1]
["IPLAY MAX","Coconut",-1]
["IPLAY MAX","Energy ICE",-1]
["IPLAY MAX","Berry Watermelon",-1]
["IPLAY MAX","Cool mint",-1]
["IPLAY MAX","Energy ICE",-1]
["IPLAY MAX","Guava",-1]
["IPLAY MAX","Cool mint",-1]
["IPLAY MAX","Cool mint",-1]
["IPLAY MAX","Energy ICE",-1]
["IPLAY MAX","GrapeFruit berry",-1]
["IPLAY MAX","Berry Watermelon",-1]
["IPLAY MAX","Berry Watermelon",-1]
["IPLAY MAX","GrapeFruit berry",-1]
["IPLAY MAX","Coconut",-1]
["IPLAY MAX","Guava",-1]
["IPLAY MAX","Guava",-1]
["IPLAY MAX","Coconut",-1]
["IPLAY MAX","GrapeFruit berry",-1]
["IPLAY MAX","Energy ICE",-1]
["IPLAY MAX","GrapeFruit berry",-1]
["IPLAY MAX","Coconut",-1]
["IPLAY MAX","Berry Watermelon",-1]
["IPLAY MAX","Sour Apple",-1]
["IPLAY MAX","GrapeFruit berry",-1]
["IPLAY MAX","Grape Ice",-1]
["IPLAY MAX","Guava",-1]
["IPLAY MAX","Guava",-1]
["IPLAY MAX","Energy ICE",-1]
["IPLAY MAX","GrapeFruit berry",-1]
["IPLAY MAX","GrapeFruit berry",-1]
["IPLAY MAX","GrapeFruit berry",-1]
["IPLAY MAX","Energy ICE",-1]
["IPLAY MAX","Grape Ice",-1]
["IPLAY MAX","Berry Watermelon",-1]
["IPLAY MAX","Energy ICE",6]
["IPLAY MAX","Berry Watermelon",10]
["IPLAY MAX","Coconut",10]
["IPLAY MAX","Peach Ice",6]
["IPLAY MAX","Banana Ice",8]
["IPLAY MAX","Sourraspberry",8]
["IPLAY MAX","Passion Fruit",2]
["IPLAY MAX","Guava",-1]
["IPLAY MAX","Guava",-1]
["IPLAY MAX","Sour Apple",-1]
["IPLAY MAX","Banana Ice",-1]
["IPLAY MAX","Passion Fruit",-1]
["IPLAY MAX","Energy ICE",-1]
["IPLAY MAX","Passion Fruit",-1]
["IPLAY MAX","Peach Ice",-1]
["IPLAY MAX","Grape Ice",-1]
["IPLAY MAX","Berry Watermelon",-1]
["IPLAY MAX","Peach Ice",-1]
["IPLAY MAX","Energy ICE",-1]
["IPLAY MAX","Energy ICE",-1]
["IPLAY MAX","Cool mint",-1]
["IPLAY MAX","Peach Ice",-1]
["IPLAY MAX","Grape Ice",-1]
["IPLAY MAX","Peach Ice",-1]
["IPLAY MAX","Sourraspberry",-1]
["IPLAY MAX","Sour Apple",-1]
["IPLAY MAX","Sourraspberry",-1]
["IPLAY MAX","Berry Watermelon",-1]
["IPLAY MAX","Grape Ice",-1]
["IPLAY MAX","Banana Ice",-1]
["IPLAY MAX","Sourraspberry",-1]
["IPLAY MAX","Strawberry Lychee",-1]
["IPLAY MAX","Energy ICE",-1]
["IPLAY MAX","Berry Watermelon",-1]
["IPLAY MAX","Grape Ice",-1]
["IPLAY MAX","Sourraspberry",-1]
["IPLAY MAX","Cocumber Lemonade",-1]
["IPLAY MAX","Banana Ice",-1]
["IPLAY MAX","Berry Watermelon",-1]
["IPLAY MAX","Grapestraw",-1]
["IPLAY MAX","Berry Watermelon",-1]
["IPLAY MAX","Sour Apple",-1]
["IPLAY MAX","Sourraspberry",-1]
["IPLAY MAX","Berry Watermelon",-1]
["IPLAY MAX","Guava",-1]
["IPLAY MAX","Sourraspberry",-1]
["IPLAY MAX","Energy ICE",-1]
["IPLAY MAX","Sourraspberry",-1]
["IPLAY MAX","Banana Ice",-2]
["IPLAY MAX","Berry Watermelon",2]
["IPLAY MAX","Coconut",-1]
["IPLAY MAX","Cool mint",-1]
["IPLAY MAX","Energy ICE",-2]
["IPLAY MAX","GrapeFruit berry",-2]
["IPLAY MAX","Grapestraw",1]
["IPLAY MAX","Guava",-10]
["IPLAY MAX","Sour Apple",9]
["IPLAY MAX","Peach Ice",-2]
["IPLAY MAX","Grape Ice",-1]
["IPLAY MAX","Sourraspberry",-1]
["IPLAY MAX","Banana Ice",-1]
["IPLAY MAX","Energy ICE",-1]
["IPLAY MAX","GrapeFruit berry",-1]
["IPLAY MAX","GrapeFruit berry",-1]
["IPLAY MAX","Strawberry Lychee",-1]
["IPLAY MAX","Strawberry Lychee",-1]
["IPLAY MAX","Cocumber Lemonade",-1]
["IPLAY MAX","Strawberry Lychee",-1]
["IPLAY MAX","Sour Apple",-1]
["IPLAY MAX","Banana Ice",-1]
["IPLAY MAX","Banana Ice",-1]
["IPLAY MAX","Berry Watermelon",-1]
["IPLAY MAX","Berry Watermelon",-1]
["IPLAY MAX","Coconut",-1]
["IPLAY MAX","Coconut",-1]
["IPLAY MAX","Coconut",-1]
["IPLAY MAX","Coconut",-1]
["IPLAY MAX","Coconut",-1]
["IPLAY MAX","Cocumber Lemonade",-1]
["IPLAY MAX","Cocumber Lemonade",-1]
["IPLAY MAX","Cocumber Lemonade",-1]
["IPLAY MAX","Cocumber Lemonade",-1]
["IPLAY MAX","Energy ICE",-1]
["IPLAY MAX","Energy ICE",-1]
["IPLAY MAX","Energy ICE",-1]
["IPLAY MAX","GrapeFruit berry",-1]
["IPLAY MAX","GrapeFruit berry",-1]
["IPLAY MAX","GrapeFruit berry",-1]
["IPLAY MAX","Guava",-1]
["IPLAY MAX","Guava",-1]
["IPLAY MAX","Guava",-1]
["IPLAY MAX","Guava",-1]
["IPLAY MAX","Lemon cookies",-1]
["IPLAY MAX","Sour Apple",-1]
["IPLAY MAX","Strawberry Lychee",-1]
["IPLAY MAX","Guava",-1]
["IPLAY MAX","Berry Watermelon",-1]
["IPLAY MAX","Coconut",-1]
["IPLAY MAX","Berry Watermelon",-1]
["IPLAY MAX","Berry Watermelon",-1]
["IPLAY MAX","Coconut",-1]
["IPLAY MAX","Coconut",-1]
["IPLAY MAX","Cocumber Lemonade",-1]
["IPLAY MAX","GrapeFruit berry",-1]
["IPLAY MAX","Guava",-1]
["IPLAY MAX","Lemon cookies",-1]
["IPLAY MAX","Strawberry Lychee",-1]
["IPLAY MAX","Strawberry Lychee",-1]
["IPLAY MAX","Strawberry Lychee",-1]
["IPLAY MAX","GrapeFruit berry",-1]
["IPLAY MAX","Berry Watermelon",-1]
["IPLAY MAX","Coconut",-1]
["IPLAY MAX","GrapeFruit berry",-1]
["IPLAY MAX","Strawberry Lychee",-1]
["IPLAY MAX","Low Mint",4]
["IPLAY MAX","Banana Cherry DragonFruit",3]
["IPLAY MAX","Pineapple Orange Guava",5]
["IPLAY MAX","Kiwi Guava Passion Fruit",3]
["IPLAY MAX","Peach Ice",5]
["IPLAY MAX","Cool mint",5]
["IPLAY MAX","Sourraspberry",4]
["IPLAY MAX","Bluerazz",4]
["IPLAY MAX","Strawberry Lychee",4]
["IPLAY MAX","Berry Watermelon",4]
["IPLAY MAX","Guava",4]
["IPLAY MAX","Blueberry Rainbow",3]
["IPLAY MAX","Pineapple Coconut",3]
["IPLAY MAX","Watermelon Banana",5]
["IPLAY MAX","Banana Ice",5]
["IPLAY MAX","Coconut",4]
["IPLAY MAX","Grape Ice",5]
["IPLAY MAX","Sour Apple",-1]
["IPLAY MAX","Sour Apple",-1]
["IPLAY MAX","Cool mint",-1]
["IPLAY MAX","Bluerazz",-1]
["IPLAY MAX","Kiwi Guava Passion Fruit",-1]
["IPLAY MAX","Blueberry Rainbow",-1]
["IPLAY MAX","Pineapple Orange Guava",-1]
["IPLAY MAX","Pineapple Orange Guava",-1]
["IPLAY MAX","Coconut",-1]
["IPLAY MAX","Blueberry Rainbow",-1]
["IPLAY MAX","Berry Watermelon",-1]
["IPLAY MAX","Bluerazz",-1]
["IPLAY MAX","Cool mint",-1]
["IPLAY MAX","Strawberry Lychee",-1]
["IPLAY MAX","Cool mint",-1]
["IPLAY MAX","Sourraspberry",-1]
["IPLAY MAX","Peach Ice",-1]
["IPLAY MAX","Berry Watermelon",-1]
["IPLAY MAX","Peach Ice",-1]
["IPLAY MAX","Kiwi Guava Passion Fruit",-1]
["IPLAY MAX","Bluerazz",-1]
["IPLAY MAX","Pineapple Coconut",-1]
["IPLAY MAX","Banana Cherry DragonFruit",-1]
["IPLAY MAX","Cool mint",-1]
["IPLAY MAX","Berry Watermelon",-1]
["IPLAY MAX","Bluerazz",-1]
["IPLAY MAX","Cool mint",-1]
["IPLAY MAX","Guava",-1]
["IPLAY MAX","Peach Ice",-1]
["IPLAY MAX","Grape Ice",-1]
["IPLAY MAX","Grape Ice",-1]
["IPLAY MAX","Sourraspberry",-1]
["IPLAY MAX","Low Mint",-1]
["IPLAY MAX","Pineapple Orange Guava",-1]
["IPLAY MAX","Blueberry Rainbow",-1]
["IPLAY MAX","Banana Ice",-1]
["IPLAY MAX","Pineapple Coconut",-1]
["IPLAY MAX","Strawberry Lychee",-1]
["IPLAY MAX","Sourraspberry",-1]
["IPLAY MAX","Berry Watermelon",-1]
["IPLAY MAX","Kiwi Guava Passion Fruit",-1]
["IPLAY MAX","Pineapple Coconut",-1]
["IPLAY MAX","Coconut",-1]
["IPLAY MAX","Guava",-1]
["IPLAY MAX","Strawberry Lychee",-1]
["IPLAY MAX","Peach Ice",-1]
["IPLAY MAX","Grape Ice",-1]
["IPLAY MAX","Sourraspberry",-1]
["IPLAY MAX","Low Mint",-1]
["IPLAY MAX","Low Mint",-1]
["IPLAY MAX","Low Mint",-1]
["IPLAY MAX","Banana Cherry DragonFruit",-1]
["IPLAY MAX","Banana Cherry DragonFruit",-1]
["IPLAY MAX","Pineapple Orange Guava",-1]
["IPLAY MAX","Peach Ice",-1]
["IPLAY MAX","Banana Ice",-1]
["IPLAY MAX","Banana Ice",-1]
["IPLAY MAX","Banana Ice",-1]
["IPLAY MAX","Banana Ice",-1]
["IPLAY MAX","Coconut",-1]
["IPLAY MAX","Coconut",-1]
["IPLAY MAX","Guava",-1]
["IPLAY MAX","Strawberry Lychee",-1]
["IPLAY MAX","Grape Ice",-1]
["IPLAY MAX","Grape Ice",-1]
["IPLAY MAX","Pineapple Orange Guava",-1]
["IPLAY MAX","Guava",-1]
["IPLAY MAX","Double mint",2]
["IPLAY MAX","Black Mint",2]
["IPLAY MAX","Sourraspberry",6]
["IPLAY MAX","Cool mint",6]
["IPLAY MAX","Banana Cherry DragonFruit",6]
["IPLAY MAX","Strawberry Lychee",5]
["IPLAY MAX","Berry Watermelon",6]
["IPLAY MAX","Bluerazz",6]
["IPLAY MAX","Peach Berries Ice",6]
["IPLAY MAX","Coconut",6]
["IPLAY MAX","Grape Ice",6]
["IPLAY MAX","Pineapple Orange Guava",6]
["IPLAY MAX","Pineapple Coconut",6]
["IPLAY MAX","Kiwi Guava Passion Fruit",6]
["IPLAY MAX","Blueberry Rainbow",6]
["IPLAY MAX","Mango Strawberry",2]
["IPLAY MAX","Low Mint",6]
["IPLAY MAX","Guava",6]
["IPLAY MAX","Watermelon Banana",-1]
["IPLAY MAX","Watermelon Banana",-1]
["IPLAY MAX","Watermelon Banana",-1]
["IPLAY MAX","Sour Apple",-1]
["IPLAY MAX","Sour Apple",-1]
["IPLAY MAX","Sour Apple",-1]
["IPLAY MAX","Sour Apple",-1]
["IPLAY MAX","Sour Apple",-1]
["IPLAY MAX","Double mint",-1]
["IPLAY MAX","Black Mint",-1]
["IPLAY MAX","Banana Cherry DragonFruit",-1]
["IPLAY MAX","Berry Watermelon",-1]
["IPLAY MAX","Berry Watermelon",-1]
["IPLAY MAX","Peach Berries Ice",-1]
["IPLAY MAX","Coconut",-1]
["IPLAY MAX","Pineapple Coconut",-1]
["IPLAY MAX","Kiwi Guava Passion Fruit",-1]
["IPLAY MAX","Blueberry Rainbow",-1]
["IPLAY MAX","Low Mint",-1]
["IPLAY MAX","Berry Watermelon",-1]
["IPLAY MAX","Berry Watermelon",-1]
["IPLAY MAX","Bluerazz",-1]
["IPLAY MAX","Bluerazz",-1]
["IPLAY MAX","Bluerazz",-1]
["IPLAY MAX","Coconut",-1]
["IPLAY MAX","Coconut",-1]
["IPLAY MAX","Coconut",-1]
["IPLAY MAX","Cool mint",-1]
["IPLAY MAX","Cool mint",-1]
["IPLAY MAX","Cool mint",-1]
["IPLAY MAX","Cool mint",-1]
["IPLAY MAX","Guava",-1]
["IPLAY MAX","Sour Apple",-1]
["IPLAY MAX","Strawberry Lychee",-1]
["IPLAY MAX","Strawberry Lychee",-1]
["IPLAY MAX","Strawberry Lychee",-1]
["IPLAY MAX","Grape Ice",-1]
["IPLAY MAX","Grape Ice",-1]
["IPLAY MAX","Sourraspberry",-1]
["IPLAY MAX","Low Mint",-1]
["IPLAY MAX","Low Mint",-1]
["IPLAY MAX","Low Mint",-1]
["IPLAY MAX","Low Mint",-1]
["IPLAY MAX","Kiwi Guava Passion Fruit",-1]
["IPLAY MAX","Kiwi Guava Passion Fruit",-1]
["IPLAY MAX","Blueberry Rainbow",-1]
["IPLAY MAX","Pineapple Coconut",-1]
["IPLAY MAX","Pineapple Coconut",-1]
["IPLAY MAX","Pineapple Coconut",-1]
["IPLAY MAX","Pineapple Coconut",-1]
["IPLAY MAX","Pineapple Coconut",-1]
["IPLAY MAX","Double mint",-1]
["IPLAY MAX","Black Mint",-1]
["IPLAY MAX","Peach Berries Ice",-1]
["IPLAY MAX","Peach Berries Ice",-1]
["IPLAY MAX","Peach Berries Ice",-1]
["IPLAY MAX","Mango Strawberry",-1]
["IPLAY MAX","Mango Strawberry",-1]
["IPLAY MAX","Berry Watermelon",-1]
["IPLAY MAX","Berry Watermelon",-1]
["IPLAY MAX","Bluerazz",-1]
["IPLAY MAX","Bluerazz",-1]
["IPLAY MAX","Bluerazz",-1]
["IPLAY MAX","Coconut",-1]
["IPLAY MAX","Coconut",-1]
["IPLAY MAX","Cool mint",-1]
["IPLAY MAX","Cool mint",-1]
["IPLAY MAX","Guava",-1]
["IPLAY MAX","Guava",-1]
["IPLAY MAX","Strawberry Lychee",-1]
["IPLAY MAX","Strawberry Lychee",-1]
["IPLAY MAX","Grape Ice",-1]
["IPLAY MAX","Grape Ice",-1]
["IPLAY MAX","Grape Ice",-1]
["IPLAY MAX","Sourraspberry",-1]
["IPLAY MAX","Sourraspberry",-1]
["IPLAY MAX","Sourraspberry",-1]
["IPLAY MAX","Low Mint",-1]
["IPLAY MAX","Banana Cherry DragonFruit",-1]
["IPLAY MAX","Banana Cherry DragonFruit",-1]
["IPLAY MAX","Banana Cherry DragonFruit",-1]
["IPLAY MAX","Pineapple Orange Guava",-1]
["IPLAY MAX","Pineapple Orange Guava",-1]
["IPLAY MAX","Pineapple Orange Guava",-1]
["IPLAY MAX","Kiwi Guava Passion Fruit",-1]
["IPLAY MAX","Kiwi Guava Passion Fruit",-1]
["IPLAY MAX","Kiwi Guava Passion Fruit",-1]
["IPLAY MAX","Blueberry Rainbow",-1]
["IPLAY MAX","Watermelon Banana",-1]
["IPLAY MAX","Watermelon Banana",-1]
["IPLAY MAX","Peach Berries Ice",-1]
["IPLAY MAX","Peach Berries Ice",-1]
["IPLAY MAX","Guava",-1]
["IPLAY MAX","Grape Ice",-1]
["IPLAY MAX","Sourraspberry",-1]
["IPLAY MAX","Blueberry Rainbow",-1]
["IPLAY MAX","Blueberry Rainbow",-1]
["IPLAY MAX","Blueberry Rainbow",-1]
["IPLAY MAX","Cranberry Grape",2]
["IPLAY MAX","Coconut ice",5]
["IPLAY MAX","Cocumber Lemonade",3]
["IPLAY MAX","Cranberry Grape",2]
["IPLAY MAX","Mixed Berries Lemon",6]
["IPLAY MAX","Peach Berries Ice",7]
["IPLAY MAX","Pineapple Coconut",7]
["IPLAY MAX","Coconut",7]
["IPLAY MAX","Mango Ice",4]
["IPLAY MAX","Kiwi Guava Passion Fruit",6]
["IPLAY MAX","Guava",5]
["IPLAY MAX","Banana Cherry DragonFruit",3]
["IPLAY MAX","Pineapple Orange Guava",3]
["IPLAY MAX","Mixed Berries Lemon",1]
["IPLAY MAX","Low Mint",9]
["IPLAY MAX","Coconut",-1]
["IPLAY MAX","Guava",-1]
["IPLAY MAX","Guava",-1]
["IPLAY MAX","Mango ICE",-1]
["IPLAY MAX","Sour Apple",-1]
["IPLAY MAX","Sourraspberry",-1]
["IPLAY MAX","Low Mint",-1]
["IPLAY MAX","Pineapple Orange Guava",-1]
["IPLAY MAX","Kiwi Guava Passion Fruit",-1]
["IPLAY MAX","Pineapple Coconut",-1]
["IPLAY MAX","Peach Berries Ice",-1]
["IPLAY MAX","Cranberry Grape",-1]
["IPLAY MAX","Cranberry Grape",-1]
["IPLAY MAX","Mixed Berries Lemon",-1]
["IPLAY MAX","Mixed Berries Lemon",-1]
["IPLAY BOX","Grape Pear",2]
["IPLAY BOX","Srawberry Lychee",2]
["IPLAY BOX","Watermelon Ice",2]
["IPLAY BOX","Grape Pear",0]
["IPLAY BOX","Grape Pear",-1]
["IPLAY BOX","Grape Pear",-1]
["IPLAY BOX","Srawberry Lychee",-1]
["IPLAY BOX","Srawberry Lychee",-1]
["IPLAY BOX","Watermelon Ice",-1]
["IPLAY BOX","Watermelon Ice",-1]
["IPLAY MAX","Low Mint",-1]
["IPLAY MAX","Low Mint",-1]
["IPLAY MAX","Banana Cherry DragonFruit",-1]
["IPLAY MAX","Banana Cherry DragonFruit",-1]
["IPLAY MAX","Kiwi Guava Passion Fruit",-1]
["IPLAY MAX","Kiwi Guava Passion Fruit",-1]
["IPLAY MAX","Pineapple Coconut",-1]
["IPLAY MAX","Peach Berries Ice",-1]
["IPLAY MAX","Peach Berries Ice",-1]
["IPLAY MAX","Peach Berries Ice",-1]
["IPLAY MAX","Peach Berries Ice",-1]
["IPLAY MAX","Cranberry Grape",-1]
["IPLAY MAX","Cranberry Grape",-1]
["IPLAY MAX","Coconut ice",-1]
["IPLAY MAX","Mixed Berries Lemon",-1]
["IPLAY MAX","Mixed Berries Lemon",-1]
["IPLAY MAX","Coconut",-1]
["IPLAY MAX","Cocumber Lemonade",-1]
["IPLAY MAX","Cocumber Lemonade",-1]
["IPLAY MAX","Cocumber Lemonade",-1]
["IPLAY MAX","Guava",-1]
["IPLAY MAX","Mango ICE",-1]
["IPLAY MAX","Mango ICE",-1]
["IPLAY MAX","Sour Apple",-1]
["IPLAY MAX","Low Mint",-1]
["IPLAY MAX","Pineapple Orange Guava",-1]
["IPLAY MAX","Kiwi Guava Passion Fruit",-1]
["IPLAY MAX","Kiwi Guava Passion Fruit",-1]
["IPLAY MAX","Kiwi Guava Passion Fruit",-1]
["IPLAY MAX","Peach Berries Ice",-1]
["IPLAY MAX","Peach Berries Ice",-1]
["IPLAY MAX","Coconut ice",-1]
["IPLAY MAX","Coconut ice",-1]
["IPLAY MAX","Mixed Berries Lemon",-1]
["IPLAY MAX","Mixed Berries Lemon",-1]
["IPLAY MAX","Coconut",-1]
["IPLAY MAX","Pineapple Orange Guava",-1]
["IPLAY MAX","Pineapple Orange Guava",-1]
["IPLAY MAX","Pineapple Coconut",-1]
["IPLAY MAX","Pineapple Coconut",-1]
["IPLAY MAX","Coconut ice",-1]
["IPLAY MAX","Mixed Berries Lemon",4]
["IPLAY MAX","Peach Berries Ice",4]
["IPLAY MAX","Pineapple Coconut",2]
["IPLAY MAX","Kiwi Guava Passion Fruit",4]
["IPLAY MAX","Cranberry Grape",3]
["IPLAY MAX","Sourraspberry",3]
["IPLAY MAX","Blueberry Rainbow",5]
["IPLAY BOX","Grape Pear",2]
["IPLAY BOX","Watermelon Ice",2]
["IPLAY BOX","Mint",2]
["IPLAY BOX","Peach Mint",2]
["IPLAY MAX","Guava",-1]
["IPLAY MAX","Sour Apple",-1]
["IPLAY MAX","Sourraspberry",-1]
["IPLAY MAX",1,-1]
["IPLAY MAX","Low Mint",-1]
["IPLAY MAX","Banana Cherry DragonFruit",-1]
["IPLAY MAX","Pineapple Orange Guava",-1]
["IPLAY MAX","Blueberry Rainbow",-1]
["IPLAY MAX","Mixed Berries Lemon",-1]
["IPLAY BOX","Grape Pear",-1]
["IPLAY BOX","Grape Pear",-1]
["IPLAY BOX","Mint",-1]
["IPLAY BOX","Mint",-1]
["IPLAY BOX","Peach Mint",-1]
["IPLAY BOX","Peach Mint",-1]
["IPLAY BOX","Watermelon Ice",-1]
["IPLAY BOX","Watermelon Ice",-1]
["IPLAY MAX","Coconut",-1]
["IPLAY MAX","Coconut",-1]
["IPLAY MAX","Guava",-1]
["IPLAY MAX","Guava",-1]
["IPLAY MAX","Guava",-1]
["IPLAY MAX","Mango ICE",-1]
["IPLAY MAX","Sourraspberry",-1]
["IPLAY MAX","Sourraspberry",-1]
["IPLAY MAX","Low Mint",-1]
["IPLAY MAX","Low Mint",-1]
["IPLAY MAX","Low Mint",-1]
["IPLAY MAX","Low Mint",-1]
["IPLAY MAX","Banana Cherry DragonFruit",-1]
["IPLAY MAX","Banana Cherry DragonFruit",-1]
["IPLAY MAX","Pineapple Orange Guava",-1]
["IPLAY MAX","Kiwi Guava Passion Fruit",-1]
["IPLAY MAX","Kiwi Guava Passion Fruit",-1]
["IPLAY MAX","Kiwi Guava Passion Fruit",-1]
["IPLAY MAX","Kiwi Guava Passion Fruit",-1]
["IPLAY MAX","Blueberry Rainbow",-1]
["IPLAY MAX","Blueberry Rainbow",-1]
["IPLAY MAX","Blueberry Rainbow",-1]
["IPLAY MAX","Blueberry Rainbow",-1]
["IPLAY MAX","Pineapple Coconut",-1]
["IPLAY MAX","Pineapple Coconut",-1]
["IPLAY MAX","Pineapple Coconut",-1]
["IPLAY MAX","Pineapple Coconut",-1]
["IPLAY MAX","Pineapple Coconut",-1]
["IPLAY MAX","Peach Berries Ice",-1]
["IPLAY MAX","Peach Berries Ice",-1]
["IPLAY MAX","Peach Berries Ice",-1]
["IPLAY MAX","Peach Berries Ice",-1]
["IPLAY MAX","Cranberry Grape",-1]
["IPLAY MAX","Cranberry Grape",-1]
["IPLAY MAX","Coconut ice",-1]
["IPLAY MAX","Mixed Berries Lemon",-1]
["IPLAY MAX","Mixed Berries Lemon",-1]
["IPLAY MAX","Mixed Berries Lemon",-1]
["IPLAY MAX","Mixed Berries Lemon",-1]
["IPLAY BOX","Mint",4]
["IPLAY BOX","Watermelon Ice",3]
["IPLAY BOX","Grape Pear",2]
["IPLAY BOX","Peach Mint",3]
["IPLAY BOX","Grape Pear",-1]
["IPLAY BOX","Peach Mint",-1]
["IPLAY BOX","Peach Mint",-1]
["IPLAY BOX","Peach Mint",-1]
["IPLAY BOX","Mint",-1]

{"sheet":"Hoja3","index":5,"n_rows":34,"n_cols":12,"rows_kept":34,"cut":false,"hidden":true,"merged":[]}
["Fecha ","(Varios elementos)",null,null,"Fecha","(Varios elementos)",null,null,"Fecha","2022-06-01"]
["Producto","IPLAY MAX",null,null,"Producto","(Todas)",null,null,"Producto","(Todas)"]
[]
["Sabor","Suma de Cantidad",null,null,"Sabor","Suma de Cantidad",null,null,"Sabor","Suma de Cantidad"]
["Berry Watermelon",7,null,null,"Berry Watermelon",72,null,null,"Bluerazz",10]
["Bluerazz",10,null,null,"Bluerazz",62,null,null,"Cool mint",10]
["Coconut",8,null,null,"Cool mint",58,null,null,"GrapeFruit berry",10]
["Cool mint",12,null,null,"GrapeFruit berry",50,null,null,"Grapestraw",10]
["GrapeFruit berry",3,null,null,"Grapestraw",56,null,null,"Guava",10]
["Grapestraw",4,null,null,"Guava",28,null,null,"Peach Ice",10]
["Guava",4,null,null,"Peach Ice",27,null,null,"Sour Apple",10]
["Lemon cookies",1,null,null,"Strawberry Lychee",51,null,null,"Strawberry Lychee",10]
["Peach Ice",10,null,null,"Total general",404,null,null,"Total general",80]
["Sour Apple",2]
["Strawberry Lychee",2]
["Total general",63]
[]
[]
[null,null,null,null,743,"Berry Watermelon",100,{"$f":"VLOOKUP(F19,$A$5:$B$14,2,0)","v":7},{"$f":"VLOOKUP(F19,$E$5:$F$12,2,0)","v":72},{"$f":"VLOOKUP(F19,$I$5:$J$12,2,0)","v":{"$error":"#N/A"}},null,{"$f":"G19-H19-I19","v":21}]
["Berry Watermelon",21,null,null,null,"Bluerazz",100,{"$f":"VLOOKUP(F20,$A$5:$B$14,2,0)","v":10},{"$f":"VLOOKUP(F20,$E$5:$F$12,2,0)","v":62},{"$f":"VLOOKUP(F20,$I$5:$J$12,2,0)","v":10},null,{"$f":"G20-H20-I20-J20","v":18}]
["Bluerazz",18,null,null,null,"Cool mint",80,12,58,10,null,{"$f":"G21-H21-I21-J21","v":0}]
["Coconut",2,null,null,null,"GrapeFruit berry",100,3,50,10,null,{"$f":"G22-H22-I22-J22","v":37}]
["Cocumber Lemonade",0,null,null,null,"Grapestraw",70,4,56,10,null,{"$f":"G23-H23-I23-J23","v":0}]
["Cool mint",0,null,null,null,"Guava",90,4,28,10,null,{"$f":"G24-H24-I24-J24","v":48}]
["Energy ICE",0,null,null,null,"Sour Apple",60,2,{"$f":"VLOOKUP(F25,$E$5:$F$12,2,0)","v":{"$error":"#N/A"}},10,null,{"$f":"G25-H25-J25","v":48}]
["GrapeFruit berry",37,null,null,null,"Strawberry Lychee",80,{"$f":"VLOOKUP(F26,$A$5:$B$15,2,0)","v":2},51,10,null,{"$f":"G26-H26-I26-J26","v":17}]
["Grapestraw",0,null,null,null,"Peach Ice",50,10,27,10,null,{"$f":"G27-H27-I27-J27","v":3}]
["Guava",48,null,null,null,"Coconut",10,8,{"$error":"#N/A"},{"$error":"#N/A"},null,{"$f":"G28-H28","v":2}]
["Lemon cookies",2,null,null,null,null,{"$f":"SUM(G19:G28)","v":740}]
["Lush Ice",0]
["Sour Apple",48]
["Strawberry Lychee",17]
["Peach Ice",3]
["Total general",196]

{"sheet":"Hoja4","index":6,"n_rows":17,"n_cols":10,"rows_kept":17,"cut":false,"hidden":true,"merged":[]}
[null,null,null,"Fecha","(Varios elementos)"]
[]
["Fecha ","(Varios elementos)",null,"Suma de Ventas Totales"]
[null,null,null,70480,null,{"$f":"130*G4","v":59670},{"$f":"404+55","v":459}]
["Suma de Venta Total"]
[13750,null,null,null,null,{"$f":"A6+D4","v":84230}]
[]
[null,null,null,null,null,{"$f":"F6-F4","v":24560}]
[]
[]
[]
[]
[]
[]
[3,null,null,null,null,null,null,null,{"$f":"350*250","v":87500},{"$f":"350*130","v":45500}]
[null,null,null,null,null,null,null,null,null,{"$f":"I15-J15","v":42000}]
[null,null,null,null,null,null,null,{"$f":"194*250","v":48500}]

{"sheet":"Inventario2","index":7,"n_rows":38,"n_cols":15,"rows_kept":38,"cut":false,"hidden":false,"merged":[[1,2,1,3],[1,7,1,8],[1,12,1,13]]}
[]
[null,null,"IPLAY MAX",null,"2014-08-01",null,null,"IPLAY BOX",null,"2014-08-01",null,null,"MASSKING ULTRA"]
[null,null,"Etiquetas de fila","Suma de Cantidad",null,"venta",null,"Etiquetas de fila","Suma de Cantidad","ventas",null,null,"Etiquetas de fila","Suma de Cantidad","ventas"]
[null,null,"Banana Ice",0,null,null,null,"Mint",4,null,"tenia 3 mint y se vendieron, estos 4 son del pedido 14ago",null,"PEACH ICE",1]
[null,null,"Berry Watermelon",0,3,null,null,"Peach Mint",3,null,null,null,"COCONUT",1]
[null,null,"Bluerazz",0,5,null,null,"Watermelon Ice",2,1,null,null,"GRAPE STRAWBERRY",1]
[null,null,"Coconut",2,null,null,null,"Grape Pear",1,null,null,null,"BERRY WATERMELON",2]
[null,null,"Cocumber Lemonade",0,null,null,null,null,null,null,null,null,"TOBACCO",1]
[null,null,"Cool mint",0,5,null,null,null,null,null,null,null,"GUAVA RASPBERRY",2]
[null,null,"Energy ICE",0,5,null,null,null,null,null,null,null,"BLUE RAZZ LEMON",1,1]
[null,null,"GrapeFruit berry",0,null,null,null,null,null,null,null,null,"ENERGY WATER ICE",1]
[null,null,"Grapestraw",0]
[null,null,"Guava",0]
[null,null,"Lemon cookies",0]
[null,null,"Lush Ice",0]
[null,null,"Mango ICE",0]
[null,null,"Sour Apple",37]
[null,null,"Strawberry Lychee",0]
[null,null,"Peach Ice",0]
[null,null,"Grape Ice",0,2,1]
[null,null,"Sourraspberry",0]
[null,null,"Passion Fruit",0]
[null,null,"Low Mint",0]
[null,null,"Banana Cherry DragonFruit",0]
[null,null,"Pineapple Orange Guava",0,3]
[null,null,"Kiwi Guava Passion Fruit",0]
[null,null,"Blueberry Rainbow",0]
[null,null,"Pineapple Coconut",0,2,1]
[null,null,"Watermelon Banana",0]
[null,null,"Double mint",0,4]
[null,null,"Black Mint",0,4]
[null,null,"Peach Berries Ice",0,3]
[null,null,"Mango Strawberry",0]
[null,null,"Cranberry Grape",1]
[null,null,"Coconut ice",0]
[null,null,"Mixed Berries Lemon",0]
[]
[null,null,"Total general",{"$f":"SUM(D4:D37)","v":40},{"$f":"SUM(E4:E37)","v":36},{"$f":"(SUM(F4:F37))*(230)","v":460},null,"Total general",{"$f":"SUM(I4:I37)","v":10},{"$f":"(SUM(J4:J37))*(280)","v":280},null,null,"Total general",{"$f":"(SUM(N4:N37))","v":10},{"$f":"(SUM(O4:O37))*(320)","v":320}]

{"sheet":"Sabores conteo pedido","index":8,"n_rows":60,"n_cols":16,"rows_kept":60,"cut":false,"hidden":false,"merged":[[2,2,35,8],[2,15,35,21],[40,15,62,21]]}
[]
[]
[null,null,"FORMATO IPLAY MAX\nFAVOR DE PONER EL ORDEN DE SABORES EN EL ORDEN DE LA LISTA\n\n\nBLUERRAZ LEMON\nSTRAWBERRY LYCHEE\nBERRY WATERMELON\nGUAVA RASPBERRY\nCOOL MINT\nCOCONUT STRAWBERRY\nLEMON CUCUMBER\nLUSH ICE\nGRAPE ICE\nPEACH ICE\nMANGO ICE\nBANANA ICE\nSOUR RASPBERRY\nGRAPE SODA\nWATERMELON BANANA\nPEACH BERRIES ICE\nRAINBOW CANDY\nPINEAPPLE ORANGE GUAVA\nCOCONUT ICE\nPINEAPPLE COCUNUT\nKIWI GUAVA PASSIONFRUIT\nLOW MINT\nBANANA CHERRY DRAGÓN FRUIT\nROOT BEER\nBLUEBERRY RAINBOW \nCRANBERRY GRAPE\n\nTOTAL DE PIEZAS=",null,null,null,null,null,null,null,null,null,null,null,null,"FORMATO IPLAY MAX\nFAVOR DE PONER EL ORDEN DE SABORES EN EL ORDEN DE LA LISTA\n\n\nGUAVA RASPBERRY\nBLUERRAZ LEMON\nMANGO ICE\nCOCONUT STRAWBERRY\nCUCUMBER LEMONADE\nMIXXED BERRIES \nPEACH BERRIES ICE \nPINNEAPLE ORANGE GUAVA\nCOCO ICE\nPINNEAPLE COCO\nLOW MINT\nKIWI GUAVA\nBANANA CHERRY\nCRANBERRY GRAPEE\nBLUEBERRY RAINBOW\nTOTAL DE PIEZAS="]
[]
[]
[]
[]
[]
[]
[]
[]
[]
[]
[]
[]
[]
[]
[]
[null,null,null,null,null,null,null,null,null,null,null,null,null,4]
[null,null,null,null,null,null,null,null,null,null,null,null,null,4]
[null,null,null,null,null,null,null,null,null,null,3]
[]
[null,null,null,null,null,null,null,null,null,null,null,null,null,2]
[]
[null,null,null,null,null,null,null,null,null,null,null,null,null,4]
[]
[null,null,null,null,null,null,null,null,null,null,null,null,null,3]
[null,null,null,null,null,null,null,null,null,null,null,null,null,5]
[]
[]
[]
[]
[]
[]
[]
[null,null,null,null,null,null,null,null,null,null,{"$f":"SUM(K9:K34)","v":3},null,null,{"$f":"SUM(N7:N35)","v":22}]
[]
[]
[]
[]
[null,null,null,null,null,null,null,null,null,null,null,null,null,null,null,"BOX\nGrape Pear\nStrawberry Lychee \nWatermelon Ice\nAloe Grape\nPineapple\nSour Orange Rasp\nMint\nBlueberry raspberry \nPEACH mint \nWATERMELON bubblegum"]
[]
[]
[]
[]
[]
[]
[null,null,null,null,null,null,null,null,null,null,null,null,null,2]
[]
[null,null,null,null,null,null,null,null,null,null,null,null,null,2]
[]
[]
[]
[null,null,null,null,null,null,null,null,null,null,null,null,null,2]
[]
[null,null,null,null,null,null,null,null,null,null,null,null,null,2]
[]
[]
[]
[null,null,null,null,null,null,null,null,null,null,null,null,null,{"$f":"SUM(N48:N58)","v":8}]

{"sheet":"Promociones","index":9,"n_rows":12,"n_cols":15,"rows_kept":12,"cut":false,"hidden":false,"merged":[[0,1,0,2]]}
[null,"Promoción Menudeo",null,null,null,null,"Tipo","IPLAY MAX",null,"Precio Mayoreo","Cantidad","Precio Venta",null,"Cantidad","Precio C/U"]
["Tipo","Promocion","Descuento",null,null,null,null,null,null,"Precio 1","15-20",195,null,"15-20",185]
["ELF BAR","No aplica",0,null,null,null,"Etiquetas de fila",null,null,"Precio 2","21-30",185,null,"21-30",175]
["IPLAY CUBE","No aplica",0,null,null,null,"$20 Descuento",null,null,"Precio 3","31-40",180,null,"31-40",165]
["IPLAY MAX","No aplica",0,null,null,null,"Descu x Recom",null,null,"Precio 4","41-50",175,null,"41-50",155]
["IPLAX MAX",null,null,null,null,null,"No aplica",null,null,"Precio 5","50-70",170,null,"51-100",145]
["IPLAY MAX","$20 Descuento",20,null,null,null,"Navidad",null,null,"Precio 6",100,150]
["IPLAY MAX","Descu x Recom",null,null,null,null,"Liquidacion de $165",null,null,"Homero",null,150]
["IPLAY MAX","Liquidacion de $165",105,null,null,null,null,null,null,"Gael Mztln",null,145]
["IPLAY MAX","Navidad",80,null,null,null,null,null,null,"MK express",240,130]
[null,null,null,null,null,null,null,null,null,"Hugo Precio",1,167]
[null,null,null,null,null,null,null,null,null,"Precio proveedor",1,130]

{"sheet":"Gastos","index":10,"n_rows":59,"n_cols":11,"rows_kept":59,"cut":false,"hidden":false,"merged":[]}
["Fecha ","Concepto","Monto","Socio","Transferencia","Efectvivo ",null,null,null,null,"Concepto"]
["2022-04-24","Proveedor Torreon",14800,"Julio",14800,null,null,null,null,null,"Abono a capital prestamo"]
["2022-04-24","Gastos Anteriores",23822,"Julio",23822,null,null,null,null,null,"Caja de coco"]
["2022-04-24","Vape Shop",8300,"Julio",8300,null,null,null,null,null,"Cinta canela"]
["2022-04-24","Vape Shop",4355,"Julio",4355,null,null,null,null,null,"Comision Prestamo"]
["2022-04-24","Vape Defectuoso",270,"Julio",270,null,null,null,null,null,"Deposito"]
["2022-04-24","Deposito",12,"Julio",12,null,null,null,null,null,"Descuento Gael"]
["2022-04-24","Proveedor Maza",7900,"Julio",7900,null,null,null,null,null,"Gasolina"]
["2022-04-25","Proveedor Torreon",14600,"Julio",14600,null,null,null,null,null,"Gastos Anteriores"]
["2022-04-25","Perdida",500,"Julio",500,null,null,null,null,null,"Mensaulidad Prestamo"]
["2022-05-05","Proveedor Torreon",14600,"Julio",14600,null,null,null,null,null,"Metro"]
["2022-05-26","Comision Prestamo",4495,"Hugo",4495,null,null,null,null,null,"Pago al prestamo de Hugo"]
["2022-05-26","Mensaulidad Prestamo",1223.6400000000001,"Hugo",1223.6400000000001,null,null,null,null,null,"Papel carbon"]
["2022-05-26","Proveedor GDL",89790,"Hugo",89790,null,null,null,null,null,"Perdida"]
["2022-05-26","Caja de coco",1500,"Hugo",1500,null,null,null,null,null,"Perdida de envio"]
["2022-05-30","Descuento Gael",390,"Julio",390,null,null,null,null,null,"Prestamo a Hugo"]
["2022-05-30","Perdida de envio",152,"Hugo",152,null,null,null,null,null,"Proveedor GDL"]
["2022-05-30","Papel carbon",52,"Hugo",52,null,null,null,null,null,"Proveedor Maza"]
["2022-05-30","Cinta canela",60,"Hugo",60,null,null,null,null,null,"Proveedor Torreon"]
["2022-05-30","Metro",20,"Hugo",20,null,null,null,null,null,"Vape De cumpleaños"]
["2022-05-30","Gasolina",150,"Hugo",150,null,null,null,null,null,"Vape Defectuoso"]
["2022-05-30","Prestamo a Hugo",6494,"Hugo",6494,null,null,null,null,null,"Vape Shop"]
["2022-06-02","Prestamo a Hugo",1500,"Hugo",1500]
["2022-06-02","Mensaulidad Prestamo",3125,"Hugo",3125]
["2022-06-02","Abono a capital prestamo",17047,"Hugo",17047]
["2022-06-02","Gasolina",100,"Hugo",100]
["2022-06-17","Mensaulidad Prestamo",2759,"Hugo",2759]
["2022-06-17","Pago al prestamo de Hugo",-7994,"Hugo",-7994]
["2022-06-26","Vape De cumpleaños",250,"Hugo",250]
["2022-06-27","Proveedor Torreon",21175,"Hugo",21175]
["2022-07-02","Mensaulidad Prestamo",2752,"Hugo",2752]
["2022-07-20","Mensaulidad Prestamo",2689,"Hugo",2689]
["2022-08-04","Mensaulidad Prestamo",2691,"Hugo",2691]
["2022-08-18","Vape Defectuoso",250,"Hugo",250]
["2022-08-18","Mensaulidad Prestamo",2676,"Hugo",2676]
["2022-09-02","Proveedor Torreon",9970,"Hugo",9970]
["2022-09-02","Mensaulidad Prestamo",2715,"Hugo",2715]
["2022-09-14","Gasolina",100,"Hugo",100]
["2022-09-18","Mensaulidad Prestamo",2696,"Hugo",2696]
["2022-10-03","Mensaulidad Prestamo",2686,"Hugo",2686]
["2022-10-05","Proveedor Torreon",7580,"Hugo",7580]
["2022-10-05","Vape De cumpleaños",500,"Hugo",500]
["2022-10-18","Mensaulidad Prestamo",2884,"Hugo",null,2884]
["2022-11-01","Mensaulidad Prestamo",2722,"Hugo",2722]
["2022-11-20","Mensaulidad Prestamo",2708,"Hugo",2708]
["2022-12-03","Mensaulidad Prestamo",2695,"Hugo",2695]
["2022-12-16","Mensaulidad Prestamo",2693,"Hugo",2693]
["2023-01-24","Mensaulidad Prestamo",2736,"Hugo",2736]
["2023-01-24","Mensaulidad Prestamo",2718,"Hugo",2718]
["2023-02-17","Mensaulidad Prestamo",2723,"Hugo",2723]
["2023-02-17","Mensaulidad Prestamo",2701,"Hugo",2701]
["2023-03-01","Proveedor Torreon",9400,"Hugo",9400]
["2023-03-05","Mensaulidad Prestamo",2631,"Hugo",2631]
["2023-03-18","Mensaulidad Prestamo",2690,"Hugo",2690]
["2023-03-18","Proveedor Torreon",12650,"Hugo",12650]
["2023-04-10","Mensaulidad Prestamo",2714,"Hugo",2714]
["2023-04-16","Proveedor Torreon",10540,"Hugo",10540]
["2023-04-20","Mensaulidad Prestamo",2716,"Hugo",2716]
[null,null,{"$f":"SUM(Gastos[Monto])","v":336673.64},null,{"$f":"SUBTOTAL(109,Gastos[Transferencia])","v":333789.64},{"$f":"SUBTOTAL(109,Gastos[[Efectvivo ]])","v":2884}]

{"sheet":"Deudores","index":11,"n_rows":13,"n_cols":11,"rows_kept":13,"cut":false,"hidden":false,"merged":[]}
["Fecha","Pendientes de pago","Concepto","Cantidad",null,null,null,"Fecha","Pendientes de pago","Concepto","Cantidad"]
[{"$f":"TODAY()","v":"2023-09-14"},"Natalia","IPLAY MAX",250,null,null,null,"2022-06-16","Jorge","IPLAY MAX",250]
[{"$f":"TODAY()","v":"2023-09-14"},"Amaya ","IPLAY MAX",250]
[{"$f":"TODAY()","v":"2023-09-14"},"Copetin ","IPLAX MAX",250,null,null,null,"2022-06-02","Emilio","IPLAY MAX",250]
[]
[]
[]
[]
[]
[]
[]
[]
[null,null,null,{"$f":"SUM(Deudores[Cantidad])","v":750},null,null,null,null,null,null,{"$f":"SUM(DeudoresHugo[Cantidad])","v":500}]

{"sheet":"Caja&Banco","index":12,"n_rows":993,"n_cols":13,"rows_kept":993,"cut":false,"hidden":false,"merged":[]}
["Fecha ","Socio ","Concepto","Tranferencia ","Efectivo",null,null,"IPLAY MAX","Concepto"]
[{"$f":"TODAY()","v":"2023-09-14"},"Julio","Deudores",{"$f":"-SUM(Deudores!D2:D12)","v":-750},null,null,null,null,"Abono a capital prestamo"]
["2022-05-30","Hugo","Deudores",{"$f":"-DeudoresHugo[[#Totals],[Cantidad]]","v":-500},null,null,null,null,"Caja de coco",null,null,"Etiquetas de fila","Suma de Total"]
["2022-04-25","Hugo","IPLAY MAX",null,270,null,null,null,"Capital Inicial (Julio Hugo)",null,null,"Capital Inicial (Julio Hugo)",3462]
["2022-04-25","Julio","Ventas anteriores",72670,null,null,null,null,"Cinta canela",null,null,"Deposito a banco",5400]
["2022-04-25","Julio","Ventas mayoreo",8500,null,null,null,null,"Comision Prestamo",null,null,"Deposito de Hugo",21863]
["2022-04-25","Julio","Gastos Anteriores",-74059,null,null,null,null,"Deposito a banco",null,null,"Deudores",-1250]
["2022-04-25","Julio","Perdida",-500,null,null,null,null,"Deposito a Julio",null,null,"Gastos Anteriores",-74059]
["2022-04-25","Julio","Reparto de utilidades",-8626,null,null,null,null,"Deposito a Mazatlan",null,null,"IPLAY MAX",262281]
["2022-04-25","Julio","Capital Inicial (Julio Hugo)",3462,null,null,null,null,"Deposito de Hugo",null,null,"Perdida",-5500]
["2022-04-25","Julio","IPLAY MAX",250,null,null,null,null,"Descuento Gael",null,null,"Proveedor Torreon",-85915]
["2022-04-26","Hugo","IPLAY MAX",null,260,null,null,null,"Deudores",null,null,"Reparto de utilidades",-8626]
["2022-04-26","Hugo","IPLAY MAX",null,270,null,null,null,"Gasolina",null,null,"Transferencia a banco",-26260]
["2022-04-26","Julio","IPLAY MAX",270,null,null,null,null,"Gastos Anteriores",null,null,"Transferencia Julio",-1503]
["2022-04-26","Julio","IPLAY MAX",540,null,null,null,null,"IPLAY MAX",null,null,"Ventas anteriores",72670]
["2022-04-26","Hugo","IPLAY MAX",null,270,null,null,null,"Mensaulidad Prestamo",null,null,"Ventas mayoreo",8500]
["2022-04-26","Hugo","IPLAY MAX",null,270,null,null,null,"Metro",null,null,"Ventas maza",40070]
["2022-04-26","Julio","IPLAY MAX",270,null,null,null,null,"Pago a hugo",null,null,"Pago a hugo",0]
["2022-04-27","Hugo","IPLAY MAX",270,null,null,null,null,"Pago al prestamo de Hugo",null,null,"Reparto de utilidad",-102409]
["2022-04-27","Hugo","IPLAY MAX",null,270,null,null,null,"Papel carbon",null,null,"Prestamo",155000]
["2022-04-27","Hugo","IPLAY MAX",null,270,null,null,null,"Perdida",null,null,"Comision Prestamo",-4495]
["2022-04-27","Hugo","IPLAY MAX",null,270,null,null,null,"Perdida de envio",null,null,"Mensaulidad Prestamo",-61343.64]
["2022-04-27","Julio","IPLAY MAX",250,null,null,null,null,"Prestamo",null,null,"Proveedor GDL",-89790]
["2022-04-27","Hugo","IPLAY MAX",270,null,null,null,null,"Prestamo a Hugo",null,null,"Caja de coco",-1500]
["2022-04-27","Hugo","IPLAY MAX",null,270,null,null,null,"Proveedor GDL",null,null,"Descuento Gael",-390]
["2022-04-28","Julio","IPLAY MAX",null,250,null,null,null,"Proveedor Torreon",null,null,"Perdida de envio",-152]
["2022-04-28","Julio","IPLAY MAX",250,null,null,null,null,"Reparto de utilidad",null,null,"Papel carbon",-52]
["2022-04-28","Julio","IPLAY MAX",null,250,null,null,null,"Reparto de utilidades",null,null,"Cinta canela",-60]
["2022-04-28","Hugo","IPLAY MAX",250,null,null,null,null,"Transferencia a banco",null,null,"Metro",-20]
["2022-04-28","Hugo","IPLAY MAX",250,null,null,null,null,"Transferencia Julio",null,null,"Gasolina",-350]
["2022-04-28","Julio","IPLAY MAX",250,null,null,null,null,"Vape De cumpleaños",null,null,"Prestamo a Hugo",-7994]
["2022-04-28","Hugo","IPLAY MAX",null,250,null,null,null,"Vape Defectuoso",null,null,"Abono a capital prestamo",-17047]
["2022-04-28","Julio","IPLAY MAX",null,250,null,null,null,"Ventas anteriores",null,null,"Pago al prestamo de Hugo",7994]
["2022-04-28","Julio","IPLAY MAX",null,250,null,null,null,"Ventas mayoreo",null,null,"Deposito a Julio",500]
["2022-04-28","Julio","IPLAY MAX",250,null,null,null,null,"Ventas maza",null,null,"Deposito a Mazatlan",-27250]
["2022-04-28","Julio","IPLAY MAX",null,250,null,null,null,null,null,null,"Vape De cumpleaños",-500]
["2022-04-28","Julio","IPLAY MAX",240,null,null,null,null,null,null,null,"Vape Defectuoso",0]
["2022-04-28","Julio","IPLAY MAX",250,null,null,null,null,null,null,null,"Descuento Amaya",-450]
["2022-04-28","Julio","IPLAY MAX",250,null,null,null,null,null,null,null,"IPLAY BOX",4940]
["2022-04-29","Julio","IPLAY MAX",250,null,null,null,null,null,null,null,"Total general",65764.359999999986]
["2022-04-29","Julio","IPLAY MAX",250]
["2022-04-29","Julio","IPLAY MAX",250]
["2022-04-29","Julio","IPLAY MAX",null,250]
["2022-04-29","Julio","IPLAY MAX",null,250]
["2022-04-29","Julio","IPLAY MAX",null,250]
["2022-04-29","Julio","IPLAY MAX",250]
["2022-04-29","Julio","IPLAY MAX",null,250]
["2022-04-30","Hugo","IPLAY MAX",250]
["2022-04-30","Hugo","IPLAY MAX",250]
["2022-04-30","Julio","IPLAY MAX",250]
["2022-04-30","Julio","Transferencia a banco",null,-500]
["2022-04-30","Julio","Deposito a banco",500]
["2022-04-30","Julio","IPLAY MAX",250]
["2022-04-30","Julio","IPLAY MAX",null,250]
["2022-04-30","Julio","IPLAY MAX",null,250]
["2022-04-30","Hugo","IPLAY MAX",null,250]
["2022-04-30","Julio","IPLAY MAX",250]
["2022-05-01","Hugo","IPLAY MAX",null,250]
["2022-05-01","Julio","IPLAY MAX",null,250]
["2022-05-01","Julio","IPLAY MAX",null,250]
["2022-05-02","Julio","IPLAY MAX",null,250]
["2022-05-02","Julio","Transferencia a banco",null,-2200]
["2022-05-02","Julio","Deposito a banco",2200]
["2022-05-02","Julio","IPLAY MAX",null,250]
["2022-05-02","Julio","IPLAY MAX",null,250]
["2022-05-02","Julio","IPLAY MAX",250]
["2022-05-02","Julio","IPLAY MAX",null,250]
["2022-05-02","Julio","IPLAY MAX",250]
["2022-05-02","Hugo","IPLAY MAX",null,250]
["2022-05-02","Julio","IPLAY MAX",250]
["2022-05-03","Julio","IPLAY MAX",250]
["2022-05-03","Julio","IPLAY MAX",250]
["2022-05-03","Hugo","IPLAY MAX",null,250]
["2022-05-03","Julio","IPLAY MAX",null,250]
["2022-05-03","Julio","IPLAY MAX",null,250]
["2022-05-03","Julio","IPLAY MAX",null,250]
["2022-05-03","Julio","IPLAY MAX",240]
["2022-05-03","Julio","IPLAY MAX",250]
["2022-05-04","Julio","IPLAY MAX",null,250]
["2022-05-04","Julio","IPLAY MAX",null,250]
["2022-05-04","Hugo","IPLAY MAX",250]
["2022-05-04","Julio","IPLAY MAX",250]
["2022-05-04","Julio","IPLAY MAX",250]
["2022-05-04","Hugo","IPLAY MAX",250]
["2022-05-04","Julio","Transferencia a banco",null,-2646]
["2022-05-04","Julio","Deposito a banco",2646]
["2022-05-05","Julio","Ventas maza",1930]
["2022-05-05","Hugo","Transferencia Julio",-1003]
["2022-05-05","Julio","Deposito de Hugo",1003]
["2022-05-05","Julio","Proveedor Torreon",-14600]
["2022-05-05","Hugo","IPLAY MAX",null,250]
["2022-05-06","Julio","IPLAY MAX",250]
["2022-05-06","Julio","IPLAY MAX",null,250]
["2022-05-06","Julio","IPLAY MAX",250]
["2022-05-06","Hugo","IPLAY MAX",250]
["2022-05-06","Julio","IPLAY MAX",250]
["2022-05-06","Julio","IPLAY MAX",250]
["2022-05-06","Julio","IPLAY MAX",null,3000]
["2022-05-06","Julio","IPLAY MAX",null,3000]
["2022-05-06","Julio","IPLAY MAX",null,3000]
["2022-05-06","Julio","IPLAY MAX",null,3000]
["2022-05-06","Julio","IPLAY MAX",null,3000]
["2022-05-06","Julio","IPLAY MAX",250]
["2022-05-06","Julio","IPLAY MAX",250]
["2022-05-06","Hugo","IPLAY MAX",null,250]
["2022-05-06","Julio","Transferencia a banco",null,-54]
["2022-05-06","Julio","Deposito a banco",54]
["2022-05-06","Julio","IPLAY MAX",240]
["2022-05-07","Hugo","IPLAY MAX",250]
["2022-05-07","Julio","IPLAY MAX",250]
["2022-05-08","Julio","IPLAY MAX",250]
["2022-05-08","Julio","IPLAY MAX",250]
["2022-05-08","Julio","IPLAY MAX",250]
["2022-05-08","Julio","IPLAY MAX",null,250]
["2022-05-09","Julio","IPLAY MAX",null,250]
["2022-05-09","Julio","IPLAY MAX",null,250]
["2022-05-09","Julio","IPLAY MAX",null,250]
["2022-05-09","Julio","IPLAY MAX",null,250]
["2022-05-09","Julio","IPLAY MAX",250]
["2022-05-09","Julio","IPLAY MAX",250]
["2022-05-09","Julio","IPLAY MAX",null,250]
["2022-05-09","Julio","Ventas maza",1020]
["2022-05-10","Julio","Perdida",null,-5000]
["2022-05-10","Julio","Pago a hugo",null,-5951]
["2022-05-10","Hugo","Pago a hugo",null,5951]
["2022-05-10","Hugo","Reparto de utilidad",null,-10121]
["2022-05-10","Hugo","Reparto de utilidad",-1537]
["2022-05-10","Julio","Reparto de utilidad",null,-5899]
["2022-05-10","Julio","Reparto de utilidad",-5760]
["2022-05-10","Julio","IPLAY MAX",null,250]
["2022-05-10","Julio","IPLAY MAX",250]
["2022-05-10","Julio","IPLAY MAX",null,250]
["2022-05-10","Julio","IPLAY MAX",240]
["2022-05-11","Julio","IPLAY MAX",240]
["2022-05-18","Julio","IPLAY MAX",250]
["2022-05-25","Hugo","Prestamo",155000]
["2022-05-26","Hugo","Comision Prestamo",-4495]
["2022-05-26","Hugo","Mensaulidad Prestamo",-1223.6400000000001]
["2022-05-26","Hugo","Proveedor GDL",-89790]
["2022-05-26","Hugo","Caja de coco",-1500]
["2022-05-26","Julio","IPLAY MAX",250]
["2022-05-26","Hugo","IPLAY MAX",250]
["2022-05-30","Julio","IPLAY MAX",250]
["2022-05-30","Hugo","IPLAY MAX",250]
["2022-05-30","Hugo","IPLAY MAX",250]
["2022-05-30","Hugo","IPLAY MAX",250]
["2022-05-30","Hugo","IPLAY MAX",250]
["2022-05-30","Hugo","IPLAY MAX",250]
["2022-05-30","Hugo","IPLAY MAX",250]
["2022-05-30","Julio","IPLAY MAX",250]
["2022-05-30","Hugo","IPLAY MAX",250]
["2022-05-30","Hugo","IPLAY MAX",250]
["2022-05-30","Hugo","IPLAY MAX",250]
["2022-05-30","Hugo","IPLAY MAX",250]
["2022-05-30","Hugo","IPLAY MAX",250]
["2022-05-30","Hugo","IPLAY MAX",250]
["2022-05-30","Hugo","IPLAY MAX",250]
["2022-05-30","Hugo","IPLAY MAX",250]
["2022-05-30","Hugo","IPLAY MAX",250]
["2022-05-30","Hugo","IPLAY MAX",250]
["2022-05-30","Hugo","IPLAY MAX",250]
["2022-05-30","Hugo","IPLAY MAX",250]
["2022-05-30","Hugo","IPLAY MAX",250]
["2022-05-30","Hugo","IPLAY MAX",250]
["2022-05-30","Hugo","IPLAY MAX",250]
["2022-05-30","Hugo","IPLAY MAX",250]
["2022-05-30","Hugo","IPLAY MAX",250]
["2022-05-30","Hugo","IPLAY MAX",250]
["2022-05-30","Hugo","IPLAY MAX",250]
["2022-05-30","Hugo","IPLAY MAX",250]
["2022-05-30","Hugo","IPLAY MAX",3000]
["2022-05-30","Hugo","IPLAY MAX",3000]
["2022-05-30","Hugo","IPLAY MAX",3000]
["2022-05-30","Hugo","IPLAY MAX",3000]
["2022-05-30","Hugo","IPLAY MAX",3000]
["2022-05-30","Julio","IPLAY MAX",1740]
["2022-05-30","Julio","IPLAY MAX",1160]
["2022-05-30","Julio","IPLAY MAX",2030]
["2022-05-30","Julio","IPLAY MAX",2610]
["2022-05-30","Julio","IPLAY MAX",1740]
["2022-05-30","Julio","Descuento Gael",-390]
["2022-05-30","Hugo","Perdida de envio",-152]
["2022-05-30","Hugo","Papel carbon",-52]
["2022-05-30","Hugo","Cinta canela",-60]
["2022-05-30","Hugo","Metro",-20]
["2022-05-30","Hugo","Gasolina",-150]
["2022-05-30","Hugo","Prestamo a Hugo",-6494]
["2022-06-02","Hugo","IPLAY MAX",250]
["2022-06-02","Hugo","IPLAY MAX",250]
["2022-06-02","Hugo","IPLAY MAX",250]
["2022-06-02","Hugo","IPLAY MAX",250]
["2022-06-02","Hugo","IPLAY MAX",250]
["2022-06-02","Hugo","IPLAY MAX",250]
["2022-06-02","Hugo","IPLAY MAX",250]
["2022-06-02","Hugo","IPLAY MAX",250]
["2022-06-02","Hugo","IPLAY MAX",250]
["2022-06-02","Hugo","IPLAY MAX",250]
["2022-06-02","Hugo","IPLAY MAX",250]
["2022-06-02","Hugo","IPLAY MAX",250]
["2022-06-02","Hugo","IPLAY MAX",250]
["2022-06-02","Hugo","IPLAY MAX",250]
["2022-06-02","Hugo","IPLAY MAX",250]
["2022-06-02","Hugo","IPLAY MAX",250]
["2022-06-02","Hugo","IPLAY MAX",250]
["2022-06-02","Hugo","IPLAY MAX",250]
["2022-06-02","Hugo","IPLAY MAX",250]
["2022-06-02","Hugo","IPLAY MAX",250]
["2022-06-02","Hugo","IPLAY MAX",250]
["2022-06-02","Hugo","IPLAY MAX",250]
["2022-06-02","Hugo","IPLAY MAX",250]
["2022-06-02","Hugo","Prestamo a Hugo",-1500]
["2022-06-02","Hugo","Mensaulidad Prestamo",-3125]
["2022-06-02","Hugo","Abono a capital prestamo",-17047]
["2022-06-02","Hugo","Gasolina",-100]
["2022-06-03","Hugo","IPLAY MAX",250]
["2022-06-03","Hugo","IPLAY MAX",250]
["2022-06-03","Hugo","IPLAY MAX",null,3510]
["2022-06-03","Hugo","IPLAY MAX",null,5200]
["2022-06-03","Hugo","IPLAY MAX",null,4810]
["2022-06-03","Hugo","IPLAY MAX",null,4030]
["2022-06-03","Hugo","IPLAY MAX",null,2860]
["2022-06-03","Hugo","IPLAY MAX",null,2600]
["2022-06-03","Hugo","IPLAY MAX",null,3900]
["2022-06-03","Hugo","IPLAY MAX",null,3900]
["2022-06-03","Hugo","IPLAY MAX",null,390]
["2022-06-06","Hugo","IPLAY MAX",250]
["2022-06-06","Hugo","IPLAY MAX",250]
["2022-06-06","Hugo","IPLAY MAX",250]
["2022-06-06","Hugo","IPLAY MAX",250]
["2022-06-06","Hugo","IPLAY MAX",250]
["2022-06-06","Hugo","IPLAY MAX",250]
["2022-06-06","Hugo","IPLAY MAX",250]
["2022-06-06","Hugo","IPLAY MAX",250]
["2022-06-16","Hugo","IPLAY MAX",250]
["2022-06-16","Hugo","IPLAY MAX",250]
["2022-06-16","Hugo","IPLAY MAX",250]
["2022-06-16","Hugo","IPLAY MAX",250]
["2022-06-16","Hugo","IPLAY MAX",250]
["2022-06-16","Hugo","IPLAY MAX",250]
["2022-06-16","Hugo","IPLAY MAX",250]
["2022-06-16","Hugo","IPLAY MAX",250]
["2022-06-16","Hugo","IPLAY MAX",250]
["2022-06-16","Hugo","IPLAY MAX",250]
["2022-06-16","Hugo","IPLAY MAX",250]
["2022-06-16","Hugo","IPLAY MAX",250]
["2022-06-16","Hugo","IPLAY MAX",250]
["2022-06-16","Hugo","IPLAY MAX",250]
["2022-06-16","Hugo","IPLAY MAX",250]
["2022-06-16","Hugo","IPLAY MAX",250]
["2022-06-16","Hugo","IPLAY MAX",250]
["2022-06-16","Hugo","IPLAY MAX",250]
["2022-06-16","Hugo","IPLAY MAX",250]
["2022-06-16","Hugo","IPLAY MAX",250]
["2022-06-16","Hugo","IPLAY MAX",250]
["2022-06-16","Hugo","IPLAY MAX",250]
["2022-06-17","Hugo","IPLAY MAX",250]
["2022-06-17","Hugo","IPLAY MAX",250]
["2022-06-17","Hugo","IPLAY MAX",250]
["2022-06-17","Hugo","IPLAY MAX",250]
["2022-06-17","Hugo","IPLAY MAX",250]
["2022-06-17","Hugo","Mensaulidad Prestamo",-2759]
["2022-06-17","Hugo","Pago al prestamo de Hugo",7994]
["2022-06-17","Julio","Ventas maza",9149]
["2022-06-17","Hugo","Deposito de Hugo",31200]
["2022-06-17","Hugo","Transferencia a banco",null,-31200]
["2022-06-17","Julio","Transferencia Julio",null,-500]
["2022-06-17","Julio","Deposito a Julio",500]
["2022-06-17","Julio","Deposito de Hugo",-10340]
["2022-06-17","Hugo","Transferencia a banco",10340]
["2022-06-17","Julio","Reparto de utilidad",-9919]
["2022-06-17","Hugo","Reparto de utilidad",-9919]
["2022-06-20","Hugo","IPLAY MAX",250]
["2022-06-20","Hugo","IPLAY MAX",250]
["2022-06-20","Hugo","IPLAY MAX",250]
["2022-06-20","Hugo","IPLAY MAX",250]
["2022-06-20","Hugo","IPLAY MAX",250]
["2022-06-20","Hugo","IPLAY MAX",250]
["2022-06-20","Hugo","IPLAY MAX",250]
["2022-06-20","Hugo","IPLAY MAX",250]
["2022-06-20","Hugo","IPLAY MAX",250]
["2022-06-20","Hugo","IPLAY MAX",250]
["2022-06-23","Hugo","Deposito a Mazatlan",-27250]
["2022-06-26","Hugo","IPLAY MAX",250]
["2022-06-26","Hugo","IPLAY MAX",250]
["2022-06-26","Hugo","IPLAY MAX",250]
["2022-06-26","Hugo","IPLAY MAX",250]
["2022-06-26","Hugo","IPLAY MAX",250]
["2022-06-26","Hugo","IPLAY MAX",250]
["2022-06-26","Hugo","IPLAY MAX",250]
["2022-06-26","Hugo","IPLAY MAX",250]
["2022-06-26","Hugo","IPLAY MAX",250]
["2022-06-26","Hugo","IPLAY MAX",250]
["2022-06-26","Hugo","IPLAY MAX",250]
["2022-06-26","Hugo","IPLAY MAX",250]
["2022-06-26","Hugo","IPLAY MAX",250]
["2022-06-26","Hugo","IPLAY MAX",250]
["2022-06-26","Hugo","IPLAY MAX",250]
["2022-06-26","Hugo","IPLAY MAX",250]
["2022-06-26","Hugo","IPLAY MAX",250]
["2022-06-26","Hugo","IPLAY MAX",250]
["2022-06-26","Hugo","Vape De cumpleaños",-250]
["2022-06-26","Hugo","IPLAY MAX",250]
["2022-06-26","Hugo","IPLAY MAX",250]
["2022-06-27","Hugo","Proveedor Torreon",-21175]
["2022-07-02","Hugo","IPLAY MAX",250]
["2022-07-02","Hugo","IPLAY MAX",250]
["2022-07-02","Hugo","IPLAY MAX",250]
["2022-07-02","Hugo","IPLAY MAX",250]
["2022-07-02","Hugo","IPLAY MAX",250]
["2022-07-02","Hugo","IPLAY MAX",250]
["2022-07-02","Hugo","IPLAY MAX",250]
["2022-07-02","Hugo","IPLAY MAX",250]
["2022-07-02","Hugo","IPLAY MAX",250]
["2022-07-02","Hugo","IPLAY MAX",250]
["2022-07-02","Hugo","IPLAY MAX",250]
["2022-07-02","Hugo","IPLAY MAX",250]
["2022-07-02","Hugo","IPLAY MAX",250]
["2022-07-02","Hugo","IPLAY MAX",250]
["2022-07-02","Hugo","IPLAY MAX",250]
["2022-07-02","Hugo","IPLAY MAX",250]
["2022-07-02","Hugo","IPLAY MAX",250]
["2022-07-02","Hugo","IPLAY MAX",250]
["2022-07-02","Hugo","IPLAY MAX",250]
["2022-07-02","Hugo","IPLAY MAX",250]
["2022-07-02","Hugo","IPLAY MAX",250]
["2022-07-02","Hugo","IPLAY MAX",250]
["2022-07-02","Hugo","IPLAY MAX",250]
["2022-07-02","Hugo","IPLAY MAX",250]
["2022-07-02","Hugo","IPLAY MAX",250]
["2022-07-02","Hugo","Mensaulidad Prestamo",-2752]
["2022-07-02","Hugo","IPLAY MAX",250]
["2022-07-02","Hugo","IPLAY MAX",250]
["2022-07-06","Hugo","IPLAY MAX",250]
["2022-07-06","Hugo","IPLAY MAX",250]
["2022-07-06","Hugo","IPLAY MAX",250]
["2022-07-06","Hugo","IPLAY MAX",250]
["2022-07-06","Hugo","IPLAY MAX",250]
["2022-07-06","Hugo","IPLAY MAX",250]
["2022-07-06","Hugo","IPLAY MAX",250]
["2022-07-06","Hugo","IPLAY MAX",250]
["2022-07-06","Hugo","IPLAY MAX",250]
["2022-07-06","Hugo","IPLAY MAX",250]
["2022-07-06","Hugo","IPLAY MAX",250]
["2022-07-06","Hugo","IPLAY MAX",250]
["2022-07-06","Hugo","IPLAY MAX",250]
["2022-07-06","Hugo","IPLAY MAX",250]
["2022-07-06","Hugo","IPLAY MAX",250]
["2022-07-11","Hugo","IPLAY MAX",250]
["2022-07-14","Hugo","IPLAY MAX",250]
["2022-07-14","Hugo","IPLAY MAX",250]
["2022-07-14","Hugo","IPLAY MAX",250]
["2022-07-14","Hugo","IPLAY MAX",250]
["2022-07-14","Hugo","IPLAY MAX",250]
["2022-07-14","Hugo","IPLAY MAX",250]
["2022-07-14","Hugo","IPLAY MAX",250]
["2022-07-14","Hugo","IPLAY MAX",250]
["2022-07-14","Hugo","IPLAY MAX",250]
["2022-07-14","Hugo","IPLAY MAX",250]
["2022-07-14","Hugo","IPLAY MAX",250]
["2022-07-14","Hugo","IPLAY MAX",250]
["2022-07-14","Hugo","IPLAY MAX",250]
["2022-07-14","Hugo","IPLAY MAX",250]
["2022-07-14","Hugo","IPLAY MAX",250]
["2022-07-14","Hugo","IPLAY MAX",250]
["2022-07-14","Hugo","IPLAY MAX",250]
["2022-07-14","Hugo","IPLAY MAX",250]
["2022-07-14","Hugo","IPLAY MAX",250]
["2022-07-14","Hugo","IPLAY MAX",250]
["2022-07-14","Hugo","IPLAY MAX",250]
["2022-07-14","Hugo","IPLAY MAX",250]
["2022-07-14","Hugo","IPLAY MAX",250]
["2022-07-14","Hugo","IPLAY MAX",250]
["2022-07-14","Hugo","IPLAY MAX",250]
["2022-07-14","Hugo","IPLAY MAX",250]
["2022-07-14","Hugo","IPLAY MAX",250]
["2022-07-14","Hugo","IPLAY MAX",250]
["2022-07-14","Hugo","IPLAY MAX",250]
["2022-07-14","Hugo","IPLAY MAX",250]
["2022-07-14","Hugo","IPLAY MAX",250]
["2022-07-14","Hugo","IPLAY MAX",250]
["2022-07-14","Hugo","IPLAY MAX",250]
["2022-07-14","Hugo","IPLAY MAX",250]
["2022-07-14","Hugo","IPLAY MAX",250]
["2022-07-14","Hugo","IPLAY MAX",250]
["2022-07-14","Hugo","IPLAY MAX",250]
["2022-07-14","Hugo","IPLAY MAX",250]
["2022-07-14","Hugo","IPLAY MAX",250]
["2022-07-14","Hugo","IPLAY MAX",250]
["2022-07-14","Hugo","IPLAY MAX",250]
["2022-07-14","Hugo","IPLAY MAX",250]
["2022-07-15","Hugo","IPLAY MAX",250]
["2022-07-15","Hugo","IPLAY MAX",250]
["2022-07-15","Hugo","IPLAY MAX",250]
["2022-07-15","Hugo","IPLAY MAX",250]
["2022-07-15","Hugo","IPLAY MAX",250]
["2022-07-15","Hugo","IPLAY MAX",250]
["2022-07-20","Hugo","Mensaulidad Prestamo",-2689]
["2022-08-04","Hugo","Mensaulidad Prestamo",-2691]
["2022-08-15","Hugo","IPLAY MAX",250]
["2022-08-15","Hugo","IPLAY MAX",250]
["2022-08-15","Hugo","IPLAY MAX",250]
["2022-08-15","Hugo","IPLAY MAX",250]
["2022-08-15","Hugo","IPLAY MAX",250]
["2022-08-15","Hugo","IPLAY MAX",250]
["2022-08-16","Hugo","IPLAY MAX",null,250]
["2022-08-16","Hugo","IPLAY MAX",250]
["2022-08-16","Hugo","IPLAY MAX",250]
["2022-08-16","Hugo","IPLAY MAX",250]
["2022-08-16","Hugo","IPLAY MAX",250]
["2022-08-17","Hugo","IPLAY MAX",250]
["2022-08-17","Hugo","IPLAY MAX",250]
["2022-08-17","Hugo","IPLAY MAX",250]
["2022-08-17","Hugo","IPLAY MAX",250]
["2022-08-17","Hugo","IPLAY MAX",250]
["2022-08-18","Hugo","IPLAY MAX",250]
["2022-08-18","Hugo","IPLAY MAX",250]
["2022-08-18","Hugo","Vape Defectuoso",-250]
["2022-08-18","Hugo","Mensaulidad Prestamo",-2676]
["2022-08-19","Hugo","IPLAY MAX",250]
["2022-08-19","Hugo","IPLAY MAX",250]
["2022-08-19","Hugo","IPLAY MAX",250]
["2022-08-19","Hugo","IPLAY MAX",250]
["2022-08-19","Hugo","IPLAY MAX",250]
["2022-08-22","Hugo","IPLAY MAX",250]
["2022-08-22","Hugo","IPLAY MAX",250]
["2022-08-22","Hugo","IPLAY MAX",250]
["2022-08-22","Hugo","IPLAY MAX",250]
["2022-08-22","Hugo","IPLAY MAX",250]
["2022-08-22","Hugo","IPLAY MAX",250]
["2022-08-22","Hugo","IPLAY MAX",250]
["2022-08-22","Hugo","IPLAY MAX",250]
["2022-08-22","Hugo","IPLAY MAX",250]
["2022-08-23","Hugo","IPLAY MAX",250]
["2022-08-23","Hugo","IPLAY MAX",250]
["2022-08-23","Hugo","IPLAY MAX",250]
["2022-08-23","Hugo","IPLAY MAX",250]
["2022-08-23","Hugo","IPLAY MAX",250]
["2022-08-23","Hugo","IPLAY MAX",250]
["2022-08-23","Hugo","IPLAY MAX",250]
["2022-08-23","Hugo","IPLAY MAX",250]
["2022-08-23","Hugo","IPLAY MAX",250]
["2022-08-23","Hugo","IPLAY MAX",250]
["2022-08-23","Hugo","IPLAY MAX",250]
["2022-08-23","Hugo","IPLAY MAX",250]
["2022-08-24","Hugo","IPLAY MAX",250]
["2022-08-24","Hugo","IPLAY MAX",250]
["2022-08-24","Hugo","IPLAY MAX",250]
["2022-08-24","Julio","Ventas maza",19921]
["2022-08-24","Julio","Reparto de utilidad",-12000]
["2022-08-24","Hugo","Reparto de utilidad",-12000]
["2022-08-24","Hugo","IPLAY MAX",250]
["2022-08-25","Hugo","IPLAY MAX",250]
["2022-08-25","Hugo","IPLAY MAX",250]
["2022-08-29","Hugo","Vape Defectuoso",250]
["2022-08-31","Julio","Reparto de utilidad",-3000]
["2022-08-31","Hugo","Reparto de utilidad",-3000]
["2022-09-02","Hugo","Proveedor Torreon",-9970]
["2022-09-02","Hugo","Mensaulidad Prestamo",-2715]
["2022-09-02","Hugo","IPLAY MAX",250]
["2022-09-02","Hugo","IPLAY MAX",250]
["2022-09-02","Hugo","IPLAY MAX",250]
["2022-09-02","Hugo","IPLAY MAX",250]
["2022-09-02","Hugo","IPLAY MAX",250]
["2022-09-02","Hugo","IPLAY MAX",250]
["2022-09-02","Hugo","IPLAY MAX",250]
["2022-09-02","Hugo","IPLAY MAX",250]
["2022-09-02","Hugo","IPLAY MAX",250]
["2022-09-02","Hugo","IPLAY MAX",250]
["2022-09-02","Hugo","IPLAY MAX",250]
["2022-09-02","Hugo","IPLAY MAX",250]
["2022-09-02","Hugo","IPLAY MAX",250]
["2022-09-02","Hugo","IPLAY MAX",250]
["2022-09-02","Hugo","IPLAY MAX",250]
["2022-09-02","Hugo","IPLAY MAX",250]
["2022-09-02","Hugo","IPLAY MAX",250]
["2022-09-02","Hugo","IPLAY MAX",250]
["2022-09-02","Hugo","IPLAY MAX",250]
["2022-09-02","Hugo","IPLAY MAX",250]
["2022-09-02","Hugo","IPLAY MAX",250]
["2022-09-02","Hugo","IPLAY MAX",250]
["2022-09-02","Hugo","IPLAY MAX",250]
["2022-09-02","Hugo","IPLAY MAX",250]
["2022-09-02","Hugo","IPLAY MAX",250]
["2022-09-02","Hugo","IPLAY MAX",250]
["2022-09-02","Hugo","IPLAY MAX",250]
["2022-09-02","Hugo","IPLAY MAX",250]
["2022-09-02","Hugo","IPLAY MAX",250]
["2022-09-02","Hugo","IPLAY MAX",250]
["2022-09-02","Hugo","IPLAY MAX",250]
["2022-09-02","Hugo","IPLAY MAX",250]
["2022-09-02","Hugo","IPLAY MAX",250]
["2022-09-02","Hugo","IPLAY MAX",250]
["2022-09-02","Hugo","IPLAY MAX",250]
["2022-09-02","Hugo","IPLAY MAX",250]
["2022-09-02","Hugo","IPLAY MAX",250]
["2022-09-02","Hugo","IPLAY MAX",250]
["2022-09-02","Hugo","IPLAY MAX",250]
["2022-09-02","Hugo","IPLAY MAX",250]
["2022-09-03","Hugo","IPLAY MAX",250]
["2022-09-03","Hugo","IPLAY MAX",250]
["2022-09-05","Hugo","IPLAY MAX",250]
["2022-09-05","Hugo","IPLAY MAX",250]
["2022-09-05","Hugo","IPLAY MAX",250]
["2022-09-05","Hugo","IPLAY MAX",250]
["2022-09-06","Hugo","IPLAY MAX",250]
["2022-09-06","Hugo","IPLAY MAX",250]
["2022-09-06","Hugo","IPLAY MAX",250]
["2022-09-07","Hugo","IPLAY MAX",250]
["2022-09-07","Hugo","IPLAY MAX",250]
["2022-09-07","Hugo","IPLAY MAX",250]
["2022-09-08","Hugo","IPLAY MAX",250]
["2022-09-08","Hugo","IPLAY MAX",250]
["2022-09-08","Hugo","IPLAY MAX",250]
["2022-09-08","Hugo","IPLAY MAX",250]
["2022-09-08","Hugo","IPLAY MAX",250]
["2022-09-08","Hugo","IPLAY MAX",250]
["2022-09-09","Hugo","IPLAY MAX",250]
["2022-09-09","Hugo","IPLAY MAX",250]
["2022-09-09","Hugo","IPLAY MAX",250]
["2022-09-09","Hugo","IPLAY MAX",250]
["2022-09-11","Hugo","IPLAY MAX",167]
["2022-09-11","Hugo","IPLAY MAX",167]
["2022-09-11","Hugo","IPLAY MAX",167]
["2022-09-12","Hugo","IPLAY MAX",250]
["2022-09-12","Hugo","IPLAY MAX",250]
["2022-09-12","Hugo","IPLAY MAX",250]
["2022-09-12","Hugo","IPLAY MAX",250]
["2022-09-12","Hugo","IPLAY MAX",250]
["2022-09-12","Hugo","IPLAY MAX",250]
["2022-09-12","Hugo","IPLAY MAX",250]
["2022-09-13","Hugo","IPLAY MAX",250]
["2022-09-13","Hugo","IPLAY MAX",250]
["2022-09-14","Hugo","IPLAY MAX",250]
["2022-09-14","Hugo","Gasolina",-100]
["2022-09-14","Hugo","IPLAY MAX",250]
["2022-09-14","Hugo","IPLAY MAX",250]
["2022-09-14","Hugo","IPLAY MAX",250]
["2022-09-17","Hugo","IPLAY MAX",250]
["2022-09-18","Hugo","Mensaulidad Prestamo",-2696]
["2022-09-19","Hugo","IPLAY MAX",250]
["2022-09-19","Hugo","IPLAY MAX",250]
["2022-09-21","Hugo","IPLAY MAX",250]
["2022-09-21","Hugo","IPLAY MAX",250]
["2022-09-21","Hugo","IPLAY MAX",250]
["2022-09-21","Hugo","IPLAY MAX",250]
["2022-09-22","Hugo","IPLAY MAX",250]
["2022-09-22","Hugo","IPLAY MAX",250]
["2022-09-22","Hugo","IPLAY MAX",250]
["2022-09-22","Hugo","IPLAY MAX",250]
["2022-09-22","Hugo","IPLAY MAX",250]
["2022-09-26","Hugo","IPLAY MAX",250]
["2022-09-26","Hugo","IPLAY MAX",250]
["2022-09-26","Hugo","IPLAY MAX",250]
["2022-09-26","Hugo","IPLAY MAX",250]
["2022-09-26","Hugo","IPLAY MAX",250]
["2022-09-26","Hugo","IPLAY MAX",250]
["2022-09-26","Hugo","IPLAY MAX",250]
["2022-09-27","Hugo","IPLAY MAX",250]
["2022-09-29","Hugo","IPLAY MAX",250]
["2022-09-29","Hugo","IPLAY MAX",250]
["2022-09-29","Hugo","IPLAY MAX",250]
["2022-09-29","Hugo","IPLAY MAX",250]
["2022-09-30","Hugo","IPLAY MAX",250]
["2022-09-30","Hugo","IPLAY MAX",250]
["2022-09-30","Hugo","IPLAY MAX",250]
["2022-09-30","Hugo","IPLAY MAX",250]
["2022-09-30","Hugo","IPLAY MAX",250]
["2022-09-30","Hugo","IPLAY MAX",250]
["2022-10-01","Hugo","IPLAY MAX",250]
["2022-10-01","Hugo","IPLAY MAX",250]
["2022-10-01","Hugo","IPLAY MAX",250]
["2022-10-03","Hugo","IPLAY MAX",250]
["2022-10-03","Hugo","IPLAY MAX",250]
["2022-10-03","Hugo","Mensaulidad Prestamo",-2686]
["2022-10-04","Hugo","IPLAY MAX",250]
["2022-10-04","Hugo","IPLAY MAX",250]
["2022-10-04","Hugo","IPLAY MAX",250]
["2022-10-05","Hugo","IPLAY MAX",250]
["2022-10-05","Hugo","IPLAY MAX",130]
["2022-10-05","Hugo","Proveedor Torreon",-7580]
["2022-10-05","Hugo","Vape De cumpleaños",250]
["2022-10-05","Hugo","Vape De cumpleaños",-500]
["2022-10-06","Hugo","IPLAY MAX",250]
["2022-10-06","Hugo","IPLAY MAX",250]
["2022-10-06","Hugo","IPLAY MAX",250]
["2022-10-06","Hugo","IPLAY MAX",250]
["2022-10-06","Hugo","IPLAY MAX",250]
["2022-10-07","Hugo","IPLAY MAX",250]
["2022-10-07","Hugo","IPLAY MAX",250]
["2022-10-07","Hugo","IPLAY MAX",250]
["2022-10-09","Hugo","IPLAY MAX",250]
["2022-10-10","Hugo","IPLAY MAX",250]
["2022-10-10","Hugo","IPLAY MAX",250]
["2022-10-10","Hugo","IPLAY MAX",250]
["2022-10-11","Hugo","IPLAY MAX",250]
["2022-10-13","Hugo","IPLAY MAX",250]
["2022-10-15","Hugo","IPLAY MAX",250]
["2022-10-17","Hugo","IPLAY MAX",250]
["2022-10-18","Hugo","IPLAY MAX",250]
["2022-10-18","Hugo","Mensaulidad Prestamo",null,-2884]
["2022-10-19","Hugo","IPLAY MAX",250]
["2022-10-23","Hugo","IPLAY MAX",250]
["2022-10-23","Hugo","IPLAY MAX",250]
["2022-10-23","Hugo","IPLAY MAX",250]
["2022-10-23","Hugo","IPLAY MAX",250]
["2022-10-23","Hugo","IPLAY MAX",250]
["2022-10-25","Hugo","IPLAY MAX",250]
["2022-10-25","Hugo","IPLAY MAX",250]
["2022-10-25","Hugo","IPLAY MAX",250]
["2022-10-27","Hugo","IPLAY MAX",250]
["2022-10-27","Hugo","IPLAY MAX",250]
["2022-10-27","Hugo","IPLAY MAX",250]
["2022-10-30","Hugo","IPLAY MAX",250]
["2022-10-30","Hugo","IPLAY MAX",250]
["2022-10-31","Hugo","IPLAY MAX",250]
["2022-10-31","Hugo","IPLAY MAX",250]
["2022-10-31","Hugo","IPLAY MAX",250]
["2022-11-01","Hugo","Mensaulidad Prestamo",-2722]
["2022-11-02","Hugo","IPLAY MAX",250]
["2022-11-08","Hugo","IPLAY MAX",250]
["2022-11-08","Hugo","IPLAY MAX",250]
["2022-11-10","Hugo","IPLAY MAX",250]
["2022-11-10","Hugo","IPLAY MAX",250]
["2022-11-10","Hugo","IPLAY MAX",250]
["2022-11-10","Hugo","IPLAY MAX",250]
["2022-11-20","Hugo","Mensaulidad Prestamo",-2708]
["2022-11-23","Hugo","IPLAY MAX",250]
["2022-11-23","Hugo","IPLAY MAX",250]
["2022-11-24","Hugo","IPLAY MAX",250]
["2022-11-24","Hugo","IPLAY MAX",250]
["2022-11-25","Julio","Reparto de utilidad",-10000]
["2022-11-25","Hugo","Reparto de utilidad",-10000]
["2022-11-25","Hugo","Ventas maza",8050]
["2022-11-25","Hugo","Descuento Amaya",-450]
["2022-11-25","Julio","Reparto de utilidad",-4627]
["2022-11-25","Hugo","Reparto de utilidad",-4627]
["2022-11-25","Hugo","IPLAY MAX",250]
["2022-11-30","Hugo","IPLAY MAX",250]
["2022-11-30","Hugo","IPLAY MAX",250]
["2022-12-03","Hugo","Mensaulidad Prestamo",-2695]
["2022-12-05","Hugo","IPLAY MAX",250]
["2022-12-16","Hugo","Mensaulidad Prestamo",-2693]
["2022-12-18","Hugo","IPLAY MAX",250]
["2023-01-24","Hugo","IPLAY MAX",200]
["2023-01-24","Hugo","Mensaulidad Prestamo",-2736]
["2023-01-24","Hugo","Mensaulidad Prestamo",-2718]
["2023-01-26","Hugo","IPLAY MAX",165]
["2023-01-26","Hugo","IPLAY MAX",165]
["2023-01-26","Hugo","IPLAY MAX",165]
["2023-01-27","Hugo","IPLAY MAX",165]
["2023-01-27","Hugo","IPLAY MAX",165]
["2023-01-27","Hugo","IPLAY MAX",165]
["2023-01-27","Hugo","IPLAY MAX",165]
["2023-01-27","Hugo","IPLAY MAX",165]
["2023-01-27","Hugo","IPLAY MAX",165]
["2023-01-27","Hugo","IPLAY MAX",165]
["2023-01-27","Hugo","IPLAY MAX",165]
["2023-01-27","Hugo","IPLAY MAX",165]
["2023-01-27","Hugo","IPLAY MAX",165]
["2023-01-27","Hugo","IPLAY MAX",165]
["2023-01-27","Hugo","IPLAY MAX",165]
["2023-01-27","Hugo","IPLAY MAX",165]
["2023-01-27","Hugo","IPLAY MAX",165]
["2023-01-27","Hugo","IPLAY MAX",165]
["2023-01-27","Hugo","IPLAY MAX",165]
["2023-01-27","Hugo","IPLAY MAX",165]
["2023-01-27","Hugo","IPLAY MAX",165]
["2023-01-27","Hugo","IPLAY MAX",165]
["2023-01-27","Hugo","IPLAY MAX",165]
["2023-01-27","Hugo","IPLAY MAX",165]
["2023-01-27","Hugo","IPLAY MAX",165]
["2023-01-27","Hugo","IPLAY MAX",165]
["2023-01-27","Hugo","IPLAY MAX",165]
["2023-01-27","Hugo","IPLAY MAX",165]
["2023-01-27","Hugo","IPLAY MAX",165]
["2023-01-30","Hugo","IPLAY MAX",165]
["2023-02-01","Hugo","IPLAY MAX",165]
["2023-02-01","Hugo","IPLAY MAX",165]
["2023-02-17","Hugo","Mensaulidad Prestamo",-2723]
["2023-02-17","Hugo","Mensaulidad Prestamo",-2701]
["2023-02-18","Hugo","IPLAY MAX",165]
["2023-02-18","Hugo","IPLAY MAX",165]
["2023-02-18","Hugo","IPLAY MAX",165]
["2023-02-18","Hugo","IPLAY MAX",165]
["2023-02-18","Hugo","IPLAY MAX",165]
["2023-02-18","Hugo","IPLAY MAX",165]
["2023-02-18","Hugo","IPLAY MAX",165]
["2023-02-18","Hugo","IPLAY MAX",165]
["2023-02-18","Hugo","IPLAY MAX",165]
["2023-02-18","Hugo","IPLAY MAX",165]
["2023-02-18","Hugo","IPLAY MAX",165]
["2023-02-22","Hugo","IPLAY MAX",165]
["2023-02-22","Hugo","IPLAY MAX",165]
["2023-02-22","Hugo","IPLAY MAX",165]
["2023-02-24","Hugo","IPLAY MAX",165]
["2023-02-24","Hugo","IPLAY MAX",165]
["2023-02-28","Hugo","IPLAY MAX",165]
["2023-02-28","Hugo","IPLAY MAX",165]
["2023-03-01","Hugo","Proveedor Torreon",-9400]
["2023-03-01","Hugo","IPLAY MAX",190]
["2023-03-01","Hugo","IPLAY MAX",190]
["2023-03-01","Hugo","IPLAY MAX",190]
["2023-03-01","Hugo","IPLAY MAX",190]
["2023-03-01","Hugo","IPLAY MAX",190]
["2023-03-01","Hugo","IPLAY MAX",190]
["2023-03-01","Hugo","IPLAY MAX",190]
["2023-03-01","Hugo","IPLAY MAX",190]
["2023-03-01","Hugo","IPLAY MAX",190]
["2023-03-01","Hugo","IPLAY MAX",190]
["2023-03-01","Hugo","IPLAY MAX",190]
["2023-03-02","Hugo","IPLAY MAX",190]
["2023-03-02","Hugo","IPLAY MAX",190]
["2023-03-02","Hugo","IPLAY MAX",190]
["2023-03-02","Hugo","IPLAY MAX",190]
["2023-03-02","Hugo","IPLAY MAX",190]
["2023-03-02","Hugo","IPLAY MAX",190]
["2023-03-02","Hugo","IPLAY MAX",190]
["2023-03-02","Hugo","IPLAY MAX",190]
["2023-03-02","Hugo","IPLAY MAX",190]
["2023-03-02","Hugo","IPLAY MAX",190]
["2023-03-02","Hugo","IPLAY MAX",190]
["2023-03-05","Hugo","IPLAY MAX",190]
["2023-03-05","Hugo","IPLAY MAX",190]
["2023-03-05","Hugo","IPLAY MAX",190]
["2023-03-05","Hugo","IPLAY MAX",190]
["2023-03-05","Hugo","IPLAY MAX",190]
["2023-03-05","Hugo","IPLAY MAX",190]
["2023-03-05","Hugo","IPLAY MAX",190]
["2023-03-05","Hugo","IPLAY MAX",190]
["2023-03-05","Hugo","IPLAY MAX",190]
["2023-03-05","Hugo","IPLAY MAX",190]
["2023-03-05","Hugo","IPLAY MAX",190]
["2023-03-05","Hugo","Mensaulidad Prestamo",-2631]
["2023-03-07","Hugo","IPLAY MAX",190]
["2023-03-07","Hugo","IPLAY MAX",190]
["2023-03-07","Hugo","IPLAY MAX",190]
["2023-03-07","Hugo","IPLAY MAX",190]
["2023-03-07","Hugo","IPLAY MAX",190]
["2023-03-07","Hugo","IPLAY MAX",190]
["2023-03-07","Hugo","IPLAY MAX",190]
["2023-03-08","Hugo","IPLAY MAX",190]
["2023-03-08","Hugo","IPLAY MAX",190]
["2023-03-08","Hugo","IPLAY MAX",190]
["2023-03-08","Hugo","IPLAY MAX",190]
["2023-03-08","Hugo","IPLAY MAX",190]
["2023-03-08","Hugo","IPLAY MAX",190]
["2023-03-08","Hugo","IPLAY MAX",190]
["2023-03-08","Hugo","IPLAY MAX",190]
["2023-03-08","Hugo","IPLAY MAX",190]
["2023-03-08","Hugo","IPLAY MAX",190]
["2023-03-08","Hugo","IPLAY MAX",190]
["2023-03-08","Hugo","IPLAY MAX",190]
["2023-03-08","Hugo","IPLAY MAX",190]
["2023-03-08","Hugo","IPLAY MAX",190]
["2023-03-13","Hugo","IPLAY MAX",190]
["2023-03-13","Hugo","IPLAY MAX",190]
["2023-03-13","Hugo","IPLAY MAX",190]
["2023-03-13","Hugo","IPLAY MAX",190]
["2023-03-13","Hugo","IPLAY MAX",190]
["2023-03-13","Hugo","IPLAY MAX",190]
["2023-03-13","Hugo","IPLAY MAX",190]
["2023-03-13","Hugo","IPLAY MAX",190]
["2023-03-13","Hugo","IPLAY MAX",190]
["2023-03-13","Hugo","IPLAY MAX",190]
["2023-03-14","Hugo","IPLAY MAX",190]
["2023-03-18","Hugo","Mensaulidad Prestamo",-2690]
["2023-03-18","Hugo","Proveedor Torreon",-12650]
["2023-03-18","Hugo","IPLAY MAX",190]
["2023-03-18","Hugo","IPLAY MAX",190]
["2023-03-18","Hugo","IPLAY MAX",190]
["2023-03-18","Hugo","IPLAY MAX",190]
["2023-03-18","Hugo","IPLAY MAX",190]
["2023-03-18","Hugo","IPLAY MAX",190]
["2023-03-18","Hugo","IPLAY MAX",190]
["2023-03-18","Hugo","IPLAY MAX",190]
["2023-03-18","Hugo","IPLAY MAX",190]
["2023-03-18","Hugo","IPLAY MAX",190]
["2023-03-18","Hugo","IPLAY MAX",190]
["2023-03-18","Hugo","IPLAY MAX",190]
["2023-03-18","Hugo","IPLAY MAX",190]
["2023-03-18","Hugo","IPLAY MAX",190]
["2023-03-18","Hugo","IPLAY MAX",190]
["2023-03-18","Hugo","IPLAY MAX",190]
["2023-03-18","Hugo","IPLAY MAX",190]
["2023-03-18","Hugo","IPLAY MAX",190]
["2023-03-18","Hugo","IPLAY MAX",190]
["2023-03-26","Hugo","IPLAY MAX",190]
["2023-03-26","Hugo","IPLAY MAX",190]
["2023-03-26","Hugo","IPLAY MAX",190]
["2023-03-26","Hugo","IPLAY MAX",190]
["2023-03-26","Hugo","IPLAY MAX",190]
["2023-03-26","Hugo","IPLAY MAX",190]
["2023-03-26","Hugo","IPLAY MAX",190]
["2023-03-26","Hugo","IPLAY MAX",190]
["2023-03-26","Hugo","IPLAY MAX",190]
["2023-03-26","Hugo","IPLAY MAX",190]
["2023-03-26","Hugo","IPLAY MAX",190]
["2023-03-26","Hugo","IPLAY MAX",190]
["2023-03-26","Hugo","IPLAY MAX",190]
["2023-03-26","Hugo","IPLAY MAX",190]
["2023-03-26","Hugo","IPLAY MAX",190]
["2023-03-26","Hugo","IPLAY MAX",190]
["2023-03-26","Hugo","IPLAY MAX",190]
["2023-03-26","Hugo","IPLAY MAX",190]
["2023-03-26","Hugo","IPLAY MAX",190]
["2023-03-26","Hugo","IPLAY MAX",190]
["2023-03-26","Hugo","IPLAY MAX",190]
["2023-03-26","Hugo","IPLAY MAX",190]
["2023-03-26","Hugo","IPLAY MAX",190]
["2023-03-26","Hugo","IPLAY MAX",190]
["2023-03-26","Hugo","IPLAY MAX",190]
["2023-03-26","Hugo","IPLAY MAX",190]
["2023-03-26","Hugo","IPLAY MAX",190]
["2023-03-26","Hugo","IPLAY MAX",190]
["2023-03-26","Hugo","IPLAY MAX",190]
["2023-03-26","Hugo","IPLAY MAX",190]
["2023-03-26","Hugo","IPLAY MAX",190]
["2023-03-26","Hugo","IPLAY MAX",190]
["2023-03-26","Hugo","IPLAY MAX",190]
["2023-03-26","Hugo","IPLAY MAX",190]
["2023-03-26","Hugo","IPLAY MAX",190]
["2023-03-26","Hugo","IPLAY MAX",190]
["2023-03-26","Hugo","IPLAY MAX",190]
["2023-03-26","Hugo","IPLAY MAX",190]
["2023-03-26","Hugo","IPLAY MAX",190]
["2023-03-30","Hugo","IPLAY MAX",190]
["2023-03-30","Hugo","IPLAY MAX",190]
["2023-03-30","Hugo","IPLAY MAX",190]
["2023-03-30","Hugo","IPLAY MAX",190]
["2023-03-30","Hugo","IPLAY MAX",190]
["2023-03-30","Hugo","IPLAY MAX",190]
["2023-03-30","Hugo","IPLAY MAX",190]
["2023-03-30","Hugo","IPLAY MAX",190]
["2023-03-30","Hugo","IPLAY MAX",190]
["2023-03-30","Hugo","IPLAY MAX",190]
["2023-03-30","Hugo","IPLAY MAX",190]
["2023-03-30","Hugo","IPLAY MAX",190]
["2023-03-30","Hugo","IPLAY MAX",190]
["2023-03-30","Hugo","IPLAY MAX",190]
["2023-03-30","Hugo","IPLAY MAX",190]
["2023-03-30","Hugo","IPLAY MAX",190]
["2023-03-30","Hugo","IPLAY MAX",190]
["2023-03-30","Hugo","IPLAY MAX",190]
["2023-03-30","Hugo","IPLAY MAX",190]
["2023-03-30","Hugo","IPLAY MAX",190]
["2023-03-30","Hugo","IPLAY MAX",190]
["2023-03-30","Hugo","IPLAY MAX",190]
["2023-03-30","Hugo","IPLAY MAX",190]
["2023-03-30","Hugo","IPLAY MAX",190]
["2023-03-30","Hugo","IPLAY MAX",190]
["2023-03-30","Hugo","IPLAY MAX",190]
["2023-03-30","Hugo","IPLAY MAX",190]
["2023-03-30","Hugo","IPLAY MAX",190]
["2023-03-30","Hugo","IPLAY MAX",190]
["2023-03-30","Hugo","IPLAY MAX",190]
["2023-03-30","Hugo","IPLAY MAX",190]
["2023-03-30","Hugo","IPLAY MAX",190]
["2023-03-30","Hugo","IPLAY MAX",190]
["2023-03-30","Hugo","IPLAY MAX",190]
["2023-04-10","Hugo","Mensaulidad Prestamo",-2714]
["2023-04-11","Hugo","IPLAY MAX",190]
["2023-04-11","Hugo","IPLAY MAX",190]
["2023-04-11","Hugo","IPLAY MAX",190]
["2023-04-11","Hugo","IPLAY MAX",190]
["2023-04-11","Hugo","IPLAY MAX",190]
["2023-04-11","Hugo","IPLAY MAX",190]
["2023-04-15","Hugo","IPLAY MAX",190]
["2023-04-15","Hugo","IPLAY MAX",190]
["2023-04-15","Hugo","IPLAY MAX",190]
["2023-04-15","Hugo","IPLAY MAX",190]
["2023-04-15","Hugo","IPLAY MAX",190]
["2023-04-15","Hugo","IPLAY MAX",190]
["2023-04-15","Hugo","IPLAY MAX",190]
["2023-04-15","Hugo","IPLAY MAX",190]
["2023-04-15","Hugo","IPLAY MAX",190]
["2023-04-15","Hugo","IPLAY MAX",190]
["2023-04-15","Hugo","IPLAY MAX",190]
["2023-04-15","Hugo","IPLAY MAX",190]
["2023-04-15","Hugo","IPLAY MAX",190]
["2023-04-15","Hugo","IPLAY MAX",190]
["2023-04-15","Hugo","IPLAY MAX",190]
["2023-04-16","Julio","IPLAY BOX",0]
["2023-04-16","Hugo","Proveedor Torreon",-10540]
["2023-04-20","Hugo","Mensaulidad Prestamo",-2716]
["2023-04-20","Hugo","IPLAY BOX",260]
["2023-04-20","Hugo","IPLAY BOX",260]
["2023-04-20","Hugo","IPLAY BOX",260]
["2023-04-20","Hugo","IPLAY BOX",260]
["2023-04-20","Hugo","IPLAY BOX",260]
["2023-04-20","Hugo","IPLAY BOX",260]
["2023-04-20","Hugo","IPLAY MAX",190]
["2023-04-20","Hugo","IPLAY MAX",190]
["2023-04-20","Hugo","IPLAY MAX",190]
["2023-04-20","Hugo","IPLAY MAX",190]
["2023-04-20","Hugo","IPLAY MAX",190]
["2023-04-20","Hugo","IPLAY MAX",190]
["2023-04-20","Hugo","IPLAY MAX",190]
["2023-04-20","Hugo","IPLAY MAX",190]
["2023-04-20","Hugo","IPLAY MAX",190]
["2023-04-20","Hugo","IPLAY MAX",190]
["2023-04-20","Hugo","IPLAY MAX",190]
["2023-04-20","Hugo","IPLAY MAX",190]
["2023-04-20","Hugo","IPLAY MAX",190]
["2023-04-20","Hugo","IPLAY MAX",190]
["2023-04-20","Hugo","IPLAY MAX",190]
["2023-04-20","Hugo","IPLAY MAX",190]
["2023-04-24","Hugo","IPLAY MAX",190]
["2023-04-24","Hugo","IPLAY MAX",190]
["2023-04-24","Hugo","IPLAY MAX",190]
["2023-04-24","Hugo","IPLAY MAX",190]
["2023-04-24","Hugo","IPLAY MAX",190]
["2023-04-24","Hugo","IPLAY MAX",190]
["2023-04-24","Hugo","IPLAY MAX",190]
["2023-04-24","Hugo","IPLAY MAX",190]
["2023-04-24","Hugo","IPLAY MAX",190]
["2023-04-24","Hugo","IPLAY MAX",190]
["2023-04-24","Hugo","IPLAY MAX",190]
["2023-04-24","Hugo","IPLAY MAX",190]
["2023-04-24","Hugo","IPLAY MAX",190]
["2023-04-24","Hugo","IPLAY MAX",190]
["2023-04-24","Hugo","IPLAY MAX",190]
["2023-04-24","Hugo","IPLAY MAX",190]
["2023-04-24","Hugo","IPLAY MAX",190]
["2023-04-24","Hugo","IPLAY MAX",190]
["2023-04-24","Hugo","IPLAY MAX",190]
["2023-04-25","Hugo","IPLAY MAX",190]
["2023-04-25","Hugo","IPLAY MAX",190]
["2023-04-25","Hugo","IPLAY MAX",190]
["2023-04-25","Hugo","IPLAY MAX",190]
["2023-04-25","Hugo","IPLAY MAX",190]
["2023-04-25","Hugo","IPLAY MAX",190]
["2023-04-30","Hugo","IPLAY MAX",190]
["2023-04-30","Hugo","IPLAY MAX",190]
["2023-04-30","Hugo","IPLAY MAX",190]
["2023-04-30","Hugo","IPLAY MAX",190]
["2023-04-30","Hugo","IPLAY MAX",190]
["2023-04-30","Hugo","IPLAY MAX",190]
["2023-04-30","Hugo","IPLAY MAX",190]
["2023-04-30","Hugo","IPLAY MAX",190]
["2023-04-30","Hugo","IPLAY MAX",190]
["2023-04-30","Hugo","IPLAY BOX",260]
["2023-04-30","Hugo","IPLAY BOX",260]
["2023-04-30","Hugo","IPLAY BOX",260]
["2023-04-30","Hugo","IPLAY BOX",260]
["2023-04-30","Hugo","IPLAY BOX",260]
["2023-04-30","Hugo","IPLAY BOX",260]
["2023-04-30","Hugo","IPLAY BOX",260]
["2023-04-30","Hugo","IPLAY BOX",260]
["2023-05-14","Hugo","IPLAY MAX",190]
["2023-05-14","Hugo","IPLAY MAX",190]
["2023-05-14","Hugo","IPLAY MAX",190]
["2023-05-14","Hugo","IPLAY MAX",190]
["2023-05-14","Hugo","IPLAY MAX",190]
["2023-05-14","Hugo","IPLAY MAX",190]
["2023-05-14","Hugo","IPLAY MAX",190]
["2023-05-14","Hugo","IPLAY MAX",190]
["2023-05-14","Hugo","IPLAY MAX",190]
["2023-05-14","Hugo","IPLAY MAX",190]
["2023-05-14","Hugo","IPLAY MAX",190]
["2023-05-14","Hugo","IPLAY MAX",190]
["2023-05-14","Hugo","IPLAY MAX",190]
["2023-05-14","Hugo","IPLAY MAX",190]
["2023-05-14","Hugo","IPLAY MAX",190]
["2023-05-14","Hugo","IPLAY MAX",190]
["2023-05-14","Hugo","IPLAY MAX",190]
["2023-05-14","Hugo","IPLAY MAX",190]
["2023-05-14","Hugo","IPLAY MAX",190]
["2023-05-14","Hugo","IPLAY MAX",190]
["2023-05-14","Hugo","IPLAY MAX",190]
["2023-05-14","Hugo","IPLAY MAX",190]
["2023-05-14","Hugo","IPLAY MAX",190]
["2023-05-14","Hugo","IPLAY MAX",190]
["2023-05-14","Hugo","IPLAY MAX",190]
["2023-05-14","Hugo","IPLAY MAX",190]
["2023-05-14","Hugo","IPLAY MAX",190]
["2023-05-14","Hugo","IPLAY MAX",190]
["2023-05-14","Hugo","IPLAY MAX",190]
["2023-05-14","Hugo","IPLAY MAX",190]
["2023-05-14","Hugo","IPLAY MAX",190]
["2023-05-14","Hugo","IPLAY MAX",190]
["2023-05-14","Hugo","IPLAY MAX",190]
["2023-05-14","Hugo","IPLAY MAX",190]
["2023-05-14","Hugo","IPLAY MAX",190]
["2023-05-14","Hugo","IPLAY MAX",190]
["2023-05-14","Hugo","IPLAY MAX",190]
["2023-05-14","Hugo","IPLAY MAX",190]
["2023-05-14","Hugo","IPLAY MAX",190]
["2023-05-14","Hugo","IPLAY BOX",260]
["2023-05-14","Hugo","IPLAY BOX",260]
["2023-05-14","Hugo","IPLAY BOX",260]
["2023-05-14","Hugo","IPLAY BOX",260]
["2023-05-14","Hugo","IPLAY BOX",260]
[null,null,null,{"$f":"SUM(Movimientos[[Tranferencia ]])","v":68398.359999999986},{"$f":"SUBTOTAL(109,Movimientos[Efectivo])","v":-2634}]

{"sheet":"Reporte","index":13,"n_rows":39,"n_cols":13,"rows_kept":39,"cut":false,"hidden":false,"merged":[]}
[]
["Gastos",{"$f":"Gastos[[#Totals],[Monto]]","v":336673.64},null,"Socios","Inversion",null,"Fecha","Socio","Cantidad","Transferencia","Efectivo"]
["Ventas",{"$f":"VentasMenudeo[[#Totals],[Venta Total]]+VentasMayoreo[[#Totals],[Ventas Totales]]","v":348561},null,"Julio",1731,null,"2022-04-24","Julio",2260,2260]
["Ventas maza",{"$f":"VLOOKUP(A4,'Caja&Banco'!L4:M17,2,0)","v":40070},null,"Hugo",1731,null,"2022-04-24","Hugo",2260,2260]
["Utilidad",{"$f":"B3-B2","v":11887.359999999986},null,null,{"$f":"SUM(E3:E4)","v":3462},null,"2022-04-24","Julio",2053,2053]
["Robo",5000,null,null,null,null,"2022-04-24","Hugo",2053,2053]
["Prestamo",155000,null,null,null,null,"2022-05-10","Hugo",10121,null,10121]
["Capital Total",{"$f":"B3+E5","v":352023},null,null,null,null,"2022-05-10","Hugo",1537,1537]
["Reparto de Utilidades",{"$f":"RepartoUti[[#Totals],[Cantidad]]","v":111035},null,null,null,null,"2022-05-10","Julio",5899,null,5899]
["Deposito a Mazatlan",{"$f":"VLOOKUP(A10,'Caja&Banco'!L4:M36,2,0)","v":-27250},null,null,{"$f":"B8+B7+B4-B2-B6-B9","v":94384.359999999986},null,"2022-05-10","Julio",5760,5760]
["Dinero Total ",{"$f":"B8+B7+B4-B2-B6-B9-Deudores[[#Totals],[Cantidad]]-DeudoresHugo[[#Totals],[Cantidad]]+B10","v":65884.359999999986},{"$f":"D15","v":65764.359999999986},null,null,null,"2022-06-17","Julio",9919,9919]
["Etiquetas de fila","Suma de Tranferencia ","Suma de Efectivo",null,null,null,"2022-06-17","Hugo",9919,9919]
["Julio",-9706,0,{"$f":"B13+C13","v":-9706},null,null,"2022-08-24","Julio",12000,12000]
["Hugo",78104.359999999986,-2634,{"$f":"B14+C14","v":75470.359999999986},null,null,"2022-08-24","Hugo",12000,12000]
["Total general",68398.359999999986,-2634,{"$f":"B15+C15","v":65764.359999999986},null,"Julio pendientes de pago 40 Dany","2022-08-31","Julio",3000,3000]
[null,null,null,null,null,null,"2022-08-31","Hugo",3000,3000]
[null,null,null,null,null,null,"2022-11-25","Julio",10000,10000,null,"Ventas"]
["Julio",15804,null,null,null,null,"2022-11-25","Hugo",10000,10000,null,{"$f":"D15","v":65764.359999999986}]
[null,null,null,null,null,null,"2022-11-25","Julio",4627,4627]
[null,null,null,null,null,null,"2022-11-25","Hugo",4627,4627,null,{"$f":"SUM(L18:L19)","v":65764.359999999986}]
[null,null,null,null,null,null,null,null,{"$f":"SUM(RepartoUti[Cantidad])","v":111035},{"$f":"SUBTOTAL(109,RepartoUti[Transferencia])","v":95015},{"$f":"SUBTOTAL(109,RepartoUti[Efectivo])","v":16020}]
[]
[null,{"$f":"C23","v":65764.359999999986},{"$f":"D15","v":65764.359999999986},{"$f":"E23-B23","v":-65764.359999999986},null,{"$f":"J29","v":28430},"…-190 por el registro de una venta como 1"]
[null,31200,null,null," ",5934]
[null,{"$f":"E22","v":0},null,null,{"$f":"D23+F25","v":-31400.359999999986},{"$f":"F23+F24","v":34364},null,null,"Masking ultra van 11",null,null,4261.8999999999996]
[null,{"$f":"B24+B25","v":31200},null,null,null,null,null,null,{"$f":"320*11","v":3520},{"$f":"E25-I26","v":-34920.359999999986}]
[null,null,{"$f":"B23","v":65764.359999999986},"Dinero total, con 8050 de mztln, reparto de utilidades del 25/11/22 y 31200"]
[null,{"$f":"B23-B26","v":34564.359999999986}]
[null,null,null,null,null,null,null,null,null,{"$f":"28430","v":28430}]
[null,null,null,null,null,null,null,null,null,null,null,null,{"$f":"16400+3950+4370","v":24720}]
[null,48394]
[null,1499,null,{"$f":"H32-C27","v":-10370.359999999986},null,null,{"$f":"47394","v":47394},{"$f":"G32+8000","v":55394}]
[null,{"$f":"B31+B32","v":49893}]
[null,{"$f":"11*165","v":1815}]
[null,{"$f":"B33+B34","v":51708}]
[null,{"$f":"D15-B33","v":15871.359999999986},{"$f":"D15-B35","v":14056.359999999986}]
[]
[null,{"$f":"B31+3886","v":52280}]
[null," "]

{"sheet":"Graficas","index":14,"n_rows":0,"n_cols":0,"rows_kept":0,"cut":false,"hidden":false,"merged":[]}

{"sheet":"Hoja2","index":15,"n_rows":18,"n_cols":10,"rows_kept":18,"cut":false,"hidden":false,"merged":[]}
["Prestamo ",155000]
["Pago por apertura ",5000]
["Mensualidad ",1200,null,null,null,null,null,null,"Transpaso ",55394]
[null,{"$f":"SUM(B1:B3)","v":161200},null,null,null,null,null,null,"Tranferencia Hugo",-7000]
[null,null,null,null,null,null,null,null,"Pedido",-9400]
[null,null,null,null,null,null,null,null,"Pedido",-12650]
[null,null,null,null,null,null,null,null,"Pedido",-10540]
[null,null,null,null,null,null,null,null,null,{"$f":"SUM(J3:J7)","v":15804}]
[null,null,null,null,null,100000,24000]
[null,null,null,null,null,null,10000]
[null,null,null,9700,null,{"$f":"F9-G9-G10","v":66000}]
[null,null,null,130]
[null,null,null,{"$f":"D11/D12","v":74.615384615384613}]
[null,null,null,{"$f":"74*250","v":18500}]
[]
[null,null,null,{"$f":"D14+(170*250)+(170*175)","v":90750}]
[]
[null,null,null,{"$f":"D16+F11","v":156750}]

{"sheet":"Hoja1","index":16,"n_rows":18,"n_cols":14,"rows_kept":18,"cut":false,"hidden":false,"merged":[]}
[null,null,null,null,null,null,null,null,"Copetin",null,null,"Torreon"]
["Antros ",300,null,null,{"$f":"B3*135","v":40500},null,null,"Berry Watermelon","Berry Watermelon",80]
["J&H",300,null,null,{"$f":"B3*255","v":76500},{"$f":"E3-E2","v":36000},null,"Bluerazz","Bluerazz",80,null,"Energy ",30]
["Cliente 1",120,"Compa mau ",null,null,null,null,"Coconut","Cool mint",80,null,"Coconut",40]
["Cliente 2",250,"Iteso",null,null,null,null,"Cocumber Lemonade",null,null,null,"Cocumber Lemonade",30]
["Cliente 3 ",250,"Veracruz",null,null,null,null,"Cool mint","GrapeFruit berry",80,null,"Lemon cookies",20]
["Cliente 4",250,"Veracruz",null,null,null,null,"Energy ICE","Grapestraw",70,null,"Lush Ice",30]
["Cliente 5",200,"Morra iteso ",null,null,null,null,"GrapeFruit berry","Guava",70,null,"Grape Ice ",30]
[null,null,null,null,null,null,null,"Grapestraw","Sour Apple",50,null,"Sour Rasberry",30]
[null,{"$f":"SUM(B2:B8)","v":1670},null,null,null,null,null,"Guava","Strawberry Lychee",70,null,"Onrange Ice",30]
[null,null,null,null,null,null,null,"Lemon cookies",null,null,null,"Mango Ice ",30]
[null,null,null,null,null,null,null,"Lush Ice","Peach Ice",50,null,"Banana Ice",30]
[null,null,null,null,null,null,null,"Sour Apple",null,null,null,"Passion Ice",30]
[null,null,null,null,null,null,null,"Strawberry Lychee",null,{"$f":"SUM(J2:J13)","v":630},null,null,null,{"$f":"M15*140","v":46200}]
[null,null,null,null,null,null,null,null,null,null,null,null,{"$f":"SUM(M3:M13)","v":330}]
[]
[null,null,null,null,null,null,null,null,{"$f":"800*130","v":104000}]
[null,null,null,null,null,null,null,null,null,null,{"$f":"150000/255","v":588.23529411764707}]